{"text_format":"1","workbook":"xlsx","n_sheets":16,"sheets":["Instructions & Main Menu","Product Info","Daily Info (January)","Daily Info (February)","Daily Info (March)","Daily Info (April)","Daily Info (May)","Daily Info (June)","Daily Info (July)","Daily Info (August)","Daily Info (September)","Daily Info (October)","Daily Info (November)","Daily Info (December)","Monthly Totals","12 Month Rolling-Period"],"not_rendered":{"charts":0,"images":2,"macros":1,"external_links":0,"defined_names":15,"comments":0,"pivot_tables":0},"unopened":[],"bounds":{"document_bytes":16777216,"sheet_cells":100000,"rows_first":2000,"rows_last":500,"rows_between":2000,"halvings":0,"cell_chars":16384,"cell_head_chars":4096},"cells_cut":0,"cells_raw":0,"read":"whole","date_system":"1900"}

{"sheet":"Instructions & Main Menu","index":0,"n_rows":24,"n_cols":4,"rows_kept":24,"cut":false,"hidden":false,"merged":[[0,0,0,6],[2,0,2,6],[5,3,5,4],[25,0,25,6],[7,2,7,4],[21,3,21,4],[8,3,19,4],[6,3,6,4],[24,0,24,6],[20,3,20,4]]}
["Quick Guide to the Coating Recordkeeping Tool"]
["Introduction"]
["The Coating Recordkeeping Tool is designed to help you keep records of VOC and HAP content; "]
["daily, monthly, and annual usage of coatings; and VOC and HAP emissions. "]
[]
[null,null,"Spreadsheet Name","Description"]
[null,null,"Product Info","Enter coating information found from MSDS and/or environmental data sheets "]
[null,null,"Daily Info"]
[null,null,"January","Enter daily usage of paint, thinner, solvents in gallons"]
[null,null,"February"]
[null,null,"March"]
[null,null,"April"]
[null,null,"May"]
[null,null,"June"]
[null,null,"July"]
[null,null,"August"]
[null,null,"September"]
[null,null,"October"]
[null,null,"November"]
[null,null,"December"]
[null,null,"Monthly Totals","Automatic calculations of monthly usage and VOC/HAP emission rates, including cold cleaner and purge station emissions"]
[null,null,"12 Month Rolling","Automatic calculations of VOC/HAP emission rate on 12-month rolling time period"]
[]
["Instructions"]

{"sheet":"Product Info","index":1,"n_rows":85,"n_cols":256,"rows_kept":85,"cut":false,"hidden":false,"merged":[[0,0,1,0],[2,253,2,255],[2,241,2,243],[0,4,1,8],[2,10,2,12],[2,2,3,2],[2,1,3,1],[0,10,1,255],[2,13,2,15],[2,16,2,18],[2,19,2,21],[2,43,2,45],[2,46,2,48],[2,49,2,51],[2,52,2,54],[2,55,2,57],[3,7,3,9],[2,0,3,0],[2,4,3,4],[2,37,2,39],[2,40,2,42],[2,34,2,36],[2,31,2,33],[2,28,2,30],[2,25,2,27],[2,22,2,24],[2,76,2,78],[2,79,2,81],[2,82,2,84],[2,85,2,87],[2,88,2,90],[2,91,2,93],[2,58,2,60],[2,61,2,63],[2,64,2,66],[2,67,2,69],[2,70,2,72],[2,73,2,75],[2,112,2,114],[2,115,2,117],[2,118,2,120],[2,121,2,123],[2,124,2,126],[2,127,2,129],[2,94,2,96],[2,97,2,99],[2,100,2,102],[2,103,2,105],[2,106,2,108],[2,109,2,111],[2,148,2,150],[2,151,2,153],[2,154,2,156],[2,157,2,159],[2,160,2,162],[2,163,2,165],[2,130,2,132],[2,133,2,135],[2,136,2,138],[2,139,2,141],[2,142,2,144],[2,145,2,147],[2,190,2,192],[2,193,2,195],[2,196,2,198],[2,199,2,201],[2,166,2,168],[2,169,2,171],[2,172,2,174],[2,175,2,177],[2,178,2,180],[2,181,2,183],[4,7,4,9],[5,7,5,9],[6,7,6,9],[7,7,7,9],[8,7,8,9],[9,7,9,9],[2,244,2,246],[2,247,2,249],[2,250,2,252],[2,229,2,231],[2,232,2,234],[2,235,2,237],[2,202,2,204],[2,205,2,207],[2,208,2,210],[2,211,2,213],[2,214,2,216],[2,238,2,240],[2,217,2,219],[2,220,2,222],[2,223,2,225],[2,226,2,228],[2,184,2,186],[2,187,2,189],[19,7,19,9],[20,7,20,9],[21,7,21,9],[22,7,22,9],[24,7,24,9],[25,7,25,9],[10,7,10,9],[11,7,11,9],[12,7,12,9],[13,7,13,9],[14,7,14,9],[23,7,23,9],[15,7,15,9],[16,7,16,9],[17,7,17,9],[18,7,18,9],[33,7,33,9],[34,7,34,9],[35,7,35,9],[36,7,36,9],[37,7,37,9],[38,7,38,9],[26,7,26,9],[32,7,32,9],[31,7,31,9],[27,7,27,9],[28,7,28,9],[29,7,29,9],[30,7,30,9],[47,7,47,9],[48,7,48,9],[49,7,49,9],[50,7,50,9],[39,7,39,9],[40,7,40,9],[41,7,41,9],[42,7,42,9],[43,7,43,9],[44,7,44,9],[79,7,79,9],[84,7,84,9],[80,7,80,9],[81,7,81,9],[82,7,82,9],[83,7,83,9],[63,7,63,9],[64,7,64,9],[71,7,71,9],[72,7,72,9],[65,7,65,9],[66,7,66,9],[67,7,67,9],[68,7,68,9],[2,5,3,5],[2,6,2,9],[77,7,77,9],[78,7,78,9],[73,7,73,9],[74,7,74,9],[75,7,75,9],[76,7,76,9],[69,7,69,9],[70,7,70,9],[57,7,57,9],[58,7,58,9],[59,7,59,9],[60,7,60,9],[61,7,61,9],[62,7,62,9],[51,7,51,9],[52,7,52,9],[53,7,53,9],[54,7,54,9],[55,7,55,9],[56,7,56,9],[45,7,45,9],[46,7,46,9]]}
["Main Menu",null,null,null,"Product Information from MSDS",null,null,null,null,null,"HAP Product Information from MSDS"]
[]
["Product Number","Product Name","Product Type",null,"Specific Gravity","Density\n(lbs/gal)","Enter either, however, if you have both values, please enter both."]
[null,null,null,null,null,null,"Lbs VOC/Gal Minus Water/Exempt Solvents","Lbs VOC/Gal With Water/Exempt Solvents",null,null,"% by weight","Density (lb/gal)","HAP lbs/gal","% by weight","Density (lb/gal)","HAP lbs/gal","% by weight","Density (lb/gal)","HAP lbs/gal","% by weight","Density (lb/gal)","HAP lbs/gal","% by weight","Density (lb/gal)","HAP lbs/gal","% by weight","Density (lb/gal)","HAP lbs/gal","% by weight","Density (lb/gal)","HAP lbs/gal","% by weight","Density (lb/gal)","HAP lbs/gal","% by weight","Density (lb/gal)","HAP lbs/gal","% by weight","Density (lb/gal)","HAP lbs/gal","% by weight","Density (lb/gal)","HAP lbs/gal","% by weight","Density (lb/gal)","HAP lbs/gal","% by weight","Density (lb/gal)","HAP lbs/gal","% by weight","Density (lb/gal)","HAP lbs/gal","% by weight","Density (lb/gal)","HAP lbs/gal","% by weight","Density (lb/gal)","HAP lbs/gal","% by weight","Density (lb/gal)","HAP lbs/gal","% by weight","Density (lb/gal)","HAP lbs/gal","% by weight","Density (lb/gal)","HAP lbs/gal","% by weight","Density (lb/gal)","HAP lbs/gal","% by weight","Density (lb/gal)","HAP lbs/gal","% by weight","Density (lb/gal)","HAP lbs/gal","% by weight","Density (lb/gal)","HAP lbs/gal","% by weight","Density (lb/gal)","HAP lbs/gal","% by weight","Density (lb/gal)","HAP lbs/gal","% by weight","Density (lb/gal)","HAP lbs/gal","% by weight","Density (lb/gal)","HAP lbs/gal","% by weight","Density (lb/gal)","HAP lbs/gal","% by weight","Density (lb/gal)","HAP lbs/gal","% by weight","Density (lb/gal)","HAP lbs/gal","% by weight","Density (lb/gal)","HAP lbs/gal","% by weight","Density (lb/gal)","HAP lbs/gal","% by weight","Density (lb/gal)","HAP lbs/gal","% by weight","Density (lb/gal)","HAP lbs/gal","% by weight","Density (lb/gal)","HAP lbs/gal","% by weight","Density (lb/gal)","HAP lbs/gal","% by weight","Density (lb/gal)","HAP lbs/gal","% by weight","Density (lb/gal)","HAP lbs/gal","% by weight","Density (lb/gal)","HAP lbs/gal","% by weight","Density (lb/gal)","HAP lbs/gal","% by weight","Density (lb/gal)","HAP lbs/gal","% by weight","Density (lb/gal)","HAP lbs/gal","% by weight","Density (lb/gal)","HAP lbs/gal","% by weight","Density (lb/gal)","HAP lbs/gal","% by weight","Density (lb/gal)","HAP lbs/gal","% by weight","Density (lb/gal)","HAP lbs/gal","% by weight","Density (lb/gal)","HAP lbs/gal","% by weight","Density (lb/gal)","HAP lbs/gal","% by weight","Density (lb/gal)","HAP lbs/gal","% by weight","Density (lb/gal)","HAP lbs/gal","% by weight","Density (lb/gal)","HAP lbs/gal","% by weight","Density (lb/gal)","HAP lbs/gal","% by weight","Density (lb/gal)","HAP lbs/gal","% by weight","Density (lb/gal)","HAP lbs/gal","% by weight","Density (lb/gal)","HAP lbs/gal","% by weight","Density (lb/gal)","HAP lbs/gal","% by weight","Density (lb/gal)","HAP lbs/gal","% by weight","Density (lb/gal)","HAP lbs/gal","% by weight","Density (lb/gal)","HAP lbs/gal","% by weight","Density (lb/gal)","HAP lbs/gal","% by weight","Density (lb/gal)","HAP lbs/gal","% by weight","Density (lb/gal)","HAP lbs/gal","% by weight","Density (lb/gal)","HAP lbs/gal","% by weight","Density (lb/gal)","HAP lbs/gal","% by weight","Density (lb/gal)","HAP lbs/gal","% by weight","Density (lb/gal)","HAP lbs/gal","% by weight","Density (lb/gal)","HAP lbs/gal","% by weight","Density (lb/gal)","HAP lbs/gal","% by weight","Density (lb/gal)","HAP lbs/gal","% by weight","Density (lb/gal)","HAP lbs/gal","% by weight","Density (lb/gal)","HAP lbs/gal","% by weight","Density (lb/gal)","HAP lbs/gal","% by weight","Density (lb/gal)","HAP lbs/gal","% by weight","Density (lb/gal)","HAP lbs/gal","% by weight","Density (lb/gal)","HAP lbs/gal","% by weight","Density (lb/gal)","HAP lbs/gal","% by weight","Density (lb/gal)","HAP lbs/gal","% by weight","Density (lb/gal)","HAP lbs/gal","% by weight","Density (lb/gal)","HAP lbs/gal","% by weight","Density (lb/gal)","HAP lbs/gal","% by weight","Density (lb/gal)","HAP lbs/gal","% by weight","Density (lb/gal)","HAP lbs/gal"]
[null,null,null,null,null,null,null,null,null,null,null,{"$f":"F5","v":0},{"$f":"K5/100*L5","v":0},null,{"$f":"F5","v":0},{"$f":"N5/100*O5","v":0},null,{"$f":"F5","v":0},{"$f":"Q5/100*R5","v":0},null,{"$f":"F5","v":0},{"$f":"T5/100*U5","v":0},null,{"$f":"F5","v":0},{"$f":"W5/100*X5","v":0},null,{"$f":"F5","v":0},{"$f":"Z5/100*AA5","v":0},null,{"$f":"F5","v":0},{"$f":"AC5/100*AD5","v":0},null,{"$f":"F5","v":0},{"$f":"AF5/100*AG5","v":0},null,{"$f":"F5","v":0},{"$f":"AI5/100*AJ5","v":0},null,{"$f":"F5","v":0},{"$f":"AL5/100*AM5","v":0},null,{"$f":"F5","v":0},{"$f":"AO5/100*AP5","v":0},null,{"$f":"F5","v":0},{"$f":"AR5/100*AS5","v":0},null,{"$f":"F5","v":0},{"$f":"AU5/100*AV5","v":0},null,{"$f":"F5","v":0},{"$f":"AX5/100*AY5","v":0},null,{"$f":"F5","v":0},{"$f":"BA5/100*BB5","v":0},null,{"$f":"F5","v":0},{"$f":"BD5/100*BE5","v":0},null,{"$f":"F5","v":0},{"$f":"BG5/100*BH5","v":0},null,{"$f":"F5","v":0},{"$f":"BJ5/100*BK5","v":0},null,{"$f":"F5","v":0},{"$f":"BM5/100*BN5","v":0},null,{"$f":"F5","v":0},{"$f":"BP5/100*BQ5","v":0},null,{"$f":"F5","v":0},{"$f":"BS5/100*BT5","v":0},null,{"$f":"F5","v":0},{"$f":"BV5/100*BW5","v":0},null,{"$f":"F5","v":0},{"$f":"BY5/100*BZ5","v":0},null,{"$f":"F5","v":0},{"$f":"CB5/100*CC5","v":0},null,{"$f":"F5","v":0},{"$f":"CE5/100*CF5","v":0},null,{"$f":"F5","v":0},{"$f":"CH5/100*CI5","v":0},null,{"$f":"F5","v":0},{"$f":"CK5/100*CL5","v":0},null,{"$f":"F5","v":0},{"$f":"CN5/100*CO5","v":0},null,{"$f":"F5","v":0},{"$f":"CQ5/100*CR5","v":0},null,{"$f":"F5","v":0},{"$f":"CT5/100*CU5","v":0},null,{"$f":"F5","v":0},{"$f":"CW5/100*CX5","v":0},null,{"$f":"F5","v":0},{"$f":"CZ5/100*DA5","v":0},null,{"$f":"F5","v":0},{"$f":"DC5/100*DD5","v":0},null,{"$f":"F5","v":0},{"$f":"DF5/100*DG5","v":0},null,{"$f":"F5","v":0},{"$f":"DI5/100*DJ5","v":0},null,{"$f":"F5","v":0},{"$f":"DL5/100*DM5","v":0},null,{"$f":"F5","v":0},{"$f":"DO5/100*DP5","v":0},null,{"$f":"F5","v":0},{"$f":"DR5/100*DS5","v":0},null,{"$f":"F5","v":0},{"$f":"DU5/100*DV5","v":0},null,{"$f":"F5","v":0},{"$f":"DX5/100*DY5","v":0},null,{"$f":"F5","v":0},{"$f":"EA5/100*EB5","v":0},null,{"$f":"F5","v":0},{"$f":"ED5/100*EE5","v":0},null,{"$f":"F5","v":0},{"$f":"EG5/100*EH5","v":0},null,{"$f":"F5","v":0},{"$f":"EJ5/100*EK5","v":0},null,{"$f":"F5","v":0},{"$f":"EM5/100*EN5","v":0},null,{"$f":"F5","v":0},{"$f":"EP5/100*EQ5","v":0},null,{"$f":"F5","v":0},{"$f":"ES5/100*ET5","v":0},null,{"$f":"F5","v":0},{"$f":"EV5/100*EW5","v":0},null,{"$f":"F5","v":0},{"$f":"EY5/100*EZ5","v":0},null,{"$f":"F5","v":0},{"$f":"FB5/100*FC5","v":0},null,{"$f":"F5","v":0},{"$f":"FE5/100*FF5","v":0},null,{"$f":"F5","v":0},{"$f":"FH5/100*FI5","v":0},null,{"$f":"F5","v":0},{"$f":"FK5/100*FL5","v":0},null,{"$f":"F5","v":0},{"$f":"FN5/100*FO5","v":0},null,{"$f":"F5","v":0},{"$f":"FQ5/100*FR5","v":0},null,{"$f":"F5","v":0},{"$f":"FT5/100*FU5","v":0},null,{"$f":"F5","v":0},{"$f":"FW5/100*FX5","v":0},null,{"$f":"F5","v":0},{"$f":"FZ5/100*GA5","v":0},null,{"$f":"F5","v":0},{"$f":"GC5/100*GD5","v":0},null,{"$f":"F5","v":0},{"$f":"GF5/100*GG5","v":0},null,{"$f":"F5","v":0},{"$f":"GI5/100*GJ5","v":0},null,{"$f":"F5","v":0},{"$f":"GL5/100*GM5","v":0},null,{"$f":"F5","v":0},{"$f":"GO5/100*GP5","v":0},null,{"$f":"F5","v":0},{"$f":"GR5/100*GS5","v":0},null,{"$f":"F5","v":0},{"$f":"GU5/100*GV5","v":0},null,{"$f":"F5","v":0},{"$f":"GX5/100*GY5","v":0},null,{"$f":"F5","v":0},{"$f":"HA5/100*HB5","v":0},null,{"$f":"F5","v":0},{"$f":"HD5/100*HE5","v":0},null,{"$f":"F5","v":0},{"$f":"HG5/100*HH5","v":0},null,{"$f":"F5","v":0},{"$f":"HJ5/100*HK5","v":0},null,{"$f":"F5","v":0},{"$f":"HM5/100*HN5","v":0},null,{"$f":"F5","v":0},{"$f":"HP5/100*HQ5","v":0},null,{"$f":"F5","v":0},{"$f":"HS5/100*HT5","v":0},null,{"$f":"F5","v":0},{"$f":"HV5/100*HW5","v":0},null,{"$f":"F5","v":0},{"$f":"HY5/100*HZ5","v":0},null,{"$f":"F5","v":0},{"$f":"IB5/100*IC5","v":0},null,{"$f":"F5","v":0},{"$f":"IE5/100*IF5","v":0},null,{"$f":"F5","v":0},{"$f":"IH5/100*II5","v":0},null,{"$f":"F5","v":0},{"$f":"IK5/100*IL5","v":0},null,{"$f":"F5","v":0},{"$f":"IN5/100*IO5","v":0},null,{"$f":"F5","v":0},{"$f":"IQ5/100*IR5","v":0},null,{"$f":"F5","v":0},{"$f":"IT5/100*IU5","v":0}]
[null,null,null,null,null,null,null,null,null,null,null,0,0,null,0,0,null,0,0,null,0,0,null,0,0,null,0,0,null,0,0,null,0,0,null,0,0,null,0,0,null,0,0,null,0,0,null,0,0,null,0,0,null,0,0,null,0,0,null,0,0,null,0,0,null,0,0,null,0,0,null,0,0,null,0,0,null,0,0,null,0,0,null,0,0,null,0,0,null,0,0,null,0,0,null,0,0,null,0,0,null,0,0,null,0,0,null,0,0,null,0,0,null,0,0,null,0,0,null,0,0,null,0,0,null,0,0,null,0,0,null,0,0,null,0,0,null,0,0,null,0,0,null,0,0,null,0,0,null,0,0,null,0,0,null,0,0,null,0,0,null,0,0,null,0,0,null,0,0,null,0,0,null,0,0,null,0,0,null,0,0,null,0,0,null,0,0,null,0,0,null,0,0,null,0,0,null,0,0,null,0,0,null,0,0,null,0,0,null,0,0,null,0,0,null,0,0,null,0,0,null,0,0,null,0,0,null,0,0,null,0,0,null,0,0,null,0,0,null,0,0,null,0,0,null,0,0,null,0,0,null,0,0,null,0,0]
[null,null,null,null,null,null,null,null,null,null,null,0,0,null,0,0,null,0,0,null,0,0,null,0,0,null,0,0,null,0,0,null,0,0,null,0,0,null,0,0,null,0,0,null,0,0,null,0,0,null,0,0,null,0,0,null,0,0,null,0,0,null,0,0,null,0,0,null,0,0,null,0,0,null,0,0,null,0,0,null,0,0,null,0,0,null,0,0,null,0,0,null,0,0,null,0,0,null,0,0,null,0,0,null,0,0,null,0,0,null,0,0,null,0,0,null,0,0,null,0,0,null,0,0,null,0,0,null,0,0,null,0,0,null,0,0,null,0,0,null,0,0,null,0,0,null,0,0,null,0,0,null,0,0,null,0,0,null,0,0,null,0,0,null,0,0,null,0,0,null,0,0,null,0,0,null,0,0,null,0,0,null,0,0,null,0,0,null,0,0,null,0,0,null,0,0,null,0,0,null,0,0,null,0,0,null,0,0,null,0,0,null,0,0,null,0,0,null,0,0,null,0,0,null,0,0,null,0,0,null,0,0,null,0,0,null,0,0,null,0,0,null,0,0,null,0,0,null,0,0,null,0,0,null,0,0]
[null,null,null,null,null,null,null,null,null,null,null,0,0,null,0,0,null,0,0,null,0,0,null,0,0,null,0,0,null,0,0,null,0,0,null,0,0,null,0,0,null,0,0,null,0,0,null,0,0,null,0,0,null,0,0,null,0,0,null,0,0,null,0,0,null,0,0,null,0,0,null,0,0,null,0,0,null,0,0,null,0,0,null,0,0,null,0,0,null,0,0,null,0,0,null,0,0,null,0,0,null,0,0,null,0,0,null,0,0,null,0,0,null,0,0,null,0,0,null,0,0,null,0,0,null,0,0,null,0,0,null,0,0,null,0,0,null,0,0,null,0,0,null,0,0,null,0,0,null,0,0,null,0,0,null,0,0,null,0,0,null,0,0,null,0,0,null,0,0,null,0,0,null,0,0,null,0,0,null,0,0,null,0,0,null,0,0,null,0,0,null,0,0,null,0,0,null,0,0,null,0,0,null,0,0,null,0,0,null,0,0,null,0,0,null,0,0,null,0,0,null,0,0,null,0,0,null,0,0,null,0,0,null,0,0,null,0,0,null,0,0,null,0,0,null,0,0,null,0,0,null,0,0,null,0,0]
[null,null,null,null,null,null,null,null,null,null,null,0,0,null,0,0,null,0,0,null,0,0,null,0,0,null,0,0,null,0,0,null,0,0,null,0,0,null,0,0,null,0,0,null,0,0,null,0,0,null,0,0,null,0,0,null,0,0,null,0,0,null,0,0,null,0,0,null,0,0,null,0,0,null,0,0,null,0,0,null,0,0,null,0,0,null,0,0,null,0,0,null,0,0,null,0,0,null,0,0,null,0,0,null,0,0,null,0,0,null,0,0,null,0,0,null,0,0,null,0,0,null,0,0,null,0,0,null,0,0,null,0,0,null,0,0,null,0,0,null,0,0,null,0,0,null,0,0,null,0,0,null,0,0,null,0,0,null,0,0,null,0,0,null,0,0,null,0,0,null,0,0,null,0,0,null,0,0,null,0,0,null,0,0,null,0,0,null,0,0,null,0,0,null,0,0,null,0,0,null,0,0,null,0,0,null,0,0,null,0,0,null,0,0,null,0,0,null,0,0,null,0,0,null,0,0,null,0,0,null,0,0,null,0,0,null,0,0,null,0,0,null,0,0,null,0,0,null,0,0,null,0,0,null,0,0]
[null,null,null,null,null,null,null,null,null,null,null,0,0,null,0,0,null,0,0,null,0,0,null,0,0,null,0,0,null,0,0,null,0,0,null,0,0,null,0,0,null,0,0,null,0,0,null,0,0,null,0,0,null,0,0,null,0,0,null,0,0,null,0,0,null,0,0,null,0,0,null,0,0,null,0,0,null,0,0,null,0,0,null,0,0,null,0,0,null,0,0,null,0,0,null,0,0,null,0,0,null,0,0,null,0,0,null,0,0,null,0,0,null,0,0,null,0,0,null,0,0,null,0,0,null,0,0,null,0,0,null,0,0,null,0,0,null,0,0,null,0,0,null,0,0,null,0,0,null,0,0,null,0,0,null,0,0,null,0,0,null,0,0,null,0,0,null,0,0,null,0,0,null,0,0,null,0,0,null,0,0,null,0,0,null,0,0,null,0,0,null,0,0,null,0,0,null,0,0,null,0,0,null,0,0,null,0,0,null,0,0,null,0,0,null,0,0,null,0,0,null,0,0,null,0,0,null,0,0,null,0,0,null,0,0,null,0,0,null,0,0,null,0,0,null,0,0,null,0,0,null,0,0,null,0,0]
[null,null,null,null,null,null,null,null,null,null,null,0,0,null,0,0,null,0,0,null,0,0,null,0,0,null,0,0,null,0,0,null,0,0,null,0,0,null,0,0,null,0,0,null,0,0,null,0,0,null,0,0,null,0,0,null,0,0,null,0,0,null,0,0,null,0,0,null,0,0,null,0,0,null,0,0,null,0,0,null,0,0,null,0,0,null,0,0,null,0,0,null,0,0,null,0,0,null,0,0,null,0,0,null,0,0,null,0,0,null,0,0,null,0,0,null,0,0,null,0,0,null,0,0,null,0,0,null,0,0,null,0,0,null,0,0,null,0,0,null,0,0,null,0,0,null,0,0,null,0,0,null,0,0,null,0,0,null,0,0,null,0,0,null,0,0,null,0,0,null,0,0,null,0,0,null,0,0,null,0,0,null,0,0,null,0,0,null,0,0,null,0,0,null,0,0,null,0,0,null,0,0,null,0,0,null,0,0,null,0,0,null,0,0,null,0,0,null,0,0,null,0,0,null,0,0,null,0,0,null,0,0,null,0,0,null,0,0,null,0,0,null,0,0,null,0,0,null,0,0,null,0,0,null,0,0]
[null,null,null,null,null,null,null,null,null,null,null,0,0,null,0,0,null,0,0,null,0,0,null,0,0,null,0,0,null,0,0,null,0,0,null,0,0,null,0,0,null,0,0,null,0,0,null,0,0,null,0,0,null,0,0,null,0,0,null,0,0,null,0,0,null,0,0,null,0,0,null,0,0,null,0,0,null,0,0,null,0,0,null,0,0,null,0,0,null,0,0,null,0,0,null,0,0,null,0,0,null,0,0,null,0,0,null,0,0,null,0,0,null,0,0,null,0,0,null,0,0,null,0,0,null,0,0,null,0,0,null,0,0,null,0,0,null,0,0,null,0,0,null,0,0,null,0,0,null,0,0,null,0,0,null,0,0,null,0,0,null,0,0,null,0,0,null,0,0,null,0,0,null,0,0,null,0,0,null,0,0,null,0,0,null,0,0,null,0,0,null,0,0,null,0,0,null,0,0,null,0,0,null,0,0,null,0,0,null,0,0,null,0,0,null,0,0,null,0,0,null,0,0,null,0,0,null,0,0,null,0,0,null,0,0,null,0,0,null,0,0,null,0,0,null,0,0,null,0,0,null,0,0,null,0,0]
[null,null,null,null,null,null,null,null,null,null,null,0,0,null,0,0,null,0,0,null,0,0,null,0,0,null,0,0,null,0,0,null,0,0,null,0,0,null,0,0,null,0,0,null,0,0,null,0,0,null,0,0,null,0,0,null,0,0,null,0,0,null,0,0,null,0,0,null,0,0,null,0,0,null,0,0,null,0,0,null,0,0,null,0,0,null,0,0,null,0,0,null,0,0,null,0,0,null,0,0,null,0,0,null,0,0,null,0,0,null,0,0,null,0,0,null,0,0,null,0,0,null,0,0,null,0,0,null,0,0,null,0,0,null,0,0,null,0,0,null,0,0,null,0,0,null,0,0,null,0,0,null,0,0,null,0,0,null,0,0,null,0,0,null,0,0,null,0,0,null,0,0,null,0,0,null,0,0,null,0,0,null,0,0,null,0,0,null,0,0,null,0,0,null,0,0,null,0,0,null,0,0,null,0,0,null,0,0,null,0,0,null,0,0,null,0,0,null,0,0,null,0,0,null,0,0,null,0,0,null,0,0,null,0,0,null,0,0,null,0,0,null,0,0,null,0,0,null,0,0,null,0,0,null,0,0]
[null,null,null,null,null,null,null,null,null,null,null,0,0,null,0,0,null,0,0,null,0,0,null,0,0,null,0,0,null,0,0,null,0,0,null,0,0,null,0,0,null,0,0,null,0,0,null,0,0,null,0,0,null,0,0,null,0,0,null,0,0,null,0,0,null,0,0,null,0,0,null,0,0,null,0,0,null,0,0,null,0,0,null,0,0,null,0,0,null,0,0,null,0,0,null,0,0,null,0,0,null,0,0,null,0,0,null,0,0,null,0,0,null,0,0,null,0,0,null,0,0,null,0,0,null,0,0,null,0,0,null,0,0,null,0,0,null,0,0,null,0,0,null,0,0,null,0,0,null,0,0,null,0,0,null,0,0,null,0,0,null,0,0,null,0,0,null,0,0,null,0,0,null,0,0,null,0,0,null,0,0,null,0,0,null,0,0,null,0,0,null,0,0,null,0,0,null,0,0,null,0,0,null,0,0,null,0,0,null,0,0,null,0,0,null,0,0,null,0,0,null,0,0,null,0,0,null,0,0,null,0,0,null,0,0,null,0,0,null,0,0,null,0,0,null,0,0,null,0,0,null,0,0,null,0,0]
[null,null,null,null,null,null,null,null,null,null,null,0,0,null,0,0,null,0,0,null,0,0,null,0,0,null,0,0,null,0,0,null,0,0,null,0,0,null,0,0,null,0,0,null,0,0,null,0,0,null,0,0,null,0,0,null,0,0,null,0,0,null,0,0,null,0,0,null,0,0,null,0,0,null,0,0,null,0,0,null,0,0,null,0,0,null,0,0,null,0,0,null,0,0,null,0,0,null,0,0,null,0,0,null,0,0,null,0,0,null,0,0,null,0,0,null,0,0,null,0,0,null,0,0,null,0,0,null,0,0,null,0,0,null,0,0,null,0,0,null,0,0,null,0,0,null,0,0,null,0,0,null,0,0,null,0,0,null,0,0,null,0,0,null,0,0,null,0,0,null,0,0,null,0,0,null,0,0,null,0,0,null,0,0,null,0,0,null,0,0,null,0,0,null,0,0,null,0,0,null,0,0,null,0,0,null,0,0,null,0,0,null,0,0,null,0,0,null,0,0,null,0,0,null,0,0,null,0,0,null,0,0,null,0,0,null,0,0,null,0,0,null,0,0,null,0,0,null,0,0,null,0,0,null,0,0]
[null,null,null,null,null,null,null,null,null,null,null,0,0,null,0,0,null,0,0,null,0,0,null,0,0,null,0,0,null,0,0,null,0,0,null,0,0,null,0,0,null,0,0,null,0,0,null,0,0,null,0,0,null,0,0,null,0,0,null,0,0,null,0,0,null,0,0,null,0,0,null,0,0,null,0,0,null,0,0,null,0,0,null,0,0,null,0,0,null,0,0,null,0,0,null,0,0,null,0,0,null,0,0,null,0,0,null,0,0,null,0,0,null,0,0,null,0,0,null,0,0,null,0,0,null,0,0,null,0,0,null,0,0,null,0,0,null,0,0,null,0,0,null,0,0,null,0,0,null,0,0,null,0,0,null,0,0,null,0,0,null,0,0,null,0,0,null,0,0,null,0,0,null,0,0,null,0,0,null,0,0,null,0,0,null,0,0,null,0,0,null,0,0,null,0,0,null,0,0,null,0,0,null,0,0,null,0,0,null,0,0,null,0,0,null,0,0,null,0,0,null,0,0,null,0,0,null,0,0,null,0,0,null,0,0,null,0,0,null,0,0,null,0,0,null,0,0,null,0,0,null,0,0,null,0,0]
[null,null,null,null,null,null,null,null,null,null,null,0,0,null,0,0,null,0,0,null,0,0,null,0,0,null,0,0,null,0,0,null,0,0,null,0,0,null,0,0,null,0,0,null,0,0,null,0,0,null,0,0,null,0,0,null,0,0,null,0,0,null,0,0,null,0,0,null,0,0,null,0,0,null,0,0,null,0,0,null,0,0,null,0,0,null,0,0,null,0,0,null,0,0,null,0,0,null,0,0,null,0,0,null,0,0,null,0,0,null,0,0,null,0,0,null,0,0,null,0,0,null,0,0,null,0,0,null,0,0,null,0,0,null,0,0,null,0,0,null,0,0,null,0,0,null,0,0,null,0,0,null,0,0,null,0,0,null,0,0,null,0,0,null,0,0,null,0,0,null,0,0,null,0,0,null,0,0,null,0,0,null,0,0,null,0,0,null,0,0,null,0,0,null,0,0,null,0,0,null,0,0,null,0,0,null,0,0,null,0,0,null,0,0,null,0,0,null,0,0,null,0,0,null,0,0,null,0,0,null,0,0,null,0,0,null,0,0,null,0,0,null,0,0,null,0,0,null,0,0,null,0,0,null,0,0]
[null,null,null,null,null,null,null,null,null,null,null,0,0,null,0,0,null,0,0,null,0,0,null,0,0,null,0,0,null,0,0,null,0,0,null,0,0,null,0,0,null,0,0,null,0,0,null,0,0,null,0,0,null,0,0,null,0,0,null,0,0,null,0,0,null,0,0,null,0,0,null,0,0,null,0,0,null,0,0,null,0,0,null,0,0,null,0,0,null,0,0,null,0,0,null,0,0,null,0,0,null,0,0,null,0,0,null,0,0,null,0,0,null,0,0,null,0,0,null,0,0,null,0,0,null,0,0,null,0,0,null,0,0,null,0,0,null,0,0,null,0,0,null,0,0,null,0,0,null,0,0,null,0,0,null,0,0,null,0,0,null,0,0,null,0,0,null,0,0,null,0,0,null,0,0,null,0,0,null,0,0,null,0,0,null,0,0,null,0,0,null,0,0,null,0,0,null,0,0,null,0,0,null,0,0,null,0,0,null,0,0,null,0,0,null,0,0,null,0,0,null,0,0,null,0,0,null,0,0,null,0,0,null,0,0,null,0,0,null,0,0,null,0,0,null,0,0,null,0,0,null,0,0,null,0,0]
[null,null,null,null,null,null,null,null,null,null,null,0,0,null,0,0,null,0,0,null,0,0,null,0,0,null,0,0,null,0,0,null,0,0,null,0,0,null,0,0,null,0,0,null,0,0,null,0,0,null,0,0,null,0,0,null,0,0,null,0,0,null,0,0,null,0,0,null,0,0,null,0,0,null,0,0,null,0,0,null,0,0,null,0,0,null,0,0,null,0,0,null,0,0,null,0,0,null,0,0,null,0,0,null,0,0,null,0,0,null,0,0,null,0,0,null,0,0,null,0,0,null,0,0,null,0,0,null,0,0,null,0,0,null,0,0,null,0,0,null,0,0,null,0,0,null,0,0,null,0,0,null,0,0,null,0,0,null,0,0,null,0,0,null,0,0,null,0,0,null,0,0,null,0,0,null,0,0,null,0,0,null,0,0,null,0,0,null,0,0,null,0,0,null,0,0,null,0,0,null,0,0,null,0,0,null,0,0,null,0,0,null,0,0,null,0,0,null,0,0,null,0,0,null,0,0,null,0,0,null,0,0,null,0,0,null,0,0,null,0,0,null,0,0,null,0,0,null,0,0,null,0,0,null,0,0]
[null,null,null,null,null,null,null,null,null,null,null,0,{"$f":"K20/100*L20","v":0},null,0,0,null,0,0,null,0,0,null,0,0,null,0,0,null,0,0,null,0,0,null,0,0,null,0,0,null,0,0,null,0,0,null,0,0,null,0,0,null,0,0,null,0,0,null,0,0,null,0,0,null,0,0,null,0,0,null,0,0,null,0,0,null,0,0,null,0,0,null,0,0,null,0,0,null,0,0,null,0,0,null,0,0,null,0,0,null,0,0,null,0,0,null,0,0,null,0,0,null,0,0,null,0,0,null,0,0,null,0,0,null,0,0,null,0,0,null,0,0,null,0,0,null,0,0,null,0,0,null,0,0,null,0,0,null,0,0,null,0,0,null,0,0,null,0,0,null,0,0,null,0,0,null,0,0,null,0,0,null,0,0,null,0,0,null,0,0,null,0,0,null,0,0,null,0,0,null,0,0,null,0,0,null,0,0,null,0,0,null,0,0,null,0,0,null,0,0,null,0,0,null,0,0,null,0,0,null,0,0,null,0,0,null,0,0,null,0,0,null,0,0,null,0,0,null,0,0,null,0,0,null,0,0,null,0,0,null,0,0,null,0,0]
[null,null,null,null,null,null,null,null,null,null,null,0,0,null,0,0,null,0,0,null,0,0,null,0,0,null,0,0,null,0,0,null,0,0,null,0,0,null,0,0,null,0,0,null,0,0,null,0,0,null,0,0,null,0,0,null,0,0,null,0,0,null,0,0,null,0,0,null,0,0,null,0,0,null,0,0,null,0,0,null,0,0,null,0,0,null,0,0,null,0,0,null,0,0,null,0,0,null,0,0,null,0,0,null,0,0,null,0,0,null,0,0,null,0,0,null,0,0,null,0,0,null,0,0,null,0,0,null,0,0,null,0,0,null,0,0,null,0,0,null,0,0,null,0,0,null,0,0,null,0,0,null,0,0,null,0,0,null,0,0,null,0,0,null,0,0,null,0,0,null,0,0,null,0,0,null,0,0,null,0,0,null,0,0,null,0,0,null,0,0,null,0,0,null,0,0,null,0,0,null,0,0,null,0,0,null,0,0,null,0,0,null,0,0,null,0,0,null,0,0,null,0,0,null,0,0,null,0,0,null,0,0,null,0,0,null,0,0,null,0,0,null,0,0,null,0,0,null,0,0,null,0,0,null,0,0]
[null,null,null,null,null,null,null,null,null,null,null,0,0,null,0,0,null,0,0,null,0,0,null,0,0,null,0,0,null,0,0,null,0,0,null,0,0,null,0,0,null,0,0,null,0,0,null,0,0,null,0,0,null,0,0,null,0,0,null,0,0,null,0,0,null,0,0,null,0,0,null,0,0,null,0,0,null,0,0,null,0,0,null,0,0,null,0,0,null,0,0,null,0,0,null,0,0,null,0,0,null,0,0,null,0,0,null,0,0,null,0,0,null,0,0,null,0,0,null,0,0,null,0,0,null,0,0,null,0,0,null,0,0,null,0,0,null,0,0,null,0,0,null,0,0,null,0,0,null,0,0,null,0,0,null,0,0,null,0,0,null,0,0,null,0,0,null,0,0,null,0,0,null,0,0,null,0,0,null,0,0,null,0,0,null,0,0,null,0,0,null,0,0,null,0,0,null,0,0,null,0,0,null,0,0,null,0,0,null,0,0,null,0,0,null,0,0,null,0,0,null,0,0,null,0,0,null,0,0,null,0,0,null,0,0,null,0,0,null,0,0,null,0,0,null,0,0,null,0,0,null,0,0,null,0,0]
[null,null,null,null,null,null,null,null,null,null,null,0,0,null,0,0,null,0,0,null,0,0,null,0,0,null,0,0,null,0,0,null,0,0,null,0,0,null,0,0,null,0,0,null,0,0,null,0,0,null,0,0,null,0,0,null,0,0,null,0,0,null,0,0,null,0,0,null,0,0,null,0,0,null,0,0,null,0,0,null,0,0,null,0,0,null,0,0,null,0,0,null,0,0,null,0,0,null,0,0,null,0,0,null,0,0,null,0,0,null,0,0,null,0,0,null,0,0,null,0,0,null,0,0,null,0,0,null,0,0,null,0,0,null,0,0,null,0,0,null,0,0,null,0,0,null,0,0,null,0,0,null,0,0,null,0,0,null,0,0,null,0,0,null,0,0,null,0,0,null,0,0,null,0,0,null,0,0,null,0,0,null,0,0,null,0,0,null,0,0,null,0,0,null,0,0,null,0,0,null,0,0,null,0,0,null,0,0,null,0,0,null,0,0,null,0,0,null,0,0,null,0,0,null,0,0,null,0,0,null,0,0,null,0,0,null,0,0,null,0,0,null,0,0,null,0,0,null,0,0,null,0,0,null,0,0]
[null,null,null,null,null,null,null,null,null,null,null,0,0,null,0,0,null,0,0,null,0,0,null,0,0,null,0,0,null,0,0,null,0,0,null,0,0,null,0,0,null,0,0,null,0,0,null,0,0,null,0,0,null,0,0,null,0,0,null,0,0,null,0,0,null,0,0,null,0,0,null,0,0,null,0,0,null,0,0,null,0,0,null,0,0,null,0,0,null,0,0,null,0,0,null,0,0,null,0,0,null,0,0,null,0,0,null,0,0,null,0,0,null,0,0,null,0,0,null,0,0,null,0,0,null,0,0,null,0,0,null,0,0,null,0,0,null,0,0,null,0,0,null,0,0,null,0,0,null,0,0,null,0,0,null,0,0,null,0,0,null,0,0,null,0,0,null,0,0,null,0,0,null,0,0,null,0,0,null,0,0,null,0,0,null,0,0,null,0,0,null,0,0,null,0,0,null,0,0,null,0,0,null,0,0,null,0,0,null,0,0,null,0,0,null,0,0,null,0,0,null,0,0,null,0,0,null,0,0,null,0,0,null,0,0,null,0,0,null,0,0,null,0,0,null,0,0,null,0,0,null,0,0,null,0,0]
[null,null,null,null,null,null,null,null,null,null,null,0,0,null,0,0,null,0,0,null,0,0,null,0,0,null,0,0,null,0,0,null,0,0,null,0,0,null,0,0,null,0,0,null,0,0,null,0,0,null,0,0,null,0,0,null,0,0,null,0,0,null,0,0,null,0,0,null,0,0,null,0,0,null,0,0,null,0,0,null,0,0,null,0,0,null,0,0,null,0,0,null,0,0,null,0,0,null,0,0,null,0,0,null,0,0,null,0,0,null,0,0,null,0,0,null,0,0,null,0,0,null,0,0,null,0,0,null,0,0,null,0,0,null,0,0,null,0,0,null,0,0,null,0,0,null,0,0,null,0,0,null,0,0,null,0,0,null,0,0,null,0,0,null,0,0,null,0,0,null,0,0,null,0,0,null,0,0,null,0,0,null,0,0,null,0,0,null,0,0,null,0,0,null,0,0,null,0,0,null,0,0,null,0,0,null,0,0,null,0,0,null,0,0,null,0,0,null,0,0,null,0,0,null,0,0,null,0,0,null,0,0,null,0,0,null,0,0,null,0,0,null,0,0,null,0,0,null,0,0,null,0,0,null,0,0]
[null,null,null,null,null,null,null,null,null,null,null,0,0,null,0,0,null,0,0,null,0,0,null,0,0,null,0,0,null,0,0,null,0,0,null,0,0,null,0,0,null,0,0,null,0,0,null,0,0,null,0,0,null,0,0,null,0,0,null,0,0,null,0,0,null,0,0,null,0,0,null,0,0,null,0,0,null,0,0,null,0,0,null,0,0,null,0,0,null,0,0,null,0,0,null,0,0,null,0,0,null,0,0,null,0,0,null,0,0,null,0,0,null,0,0,null,0,0,null,0,0,null,0,0,null,0,0,null,0,0,null,0,0,null,0,0,null,0,0,null,0,0,null,0,0,null,0,0,null,0,0,null,0,0,null,0,0,null,0,0,null,0,0,null,0,0,null,0,0,null,0,0,null,0,0,null,0,0,null,0,0,null,0,0,null,0,0,null,0,0,null,0,0,null,0,0,null,0,0,null,0,0,null,0,0,null,0,0,null,0,0,null,0,0,null,0,0,null,0,0,null,0,0,null,0,0,null,0,0,null,0,0,null,0,0,null,0,0,null,0,0,null,0,0,null,0,0,null,0,0,null,0,0,null,0,0]
[null,null,null,null,null,null,null,null,null,null,null,0,0,null,0,0,null,0,0,null,0,0,null,0,0,null,0,0,null,0,0,null,0,0,null,0,0,null,0,0,null,0,0,null,0,0,null,0,0,null,0,0,null,0,0,null,0,0,null,0,0,null,0,0,null,0,0,null,0,0,null,0,0,null,0,0,null,0,0,null,0,0,null,0,0,null,0,0,null,0,0,null,0,0,null,0,0,null,0,0,null,0,0,null,0,0,null,0,0,null,0,0,null,0,0,null,0,0,null,0,0,null,0,0,null,0,0,null,0,0,null,0,0,null,0,0,null,0,0,null,0,0,null,0,0,null,0,0,null,0,0,null,0,0,null,0,0,null,0,0,null,0,0,null,0,0,null,0,0,null,0,0,null,0,0,null,0,0,null,0,0,null,0,0,null,0,0,null,0,0,null,0,0,null,0,0,null,0,0,null,0,0,null,0,0,null,0,0,null,0,0,null,0,0,null,0,0,null,0,0,null,0,0,null,0,0,null,0,0,null,0,0,null,0,0,null,0,0,null,0,0,null,0,0,null,0,0,null,0,0,null,0,0,null,0,0]
[null,null,null,null,null,null,null,null,null,null,null,0,0,null,0,0,null,0,0,null,0,0,null,0,0,null,0,0,null,0,0,null,0,0,null,0,0,null,0,0,null,0,0,null,0,0,null,0,0,null,0,0,null,0,0,null,0,0,null,0,0,null,0,0,null,0,0,null,0,0,null,0,0,null,0,0,null,0,0,null,0,0,null,0,0,null,0,0,null,0,0,null,0,0,null,0,0,null,0,0,null,0,0,null,0,0,null,0,0,null,0,0,null,0,0,null,0,0,null,0,0,null,0,0,null,0,0,null,0,0,null,0,0,null,0,0,null,0,0,null,0,0,null,0,0,null,0,0,null,0,0,null,0,0,null,0,0,null,0,0,null,0,0,null,0,0,null,0,0,null,0,0,null,0,0,null,0,0,null,0,0,null,0,0,null,0,0,null,0,0,null,0,0,null,0,0,null,0,0,null,0,0,null,0,0,null,0,0,null,0,0,null,0,0,null,0,0,null,0,0,null,0,0,null,0,0,null,0,0,null,0,0,null,0,0,null,0,0,null,0,0,null,0,0,null,0,0,null,0,0,null,0,0,null,0,0]
[null,null,null,null,null,null,null,null,null,null,null,0,0,null,0,0,null,0,0,null,0,0,null,0,0,null,0,0,null,0,0,null,0,0,null,0,0,null,0,0,null,0,0,null,0,0,null,0,0,null,0,0,null,0,0,null,0,0,null,0,0,null,0,0,null,0,0,null,0,0,null,0,0,null,0,0,null,0,0,null,0,0,null,0,0,null,0,0,null,0,0,null,0,0,null,0,0,null,0,0,null,0,0,null,0,0,null,0,0,null,0,0,null,0,0,null,0,0,null,0,0,null,0,0,null,0,0,null,0,0,null,0,0,null,0,0,null,0,0,null,0,0,null,0,0,null,0,0,null,0,0,null,0,0,null,0,0,null,0,0,null,0,0,null,0,0,null,0,0,null,0,0,null,0,0,null,0,0,null,0,0,null,0,0,null,0,0,null,0,0,null,0,0,null,0,0,null,0,0,null,0,0,null,0,0,null,0,0,null,0,0,null,0,0,null,0,0,null,0,0,null,0,0,null,0,0,null,0,0,null,0,0,null,0,0,null,0,0,null,0,0,null,0,0,null,0,0,null,0,0,null,0,0,null,0,0]
[null,null,null,null,null,null,null,null,null,null,null,0,0,null,0,0,null,0,0,null,0,0,null,0,0,null,0,0,null,0,0,null,0,0,null,0,0,null,0,0,null,0,0,null,0,0,null,0,0,null,0,0,null,0,0,null,0,0,null,0,0,null,0,0,null,0,0,null,0,0,null,0,0,null,0,0,null,0,0,null,0,0,null,0,0,null,0,0,null,0,0,null,0,0,null,0,0,null,0,0,null,0,0,null,0,0,null,0,0,null,0,0,null,0,0,null,0,0,null,0,0,null,0,0,null,0,0,null,0,0,null,0,0,null,0,0,null,0,0,null,0,0,null,0,0,null,0,0,null,0,0,null,0,0,null,0,0,null,0,0,null,0,0,null,0,0,null,0,0,null,0,0,null,0,0,null,0,0,null,0,0,null,0,0,null,0,0,null,0,0,null,0,0,null,0,0,null,0,0,null,0,0,null,0,0,null,0,0,null,0,0,null,0,0,null,0,0,null,0,0,null,0,0,null,0,0,null,0,0,null,0,0,null,0,0,null,0,0,null,0,0,null,0,0,null,0,0,null,0,0,null,0,0,null,0,0]
[null,null,null,null,null,null,null,null,null,null,null,0,0,null,0,0,null,0,0,null,0,0,null,0,0,null,0,0,null,0,0,null,0,0,null,0,0,null,0,0,null,0,0,null,0,0,null,0,0,null,0,0,null,0,0,null,0,0,null,0,0,null,0,0,null,0,0,null,0,0,null,0,0,null,0,0,null,0,0,null,0,0,null,0,0,null,0,0,null,0,0,null,0,0,null,0,0,null,0,0,null,0,0,null,0,0,null,0,0,null,0,0,null,0,0,null,0,0,null,0,0,null,0,0,null,0,0,null,0,0,null,0,0,null,0,0,null,0,0,null,0,0,null,0,0,null,0,0,null,0,0,null,0,0,null,0,0,null,0,0,null,0,0,null,0,0,null,0,0,null,0,0,null,0,0,null,0,0,null,0,0,null,0,0,null,0,0,null,0,0,null,0,0,null,0,0,null,0,0,null,0,0,null,0,0,null,0,0,null,0,0,null,0,0,null,0,0,null,0,0,null,0,0,null,0,0,null,0,0,null,0,0,null,0,0,null,0,0,null,0,0,null,0,0,null,0,0,null,0,0,null,0,0,null,0,0]
[null,null,null,null,null,null,null,null,null,null,null,0,0,null,0,0,null,0,0,null,0,0,null,0,0,null,0,0,null,0,0,null,0,0,null,0,0,null,0,0,null,0,0,null,0,0,null,0,0,null,0,0,null,0,0,null,0,0,null,0,0,null,0,0,null,0,0,null,0,0,null,0,0,null,0,0,null,0,0,null,0,0,null,0,0,null,0,0,null,0,0,null,0,0,null,0,0,null,0,0,null,0,0,null,0,0,null,0,0,null,0,0,null,0,0,null,0,0,null,0,0,null,0,0,null,0,0,null,0,0,null,0,0,null,0,0,null,0,0,null,0,0,null,0,0,null,0,0,null,0,0,null,0,0,null,0,0,null,0,0,null,0,0,null,0,0,null,0,0,null,0,0,null,0,0,null,0,0,null,0,0,null,0,0,null,0,0,null,0,0,null,0,0,null,0,0,null,0,0,null,0,0,null,0,0,null,0,0,null,0,0,null,0,0,null,0,0,null,0,0,null,0,0,null,0,0,null,0,0,null,0,0,null,0,0,null,0,0,null,0,0,null,0,0,null,0,0,null,0,0,null,0,0,null,0,0]
[null,null,null,null,null,null,null,null,null,null,null,0,0,null,0,0,null,0,0,null,0,0,null,0,0,null,0,0,null,0,0,null,0,0,null,0,0,null,0,0,null,0,0,null,0,0,null,0,0,null,0,0,null,0,0,null,0,0,null,0,0,null,0,0,null,0,0,null,0,0,null,0,0,null,0,0,null,0,0,null,0,0,null,0,0,null,0,0,null,0,0,null,0,0,null,0,0,null,0,0,null,0,0,null,0,0,null,0,0,null,0,0,null,0,0,null,0,0,null,0,0,null,0,0,null,0,0,null,0,0,null,0,0,null,0,0,null,0,0,null,0,0,null,0,0,null,0,0,null,0,0,null,0,0,null,0,0,null,0,0,null,0,0,null,0,0,null,0,0,null,0,0,null,0,0,null,0,0,null,0,0,null,0,0,null,0,0,null,0,0,null,0,0,null,0,0,null,0,0,null,0,0,null,0,0,null,0,0,null,0,0,null,0,0,null,0,0,null,0,0,null,0,0,null,0,0,null,0,0,null,0,0,null,0,0,null,0,0,null,0,0,null,0,0,null,0,0,null,0,0,null,0,0,null,0,0]
[null,null,null,null,null,null,null,null,null,null,null,0,0,null,0,0,null,0,0,null,0,0,null,0,0,null,0,0,null,0,0,null,0,0,null,0,0,null,0,0,null,0,0,null,0,0,null,0,0,null,0,0,null,0,0,null,0,0,null,0,0,null,0,0,null,0,0,null,0,0,null,0,0,null,0,0,null,0,0,null,0,0,null,0,0,null,0,0,null,0,0,null,0,0,null,0,0,null,0,0,null,0,0,null,0,0,null,0,0,null,0,0,null,0,0,null,0,0,null,0,0,null,0,0,null,0,0,null,0,0,null,0,0,null,0,0,null,0,0,null,0,0,null,0,0,null,0,0,null,0,0,null,0,0,null,0,0,null,0,0,null,0,0,null,0,0,null,0,0,null,0,0,null,0,0,null,0,0,null,0,0,null,0,0,null,0,0,null,0,0,null,0,0,null,0,0,null,0,0,null,0,0,null,0,0,null,0,0,null,0,0,null,0,0,null,0,0,null,0,0,null,0,0,null,0,0,null,0,0,null,0,0,null,0,0,null,0,0,null,0,0,null,0,0,null,0,0,null,0,0,null,0,0,null,0,0]
[null,null,null,null,null,null,null,null,null,null,null,0,0,null,0,0,null,0,0,null,0,0,null,0,0,null,0,0,null,0,0,null,0,0,null,0,0,null,0,0,null,0,0,null,0,0,null,0,0,null,0,0,null,0,0,null,0,0,null,0,0,null,0,0,null,0,0,null,0,0,null,0,0,null,0,0,null,0,0,null,0,0,null,0,0,null,0,0,null,0,0,null,0,0,null,0,0,null,0,0,null,0,0,null,0,0,null,0,0,null,0,0,null,0,0,null,0,0,null,0,0,null,0,0,null,0,0,null,0,0,null,0,0,null,0,0,null,0,0,null,0,0,null,0,0,null,0,0,null,0,0,null,0,0,null,0,0,null,0,0,null,0,0,null,0,0,null,0,0,null,0,0,null,0,0,null,0,0,null,0,0,null,0,0,null,0,0,null,0,0,null,0,0,null,0,0,null,0,0,null,0,0,null,0,0,null,0,0,null,0,0,null,0,0,null,0,0,null,0,0,null,0,0,null,0,0,null,0,0,null,0,0,null,0,0,null,0,0,null,0,0,null,0,0,null,0,0,null,0,0,null,0,0,null,0,0]
[null,null,null,null,null,null,null,null,null,null,null,0,0,null,0,0,null,0,0,null,0,0,null,0,0,null,0,0,null,0,0,null,0,0,null,0,0,null,0,0,null,0,0,null,0,0,null,0,0,null,0,0,null,0,0,null,0,0,null,0,0,null,0,0,null,0,0,null,0,0,null,0,0,null,0,0,null,0,0,null,0,0,null,0,0,null,0,0,null,0,0,null,0,0,null,0,0,null,0,0,null,0,0,null,0,0,null,0,0,null,0,0,null,0,0,null,0,0,null,0,0,null,0,0,null,0,0,null,0,0,null,0,0,null,0,0,null,0,0,null,0,0,null,0,0,null,0,0,null,0,0,null,0,0,null,0,0,null,0,0,null,0,0,null,0,0,null,0,0,null,0,0,null,0,0,null,0,0,null,0,0,null,0,0,null,0,0,null,0,0,null,0,0,null,0,0,null,0,0,null,0,0,null,0,0,null,0,0,null,0,0,null,0,0,null,0,0,null,0,0,null,0,0,null,0,0,null,0,0,null,0,0,null,0,0,null,0,0,null,0,0,null,0,0,null,0,0,null,0,0,null,0,0,null,0,0]
[null,null,null,null,null,null,null,null,null,null,null,{"$f":"F37","v":0},0,null,{"$f":"F37","v":0},0,null,{"$f":"F37","v":0},0,null,{"$f":"F37","v":0},0,null,{"$f":"F37","v":0},0,null,{"$f":"F37","v":0},0,null,{"$f":"F37","v":0},0,null,{"$f":"F37","v":0},0,null,{"$f":"F37","v":0},0,null,{"$f":"F37","v":0},0,null,{"$f":"F37","v":0},0,null,{"$f":"F37","v":0},0,null,{"$f":"F37","v":0},0,null,{"$f":"F37","v":0},0,null,{"$f":"F37","v":0},0,null,{"$f":"F37","v":0},0,null,{"$f":"F37","v":0},0,null,{"$f":"F37","v":0},0,null,{"$f":"F37","v":0},0,null,{"$f":"F37","v":0},0,null,{"$f":"F37","v":0},0,null,{"$f":"F37","v":0},0,null,{"$f":"F37","v":0},0,null,{"$f":"F37","v":0},0,null,{"$f":"F37","v":0},0,null,{"$f":"F37","v":0},0,null,{"$f":"F37","v":0},0,null,{"$f":"F37","v":0},0,null,{"$f":"F37","v":0},0,null,{"$f":"F37","v":0},0,null,{"$f":"F37","v":0},0,null,{"$f":"F37","v":0},0,null,{"$f":"F37","v":0},0,null,{"$f":"F37","v":0},0,null,{"$f":"F37","v":0},0,null,{"$f":"F37","v":0},0,null,{"$f":"F37","v":0},0,null,{"$f":"F37","v":0},0,null,{"$f":"F37","v":0},0,null,{"$f":"F37","v":0},0,null,{"$f":"F37","v":0},0,null,{"$f":"F37","v":0},0,null,{"$f":"F37","v":0},0,null,{"$f":"F37","v":0},0,null,{"$f":"F37","v":0},0,null,{"$f":"F37","v":0},0,null,{"$f":"F37","v":0},0,null,{"$f":"F37","v":0},0,null,{"$f":"F37","v":0},0,null,{"$f":"F37","v":0},0,null,{"$f":"F37","v":0},0,null,{"$f":"F37","v":0},0,null,{"$f":"F37","v":0},0,null,{"$f":"F37","v":0},0,null,{"$f":"F37","v":0},0,null,{"$f":"F37","v":0},0,null,{"$f":"F37","v":0},0,null,{"$f":"F37","v":0},0,null,{"$f":"F37","v":0},0,null,{"$f":"F37","v":0},0,null,{"$f":"F37","v":0},0,null,{"$f":"F37","v":0},0,null,{"$f":"F37","v":0},0,null,{"$f":"F37","v":0},0,null,{"$f":"F37","v":0},0,null,{"$f":"F37","v":0},0,null,{"$f":"F37","v":0},0,null,{"$f":"F37","v":0},0,null,{"$f":"F37","v":0},0,null,{"$f":"F37","v":0},0,null,{"$f":"F37","v":0},0,null,{"$f":"F37","v":0},0,null,{"$f":"F37","v":0},0,null,{"$f":"F37","v":0},0,null,{"$f":"F37","v":0},0,null,{"$f":"F37","v":0},0,null,{"$f":"F37","v":0},0,null,{"$f":"F37","v":0},0,null,{"$f":"F37","v":0},0,null,{"$f":"F37","v":0},0,null,{"$f":"F37","v":0},0,null,{"$f":"F37","v":0},0]
[null,null,null,null,null,null,null,null,null,null,null,0,0,null,0,0,null,0,0,null,0,0,null,0,0,null,0,0,null,0,0,null,0,0,null,0,0,null,0,0,null,0,0,null,0,0,null,0,0,null,0,0,null,0,0,null,0,0,null,0,0,null,0,0,null,0,0,null,0,0,null,0,0,null,0,0,null,0,0,null,0,0,null,0,0,null,0,0,null,0,0,null,0,0,null,0,0,null,0,0,null,0,0,null,0,0,null,0,0,null,0,0,null,0,0,null,0,0,null,0,0,null,0,0,null,0,0,null,0,0,null,0,0,null,0,0,null,0,0,null,0,0,null,0,0,null,0,0,null,0,0,null,0,0,null,0,0,null,0,0,null,0,0,null,0,0,null,0,0,null,0,0,null,0,0,null,0,0,null,0,0,null,0,0,null,0,0,null,0,0,null,0,0,null,0,0,null,0,0,null,0,0,null,0,0,null,0,0,null,0,0,null,0,0,null,0,0,null,0,0,null,0,0,null,0,0,null,0,0,null,0,0,null,0,0,null,0,0,null,0,0,null,0,0,null,0,0,null,0,0,null,0,0,null,0,0]
[null,null,null,null,null,null,null,null,null,null,null,0,0,null,0,0,null,0,0,null,0,0,null,0,0,null,0,0,null,0,0,null,0,0,null,0,0,null,0,0,null,0,0,null,0,0,null,0,0,null,0,0,null,0,0,null,0,0,null,0,0,null,0,0,null,0,0,null,0,0,null,0,0,null,0,0,null,0,0,null,0,0,null,0,0,null,0,0,null,0,0,null,0,0,null,0,0,null,0,0,null,0,0,null,0,0,null,0,0,null,0,0,null,0,0,null,0,0,null,0,0,null,0,0,null,0,0,null,0,0,null,0,0,null,0,0,null,0,0,null,0,0,null,0,0,null,0,0,null,0,0,null,0,0,null,0,0,null,0,0,null,0,0,null,0,0,null,0,0,null,0,0,null,0,0,null,0,0,null,0,0,null,0,0,null,0,0,null,0,0,null,0,0,null,0,0,null,0,0,null,0,0,null,0,0,null,0,0,null,0,0,null,0,0,null,0,0,null,0,0,null,0,0,null,0,0,null,0,0,null,0,0,null,0,0,null,0,0,null,0,0,null,0,0,null,0,0,null,0,0,null,0,0,null,0,0]
[null,null,null,null,null,null,null,null,null,null,null,0,0,null,0,0,null,0,0,null,0,0,null,0,0,null,0,0,null,0,0,null,0,0,null,0,0,null,0,0,null,0,0,null,0,0,null,0,0,null,0,0,null,0,0,null,0,0,null,0,0,null,0,0,null,0,0,null,0,0,null,0,0,null,0,0,null,0,0,null,0,0,null,0,0,null,0,0,null,0,0,null,0,0,null,0,0,null,0,0,null,0,0,null,0,0,null,0,0,null,0,0,null,0,0,null,0,0,null,0,0,null,0,0,null,0,0,null,0,0,null,0,0,null,0,0,null,0,0,null,0,0,null,0,0,null,0,0,null,0,0,null,0,0,null,0,0,null,0,0,null,0,0,null,0,0,null,0,0,null,0,0,null,0,0,null,0,0,null,0,0,null,0,0,null,0,0,null,0,0,null,0,0,null,0,0,null,0,0,null,0,0,null,0,0,null,0,0,null,0,0,null,0,0,null,0,0,null,0,0,null,0,0,null,0,0,null,0,0,null,0,0,null,0,0,null,0,0,null,0,0,null,0,0,null,0,0,null,0,0,null,0,0,null,0,0]
[null,null,null,null,null,null,null,null,null,null,null,0,0,null,0,0,null,0,0,null,0,0,null,0,0,null,0,0,null,0,0,null,0,0,null,0,0,null,0,0,null,0,0,null,0,0,null,0,0,null,0,0,null,0,0,null,0,0,null,0,0,null,0,0,null,0,0,null,0,0,null,0,0,null,0,0,null,0,0,null,0,0,null,0,0,null,0,0,null,0,0,null,0,0,null,0,0,null,0,0,null,0,0,null,0,0,null,0,0,null,0,0,null,0,0,null,0,0,null,0,0,null,0,0,null,0,0,null,0,0,null,0,0,null,0,0,null,0,0,null,0,0,null,0,0,null,0,0,null,0,0,null,0,0,null,0,0,null,0,0,null,0,0,null,0,0,null,0,0,null,0,0,null,0,0,null,0,0,null,0,0,null,0,0,null,0,0,null,0,0,null,0,0,null,0,0,null,0,0,null,0,0,null,0,0,null,0,0,null,0,0,null,0,0,null,0,0,null,0,0,null,0,0,null,0,0,null,0,0,null,0,0,null,0,0,null,0,0,null,0,0,null,0,0,null,0,0,null,0,0,null,0,0,null,0,0]
[null,null,null,null,null,null,null,null,null,null,null,0,0,null,0,0,null,0,0,null,0,0,null,0,0,null,0,0,null,0,0,null,0,0,null,0,0,null,0,0,null,0,0,null,0,0,null,0,0,null,0,0,null,0,0,null,0,0,null,0,0,null,0,0,null,0,0,null,0,0,null,0,0,null,0,0,null,0,0,null,0,0,null,0,0,null,0,0,null,0,0,null,0,0,null,0,0,null,0,0,null,0,0,null,0,0,null,0,0,null,0,0,null,0,0,null,0,0,null,0,0,null,0,0,null,0,0,null,0,0,null,0,0,null,0,0,null,0,0,null,0,0,null,0,0,null,0,0,null,0,0,null,0,0,null,0,0,null,0,0,null,0,0,null,0,0,null,0,0,null,0,0,null,0,0,null,0,0,null,0,0,null,0,0,null,0,0,null,0,0,null,0,0,null,0,0,null,0,0,null,0,0,null,0,0,null,0,0,null,0,0,null,0,0,null,0,0,null,0,0,null,0,0,null,0,0,null,0,0,null,0,0,null,0,0,null,0,0,null,0,0,null,0,0,null,0,0,null,0,0,null,0,0,null,0,0]
[null,null,null,null,null,null,null,null,null,null,null,0,0,null,0,0,null,0,0,null,0,0,null,0,0,null,0,0,null,0,0,null,0,0,null,0,0,null,0,0,null,0,0,null,0,0,null,0,0,null,0,0,null,0,0,null,0,0,null,0,0,null,0,0,null,0,0,null,0,0,null,0,0,null,0,0,null,0,0,null,0,0,null,0,0,null,0,0,null,0,0,null,0,0,null,0,0,null,0,0,null,0,0,null,0,0,null,0,0,null,0,0,null,0,0,null,0,0,null,0,0,null,0,0,null,0,0,null,0,0,null,0,0,null,0,0,null,0,0,null,0,0,null,0,0,null,0,0,null,0,0,null,0,0,null,0,0,null,0,0,null,0,0,null,0,0,null,0,0,null,0,0,null,0,0,null,0,0,null,0,0,null,0,0,null,0,0,null,0,0,null,0,0,null,0,0,null,0,0,null,0,0,null,0,0,null,0,0,null,0,0,null,0,0,null,0,0,null,0,0,null,0,0,null,0,0,null,0,0,null,0,0,null,0,0,null,0,0,null,0,0,null,0,0,null,0,0,null,0,0,null,0,0,null,0,0]
[null,null,null,null,null,null,null,null,null,null,null,0,0,null,0,0,null,0,0,null,0,0,null,0,0,null,0,0,null,0,0,null,0,0,null,0,0,null,0,0,null,0,0,null,0,0,null,0,0,null,0,0,null,0,0,null,0,0,null,0,0,null,0,0,null,0,0,null,0,0,null,0,0,null,0,0,null,0,0,null,0,0,null,0,0,null,0,0,null,0,0,null,0,0,null,0,0,null,0,0,null,0,0,null,0,0,null,0,0,null,0,0,null,0,0,null,0,0,null,0,0,null,0,0,null,0,0,null,0,0,null,0,0,null,0,0,null,0,0,null,0,0,null,0,0,null,0,0,null,0,0,null,0,0,null,0,0,null,0,0,null,0,0,null,0,0,null,0,0,null,0,0,null,0,0,null,0,0,null,0,0,null,0,0,null,0,0,null,0,0,null,0,0,null,0,0,null,0,0,null,0,0,null,0,0,null,0,0,null,0,0,null,0,0,null,0,0,null,0,0,null,0,0,null,0,0,null,0,0,null,0,0,null,0,0,null,0,0,null,0,0,null,0,0,null,0,0,null,0,0,null,0,0,null,0,0]
[null,null,null,null,null,null,null,null,null,null,null,0,0,null,0,0,null,0,0,null,0,0,null,0,0,null,0,0,null,0,0,null,0,0,null,0,0,null,0,0,null,0,0,null,0,0,null,0,0,null,0,0,null,0,0,null,0,0,null,0,0,null,0,0,null,0,0,null,0,0,null,0,0,null,0,0,null,0,0,null,0,0,null,0,0,null,0,0,null,0,0,null,0,0,null,0,0,null,0,0,null,0,0,null,0,0,null,0,0,null,0,0,null,0,0,null,0,0,null,0,0,null,0,0,null,0,0,null,0,0,null,0,0,null,0,0,null,0,0,null,0,0,null,0,0,null,0,0,null,0,0,null,0,0,null,0,0,null,0,0,null,0,0,null,0,0,null,0,0,null,0,0,null,0,0,null,0,0,null,0,0,null,0,0,null,0,0,null,0,0,null,0,0,null,0,0,null,0,0,null,0,0,null,0,0,null,0,0,null,0,0,null,0,0,null,0,0,null,0,0,null,0,0,null,0,0,null,0,0,null,0,0,null,0,0,null,0,0,null,0,0,null,0,0,null,0,0,null,0,0,null,0,0,null,0,0]
[null,null,null,null,null,null,null,null,null,null,null,0,0,null,0,0,null,0,0,null,0,0,null,0,0,null,0,0,null,0,0,null,0,0,null,0,0,null,0,0,null,0,0,null,0,0,null,0,0,null,0,0,null,0,0,null,0,0,null,0,0,null,0,0,null,0,0,null,0,0,null,0,0,null,0,0,null,0,0,null,0,0,null,0,0,null,0,0,null,0,0,null,0,0,null,0,0,null,0,0,null,0,0,null,0,0,null,0,0,null,0,0,null,0,0,null,0,0,null,0,0,null,0,0,null,0,0,null,0,0,null,0,0,null,0,0,null,0,0,null,0,0,null,0,0,null,0,0,null,0,0,null,0,0,null,0,0,null,0,0,null,0,0,null,0,0,null,0,0,null,0,0,null,0,0,null,0,0,null,0,0,null,0,0,null,0,0,null,0,0,null,0,0,null,0,0,null,0,0,null,0,0,null,0,0,null,0,0,null,0,0,null,0,0,null,0,0,null,0,0,null,0,0,null,0,0,null,0,0,null,0,0,null,0,0,null,0,0,null,0,0,null,0,0,null,0,0,null,0,0,null,0,0,null,0,0]
[null,null,null,null,null,null,null,null,null,null,null,0,0,null,0,0,null,0,0,null,0,0,null,0,0,null,0,0,null,0,0,null,0,0,null,0,0,null,0,0,null,0,0,null,0,0,null,0,0,null,0,0,null,0,0,null,0,0,null,0,0,null,0,0,null,0,0,null,0,0,null,0,0,null,0,0,null,0,0,null,0,0,null,0,0,null,0,0,null,0,0,null,0,0,null,0,0,null,0,0,null,0,0,null,0,0,null,0,0,null,0,0,null,0,0,null,0,0,null,0,0,null,0,0,null,0,0,null,0,0,null,0,0,null,0,0,null,0,0,null,0,0,null,0,0,null,0,0,null,0,0,null,0,0,null,0,0,null,0,0,null,0,0,null,0,0,null,0,0,null,0,0,null,0,0,null,0,0,null,0,0,null,0,0,null,0,0,null,0,0,null,0,0,null,0,0,null,0,0,null,0,0,null,0,0,null,0,0,null,0,0,null,0,0,null,0,0,null,0,0,null,0,0,null,0,0,null,0,0,null,0,0,null,0,0,null,0,0,null,0,0,null,0,0,null,0,0,null,0,0,null,0,0,null,0,0]
[null,null,null,null,null,null,null,null,null,null,null,0,{"$f":"K48/100*L48","v":0},null,0,0,null,0,0,null,0,0,null,0,0,null,0,0,null,0,0,null,0,0,null,0,0,null,0,0,null,0,0,null,0,0,null,0,0,null,0,0,null,0,0,null,0,0,null,0,0,null,0,0,null,0,0,null,0,0,null,0,0,null,0,0,null,0,0,null,0,0,null,0,0,null,0,0,null,0,0,null,0,0,null,0,0,null,0,0,null,0,0,null,0,0,null,0,0,null,0,0,null,0,0,null,0,0,null,0,0,null,0,0,null,0,0,null,0,0,null,0,0,null,0,0,null,0,0,null,0,0,null,0,0,null,0,0,null,0,0,null,0,0,null,0,0,null,0,0,null,0,0,null,0,0,null,0,0,null,0,0,null,0,0,null,0,0,null,0,0,null,0,0,null,0,0,null,0,0,null,0,0,null,0,0,null,0,0,null,0,0,null,0,0,null,0,0,null,0,0,null,0,0,null,0,0,null,0,0,null,0,0,null,0,0,null,0,0,null,0,0,null,0,0,null,0,0,null,0,0,null,0,0,null,0,0,null,0,0,null,0,0,null,0,0]
[null,null,null,null,null,null,null,null,null,null,null,0,0,null,0,0,null,0,0,null,0,0,null,0,0,null,0,0,null,0,0,null,0,0,null,0,0,null,0,0,null,0,0,null,0,0,null,0,0,null,0,0,null,0,0,null,0,0,null,0,0,null,0,0,null,0,0,null,0,0,null,0,0,null,0,0,null,0,0,null,0,0,null,0,0,null,0,0,null,0,0,null,0,0,null,0,0,null,0,0,null,0,0,null,0,0,null,0,0,null,0,0,null,0,0,null,0,0,null,0,0,null,0,0,null,0,0,null,0,0,null,0,0,null,0,0,null,0,0,null,0,0,null,0,0,null,0,0,null,0,0,null,0,0,null,0,0,null,0,0,null,0,0,null,0,0,null,0,0,null,0,0,null,0,0,null,0,0,null,0,0,null,0,0,null,0,0,null,0,0,null,0,0,null,0,0,null,0,0,null,0,0,null,0,0,null,0,0,null,0,0,null,0,0,null,0,0,null,0,0,null,0,0,null,0,0,null,0,0,null,0,0,null,0,0,null,0,0,null,0,0,null,0,0,null,0,0,null,0,0,null,0,0,null,0,0]
[null,null,null,null,null,null,null,null,null,null,null,0,0,null,0,0,null,0,0,null,0,0,null,0,0,null,0,0,null,0,0,null,0,0,null,0,0,null,0,0,null,0,0,null,0,0,null,0,0,null,0,0,null,0,0,null,0,0,null,0,0,null,0,0,null,0,0,null,0,0,null,0,0,null,0,0,null,0,0,null,0,0,null,0,0,null,0,0,null,0,0,null,0,0,null,0,0,null,0,0,null,0,0,null,0,0,null,0,0,null,0,0,null,0,0,null,0,0,null,0,0,null,0,0,null,0,0,null,0,0,null,0,0,null,0,0,null,0,0,null,0,0,null,0,0,null,0,0,null,0,0,null,0,0,null,0,0,null,0,0,null,0,0,null,0,0,null,0,0,null,0,0,null,0,0,null,0,0,null,0,0,null,0,0,null,0,0,null,0,0,null,0,0,null,0,0,null,0,0,null,0,0,null,0,0,null,0,0,null,0,0,null,0,0,null,0,0,null,0,0,null,0,0,null,0,0,null,0,0,null,0,0,null,0,0,null,0,0,null,0,0,null,0,0,null,0,0,null,0,0,null,0,0,null,0,0]
[null,null,null,null,null,null,null,null,null,null,null,0,0,null,0,0,null,0,0,null,0,0,null,0,0,null,0,0,null,0,0,null,0,0,null,0,0,null,0,0,null,0,0,null,0,0,null,0,0,null,0,0,null,0,0,null,0,0,null,0,0,null,0,0,null,0,0,null,0,0,null,0,0,null,0,0,null,0,0,null,0,0,null,0,0,null,0,0,null,0,0,null,0,0,null,0,0,null,0,0,null,0,0,null,0,0,null,0,0,null,0,0,null,0,0,null,0,0,null,0,0,null,0,0,null,0,0,null,0,0,null,0,0,null,0,0,null,0,0,null,0,0,null,0,0,null,0,0,null,0,0,null,0,0,null,0,0,null,0,0,null,0,0,null,0,0,null,0,0,null,0,0,null,0,0,null,0,0,null,0,0,null,0,0,null,0,0,null,0,0,null,0,0,null,0,0,null,0,0,null,0,0,null,0,0,null,0,0,null,0,0,null,0,0,null,0,0,null,0,0,null,0,0,null,0,0,null,0,0,null,0,0,null,0,0,null,0,0,null,0,0,null,0,0,null,0,0,null,0,0,null,0,0,null,0,0]
[null,null,null,null,null,null,null,null,null,null,null,0,0,null,0,0,null,0,0,null,0,0,null,0,0,null,0,0,null,0,0,null,0,0,null,0,0,null,0,0,null,0,0,null,0,0,null,0,0,null,0,0,null,0,0,null,0,0,null,0,0,null,0,0,null,0,0,null,0,0,null,0,0,null,0,0,null,0,0,null,0,0,null,0,0,null,0,0,null,0,0,null,0,0,null,0,0,null,0,0,null,0,0,null,0,0,null,0,0,null,0,0,null,0,0,null,0,0,null,0,0,null,0,0,null,0,0,null,0,0,null,0,0,null,0,0,null,0,0,null,0,0,null,0,0,null,0,0,null,0,0,null,0,0,null,0,0,null,0,0,null,0,0,null,0,0,null,0,0,null,0,0,null,0,0,null,0,0,null,0,0,null,0,0,null,0,0,null,0,0,null,0,0,null,0,0,null,0,0,null,0,0,null,0,0,null,0,0,null,0,0,null,0,0,null,0,0,null,0,0,null,0,0,null,0,0,null,0,0,null,0,0,null,0,0,null,0,0,null,0,0,null,0,0,null,0,0,null,0,0,null,0,0,null,0,0]
[null,null,null,null,null,null,null,null,null,null,null,0,0,null,0,0,null,0,0,null,0,0,null,0,0,null,0,0,null,0,0,null,0,0,null,0,0,null,0,0,null,0,0,null,0,0,null,0,0,null,0,0,null,0,0,null,0,0,null,0,0,null,0,0,null,0,0,null,0,0,null,0,0,null,0,0,null,0,0,null,0,0,null,0,0,null,0,0,null,0,0,null,0,0,null,0,0,null,0,0,null,0,0,null,0,0,null,0,0,null,0,0,null,0,0,null,0,0,null,0,0,null,0,0,null,0,0,null,0,0,null,0,0,null,0,0,null,0,0,null,0,0,null,0,0,null,0,0,null,0,0,null,0,0,null,0,0,null,0,0,null,0,0,null,0,0,null,0,0,null,0,0,null,0,0,null,0,0,null,0,0,null,0,0,null,0,0,null,0,0,null,0,0,null,0,0,null,0,0,null,0,0,null,0,0,null,0,0,null,0,0,null,0,0,null,0,0,null,0,0,null,0,0,null,0,0,null,0,0,null,0,0,null,0,0,null,0,0,null,0,0,null,0,0,null,0,0,null,0,0,null,0,0,null,0,0]
[null,null,null,null,null,null,null,null,null,null,null,0,0,null,0,0,null,0,0,null,0,0,null,0,0,null,0,0,null,0,0,null,0,0,null,0,0,null,0,0,null,0,0,null,0,0,null,0,0,null,0,0,null,0,0,null,0,0,null,0,0,null,0,0,null,0,0,null,0,0,null,0,0,null,0,0,null,0,0,null,0,0,null,0,0,null,0,0,null,0,0,null,0,0,null,0,0,null,0,0,null,0,0,null,0,0,null,0,0,null,0,0,null,0,0,null,0,0,null,0,0,null,0,0,null,0,0,null,0,0,null,0,0,null,0,0,null,0,0,null,0,0,null,0,0,null,0,0,null,0,0,null,0,0,null,0,0,null,0,0,null,0,0,null,0,0,null,0,0,null,0,0,null,0,0,null,0,0,null,0,0,null,0,0,null,0,0,null,0,0,null,0,0,null,0,0,null,0,0,null,0,0,null,0,0,null,0,0,null,0,0,null,0,0,null,0,0,null,0,0,null,0,0,null,0,0,null,0,0,null,0,0,null,0,0,null,0,0,null,0,0,null,0,0,null,0,0,null,0,0,null,0,0,null,0,0]
[null,null,null,null,null,null,null,null,null,null,null,0,0,null,0,0,null,0,0,null,0,0,null,0,0,null,0,0,null,0,0,null,0,0,null,0,0,null,0,0,null,0,0,null,0,0,null,0,0,null,0,0,null,0,0,null,0,0,null,0,0,null,0,0,null,0,0,null,0,0,null,0,0,null,0,0,null,0,0,null,0,0,null,0,0,null,0,0,null,0,0,null,0,0,null,0,0,null,0,0,null,0,0,null,0,0,null,0,0,null,0,0,null,0,0,null,0,0,null,0,0,null,0,0,null,0,0,null,0,0,null,0,0,null,0,0,null,0,0,null,0,0,null,0,0,null,0,0,null,0,0,null,0,0,null,0,0,null,0,0,null,0,0,null,0,0,null,0,0,null,0,0,null,0,0,null,0,0,null,0,0,null,0,0,null,0,0,null,0,0,null,0,0,null,0,0,null,0,0,null,0,0,null,0,0,null,0,0,null,0,0,null,0,0,null,0,0,null,0,0,null,0,0,null,0,0,null,0,0,null,0,0,null,0,0,null,0,0,null,0,0,null,0,0,null,0,0,null,0,0,null,0,0,null,0,0]
[null,null,null,null,null,null,null,null,null,null,null,0,0,null,0,0,null,0,0,null,0,0,null,0,0,null,0,0,null,0,0,null,0,0,null,0,0,null,0,0,null,0,0,null,0,0,null,0,0,null,0,0,null,0,0,null,0,0,null,0,0,null,0,0,null,0,0,null,0,0,null,0,0,null,0,0,null,0,0,null,0,0,null,0,0,null,0,0,null,0,0,null,0,0,null,0,0,null,0,0,null,0,0,null,0,0,null,0,0,null,0,0,null,0,0,null,0,0,null,0,0,null,0,0,null,0,0,null,0,0,null,0,0,null,0,0,null,0,0,null,0,0,null,0,0,null,0,0,null,0,0,null,0,0,null,0,0,null,0,0,null,0,0,null,0,0,null,0,0,null,0,0,null,0,0,null,0,0,null,0,0,null,0,0,null,0,0,null,0,0,null,0,0,null,0,0,null,0,0,null,0,0,null,0,0,null,0,0,null,0,0,null,0,0,null,0,0,null,0,0,null,0,0,null,0,0,null,0,0,null,0,0,null,0,0,null,0,0,null,0,0,null,0,0,null,0,0,null,0,0,null,0,0,null,0,0]
[null,null,null,null,null,null,null,null,null,null,null,0,0,null,0,0,null,0,0,null,0,0,null,0,0,null,0,0,null,0,0,null,0,0,null,0,0,null,0,0,null,0,0,null,0,0,null,0,0,null,0,0,null,0,0,null,0,0,null,0,0,null,0,0,null,0,0,null,0,0,null,0,0,null,0,0,null,0,0,null,0,0,null,0,0,null,0,0,null,0,0,null,0,0,null,0,0,null,0,0,null,0,0,null,0,0,null,0,0,null,0,0,null,0,0,null,0,0,null,0,0,null,0,0,null,0,0,null,0,0,null,0,0,null,0,0,null,0,0,null,0,0,null,0,0,null,0,0,null,0,0,null,0,0,null,0,0,null,0,0,null,0,0,null,0,0,null,0,0,null,0,0,null,0,0,null,0,0,null,0,0,null,0,0,null,0,0,null,0,0,null,0,0,null,0,0,null,0,0,null,0,0,null,0,0,null,0,0,null,0,0,null,0,0,null,0,0,null,0,0,null,0,0,null,0,0,null,0,0,null,0,0,null,0,0,null,0,0,null,0,0,null,0,0,null,0,0,null,0,0,null,0,0,null,0,0]
[null,null,null,null,null,null,null,null,null,null,null,0,0,null,0,0,null,0,0,null,0,0,null,0,0,null,0,0,null,0,0,null,0,0,null,0,0,null,0,0,null,0,0,null,0,0,null,0,0,null,0,0,null,0,0,null,0,0,null,0,0,null,0,0,null,0,0,null,0,0,null,0,0,null,0,0,null,0,0,null,0,0,null,0,0,null,0,0,null,0,0,null,0,0,null,0,0,null,0,0,null,0,0,null,0,0,null,0,0,null,0,0,null,0,0,null,0,0,null,0,0,null,0,0,null,0,0,null,0,0,null,0,0,null,0,0,null,0,0,null,0,0,null,0,0,null,0,0,null,0,0,null,0,0,null,0,0,null,0,0,null,0,0,null,0,0,null,0,0,null,0,0,null,0,0,null,0,0,null,0,0,null,0,0,null,0,0,null,0,0,null,0,0,null,0,0,null,0,0,null,0,0,null,0,0,null,0,0,null,0,0,null,0,0,null,0,0,null,0,0,null,0,0,null,0,0,null,0,0,null,0,0,null,0,0,null,0,0,null,0,0,null,0,0,null,0,0,null,0,0,null,0,0,null,0,0]
[null,null,null,null,null,null,null,null,null,null,null,0,0,null,0,0,null,0,0,null,0,0,null,0,0,null,0,0,null,0,0,null,0,0,null,0,0,null,0,0,null,0,0,null,0,0,null,0,0,null,0,0,null,0,0,null,0,0,null,0,0,null,0,0,null,0,0,null,0,0,null,0,0,null,0,0,null,0,0,null,0,0,null,0,0,null,0,0,null,0,0,null,0,0,null,0,0,null,0,0,null,0,0,null,0,0,null,0,0,null,0,0,null,0,0,null,0,0,null,0,0,null,0,0,null,0,0,null,0,0,null,0,0,null,0,0,null,0,0,null,0,0,null,0,0,null,0,0,null,0,0,null,0,0,null,0,0,null,0,0,null,0,0,null,0,0,null,0,0,null,0,0,null,0,0,null,0,0,null,0,0,null,0,0,null,0,0,null,0,0,null,0,0,null,0,0,null,0,0,null,0,0,null,0,0,null,0,0,null,0,0,null,0,0,null,0,0,null,0,0,null,0,0,null,0,0,null,0,0,null,0,0,null,0,0,null,0,0,null,0,0,null,0,0,null,0,0,null,0,0,null,0,0,null,0,0]
[null,null,null,null,null,null,null,null,null,null,null,0,0,null,0,0,null,0,0,null,0,0,null,0,0,null,0,0,null,0,0,null,0,0,null,0,0,null,0,0,null,0,0,null,0,0,null,0,0,null,0,0,null,0,0,null,0,0,null,0,0,null,0,0,null,0,0,null,0,0,null,0,0,null,0,0,null,0,0,null,0,0,null,0,0,null,0,0,null,0,0,null,0,0,null,0,0,null,0,0,null,0,0,null,0,0,null,0,0,null,0,0,null,0,0,null,0,0,null,0,0,null,0,0,null,0,0,null,0,0,null,0,0,null,0,0,null,0,0,null,0,0,null,0,0,null,0,0,null,0,0,null,0,0,null,0,0,null,0,0,null,0,0,null,0,0,null,0,0,null,0,0,null,0,0,null,0,0,null,0,0,null,0,0,null,0,0,null,0,0,null,0,0,null,0,0,null,0,0,null,0,0,null,0,0,null,0,0,null,0,0,null,0,0,null,0,0,null,0,0,null,0,0,null,0,0,null,0,0,null,0,0,null,0,0,null,0,0,null,0,0,null,0,0,null,0,0,null,0,0,null,0,0,null,0,0]
[null,null,null,null,null,null,null,null,null,null,null,0,0,null,0,0,null,0,0,null,0,0,null,0,0,null,0,0,null,0,0,null,0,0,null,0,0,null,0,0,null,0,0,null,0,0,null,0,0,null,0,0,null,0,0,null,0,0,null,0,0,null,0,0,null,0,0,null,0,0,null,0,0,null,0,0,null,0,0,null,0,0,null,0,0,null,0,0,null,0,0,null,0,0,null,0,0,null,0,0,null,0,0,null,0,0,null,0,0,null,0,0,null,0,0,null,0,0,null,0,0,null,0,0,null,0,0,null,0,0,null,0,0,null,0,0,null,0,0,null,0,0,null,0,0,null,0,0,null,0,0,null,0,0,null,0,0,null,0,0,null,0,0,null,0,0,null,0,0,null,0,0,null,0,0,null,0,0,null,0,0,null,0,0,null,0,0,null,0,0,null,0,0,null,0,0,null,0,0,null,0,0,null,0,0,null,0,0,null,0,0,null,0,0,null,0,0,null,0,0,null,0,0,null,0,0,null,0,0,null,0,0,null,0,0,null,0,0,null,0,0,null,0,0,null,0,0,null,0,0,null,0,0,null,0,0]
[null,null,null,null,null,null,null,null,null,null,null,0,0,null,0,0,null,0,0,null,0,0,null,0,0,null,0,0,null,0,0,null,0,0,null,0,0,null,0,0,null,0,0,null,0,0,null,0,0,null,0,0,null,0,0,null,0,0,null,0,0,null,0,0,null,0,0,null,0,0,null,0,0,null,0,0,null,0,0,null,0,0,null,0,0,null,0,0,null,0,0,null,0,0,null,0,0,null,0,0,null,0,0,null,0,0,null,0,0,null,0,0,null,0,0,null,0,0,null,0,0,null,0,0,null,0,0,null,0,0,null,0,0,null,0,0,null,0,0,null,0,0,null,0,0,null,0,0,null,0,0,null,0,0,null,0,0,null,0,0,null,0,0,null,0,0,null,0,0,null,0,0,null,0,0,null,0,0,null,0,0,null,0,0,null,0,0,null,0,0,null,0,0,null,0,0,null,0,0,null,0,0,null,0,0,null,0,0,null,0,0,null,0,0,null,0,0,null,0,0,null,0,0,null,0,0,null,0,0,null,0,0,null,0,0,null,0,0,null,0,0,null,0,0,null,0,0,null,0,0,null,0,0,null,0,0]
[null,null,null,null,null,null,null,null,null,null,null,0,0,null,0,0,null,0,0,null,0,0,null,0,0,null,0,0,null,0,0,null,0,0,null,0,0,null,0,0,null,0,0,null,0,0,null,0,0,null,0,0,null,0,0,null,0,0,null,0,0,null,0,0,null,0,0,null,0,0,null,0,0,null,0,0,null,0,0,null,0,0,null,0,0,null,0,0,null,0,0,null,0,0,null,0,0,null,0,0,null,0,0,null,0,0,null,0,0,null,0,0,null,0,0,null,0,0,null,0,0,null,0,0,null,0,0,null,0,0,null,0,0,null,0,0,null,0,0,null,0,0,null,0,0,null,0,0,null,0,0,null,0,0,null,0,0,null,0,0,null,0,0,null,0,0,null,0,0,null,0,0,null,0,0,null,0,0,null,0,0,null,0,0,null,0,0,null,0,0,null,0,0,null,0,0,null,0,0,null,0,0,null,0,0,null,0,0,null,0,0,null,0,0,null,0,0,null,0,0,null,0,0,null,0,0,null,0,0,null,0,0,null,0,0,null,0,0,null,0,0,null,0,0,null,0,0,null,0,0,null,0,0,null,0,0]
[null,null,null,null,null,null,null,null,null,null,null,0,0,null,0,0,null,0,0,null,0,0,null,0,0,null,0,0,null,0,0,null,0,0,null,0,0,null,0,0,null,0,0,null,0,0,null,0,0,null,0,0,null,0,0,null,0,0,null,0,0,null,0,0,null,0,0,null,0,0,null,0,0,null,0,0,null,0,0,null,0,0,null,0,0,null,0,0,null,0,0,null,0,0,null,0,0,null,0,0,null,0,0,null,0,0,null,0,0,null,0,0,null,0,0,null,0,0,null,0,0,null,0,0,null,0,0,null,0,0,null,0,0,null,0,0,null,0,0,null,0,0,null,0,0,null,0,0,null,0,0,null,0,0,null,0,0,null,0,0,null,0,0,null,0,0,null,0,0,null,0,0,null,0,0,null,0,0,null,0,0,null,0,0,null,0,0,null,0,0,null,0,0,null,0,0,null,0,0,null,0,0,null,0,0,null,0,0,null,0,0,null,0,0,null,0,0,null,0,0,null,0,0,null,0,0,null,0,0,null,0,0,null,0,0,null,0,0,null,0,0,null,0,0,null,0,0,null,0,0,null,0,0,null,0,0]
[null,null,null,null,null,null,null,null,null,null,null,0,0,null,0,0,null,0,0,null,0,0,null,0,0,null,0,0,null,0,0,null,0,0,null,0,0,null,0,0,null,0,0,null,0,0,null,0,0,null,0,0,null,0,0,null,0,0,null,0,0,null,0,0,null,0,0,null,0,0,null,0,0,null,0,0,null,0,0,null,0,0,null,0,0,null,0,0,null,0,0,null,0,0,null,0,0,null,0,0,null,0,0,null,0,0,null,0,0,null,0,0,null,0,0,null,0,0,null,0,0,null,0,0,null,0,0,null,0,0,null,0,0,null,0,0,null,0,0,null,0,0,null,0,0,null,0,0,null,0,0,null,0,0,null,0,0,null,0,0,null,0,0,null,0,0,null,0,0,null,0,0,null,0,0,null,0,0,null,0,0,null,0,0,null,0,0,null,0,0,null,0,0,null,0,0,null,0,0,null,0,0,null,0,0,null,0,0,null,0,0,null,0,0,null,0,0,null,0,0,null,0,0,null,0,0,null,0,0,null,0,0,null,0,0,null,0,0,null,0,0,null,0,0,null,0,0,null,0,0,null,0,0,null,0,0]
[null,null,null,null,null,null,null,null,null,null,null,0,0,null,0,0,null,0,0,null,0,0,null,0,0,null,0,0,null,0,0,null,0,0,null,0,0,null,0,0,null,0,0,null,0,0,null,0,0,null,0,0,null,0,0,null,0,0,null,0,0,null,0,0,null,0,0,null,0,0,null,0,0,null,0,0,null,0,0,null,0,0,null,0,0,null,0,0,null,0,0,null,0,0,null,0,0,null,0,0,null,0,0,null,0,0,null,0,0,null,0,0,null,0,0,null,0,0,null,0,0,null,0,0,null,0,0,null,0,0,null,0,0,null,0,0,null,0,0,null,0,0,null,0,0,null,0,0,null,0,0,null,0,0,null,0,0,null,0,0,null,0,0,null,0,0,null,0,0,null,0,0,null,0,0,null,0,0,null,0,0,null,0,0,null,0,0,null,0,0,null,0,0,null,0,0,null,0,0,null,0,0,null,0,0,null,0,0,null,0,0,null,0,0,null,0,0,null,0,0,null,0,0,null,0,0,null,0,0,null,0,0,null,0,0,null,0,0,null,0,0,null,0,0,null,0,0,null,0,0,null,0,0,null,0,0]
[null,null,null,null,null,null,null,null,null,null,null,0,0,null,0,0,null,0,0,null,0,0,null,0,0,null,0,0,null,0,0,null,0,0,null,0,0,null,0,0,null,0,0,null,0,0,null,0,0,null,0,0,null,0,0,null,0,0,null,0,0,null,0,0,null,0,0,null,0,0,null,0,0,null,0,0,null,0,0,null,0,0,null,0,0,null,0,0,null,0,0,null,0,0,null,0,0,null,0,0,null,0,0,null,0,0,null,0,0,null,0,0,null,0,0,null,0,0,null,0,0,null,0,0,null,0,0,null,0,0,null,0,0,null,0,0,null,0,0,null,0,0,null,0,0,null,0,0,null,0,0,null,0,0,null,0,0,null,0,0,null,0,0,null,0,0,null,0,0,null,0,0,null,0,0,null,0,0,null,0,0,null,0,0,null,0,0,null,0,0,null,0,0,null,0,0,null,0,0,null,0,0,null,0,0,null,0,0,null,0,0,null,0,0,null,0,0,null,0,0,null,0,0,null,0,0,null,0,0,null,0,0,null,0,0,null,0,0,null,0,0,null,0,0,null,0,0,null,0,0,null,0,0,null,0,0]
[null,null,null,null,null,null,null,null,null,null,null,0,0,null,0,0,null,0,0,null,0,0,null,0,0,null,0,0,null,0,0,null,0,0,null,0,0,null,0,0,null,0,0,null,0,0,null,0,0,null,0,0,null,0,0,null,0,0,null,0,0,null,0,0,null,0,0,null,0,0,null,0,0,null,0,0,null,0,0,null,0,0,null,0,0,null,0,0,null,0,0,null,0,0,null,0,0,null,0,0,null,0,0,null,0,0,null,0,0,null,0,0,null,0,0,null,0,0,null,0,0,null,0,0,null,0,0,null,0,0,null,0,0,null,0,0,null,0,0,null,0,0,null,0,0,null,0,0,null,0,0,null,0,0,null,0,0,null,0,0,null,0,0,null,0,0,null,0,0,null,0,0,null,0,0,null,0,0,null,0,0,null,0,0,null,0,0,null,0,0,null,0,0,null,0,0,null,0,0,null,0,0,null,0,0,null,0,0,null,0,0,null,0,0,null,0,0,null,0,0,null,0,0,null,0,0,null,0,0,null,0,0,null,0,0,null,0,0,null,0,0,null,0,0,null,0,0,null,0,0,null,0,0,null,0,0]
[null,null,null,null,null,null,null,null,null,null,null,{"$f":"F69","v":0},0,null,{"$f":"F69","v":0},{"$f":"N69/100*O69","v":0},null,{"$f":"F69","v":0},{"$f":"Q69/100*R69","v":0},null,{"$f":"F69","v":0},{"$f":"T69/100*U69","v":0},null,{"$f":"F69","v":0},{"$f":"W69/100*X69","v":0},null,{"$f":"F69","v":0},{"$f":"Z69/100*AA69","v":0},null,{"$f":"F69","v":0},{"$f":"AC69/100*AD69","v":0},null,{"$f":"F69","v":0},{"$f":"AF69/100*AG69","v":0},null,{"$f":"F69","v":0},{"$f":"AI69/100*AJ69","v":0},null,{"$f":"F69","v":0},{"$f":"AL69/100*AM69","v":0},null,{"$f":"F69","v":0},{"$f":"AO69/100*AP69","v":0},null,{"$f":"F69","v":0},{"$f":"AR69/100*AS69","v":0},null,{"$f":"F69","v":0},{"$f":"AU69/100*AV69","v":0},null,{"$f":"F69","v":0},{"$f":"AX69/100*AY69","v":0},null,{"$f":"F69","v":0},{"$f":"BA69/100*BB69","v":0},null,{"$f":"F69","v":0},{"$f":"BD69/100*BE69","v":0},null,{"$f":"F69","v":0},{"$f":"BG69/100*BH69","v":0},null,{"$f":"F69","v":0},{"$f":"BJ69/100*BK69","v":0},null,{"$f":"F69","v":0},{"$f":"BM69/100*BN69","v":0},null,{"$f":"F69","v":0},{"$f":"BP69/100*BQ69","v":0},null,{"$f":"F69","v":0},{"$f":"BS69/100*BT69","v":0},null,{"$f":"F69","v":0},{"$f":"BV69/100*BW69","v":0},null,{"$f":"F69","v":0},{"$f":"BY69/100*BZ69","v":0},null,{"$f":"F69","v":0},{"$f":"CB69/100*CC69","v":0},null,{"$f":"F69","v":0},{"$f":"CE69/100*CF69","v":0},null,{"$f":"F69","v":0},{"$f":"CH69/100*CI69","v":0},null,{"$f":"F69","v":0},{"$f":"CK69/100*CL69","v":0},null,{"$f":"F69","v":0},{"$f":"CN69/100*CO69","v":0},null,{"$f":"F69","v":0},{"$f":"CQ69/100*CR69","v":0},null,{"$f":"F69","v":0},{"$f":"CT69/100*CU69","v":0},null,{"$f":"F69","v":0},{"$f":"CW69/100*CX69","v":0},null,{"$f":"F69","v":0},{"$f":"CZ69/100*DA69","v":0},null,{"$f":"F69","v":0},{"$f":"DC69/100*DD69","v":0},null,{"$f":"F69","v":0},{"$f":"DF69/100*DG69","v":0},null,{"$f":"F69","v":0},{"$f":"DI69/100*DJ69","v":0},null,{"$f":"F69","v":0},{"$f":"DL69/100*DM69","v":0},null,{"$f":"F69","v":0},{"$f":"DO69/100*DP69","v":0},null,{"$f":"F69","v":0},{"$f":"DR69/100*DS69","v":0},null,{"$f":"F69","v":0},{"$f":"DU69/100*DV69","v":0},null,{"$f":"F69","v":0},{"$f":"DX69/100*DY69","v":0},null,{"$f":"F69","v":0},{"$f":"EA69/100*EB69","v":0},null,{"$f":"F69","v":0},{"$f":"ED69/100*EE69","v":0},null,{"$f":"F69","v":0},{"$f":"EG69/100*EH69","v":0},null,{"$f":"F69","v":0},{"$f":"EJ69/100*EK69","v":0},null,{"$f":"F69","v":0},{"$f":"EM69/100*EN69","v":0},null,{"$f":"F69","v":0},{"$f":"EP69/100*EQ69","v":0},null,{"$f":"F69","v":0},{"$f":"ES69/100*ET69","v":0},null,{"$f":"F69","v":0},{"$f":"EV69/100*EW69","v":0},null,{"$f":"F69","v":0},{"$f":"EY69/100*EZ69","v":0},null,{"$f":"F69","v":0},{"$f":"FB69/100*FC69","v":0},null,{"$f":"F69","v":0},{"$f":"FE69/100*FF69","v":0},null,{"$f":"F69","v":0},{"$f":"FH69/100*FI69","v":0},null,{"$f":"F69","v":0},{"$f":"FK69/100*FL69","v":0},null,{"$f":"F69","v":0},{"$f":"FN69/100*FO69","v":0},null,{"$f":"F69","v":0},{"$f":"FQ69/100*FR69","v":0},null,{"$f":"F69","v":0},{"$f":"FT69/100*FU69","v":0},null,{"$f":"F69","v":0},{"$f":"FW69/100*FX69","v":0},null,{"$f":"F69","v":0},{"$f":"FZ69/100*GA69","v":0},null,{"$f":"F69","v":0},{"$f":"GC69/100*GD69","v":0},null,{"$f":"F69","v":0},{"$f":"GF69/100*GG69","v":0},null,{"$f":"F69","v":0},{"$f":"GI69/100*GJ69","v":0},null,{"$f":"F69","v":0},{"$f":"GL69/100*GM69","v":0},null,{"$f":"F69","v":0},{"$f":"GO69/100*GP69","v":0},null,{"$f":"F69","v":0},{"$f":"GR69/100*GS69","v":0},null,{"$f":"F69","v":0},{"$f":"GU69/100*GV69","v":0},null,{"$f":"F69","v":0},{"$f":"GX69/100*GY69","v":0},null,{"$f":"F69","v":0},{"$f":"HA69/100*HB69","v":0},null,{"$f":"F69","v":0},{"$f":"HD69/100*HE69","v":0},null,{"$f":"F69","v":0},{"$f":"HG69/100*HH69","v":0},null,{"$f":"F69","v":0},{"$f":"HJ69/100*HK69","v":0},null,{"$f":"F69","v":0},{"$f":"HM69/100*HN69","v":0},null,{"$f":"F69","v":0},{"$f":"HP69/100*HQ69","v":0},null,{"$f":"F69","v":0},{"$f":"HS69/100*HT69","v":0},null,{"$f":"F69","v":0},{"$f":"HV69/100*HW69","v":0},null,{"$f":"F69","v":0},{"$f":"HY69/100*HZ69","v":0},null,{"$f":"F69","v":0},{"$f":"IB69/100*IC69","v":0},null,{"$f":"F69","v":0},{"$f":"IE69/100*IF69","v":0},null,{"$f":"F69","v":0},{"$f":"IH69/100*II69","v":0},null,{"$f":"F69","v":0},{"$f":"IK69/100*IL69","v":0},null,{"$f":"F69","v":0},{"$f":"IN69/100*IO69","v":0},null,{"$f":"F69","v":0},{"$f":"IQ69/100*IR69","v":0},null,{"$f":"F69","v":0},{"$f":"IT69/100*IU69","v":0}]
[null,null,null,null,null,null,null,null,null,null,null,0,0,null,0,0,null,0,0,null,0,0,null,0,0,null,0,0,null,0,0,null,0,0,null,0,0,null,0,0,null,0,0,null,0,0,null,0,0,null,0,0,null,0,0,null,0,0,null,0,0,null,0,0,null,0,0,null,0,0,null,0,0,null,0,0,null,0,0,null,0,0,null,0,0,null,0,0,null,0,0,null,0,0,null,0,0,null,0,0,null,0,0,null,0,0,null,0,0,null,0,0,null,0,0,null,0,0,null,0,0,null,0,0,null,0,0,null,0,0,null,0,0,null,0,0,null,0,0,null,0,0,null,0,0,null,0,0,null,0,0,null,0,0,null,0,0,null,0,0,null,0,0,null,0,0,null,0,0,null,0,0,null,0,0,null,0,0,null,0,0,null,0,0,null,0,0,null,0,0,null,0,0,null,0,0,null,0,0,null,0,0,null,0,0,null,0,0,null,0,0,null,0,0,null,0,0,null,0,0,null,0,0,null,0,0,null,0,0,null,0,0,null,0,0,null,0,0,null,0,0,null,0,0,null,0,0,null,0,0,null,0,0,null,0,0]
[null,null,null,null,null,null,null,null,null,null,null,0,0,null,0,0,null,0,0,null,0,0,null,0,0,null,0,0,null,0,0,null,0,0,null,0,0,null,0,0,null,0,0,null,0,0,null,0,0,null,0,0,null,0,0,null,0,0,null,0,0,null,0,0,null,0,0,null,0,0,null,0,0,null,0,0,null,0,0,null,0,0,null,0,0,null,0,0,null,0,0,null,0,0,null,0,0,null,0,0,null,0,0,null,0,0,null,0,0,null,0,0,null,0,0,null,0,0,null,0,0,null,0,0,null,0,0,null,0,0,null,0,0,null,0,0,null,0,0,null,0,0,null,0,0,null,0,0,null,0,0,null,0,0,null,0,0,null,0,0,null,0,0,null,0,0,null,0,0,null,0,0,null,0,0,null,0,0,null,0,0,null,0,0,null,0,0,null,0,0,null,0,0,null,0,0,null,0,0,null,0,0,null,0,0,null,0,0,null,0,0,null,0,0,null,0,0,null,0,0,null,0,0,null,0,0,null,0,0,null,0,0,null,0,0,null,0,0,null,0,0,null,0,0,null,0,0,null,0,0,null,0,0,null,0,0]
[null,null,null,null,null,null,null,null,null,null,null,0,0,null,0,0,null,0,0,null,0,0,null,0,0,null,0,0,null,0,0,null,0,0,null,0,0,null,0,0,null,0,0,null,0,0,null,0,0,null,0,0,null,0,0,null,0,0,null,0,0,null,0,0,null,0,0,null,0,0,null,0,0,null,0,0,null,0,0,null,0,0,null,0,0,null,0,0,null,0,0,null,0,0,null,0,0,null,0,0,null,0,0,null,0,0,null,0,0,null,0,0,null,0,0,null,0,0,null,0,0,null,0,0,null,0,0,null,0,0,null,0,0,null,0,0,null,0,0,null,0,0,null,0,0,null,0,0,null,0,0,null,0,0,null,0,0,null,0,0,null,0,0,null,0,0,null,0,0,null,0,0,null,0,0,null,0,0,null,0,0,null,0,0,null,0,0,null,0,0,null,0,0,null,0,0,null,0,0,null,0,0,null,0,0,null,0,0,null,0,0,null,0,0,null,0,0,null,0,0,null,0,0,null,0,0,null,0,0,null,0,0,null,0,0,null,0,0,null,0,0,null,0,0,null,0,0,null,0,0,null,0,0,null,0,0]
[null,null,null,null,null,null,null,null,null,null,null,0,0,null,0,0,null,0,0,null,0,0,null,0,0,null,0,0,null,0,0,null,0,0,null,0,0,null,0,0,null,0,0,null,0,0,null,0,0,null,0,0,null,0,0,null,0,0,null,0,0,null,0,0,null,0,0,null,0,0,null,0,0,null,0,0,null,0,0,null,0,0,null,0,0,null,0,0,null,0,0,null,0,0,null,0,0,null,0,0,null,0,0,null,0,0,null,0,0,null,0,0,null,0,0,null,0,0,null,0,0,null,0,0,null,0,0,null,0,0,null,0,0,null,0,0,null,0,0,null,0,0,null,0,0,null,0,0,null,0,0,null,0,0,null,0,0,null,0,0,null,0,0,null,0,0,null,0,0,null,0,0,null,0,0,null,0,0,null,0,0,null,0,0,null,0,0,null,0,0,null,0,0,null,0,0,null,0,0,null,0,0,null,0,0,null,0,0,null,0,0,null,0,0,null,0,0,null,0,0,null,0,0,null,0,0,null,0,0,null,0,0,null,0,0,null,0,0,null,0,0,null,0,0,null,0,0,null,0,0,null,0,0,null,0,0]
[null,null,null,null,null,null,null,null,null,null,null,0,0,null,0,0,null,0,0,null,0,0,null,0,0,null,0,0,null,0,0,null,0,0,null,0,0,null,0,0,null,0,0,null,0,0,null,0,0,null,0,0,null,0,0,null,0,0,null,0,0,null,0,0,null,0,0,null,0,0,null,0,0,null,0,0,null,0,0,null,0,0,null,0,0,null,0,0,null,0,0,null,0,0,null,0,0,null,0,0,null,0,0,null,0,0,null,0,0,null,0,0,null,0,0,null,0,0,null,0,0,null,0,0,null,0,0,null,0,0,null,0,0,null,0,0,null,0,0,null,0,0,null,0,0,null,0,0,null,0,0,null,0,0,null,0,0,null,0,0,null,0,0,null,0,0,null,0,0,null,0,0,null,0,0,null,0,0,null,0,0,null,0,0,null,0,0,null,0,0,null,0,0,null,0,0,null,0,0,null,0,0,null,0,0,null,0,0,null,0,0,null,0,0,null,0,0,null,0,0,null,0,0,null,0,0,null,0,0,null,0,0,null,0,0,null,0,0,null,0,0,null,0,0,null,0,0,null,0,0,null,0,0,null,0,0]
[null,null,null,null,null,null,null,null,null,null,null,0,0,null,0,0,null,0,0,null,0,0,null,0,0,null,0,0,null,0,0,null,0,0,null,0,0,null,0,0,null,0,0,null,0,0,null,0,0,null,0,0,null,0,0,null,0,0,null,0,0,null,0,0,null,0,0,null,0,0,null,0,0,null,0,0,null,0,0,null,0,0,null,0,0,null,0,0,null,0,0,null,0,0,null,0,0,null,0,0,null,0,0,null,0,0,null,0,0,null,0,0,null,0,0,null,0,0,null,0,0,null,0,0,null,0,0,null,0,0,null,0,0,null,0,0,null,0,0,null,0,0,null,0,0,null,0,0,null,0,0,null,0,0,null,0,0,null,0,0,null,0,0,null,0,0,null,0,0,null,0,0,null,0,0,null,0,0,null,0,0,null,0,0,null,0,0,null,0,0,null,0,0,null,0,0,null,0,0,null,0,0,null,0,0,null,0,0,null,0,0,null,0,0,null,0,0,null,0,0,null,0,0,null,0,0,null,0,0,null,0,0,null,0,0,null,0,0,null,0,0,null,0,0,null,0,0,null,0,0,null,0,0,null,0,0]
[null,null,null,null,null,null,null,null,null,null,null,0,0,null,0,0,null,0,0,null,0,0,null,0,0,null,0,0,null,0,0,null,0,0,null,0,0,null,0,0,null,0,0,null,0,0,null,0,0,null,0,0,null,0,0,null,0,0,null,0,0,null,0,0,null,0,0,null,0,0,null,0,0,null,0,0,null,0,0,null,0,0,null,0,0,null,0,0,null,0,0,null,0,0,null,0,0,null,0,0,null,0,0,null,0,0,null,0,0,null,0,0,null,0,0,null,0,0,null,0,0,null,0,0,null,0,0,null,0,0,null,0,0,null,0,0,null,0,0,null,0,0,null,0,0,null,0,0,null,0,0,null,0,0,null,0,0,null,0,0,null,0,0,null,0,0,null,0,0,null,0,0,null,0,0,null,0,0,null,0,0,null,0,0,null,0,0,null,0,0,null,0,0,null,0,0,null,0,0,null,0,0,null,0,0,null,0,0,null,0,0,null,0,0,null,0,0,null,0,0,null,0,0,null,0,0,null,0,0,null,0,0,null,0,0,null,0,0,null,0,0,null,0,0,null,0,0,null,0,0,null,0,0,null,0,0]
[null,null,null,null,null,null,null,null,null,null,null,0,0,null,0,0,null,0,0,null,0,0,null,0,0,null,0,0,null,0,0,null,0,0,null,0,0,null,0,0,null,0,0,null,0,0,null,0,0,null,0,0,null,0,0,null,0,0,null,0,0,null,0,0,null,0,0,null,0,0,null,0,0,null,0,0,null,0,0,null,0,0,null,0,0,null,0,0,null,0,0,null,0,0,null,0,0,null,0,0,null,0,0,null,0,0,null,0,0,null,0,0,null,0,0,null,0,0,null,0,0,null,0,0,null,0,0,null,0,0,null,0,0,null,0,0,null,0,0,null,0,0,null,0,0,null,0,0,null,0,0,null,0,0,null,0,0,null,0,0,null,0,0,null,0,0,null,0,0,null,0,0,null,0,0,null,0,0,null,0,0,null,0,0,null,0,0,null,0,0,null,0,0,null,0,0,null,0,0,null,0,0,null,0,0,null,0,0,null,0,0,null,0,0,null,0,0,null,0,0,null,0,0,null,0,0,null,0,0,null,0,0,null,0,0,null,0,0,null,0,0,null,0,0,null,0,0,null,0,0,null,0,0,null,0,0]
[null,null,null,null,null,null,null,null,null,null,null,0,0,null,0,0,null,0,0,null,0,0,null,0,0,null,0,0,null,0,0,null,0,0,null,0,0,null,0,0,null,0,0,null,0,0,null,0,0,null,0,0,null,0,0,null,0,0,null,0,0,null,0,0,null,0,0,null,0,0,null,0,0,null,0,0,null,0,0,null,0,0,null,0,0,null,0,0,null,0,0,null,0,0,null,0,0,null,0,0,null,0,0,null,0,0,null,0,0,null,0,0,null,0,0,null,0,0,null,0,0,null,0,0,null,0,0,null,0,0,null,0,0,null,0,0,null,0,0,null,0,0,null,0,0,null,0,0,null,0,0,null,0,0,null,0,0,null,0,0,null,0,0,null,0,0,null,0,0,null,0,0,null,0,0,null,0,0,null,0,0,null,0,0,null,0,0,null,0,0,null,0,0,null,0,0,null,0,0,null,0,0,null,0,0,null,0,0,null,0,0,null,0,0,null,0,0,null,0,0,null,0,0,null,0,0,null,0,0,null,0,0,null,0,0,null,0,0,null,0,0,null,0,0,null,0,0,null,0,0,null,0,0,null,0,0]
[null,null,null,null,null,null,null,null,null,null,null,0,0,null,0,0,null,0,0,null,0,0,null,0,0,null,0,0,null,0,0,null,0,0,null,0,0,null,0,0,null,0,0,null,0,0,null,0,0,null,0,0,null,0,0,null,0,0,null,0,0,null,0,0,null,0,0,null,0,0,null,0,0,null,0,0,null,0,0,null,0,0,null,0,0,null,0,0,null,0,0,null,0,0,null,0,0,null,0,0,null,0,0,null,0,0,null,0,0,null,0,0,null,0,0,null,0,0,null,0,0,null,0,0,null,0,0,null,0,0,null,0,0,null,0,0,null,0,0,null,0,0,null,0,0,null,0,0,null,0,0,null,0,0,null,0,0,null,0,0,null,0,0,null,0,0,null,0,0,null,0,0,null,0,0,null,0,0,null,0,0,null,0,0,null,0,0,null,0,0,null,0,0,null,0,0,null,0,0,null,0,0,null,0,0,null,0,0,null,0,0,null,0,0,null,0,0,null,0,0,null,0,0,null,0,0,null,0,0,null,0,0,null,0,0,null,0,0,null,0,0,null,0,0,null,0,0,null,0,0,null,0,0,null,0,0]
[null,null,null,null,null,null,null,null,null,null,null,0,0,null,0,0,null,0,0,null,0,0,null,0,0,null,0,0,null,0,0,null,0,0,null,0,0,null,0,0,null,0,0,null,0,0,null,0,0,null,0,0,null,0,0,null,0,0,null,0,0,null,0,0,null,0,0,null,0,0,null,0,0,null,0,0,null,0,0,null,0,0,null,0,0,null,0,0,null,0,0,null,0,0,null,0,0,null,0,0,null,0,0,null,0,0,null,0,0,null,0,0,null,0,0,null,0,0,null,0,0,null,0,0,null,0,0,null,0,0,null,0,0,null,0,0,null,0,0,null,0,0,null,0,0,null,0,0,null,0,0,null,0,0,null,0,0,null,0,0,null,0,0,null,0,0,null,0,0,null,0,0,null,0,0,null,0,0,null,0,0,null,0,0,null,0,0,null,0,0,null,0,0,null,0,0,null,0,0,null,0,0,null,0,0,null,0,0,null,0,0,null,0,0,null,0,0,null,0,0,null,0,0,null,0,0,null,0,0,null,0,0,null,0,0,null,0,0,null,0,0,null,0,0,null,0,0,null,0,0,null,0,0,null,0,0]
[null,null,null,null,null,null,null,null,null,null,null,0,0,null,0,0,null,0,0,null,0,0,null,0,0,null,0,0,null,0,0,null,0,0,null,0,0,null,0,0,null,0,0,null,0,0,null,0,0,null,0,0,null,0,0,null,0,0,null,0,0,null,0,0,null,0,0,null,0,0,null,0,0,null,0,0,null,0,0,null,0,0,null,0,0,null,0,0,null,0,0,null,0,0,null,0,0,null,0,0,null,0,0,null,0,0,null,0,0,null,0,0,null,0,0,null,0,0,null,0,0,null,0,0,null,0,0,null,0,0,null,0,0,null,0,0,null,0,0,null,0,0,null,0,0,null,0,0,null,0,0,null,0,0,null,0,0,null,0,0,null,0,0,null,0,0,null,0,0,null,0,0,null,0,0,null,0,0,null,0,0,null,0,0,null,0,0,null,0,0,null,0,0,null,0,0,null,0,0,null,0,0,null,0,0,null,0,0,null,0,0,null,0,0,null,0,0,null,0,0,null,0,0,null,0,0,null,0,0,null,0,0,null,0,0,null,0,0,null,0,0,null,0,0,null,0,0,null,0,0,null,0,0,null,0,0]
[null,null,null,null,null,null,null,null,null,null,null,0,0,null,0,0,null,0,0,null,0,0,null,0,0,null,0,0,null,0,0,null,0,0,null,0,0,null,0,0,null,0,0,null,0,0,null,0,0,null,0,0,null,0,0,null,0,0,null,0,0,null,0,0,null,0,0,null,0,0,null,0,0,null,0,0,null,0,0,null,0,0,null,0,0,null,0,0,null,0,0,null,0,0,null,0,0,null,0,0,null,0,0,null,0,0,null,0,0,null,0,0,null,0,0,null,0,0,null,0,0,null,0,0,null,0,0,null,0,0,null,0,0,null,0,0,null,0,0,null,0,0,null,0,0,null,0,0,null,0,0,null,0,0,null,0,0,null,0,0,null,0,0,null,0,0,null,0,0,null,0,0,null,0,0,null,0,0,null,0,0,null,0,0,null,0,0,null,0,0,null,0,0,null,0,0,null,0,0,null,0,0,null,0,0,null,0,0,null,0,0,null,0,0,null,0,0,null,0,0,null,0,0,null,0,0,null,0,0,null,0,0,null,0,0,null,0,0,null,0,0,null,0,0,null,0,0,null,0,0,null,0,0,null,0,0]
[null,null,null,null,null,null,null,null,null,null,null,0,0,null,0,0,null,0,0,null,0,0,null,0,0,null,0,0,null,0,0,null,0,0,null,0,0,null,0,0,null,0,0,null,0,0,null,0,0,null,0,0,null,0,0,null,0,0,null,0,0,null,0,0,null,0,0,null,0,0,null,0,0,null,0,0,null,0,0,null,0,0,null,0,0,null,0,0,null,0,0,null,0,0,null,0,0,null,0,0,null,0,0,null,0,0,null,0,0,null,0,0,null,0,0,null,0,0,null,0,0,null,0,0,null,0,0,null,0,0,null,0,0,null,0,0,null,0,0,null,0,0,null,0,0,null,0,0,null,0,0,null,0,0,null,0,0,null,0,0,null,0,0,null,0,0,null,0,0,null,0,0,null,0,0,null,0,0,null,0,0,null,0,0,null,0,0,null,0,0,null,0,0,null,0,0,null,0,0,null,0,0,null,0,0,null,0,0,null,0,0,null,0,0,null,0,0,null,0,0,null,0,0,null,0,0,null,0,0,null,0,0,null,0,0,null,0,0,null,0,0,null,0,0,null,0,0,null,0,0,null,0,0,null,0,0]
[null,null,null,null,null,null,null,null,null,null,null,0,0,null,0,0,null,0,0,null,0,0,null,0,0,null,0,0,null,0,0,null,0,0,null,0,0,null,0,0,null,0,0,null,0,0,null,0,0,null,0,0,null,0,0,null,0,0,null,0,0,null,0,0,null,0,0,null,0,0,null,0,0,null,0,0,null,0,0,null,0,0,null,0,0,null,0,0,null,0,0,null,0,0,null,0,0,null,0,0,null,0,0,null,0,0,null,0,0,null,0,0,null,0,0,null,0,0,null,0,0,null,0,0,null,0,0,null,0,0,null,0,0,null,0,0,null,0,0,null,0,0,null,0,0,null,0,0,null,0,0,null,0,0,null,0,0,null,0,0,null,0,0,null,0,0,null,0,0,null,0,0,null,0,0,null,0,0,null,0,0,null,0,0,null,0,0,null,0,0,null,0,0,null,0,0,null,0,0,null,0,0,null,0,0,null,0,0,null,0,0,null,0,0,null,0,0,null,0,0,null,0,0,null,0,0,null,0,0,null,0,0,null,0,0,null,0,0,null,0,0,null,0,0,null,0,0,null,0,0,null,0,0,null,0,0]
[null,null,null,null,null,null,null,null,null,null,null,0,0,null,0,0,null,0,0,null,0,0,null,0,0,null,0,0,null,0,0,null,0,0,null,0,0,null,0,0,null,0,0,null,0,0,null,0,0,null,0,0,null,0,0,null,0,0,null,0,0,null,0,0,null,0,0,null,0,0,null,0,0,null,0,0,null,0,0,null,0,0,null,0,0,null,0,0,null,0,0,null,0,0,null,0,0,null,0,0,null,0,0,null,0,0,null,0,0,null,0,0,null,0,0,null,0,0,null,0,0,null,0,0,null,0,0,null,0,0,null,0,0,null,0,0,null,0,0,null,0,0,null,0,0,null,0,0,null,0,0,null,0,0,null,0,0,null,0,0,null,0,0,null,0,0,null,0,0,null,0,0,null,0,0,null,0,0,null,0,0,null,0,0,null,0,0,null,0,0,null,0,0,null,0,0,null,0,0,null,0,0,null,0,0,null,0,0,null,0,0,null,0,0,null,0,0,null,0,0,null,0,0,null,0,0,null,0,0,null,0,0,null,0,0,null,0,0,null,0,0,null,0,0,null,0,0,null,0,0,null,0,0,null,0,0]

{"sheet":"Daily Info (January)","index":2,"n_rows":62,"n_cols":62,"rows_kept":62,"cut":false,"hidden":false,"merged":[[60,35,60,36],[61,35,61,36],[56,35,56,36],[57,35,57,36],[58,35,58,36],[59,35,59,36],[52,35,52,36],[53,35,53,36],[54,35,54,36],[55,35,55,36],[48,35,48,36],[49,35,49,36],[50,35,50,36],[51,35,51,36],[44,35,44,36],[45,35,45,36],[46,35,46,36],[47,35,47,36],[40,35,40,36],[41,35,41,36],[42,35,42,36],[43,35,43,36],[36,35,36,36],[37,35,37,36],[38,35,38,36],[39,35,39,36],[32,35,32,36],[33,35,33,36],[34,35,34,36],[35,35,35,36],[28,35,28,36],[29,35,29,36],[30,35,30,36],[31,35,31,36],[24,35,24,36],[25,35,25,36],[26,35,26,36],[27,35,27,36],[23,35,23,36],[16,35,16,36],[17,35,17,36],[18,35,18,36],[19,35,19,36],[10,35,10,36],[11,35,11,36],[20,35,20,36],[21,35,21,36],[22,35,22,36],[0,3,0,12],[0,38,0,39],[61,0,61,1],[61,3,61,33],[1,35,1,36],[3,35,3,36],[4,35,4,36],[5,35,5,36],[6,35,6,36],[7,35,7,36],[12,35,12,36],[13,35,13,36],[14,35,14,36],[15,35,15,36],[8,35,8,36],[9,35,9,36]]}
["Main Menu","VOC Product Information",null,"Daily Usage (gal)",null,null,null,null,null,null,null,null,null,null,null,null,null,null,null,null,null,null,null,null,null,"Daily Usage (gal)",null,null,null,null,null,null,null,null,null,null,null,null,"Emissions"]
["Product Number","Product Name ","Product Type","2005-01-01","1900-01-02","1900-01-03","1900-01-04","1900-01-05","1900-01-06","1900-01-07","1900-01-08","1900-01-09","1900-01-10","1900-01-11","1900-01-12","1900-01-13","1900-01-14","1900-01-15","1900-01-16","1900-01-17","1900-01-18","1900-01-19","1900-01-20","1900-01-21","1900-01-22","1900-01-23","1900-01-24","1900-01-25","1900-01-26","1900-01-27","1900-01-28","1900-01-29","1900-01-30","1900-01-31","Total Usage (gal)","Total Usage (lbs)",null,null,"Pounds VOCs Emitted","Pounds Total HAPs Emitted",{"$f":"'Product Info'!K3","v":0},{"$f":"'Product Info'!N3","v":0},{"$f":"'Product Info'!Q3","v":0},{"$f":"'Product Info'!T3","v":0},{"$f":"'Product Info'!W3","v":0},{"$f":"'Product Info'!Z3","v":0},{"$f":"'Product Info'!AC3","v":0},{"$f":"'Product Info'!AF3","v":0},{"$f":"'Product Info'!AI3","v":0},{"$f":"'Product Info'!AL3","v":0},{"$f":"'Product Info'!AO3","v":0},{"$f":"'Product Info'!AR3","v":0},{"$f":"'Product Info'!AU3","v":0},{"$f":"'Product Info'!AX3","v":0},{"$f":"'Product Info'!BA3","v":0},{"$f":"'Product Info'!BD3","v":0},{"$f":"'Product Info'!BG3","v":0},{"$f":"'Product Info'!BJ3","v":0},{"$f":"'Product Info'!BM3","v":0},{"$f":"'Product Info'!BP3","v":0},{"$f":"'Product Info'!BS3","v":0},{"$f":"'Product Info'!BV3","v":0}]
[]
[{"$f":"'Product Info'!A5","v":0},{"$f":"'Product Info'!B5","v":0},{"$f":"'Product Info'!C5","v":0},null,null,null,null,null,null,null,null,null,null,null,null,null,null,null,null,null,null,null,null,null,null,null,null,null,null,null,null,null,null,null,{"$f":"SUM(D4:AH4)","v":0},{"$f":"'Product Info'!F5*('Daily Info (January)'!AI4)","v":0},null,null,{"$f":"AI4*('Product Info'!H5)","v":0},{"$f":"AI4*('Product Info'!M5+'Product Info'!P5+'Product Info'!S5+'Product Info'!V5+'Product Info'!Y5+'Product Info'!AB5+'Product Info'!AE5+'Product Info'!AH5+'Product Info'!AK5+'Product Info'!AN5+'Product Info'!AQ5+'Product Info'!AT5+'Product Info'!AW5+'Product Info'!AZ5+'Product Info'!BC5+'Product Info'!BF5+'Product Info'!BI5+'Product Info'!BL5+'Product Info'!BO5+'Product Info'!BR5+'Product Info'!BU5+'Product Info'!BX5+'Product Info'!CA5+'Product Info'!CD5+'Product Info'!CG5+'Product Info'!CJ5+'Product Info'!CM5+'Product Info'!CP5+'Product Info'!CS5+'Product Info'!CV5+'Product Info'!CY5+'Product Info'!DB5+'Product Info'!DE5+'Product Info'!DH5+'Product Info'!DK5+'Product Info'!DN5+'Product Info'!DQ5+'Product Info'!DT5+'Product Info'!DW5+'Product Info'!DZ5+'Product Info'!EC5+'Product Info'!EF5+'Product Info'!EI5+'Product Info'!EL5+'Product Info'!EO5+'Product Info'!ER5+'Product Info'!EU5+'Product Info'!EX5+'Product Info'!FA5+'Product Info'!FD5)","v":0},{"$f":"AI4*('Product Info'!M5)","v":0},{"$f":"AI4*'Product Info'!P5","v":0},{"$f":"AI4*'Product Info'!S5","v":0},{"$f":"AI4*'Product Info'!V5","v":0},{"$f":"AI4*'Product Info'!Y5","v":0},{"$f":"AI4*'Product Info'!AB5","v":0},{"$f":"AI4*'Product Info'!AE5","v":0},{"$f":"AI4*'Product Info'!AH5","v":0},{"$f":"AI4*'Product Info'!AK5","v":0},{"$f":"AI4*'Product Info'!AN5","v":0},{"$f":"AI4*'Product Info'!AQ5","v":0},{"$f":"AI4*'Product Info'!AT5","v":0},{"$f":"AI4*'Product Info'!AW5","v":0},{"$f":"AI4*'Product Info'!AZ5","v":0},{"$f":"AI4*'Product Info'!BC5","v":0},{"$f":"AI4*'Product Info'!BF5","v":0},{"$f":"AI4*'Product Info'!BI5","v":0},{"$f":"AI4*'Product Info'!BL5","v":0},{"$f":"AI4*'Product Info'!BO5","v":0},{"$f":"AI4*'Product Info'!BR5","v":0},{"$f":"AI4*'Product Info'!BU5","v":0},{"$f":"AI4*'Product Info'!BX5","v":0}]
[{"$f":"'Product Info'!A6","v":0},{"$f":"'Product Info'!B6","v":0},{"$f":"'Product Info'!C6","v":0},null,null,null,null,null,null,null,null,null,null,null,null,null,null,null,null,null,null,null,null,null,null,null,null,null,null,null,null,null,null,null,0,{"$f":"'Product Info'!F6*('Daily Info (January)'!AI5)","v":0},null,null,{"$f":"AI5*('Product Info'!H6)","v":0},{"$f":"AI5*('Product Info'!M6+'Product Info'!P6+'Product Info'!S6+'Product Info'!V6+'Product Info'!Y6+'Product Info'!AB6+'Product Info'!AE6+'Product Info'!AH6+'Product Info'!AK6+'Product Info'!AN6+'Product Info'!AQ6+'Product Info'!AT6+'Product Info'!AW6+'Product Info'!AZ6+'Product Info'!BC6+'Product Info'!BF6+'Product Info'!BI6+'Product Info'!BL6+'Product Info'!BO6+'Product Info'!BR6+'Product Info'!BU6+'Product Info'!BX6+'Product Info'!CA6+'Product Info'!CD6+'Product Info'!CG6+'Product Info'!CJ6+'Product Info'!CM6+'Product Info'!CP6+'Product Info'!CS6+'Product Info'!CV6+'Product Info'!CY6+'Product Info'!DB6+'Product Info'!DE6+'Product Info'!DH6+'Product Info'!DK6+'Product Info'!DN6+'Product Info'!DQ6+'Product Info'!DT6+'Product Info'!DW6+'Product Info'!DZ6+'Product Info'!EC6+'Product Info'!EF6+'Product Info'!EI6+'Product Info'!EL6+'Product Info'!EO6+'Product Info'!ER6+'Product Info'!EU6+'Product Info'!EX6+'Product Info'!FA6+'Product Info'!FD6)","v":0},{"$f":"AI5*('Product Info'!M6)","v":0},{"$f":"AI5*'Product Info'!P6","v":0},{"$f":"AI5*'Product Info'!S6","v":0},{"$f":"AI5*'Product Info'!V6","v":0},{"$f":"AI5*'Product Info'!Y6","v":0},{"$f":"AI5*'Product Info'!AB6","v":0},{"$f":"AI5*'Product Info'!AE6","v":0},{"$f":"AI5*'Product Info'!AH6","v":0},{"$f":"AI5*'Product Info'!AK6","v":0},{"$f":"AI5*'Product Info'!AN6","v":0},{"$f":"AI5*'Product Info'!AQ6","v":0},{"$f":"AI5*'Product Info'!AT6","v":0},{"$f":"AI5*'Product Info'!AW6","v":0},{"$f":"AI5*'Product Info'!AZ6","v":0},{"$f":"AI5*'Product Info'!BC6","v":0},{"$f":"AI5*'Product Info'!BF6","v":0},{"$f":"AI5*'Product Info'!BI6","v":0},{"$f":"AI5*'Product Info'!BL6","v":0},{"$f":"AI5*'Product Info'!BO6","v":0},{"$f":"AI5*'Product Info'!BR6","v":0},{"$f":"AI5*'Product Info'!BU6","v":0},{"$f":"AI5*'Product Info'!BX6","v":0}]
[{"$f":"'Product Info'!A7","v":0},{"$f":"'Product Info'!B7","v":0},{"$f":"'Product Info'!C7","v":0},null,null,null,null,null,null,null,null,null,null,null,null,null,null,null,null,null,null,null,null,null,null,null,null,null,null,null,null,null,null,null,0,{"$f":"'Product Info'!F7*('Daily Info (January)'!AI6)","v":0},null,null,{"$f":"AI6*('Product Info'!H7)","v":0},{"$f":"AI6*('Product Info'!M7+'Product Info'!P7+'Product Info'!S7+'Product Info'!V7+'Product Info'!Y7+'Product Info'!AB7+'Product Info'!AE7+'Product Info'!AH7+'Product Info'!AK7+'Product Info'!AN7+'Product Info'!AQ7+'Product Info'!AT7+'Product Info'!AW7+'Product Info'!AZ7+'Product Info'!BC7+'Product Info'!BF7+'Product Info'!BI7+'Product Info'!BL7+'Product Info'!BO7+'Product Info'!BR7+'Product Info'!BU7+'Product Info'!BX7+'Product Info'!CA7+'Product Info'!CD7+'Product Info'!CG7+'Product Info'!CJ7+'Product Info'!CM7+'Product Info'!CP7+'Product Info'!CS7+'Product Info'!CV7+'Product Info'!CY7+'Product Info'!DB7+'Product Info'!DE7+'Product Info'!DH7+'Product Info'!DK7+'Product Info'!DN7+'Product Info'!DQ7+'Product Info'!DT7+'Product Info'!DW7+'Product Info'!DZ7+'Product Info'!EC7+'Product Info'!EF7+'Product Info'!EI7+'Product Info'!EL7+'Product Info'!EO7+'Product Info'!ER7+'Product Info'!EU7+'Product Info'!EX7+'Product Info'!FA7+'Product Info'!FD7)","v":0},{"$f":"AI6*('Product Info'!M7)","v":0},{"$f":"AI6*'Product Info'!P7","v":0},{"$f":"AI6*'Product Info'!S7","v":0},{"$f":"AI6*'Product Info'!V7","v":0},{"$f":"AI6*'Product Info'!Y7","v":0},{"$f":"AI6*'Product Info'!AB7","v":0},{"$f":"AI6*'Product Info'!AE7","v":0},{"$f":"AI6*'Product Info'!AH7","v":0},{"$f":"AI6*'Product Info'!AK7","v":0},{"$f":"AI6*'Product Info'!AN7","v":0},{"$f":"AI6*'Product Info'!AQ7","v":0},{"$f":"AI6*'Product Info'!AT7","v":0},{"$f":"AI6*'Product Info'!AW7","v":0},{"$f":"AI6*'Product Info'!AZ7","v":0},{"$f":"AI6*'Product Info'!BC7","v":0},{"$f":"AI6*'Product Info'!BF7","v":0},{"$f":"AI6*'Product Info'!BI7","v":0},{"$f":"AI6*'Product Info'!BL7","v":0},{"$f":"AI6*'Product Info'!BO7","v":0},{"$f":"AI6*'Product Info'!BR7","v":0},{"$f":"AI6*'Product Info'!BU7","v":0},{"$f":"AI6*'Product Info'!BX7","v":0}]
[{"$f":"'Product Info'!A8","v":0},{"$f":"'Product Info'!B8","v":0},{"$f":"'Product Info'!C8","v":0},null,null,null,null,null,null,null,null,null,null,null,null,null,null,null,null,null,null,null,null,null,null,null,null,null,null,null,null,null,null,null,0,{"$f":"'Product Info'!F8*('Daily Info (January)'!AI7)","v":0},null,null,{"$f":"AI7*('Product Info'!H8)","v":0},{"$f":"AI7*('Product Info'!M8+'Product Info'!P8+'Product Info'!S8+'Product Info'!V8+'Product Info'!Y8+'Product Info'!AB8+'Product Info'!AE8+'Product Info'!AH8+'Product Info'!AK8+'Product Info'!AN8+'Product Info'!AQ8+'Product Info'!AT8+'Product Info'!AW8+'Product Info'!AZ8+'Product Info'!BC8+'Product Info'!BF8+'Product Info'!BI8+'Product Info'!BL8+'Product Info'!BO8+'Product Info'!BR8+'Product Info'!BU8+'Product Info'!BX8+'Product Info'!CA8+'Product Info'!CD8+'Product Info'!CG8+'Product Info'!CJ8+'Product Info'!CM8+'Product Info'!CP8+'Product Info'!CS8+'Product Info'!CV8+'Product Info'!CY8+'Product Info'!DB8+'Product Info'!DE8+'Product Info'!DH8+'Product Info'!DK8+'Product Info'!DN8+'Product Info'!DQ8+'Product Info'!DT8+'Product Info'!DW8+'Product Info'!DZ8+'Product Info'!EC8+'Product Info'!EF8+'Product Info'!EI8+'Product Info'!EL8+'Product Info'!EO8+'Product Info'!ER8+'Product Info'!EU8+'Product Info'!EX8+'Product Info'!FA8+'Product Info'!FD8)","v":0},{"$f":"AI7*('Product Info'!M8)","v":0},{"$f":"AI7*'Product Info'!P8","v":0},{"$f":"AI7*'Product Info'!S8","v":0},{"$f":"AI7*'Product Info'!V8","v":0},{"$f":"AI7*'Product Info'!Y8","v":0},{"$f":"AI7*'Product Info'!AB8","v":0},{"$f":"AI7*'Product Info'!AE8","v":0},{"$f":"AI7*'Product Info'!AH8","v":0},{"$f":"AI7*'Product Info'!AK8","v":0},{"$f":"AI7*'Product Info'!AN8","v":0},{"$f":"AI7*'Product Info'!AQ8","v":0},{"$f":"AI7*'Product Info'!AT8","v":0},{"$f":"AI7*'Product Info'!AW8","v":0},{"$f":"AI7*'Product Info'!AZ8","v":0},{"$f":"AI7*'Product Info'!BC8","v":0},{"$f":"AI7*'Product Info'!BF8","v":0},{"$f":"AI7*'Product Info'!BI8","v":0},{"$f":"AI7*'Product Info'!BL8","v":0},{"$f":"AI7*'Product Info'!BO8","v":0},{"$f":"AI7*'Product Info'!BR8","v":0},{"$f":"AI7*'Product Info'!BU8","v":0},{"$f":"AI7*'Product Info'!BX8","v":0}]
[{"$f":"'Product Info'!A9","v":0},{"$f":"'Product Info'!B9","v":0},{"$f":"'Product Info'!C9","v":0},null,null,null,null,null,null,null,null,null,null,null,null,null,null,null,null,null,null,null,null,null,null,null,null,null,null,null,null,null,null,null,0,{"$f":"'Product Info'!F9*('Daily Info (January)'!AI8)","v":0},null,null,{"$f":"AI8*('Product Info'!H9)","v":0},{"$f":"AI8*('Product Info'!M9+'Product Info'!P9+'Product Info'!S9+'Product Info'!V9+'Product Info'!Y9+'Product Info'!AB9+'Product Info'!AE9+'Product Info'!AH9+'Product Info'!AK9+'Product Info'!AN9+'Product Info'!AQ9+'Product Info'!AT9+'Product Info'!AW9+'Product Info'!AZ9+'Product Info'!BC9+'Product Info'!BF9+'Product Info'!BI9+'Product Info'!BL9+'Product Info'!BO9+'Product Info'!BR9+'Product Info'!BU9+'Product Info'!BX9+'Product Info'!CA9+'Product Info'!CD9+'Product Info'!CG9+'Product Info'!CJ9+'Product Info'!CM9+'Product Info'!CP9+'Product Info'!CS9+'Product Info'!CV9+'Product Info'!CY9+'Product Info'!DB9+'Product Info'!DE9+'Product Info'!DH9+'Product Info'!DK9+'Product Info'!DN9+'Product Info'!DQ9+'Product Info'!DT9+'Product Info'!DW9+'Product Info'!DZ9+'Product Info'!EC9+'Product Info'!EF9+'Product Info'!EI9+'Product Info'!EL9+'Product Info'!EO9+'Product Info'!ER9+'Product Info'!EU9+'Product Info'!EX9+'Product Info'!FA9+'Product Info'!FD9)","v":0},{"$f":"AI8*('Product Info'!M9)","v":0},{"$f":"AI8*'Product Info'!P9","v":0},{"$f":"AI8*'Product Info'!S9","v":0},{"$f":"AI8*'Product Info'!V9","v":0},{"$f":"AI8*'Product Info'!Y9","v":0},{"$f":"AI8*'Product Info'!AB9","v":0},{"$f":"AI8*'Product Info'!AE9","v":0},{"$f":"AI8*'Product Info'!AH9","v":0},{"$f":"AI8*'Product Info'!AK9","v":0},{"$f":"AI8*'Product Info'!AN9","v":0},{"$f":"AI8*'Product Info'!AQ9","v":0},{"$f":"AI8*'Product Info'!AT9","v":0},{"$f":"AI8*'Product Info'!AW9","v":0},{"$f":"AI8*'Product Info'!AZ9","v":0},{"$f":"AI8*'Product Info'!BC9","v":0},{"$f":"AI8*'Product Info'!BF9","v":0},{"$f":"AI8*'Product Info'!BI9","v":0},{"$f":"AI8*'Product Info'!BL9","v":0},{"$f":"AI8*'Product Info'!BO9","v":0},{"$f":"AI8*'Product Info'!BR9","v":0},{"$f":"AI8*'Product Info'!BU9","v":0},{"$f":"AI8*'Product Info'!BX9","v":0}]
[{"$f":"'Product Info'!A10","v":0},{"$f":"'Product Info'!B10","v":0},{"$f":"'Product Info'!C10","v":0},null,null,null,null,null,null,null,null,null,null,null,null,null,null,null,null,null,null,null,null,null,null,null,null,null,null,null,null,null,null,null,0,{"$f":"'Product Info'!F10*('Daily Info (January)'!AI9)","v":0},null,null,{"$f":"AI9*('Product Info'!H10)","v":0},{"$f":"AI9*('Product Info'!M10+'Product Info'!P10+'Product Info'!S10+'Product Info'!V10+'Product Info'!Y10+'Product Info'!AB10+'Product Info'!AE10+'Product Info'!AH10+'Product Info'!AK10+'Product Info'!AN10+'Product Info'!AQ10+'Product Info'!AT10+'Product Info'!AW10+'Product Info'!AZ10+'Product Info'!BC10+'Product Info'!BF10+'Product Info'!BI10+'Product Info'!BL10+'Product Info'!BO10+'Product Info'!BR10+'Product Info'!BU10+'Product Info'!BX10+'Product Info'!CA10+'Product Info'!CD10+'Product Info'!CG10+'Product Info'!CJ10+'Product Info'!CM10+'Product Info'!CP10+'Product Info'!CS10+'Product Info'!CV10+'Product Info'!CY10+'Product Info'!DB10+'Product Info'!DE10+'Product Info'!DH10+'Product Info'!DK10+'Product Info'!DN10+'Product Info'!DQ10+'Product Info'!DT10+'Product Info'!DW10+'Product Info'!DZ10+'Product Info'!EC10+'Product Info'!EF10+'Product Info'!EI10+'Product Info'!EL10+'Product Info'!EO10+'Product Info'!ER10+'Product Info'!EU10+'Product Info'!EX10+'Product Info'!FA10+'Product Info'!FD10)","v":0},{"$f":"AI9*('Product Info'!M10)","v":0},{"$f":"AI9*'Product Info'!P10","v":0},{"$f":"AI9*'Product Info'!S10","v":0},{"$f":"AI9*'Product Info'!V10","v":0},{"$f":"AI9*'Product Info'!Y10","v":0},{"$f":"AI9*'Product Info'!AB10","v":0},{"$f":"AI9*'Product Info'!AE10","v":0},{"$f":"AI9*'Product Info'!AH10","v":0},{"$f":"AI9*'Product Info'!AK10","v":0},{"$f":"AI9*'Product Info'!AN10","v":0},{"$f":"AI9*'Product Info'!AQ10","v":0},{"$f":"AI9*'Product Info'!AT10","v":0},{"$f":"AI9*'Product Info'!AW10","v":0},{"$f":"AI9*'Product Info'!AZ10","v":0},{"$f":"AI9*'Product Info'!BC10","v":0},{"$f":"AI9*'Product Info'!BF10","v":0},{"$f":"AI9*'Product Info'!BI10","v":0},{"$f":"AI9*'Product Info'!BL10","v":0},{"$f":"AI9*'Product Info'!BO10","v":0},{"$f":"AI9*'Product Info'!BR10","v":0},{"$f":"AI9*'Product Info'!BU10","v":0},{"$f":"AI9*'Product Info'!BX10","v":0}]
[{"$f":"'Product Info'!A11","v":0},{"$f":"'Product Info'!B11","v":0},{"$f":"'Product Info'!C11","v":0},null,null,null,null,null,null,null,null,null,null,null,null,null,null,null,null,null,null,null,null,null,null,null,null,null,null,null,null,null,null,null,0,{"$f":"'Product Info'!F11*('Daily Info (January)'!AI10)","v":0},null,null,{"$f":"AI10*('Product Info'!H11)","v":0},{"$f":"AI10*('Product Info'!M11+'Product Info'!P11+'Product Info'!S11+'Product Info'!V11+'Product Info'!Y11+'Product Info'!AB11+'Product Info'!AE11+'Product Info'!AH11+'Product Info'!AK11+'Product Info'!AN11+'Product Info'!AQ11+'Product Info'!AT11+'Product Info'!AW11+'Product Info'!AZ11+'Product Info'!BC11+'Product Info'!BF11+'Product Info'!BI11+'Product Info'!BL11+'Product Info'!BO11+'Product Info'!BR11+'Product Info'!BU11+'Product Info'!BX11+'Product Info'!CA11+'Product Info'!CD11+'Product Info'!CG11+'Product Info'!CJ11+'Product Info'!CM11+'Product Info'!CP11+'Product Info'!CS11+'Product Info'!CV11+'Product Info'!CY11+'Product Info'!DB11+'Product Info'!DE11+'Product Info'!DH11+'Product Info'!DK11+'Product Info'!DN11+'Product Info'!DQ11+'Product Info'!DT11+'Product Info'!DW11+'Product Info'!DZ11+'Product Info'!EC11+'Product Info'!EF11+'Product Info'!EI11+'Product Info'!EL11+'Product Info'!EO11+'Product Info'!ER11+'Product Info'!EU11+'Product Info'!EX11+'Product Info'!FA11+'Product Info'!FD11)","v":0},{"$f":"AI10*('Product Info'!M11)","v":0},{"$f":"AI10*'Product Info'!P11","v":0},{"$f":"AI10*'Product Info'!S11","v":0},{"$f":"AI10*'Product Info'!V11","v":0},{"$f":"AI10*'Product Info'!Y11","v":0},{"$f":"AI10*'Product Info'!AB11","v":0},{"$f":"AI10*'Product Info'!AE11","v":0},{"$f":"AI10*'Product Info'!AH11","v":0},{"$f":"AI10*'Product Info'!AK11","v":0},{"$f":"AI10*'Product Info'!AN11","v":0},{"$f":"AI10*'Product Info'!AQ11","v":0},{"$f":"AI10*'Product Info'!AT11","v":0},{"$f":"AI10*'Product Info'!AW11","v":0},{"$f":"AI10*'Product Info'!AZ11","v":0},{"$f":"AI10*'Product Info'!BC11","v":0},{"$f":"AI10*'Product Info'!BF11","v":0},{"$f":"AI10*'Product Info'!BI11","v":0},{"$f":"AI10*'Product Info'!BL11","v":0},{"$f":"AI10*'Product Info'!BO11","v":0},{"$f":"AI10*'Product Info'!BR11","v":0},{"$f":"AI10*'Product Info'!BU11","v":0},{"$f":"AI10*'Product Info'!BX11","v":0}]
[{"$f":"'Product Info'!A12","v":0},{"$f":"'Product Info'!B12","v":0},{"$f":"'Product Info'!C12","v":0},null,null,null,null,null,null,null,null,null,null,null,null,null,null,null,null,null,null,null,null,null,null,null,null,null,null,null,null,null,null,null,0,{"$f":"'Product Info'!F12*('Daily Info (January)'!AI11)","v":0},null,null,{"$f":"AI11*('Product Info'!H12)","v":0},{"$f":"AI11*('Product Info'!M12+'Product Info'!P12+'Product Info'!S12+'Product Info'!V12+'Product Info'!Y12+'Product Info'!AB12+'Product Info'!AE12+'Product Info'!AH12+'Product Info'!AK12+'Product Info'!AN12+'Product Info'!AQ12+'Product Info'!AT12+'Product Info'!AW12+'Product Info'!AZ12+'Product Info'!BC12+'Product Info'!BF12+'Product Info'!BI12+'Product Info'!BL12+'Product Info'!BO12+'Product Info'!BR12+'Product Info'!BU12+'Product Info'!BX12+'Product Info'!CA12+'Product Info'!CD12+'Product Info'!CG12+'Product Info'!CJ12+'Product Info'!CM12+'Product Info'!CP12+'Product Info'!CS12+'Product Info'!CV12+'Product Info'!CY12+'Product Info'!DB12+'Product Info'!DE12+'Product Info'!DH12+'Product Info'!DK12+'Product Info'!DN12+'Product Info'!DQ12+'Product Info'!DT12+'Product Info'!DW12+'Product Info'!DZ12+'Product Info'!EC12+'Product Info'!EF12+'Product Info'!EI12+'Product Info'!EL12+'Product Info'!EO12+'Product Info'!ER12+'Product Info'!EU12+'Product Info'!EX12+'Product Info'!FA12+'Product Info'!FD12)","v":0},{"$f":"AI11*('Product Info'!M12)","v":0},{"$f":"AI11*'Product Info'!P12","v":0},{"$f":"AI11*'Product Info'!S12","v":0},{"$f":"AI11*'Product Info'!V12","v":0},{"$f":"AI11*'Product Info'!Y12","v":0},{"$f":"AI11*'Product Info'!AB12","v":0},{"$f":"AI11*'Product Info'!AE12","v":0},{"$f":"AI11*'Product Info'!AH12","v":0},{"$f":"AI11*'Product Info'!AK12","v":0},{"$f":"AI11*'Product Info'!AN12","v":0},{"$f":"AI11*'Product Info'!AQ12","v":0},{"$f":"AI11*'Product Info'!AT12","v":0},{"$f":"AI11*'Product Info'!AW12","v":0},{"$f":"AI11*'Product Info'!AZ12","v":0},{"$f":"AI11*'Product Info'!BC12","v":0},{"$f":"AI11*'Product Info'!BF12","v":0},{"$f":"AI11*'Product Info'!BI12","v":0},{"$f":"AI11*'Product Info'!BL12","v":0},{"$f":"AI11*'Product Info'!BO12","v":0},{"$f":"AI11*'Product Info'!BR12","v":0},{"$f":"AI11*'Product Info'!BU12","v":0},{"$f":"AI11*'Product Info'!BX12","v":0}]
[{"$f":"'Product Info'!A13","v":0},{"$f":"'Product Info'!B13","v":0},{"$f":"'Product Info'!C13","v":0},null,null,null,null,null,null,null,null,null,null,null,null,null,null,null,null,null,null,null,null,null,null,null,null,null,null,null,null,null,null,null,0,{"$f":"'Product Info'!F13*('Daily Info (January)'!AI12)","v":0},null,null,{"$f":"AI12*('Product Info'!H13)","v":0},{"$f":"AI12*('Product Info'!M13+'Product Info'!P13+'Product Info'!S13+'Product Info'!V13+'Product Info'!Y13+'Product Info'!AB13+'Product Info'!AE13+'Product Info'!AH13+'Product Info'!AK13+'Product Info'!AN13+'Product Info'!AQ13+'Product Info'!AT13+'Product Info'!AW13+'Product Info'!AZ13+'Product Info'!BC13+'Product Info'!BF13+'Product Info'!BI13+'Product Info'!BL13+'Product Info'!BO13+'Product Info'!BR13+'Product Info'!BU13+'Product Info'!BX13+'Product Info'!CA13+'Product Info'!CD13+'Product Info'!CG13+'Product Info'!CJ13+'Product Info'!CM13+'Product Info'!CP13+'Product Info'!CS13+'Product Info'!CV13+'Product Info'!CY13+'Product Info'!DB13+'Product Info'!DE13+'Product Info'!DH13+'Product Info'!DK13+'Product Info'!DN13+'Product Info'!DQ13+'Product Info'!DT13+'Product Info'!DW13+'Product Info'!DZ13+'Product Info'!EC13+'Product Info'!EF13+'Product Info'!EI13+'Product Info'!EL13+'Product Info'!EO13+'Product Info'!ER13+'Product Info'!EU13+'Product Info'!EX13+'Product Info'!FA13+'Product Info'!FD13)","v":0},{"$f":"AI12*('Product Info'!M13)","v":0},{"$f":"AI12*'Product Info'!P13","v":0},{"$f":"AI12*'Product Info'!S13","v":0},{"$f":"AI12*'Product Info'!V13","v":0},{"$f":"AI12*'Product Info'!Y13","v":0},{"$f":"AI12*'Product Info'!AB13","v":0},{"$f":"AI12*'Product Info'!AE13","v":0},{"$f":"AI12*'Product Info'!AH13","v":0},{"$f":"AI12*'Product Info'!AK13","v":0},{"$f":"AI12*'Product Info'!AN13","v":0},{"$f":"AI12*'Product Info'!AQ13","v":0},{"$f":"AI12*'Product Info'!AT13","v":0},{"$f":"AI12*'Product Info'!AW13","v":0},{"$f":"AI12*'Product Info'!AZ13","v":0},{"$f":"AI12*'Product Info'!BC13","v":0},{"$f":"AI12*'Product Info'!BF13","v":0},{"$f":"AI12*'Product Info'!BI13","v":0},{"$f":"AI12*'Product Info'!BL13","v":0},{"$f":"AI12*'Product Info'!BO13","v":0},{"$f":"AI12*'Product Info'!BR13","v":0},{"$f":"AI12*'Product Info'!BU13","v":0},{"$f":"AI12*'Product Info'!BX13","v":0}]
[{"$f":"'Product Info'!A14","v":0},{"$f":"'Product Info'!B14","v":0},{"$f":"'Product Info'!C14","v":0},null,null,null,null,null,null,null,null,null,null,null,null,null,null,null,null,null,null,null,null,null,null,null,null,null,null,null,null,null,null,null,0,{"$f":"'Product Info'!F14*('Daily Info (January)'!AI13)","v":0},null,null,{"$f":"AI13*('Product Info'!H14)","v":0},{"$f":"AI13*('Product Info'!M14+'Product Info'!P14+'Product Info'!S14+'Product Info'!V14+'Product Info'!Y14+'Product Info'!AB14+'Product Info'!AE14+'Product Info'!AH14+'Product Info'!AK14+'Product Info'!AN14+'Product Info'!AQ14+'Product Info'!AT14+'Product Info'!AW14+'Product Info'!AZ14+'Product Info'!BC14+'Product Info'!BF14+'Product Info'!BI14+'Product Info'!BL14+'Product Info'!BO14+'Product Info'!BR14+'Product Info'!BU14+'Product Info'!BX14+'Product Info'!CA14+'Product Info'!CD14+'Product Info'!CG14+'Product Info'!CJ14+'Product Info'!CM14+'Product Info'!CP14+'Product Info'!CS14+'Product Info'!CV14+'Product Info'!CY14+'Product Info'!DB14+'Product Info'!DE14+'Product Info'!DH14+'Product Info'!DK14+'Product Info'!DN14+'Product Info'!DQ14+'Product Info'!DT14+'Product Info'!DW14+'Product Info'!DZ14+'Product Info'!EC14+'Product Info'!EF14+'Product Info'!EI14+'Product Info'!EL14+'Product Info'!EO14+'Product Info'!ER14+'Product Info'!EU14+'Product Info'!EX14+'Product Info'!FA14+'Product Info'!FD14)","v":0},{"$f":"AI13*('Product Info'!M14)","v":0},{"$f":"AI13*'Product Info'!P14","v":0},{"$f":"AI13*'Product Info'!S14","v":0},{"$f":"AI13*'Product Info'!V14","v":0},{"$f":"AI13*'Product Info'!Y14","v":0},{"$f":"AI13*'Product Info'!AB14","v":0},{"$f":"AI13*'Product Info'!AE14","v":0},{"$f":"AI13*'Product Info'!AH14","v":0},{"$f":"AI13*'Product Info'!AK14","v":0},{"$f":"AI13*'Product Info'!AN14","v":0},{"$f":"AI13*'Product Info'!AQ14","v":0},{"$f":"AI13*'Product Info'!AT14","v":0},{"$f":"AI13*'Product Info'!AW14","v":0},{"$f":"AI13*'Product Info'!AZ14","v":0},{"$f":"AI13*'Product Info'!BC14","v":0},{"$f":"AI13*'Product Info'!BF14","v":0},{"$f":"AI13*'Product Info'!BI14","v":0},{"$f":"AI13*'Product Info'!BL14","v":0},{"$f":"AI13*'Product Info'!BO14","v":0},{"$f":"AI13*'Product Info'!BR14","v":0},{"$f":"AI13*'Product Info'!BU14","v":0},{"$f":"AI13*'Product Info'!BX14","v":0}]
[{"$f":"'Product Info'!A15","v":0},{"$f":"'Product Info'!B15","v":0},{"$f":"'Product Info'!C15","v":0},null,null,null,null,null,null,null,null,null,null,null,null,null,null,null,null,null,null,null,null,null,null,null,null,null,null,null,null,null,null,null,0,{"$f":"'Product Info'!F15*('Daily Info (January)'!AI14)","v":0},null,null,{"$f":"AI14*('Product Info'!H15)","v":0},{"$f":"AI14*('Product Info'!M15+'Product Info'!P15+'Product Info'!S15+'Product Info'!V15+'Product Info'!Y15+'Product Info'!AB15+'Product Info'!AE15+'Product Info'!AH15+'Product Info'!AK15+'Product Info'!AN15+'Product Info'!AQ15+'Product Info'!AT15+'Product Info'!AW15+'Product Info'!AZ15+'Product Info'!BC15+'Product Info'!BF15+'Product Info'!BI15+'Product Info'!BL15+'Product Info'!BO15+'Product Info'!BR15+'Product Info'!BU15+'Product Info'!BX15+'Product Info'!CA15+'Product Info'!CD15+'Product Info'!CG15+'Product Info'!CJ15+'Product Info'!CM15+'Product Info'!CP15+'Product Info'!CS15+'Product Info'!CV15+'Product Info'!CY15+'Product Info'!DB15+'Product Info'!DE15+'Product Info'!DH15+'Product Info'!DK15+'Product Info'!DN15+'Product Info'!DQ15+'Product Info'!DT15+'Product Info'!DW15+'Product Info'!DZ15+'Product Info'!EC15+'Product Info'!EF15+'Product Info'!EI15+'Product Info'!EL15+'Product Info'!EO15+'Product Info'!ER15+'Product Info'!EU15+'Product Info'!EX15+'Product Info'!FA15+'Product Info'!FD15)","v":0},{"$f":"AI14*('Product Info'!M15)","v":0},{"$f":"AI14*'Product Info'!P15","v":0},{"$f":"AI14*'Product Info'!S15","v":0},{"$f":"AI14*'Product Info'!V15","v":0},{"$f":"AI14*'Product Info'!Y15","v":0},{"$f":"AI14*'Product Info'!AB15","v":0},{"$f":"AI14*'Product Info'!AE15","v":0},{"$f":"AI14*'Product Info'!AH15","v":0},{"$f":"AI14*'Product Info'!AK15","v":0},{"$f":"AI14*'Product Info'!AN15","v":0},{"$f":"AI14*'Product Info'!AQ15","v":0},{"$f":"AI14*'Product Info'!AT15","v":0},{"$f":"AI14*'Product Info'!AW15","v":0},{"$f":"AI14*'Product Info'!AZ15","v":0},{"$f":"AI14*'Product Info'!BC15","v":0},{"$f":"AI14*'Product Info'!BF15","v":0},{"$f":"AI14*'Product Info'!BI15","v":0},{"$f":"AI14*'Product Info'!BL15","v":0},{"$f":"AI14*'Product Info'!BO15","v":0},{"$f":"AI14*'Product Info'!BR15","v":0},{"$f":"AI14*'Product Info'!BU15","v":0},{"$f":"AI14*'Product Info'!BX15","v":0}]
[{"$f":"'Product Info'!A16","v":0},{"$f":"'Product Info'!B16","v":0},{"$f":"'Product Info'!C16","v":0},null,null,null,null,null,null,null,null,null,null,null,null,null,null,null,null,null,null,null,null,null,null,null,null,null,null,null,null,null,null,null,0,{"$f":"'Product Info'!F16*('Daily Info (January)'!AI15)","v":0},null,null,{"$f":"AI15*('Product Info'!H16)","v":0},{"$f":"AI15*('Product Info'!M16+'Product Info'!P16+'Product Info'!S16+'Product Info'!V16+'Product Info'!Y16+'Product Info'!AB16+'Product Info'!AE16+'Product Info'!AH16+'Product Info'!AK16+'Product Info'!AN16+'Product Info'!AQ16+'Product Info'!AT16+'Product Info'!AW16+'Product Info'!AZ16+'Product Info'!BC16+'Product Info'!BF16+'Product Info'!BI16+'Product Info'!BL16+'Product Info'!BO16+'Product Info'!BR16+'Product Info'!BU16+'Product Info'!BX16+'Product Info'!CA16+'Product Info'!CD16+'Product Info'!CG16+'Product Info'!CJ16+'Product Info'!CM16+'Product Info'!CP16+'Product Info'!CS16+'Product Info'!CV16+'Product Info'!CY16+'Product Info'!DB16+'Product Info'!DE16+'Product Info'!DH16+'Product Info'!DK16+'Product Info'!DN16+'Product Info'!DQ16+'Product Info'!DT16+'Product Info'!DW16+'Product Info'!DZ16+'Product Info'!EC16+'Product Info'!EF16+'Product Info'!EI16+'Product Info'!EL16+'Product Info'!EO16+'Product Info'!ER16+'Product Info'!EU16+'Product Info'!EX16+'Product Info'!FA16+'Product Info'!FD16)","v":0},{"$f":"AI15*('Product Info'!M16)","v":0},{"$f":"AI15*'Product Info'!P16","v":0},{"$f":"AI15*'Product Info'!S16","v":0},{"$f":"AI15*'Product Info'!V16","v":0},{"$f":"AI15*'Product Info'!Y16","v":0},{"$f":"AI15*'Product Info'!AB16","v":0},{"$f":"AI15*'Product Info'!AE16","v":0},{"$f":"AI15*'Product Info'!AH16","v":0},{"$f":"AI15*'Product Info'!AK16","v":0},{"$f":"AI15*'Product Info'!AN16","v":0},{"$f":"AI15*'Product Info'!AQ16","v":0},{"$f":"AI15*'Product Info'!AT16","v":0},{"$f":"AI15*'Product Info'!AW16","v":0},{"$f":"AI15*'Product Info'!AZ16","v":0},{"$f":"AI15*'Product Info'!BC16","v":0},{"$f":"AI15*'Product Info'!BF16","v":0},{"$f":"AI15*'Product Info'!BI16","v":0},{"$f":"AI15*'Product Info'!BL16","v":0},{"$f":"AI15*'Product Info'!BO16","v":0},{"$f":"AI15*'Product Info'!BR16","v":0},{"$f":"AI15*'Product Info'!BU16","v":0},{"$f":"AI15*'Product Info'!BX16","v":0}]
[{"$f":"'Product Info'!A17","v":0},{"$f":"'Product Info'!B17","v":0},{"$f":"'Product Info'!C17","v":0},null,null,null,null,null,null,null,null,null,null,null,null,null,null,null,null,null,null,null,null,null,null,null,null,null,null,null,null,null,null,null,0,{"$f":"'Product Info'!F17*('Daily Info (January)'!AI16)","v":0},null,null,{"$f":"AI16*('Product Info'!H17)","v":0},{"$f":"AI16*('Product Info'!M17+'Product Info'!P17+'Product Info'!S17+'Product Info'!V17+'Product Info'!Y17+'Product Info'!AB17+'Product Info'!AE17+'Product Info'!AH17+'Product Info'!AK17+'Product Info'!AN17+'Product Info'!AQ17+'Product Info'!AT17+'Product Info'!AW17+'Product Info'!AZ17+'Product Info'!BC17+'Product Info'!BF17+'Product Info'!BI17+'Product Info'!BL17+'Product Info'!BO17+'Product Info'!BR17+'Product Info'!BU17+'Product Info'!BX17+'Product Info'!CA17+'Product Info'!CD17+'Product Info'!CG17+'Product Info'!CJ17+'Product Info'!CM17+'Product Info'!CP17+'Product Info'!CS17+'Product Info'!CV17+'Product Info'!CY17+'Product Info'!DB17+'Product Info'!DE17+'Product Info'!DH17+'Product Info'!DK17+'Product Info'!DN17+'Product Info'!DQ17+'Product Info'!DT17+'Product Info'!DW17+'Product Info'!DZ17+'Product Info'!EC17+'Product Info'!EF17+'Product Info'!EI17+'Product Info'!EL17+'Product Info'!EO17+'Product Info'!ER17+'Product Info'!EU17+'Product Info'!EX17+'Product Info'!FA17+'Product Info'!FD17)","v":0},{"$f":"AI16*('Product Info'!M17)","v":0},{"$f":"AI16*'Product Info'!P17","v":0},{"$f":"AI16*'Product Info'!S17","v":0},{"$f":"AI16*'Product Info'!V17","v":0},{"$f":"AI16*'Product Info'!Y17","v":0},{"$f":"AI16*'Product Info'!AB17","v":0},{"$f":"AI16*'Product Info'!AE17","v":0},{"$f":"AI16*'Product Info'!AH17","v":0},{"$f":"AI16*'Product Info'!AK17","v":0},{"$f":"AI16*'Product Info'!AN17","v":0},{"$f":"AI16*'Product Info'!AQ17","v":0},{"$f":"AI16*'Product Info'!AT17","v":0},{"$f":"AI16*'Product Info'!AW17","v":0},{"$f":"AI16*'Product Info'!AZ17","v":0},{"$f":"AI16*'Product Info'!BC17","v":0},{"$f":"AI16*'Product Info'!BF17","v":0},{"$f":"AI16*'Product Info'!BI17","v":0},{"$f":"AI16*'Product Info'!BL17","v":0},{"$f":"AI16*'Product Info'!BO17","v":0},{"$f":"AI16*'Product Info'!BR17","v":0},{"$f":"AI16*'Product Info'!BU17","v":0},{"$f":"AI16*'Product Info'!BX17","v":0}]
[{"$f":"'Product Info'!A18","v":0},{"$f":"'Product Info'!B18","v":0},{"$f":"'Product Info'!C18","v":0},null,null,null,null,null,null,null,null,null,null,null,null,null,null,null,null,null,null,null,null,null,null,null,null,null,null,null,null,null,null,null,0,{"$f":"'Product Info'!F18*('Daily Info (January)'!AI17)","v":0},null,null,{"$f":"AI17*('Product Info'!H18)","v":0},{"$f":"AI17*('Product Info'!M18+'Product Info'!P18+'Product Info'!S18+'Product Info'!V18+'Product Info'!Y18+'Product Info'!AB18+'Product Info'!AE18+'Product Info'!AH18+'Product Info'!AK18+'Product Info'!AN18+'Product Info'!AQ18+'Product Info'!AT18+'Product Info'!AW18+'Product Info'!AZ18+'Product Info'!BC18+'Product Info'!BF18+'Product Info'!BI18+'Product Info'!BL18+'Product Info'!BO18+'Product Info'!BR18+'Product Info'!BU18+'Product Info'!BX18+'Product Info'!CA18+'Product Info'!CD18+'Product Info'!CG18+'Product Info'!CJ18+'Product Info'!CM18+'Product Info'!CP18+'Product Info'!CS18+'Product Info'!CV18+'Product Info'!CY18+'Product Info'!DB18+'Product Info'!DE18+'Product Info'!DH18+'Product Info'!DK18+'Product Info'!DN18+'Product Info'!DQ18+'Product Info'!DT18+'Product Info'!DW18+'Product Info'!DZ18+'Product Info'!EC18+'Product Info'!EF18+'Product Info'!EI18+'Product Info'!EL18+'Product Info'!EO18+'Product Info'!ER18+'Product Info'!EU18+'Product Info'!EX18+'Product Info'!FA18+'Product Info'!FD18)","v":0},{"$f":"AI17*('Product Info'!M18)","v":0},{"$f":"AI17*'Product Info'!P18","v":0},{"$f":"AI17*'Product Info'!S18","v":0},{"$f":"AI17*'Product Info'!V18","v":0},{"$f":"AI17*'Product Info'!Y18","v":0},{"$f":"AI17*'Product Info'!AB18","v":0},{"$f":"AI17*'Product Info'!AE18","v":0},{"$f":"AI17*'Product Info'!AH18","v":0},{"$f":"AI17*'Product Info'!AK18","v":0},{"$f":"AI17*'Product Info'!AN18","v":0},{"$f":"AI17*'Product Info'!AQ18","v":0},{"$f":"AI17*'Product Info'!AT18","v":0},{"$f":"AI17*'Product Info'!AW18","v":0},{"$f":"AI17*'Product Info'!AZ18","v":0},{"$f":"AI17*'Product Info'!BC18","v":0},{"$f":"AI17*'Product Info'!BF18","v":0},{"$f":"AI17*'Product Info'!BI18","v":0},{"$f":"AI17*'Product Info'!BL18","v":0},{"$f":"AI17*'Product Info'!BO18","v":0},{"$f":"AI17*'Product Info'!BR18","v":0},{"$f":"AI17*'Product Info'!BU18","v":0},{"$f":"AI17*'Product Info'!BX18","v":0}]
[{"$f":"'Product Info'!A19","v":0},{"$f":"'Product Info'!B19","v":0},{"$f":"'Product Info'!C19","v":0},null,null,null,null,null,null,null,null,null,null,null,null,null,null,null,null,null,null,null,null,null,null,null,null,null,null,null,null,null,null,null,0,{"$f":"'Product Info'!F19*('Daily Info (January)'!AI18)","v":0},null,null,{"$f":"AI18*('Product Info'!H19)","v":0},{"$f":"AI18*('Product Info'!M19+'Product Info'!P19+'Product Info'!S19+'Product Info'!V19+'Product Info'!Y19+'Product Info'!AB19+'Product Info'!AE19+'Product Info'!AH19+'Product Info'!AK19+'Product Info'!AN19+'Product Info'!AQ19+'Product Info'!AT19+'Product Info'!AW19+'Product Info'!AZ19+'Product Info'!BC19+'Product Info'!BF19+'Product Info'!BI19+'Product Info'!BL19+'Product Info'!BO19+'Product Info'!BR19+'Product Info'!BU19+'Product Info'!BX19+'Product Info'!CA19+'Product Info'!CD19+'Product Info'!CG19+'Product Info'!CJ19+'Product Info'!CM19+'Product Info'!CP19+'Product Info'!CS19+'Product Info'!CV19+'Product Info'!CY19+'Product Info'!DB19+'Product Info'!DE19+'Product Info'!DH19+'Product Info'!DK19+'Product Info'!DN19+'Product Info'!DQ19+'Product Info'!DT19+'Product Info'!DW19+'Product Info'!DZ19+'Product Info'!EC19+'Product Info'!EF19+'Product Info'!EI19+'Product Info'!EL19+'Product Info'!EO19+'Product Info'!ER19+'Product Info'!EU19+'Product Info'!EX19+'Product Info'!FA19+'Product Info'!FD19)","v":0},{"$f":"AI18*('Product Info'!M19)","v":0},{"$f":"AI18*'Product Info'!P19","v":0},{"$f":"AI18*'Product Info'!S19","v":0},{"$f":"AI18*'Product Info'!V19","v":0},{"$f":"AI18*'Product Info'!Y19","v":0},{"$f":"AI18*'Product Info'!AB19","v":0},{"$f":"AI18*'Product Info'!AE19","v":0},{"$f":"AI18*'Product Info'!AH19","v":0},{"$f":"AI18*'Product Info'!AK19","v":0},{"$f":"AI18*'Product Info'!AN19","v":0},{"$f":"AI18*'Product Info'!AQ19","v":0},{"$f":"AR18*'Product Info'!AF19","v":0},{"$f":"AI18*'Product Info'!AW19","v":0},{"$f":"AI18*'Product Info'!AZ19","v":0},{"$f":"AI18*'Product Info'!BC19","v":0},{"$f":"AI18*'Product Info'!BF19","v":0},{"$f":"AI18*'Product Info'!BI19","v":0},{"$f":"AI18*'Product Info'!BL19","v":0},{"$f":"AI18*'Product Info'!BO19","v":0},{"$f":"AI18*'Product Info'!BR19","v":0},{"$f":"AI18*'Product Info'!BU19","v":0},{"$f":"AI18*'Product Info'!BX19","v":0}]
[{"$f":"'Product Info'!A20","v":0},{"$f":"'Product Info'!B20","v":0},{"$f":"'Product Info'!C20","v":0},null,null,null,null,null,null,null,null,null,null,null,null,null,null,null,null,null,null,null,null,null,null,null,null,null,null,null,null,null,null,null,{"$f":"SUM(D19:AH19)","v":0},{"$f":"'Product Info'!F20*('Daily Info (January)'!AI19)","v":0},null,null,{"$f":"AI19*('Product Info'!H20)","v":0},{"$f":"AI19*('Product Info'!M20+'Product Info'!P20+'Product Info'!S20+'Product Info'!V20+'Product Info'!Y20+'Product Info'!AB20+'Product Info'!AE20+'Product Info'!AH20+'Product Info'!AK20+'Product Info'!AN20+'Product Info'!AQ20+'Product Info'!AT20+'Product Info'!AW20+'Product Info'!AZ20+'Product Info'!BC20+'Product Info'!BF20+'Product Info'!BI20+'Product Info'!BL20+'Product Info'!BO20+'Product Info'!BR20+'Product Info'!BU20+'Product Info'!BX20+'Product Info'!CA20+'Product Info'!CD20+'Product Info'!CG20+'Product Info'!CJ20+'Product Info'!CM20+'Product Info'!CP20+'Product Info'!CS20+'Product Info'!CV20+'Product Info'!CY20+'Product Info'!DB20+'Product Info'!DE20+'Product Info'!DH20+'Product Info'!DK20+'Product Info'!DN20+'Product Info'!DQ20+'Product Info'!DT20+'Product Info'!DW20+'Product Info'!DZ20+'Product Info'!EC20+'Product Info'!EF20+'Product Info'!EI20+'Product Info'!EL20+'Product Info'!EO20+'Product Info'!ER20+'Product Info'!EU20+'Product Info'!EX20+'Product Info'!FA20+'Product Info'!FD20)","v":0},{"$f":"AI19*('Product Info'!M20)","v":0},{"$f":"AI19*'Product Info'!P20","v":0},{"$f":"AI19*'Product Info'!S20","v":0},{"$f":"AI19*'Product Info'!V20","v":0},{"$f":"AI19*'Product Info'!Y20","v":0},{"$f":"AI19*'Product Info'!AB20","v":0},{"$f":"AI19*'Product Info'!AE20","v":0},{"$f":"AI19*'Product Info'!AH20","v":0},{"$f":"AI19*'Product Info'!AK20","v":0},{"$f":"AI19*'Product Info'!AN20","v":0},{"$f":"AI19*'Product Info'!AQ20","v":0},{"$f":"AR19*'Product Info'!AF20","v":0},{"$f":"AI19*'Product Info'!AW20","v":0},{"$f":"AI19*'Product Info'!AZ20","v":0},{"$f":"AI19*'Product Info'!BC20","v":0},{"$f":"AI19*'Product Info'!BF20","v":0},{"$f":"AI19*'Product Info'!BI20","v":0},{"$f":"AI19*'Product Info'!BL20","v":0},{"$f":"AI19*'Product Info'!BO20","v":0},{"$f":"AI19*'Product Info'!BR20","v":0},{"$f":"AI19*'Product Info'!BU20","v":0},{"$f":"AI19*'Product Info'!BX20","v":0}]
[{"$f":"'Product Info'!A21","v":0},{"$f":"'Product Info'!B21","v":0},{"$f":"'Product Info'!C21","v":0},null,null,null,null,null,null,null,null,null,null,null,null,null,null,null,null,null,null,null,null,null,null,null,null,null,null,null,null,null,null,null,0,{"$f":"'Product Info'!F21*('Daily Info (January)'!AI20)","v":0},null,null,{"$f":"AI20*('Product Info'!H21)","v":0},{"$f":"AI20*('Product Info'!M21+'Product Info'!P21+'Product Info'!S21+'Product Info'!V21+'Product Info'!Y21+'Product Info'!AB21+'Product Info'!AE21+'Product Info'!AH21+'Product Info'!AK21+'Product Info'!AN21+'Product Info'!AQ21+'Product Info'!AT21+'Product Info'!AW21+'Product Info'!AZ21+'Product Info'!BC21+'Product Info'!BF21+'Product Info'!BI21+'Product Info'!BL21+'Product Info'!BO21+'Product Info'!BR21+'Product Info'!BU21+'Product Info'!BX21+'Product Info'!CA21+'Product Info'!CD21+'Product Info'!CG21+'Product Info'!CJ21+'Product Info'!CM21+'Product Info'!CP21+'Product Info'!CS21+'Product Info'!CV21+'Product Info'!CY21+'Product Info'!DB21+'Product Info'!DE21+'Product Info'!DH21+'Product Info'!DK21+'Product Info'!DN21+'Product Info'!DQ21+'Product Info'!DT21+'Product Info'!DW21+'Product Info'!DZ21+'Product Info'!EC21+'Product Info'!EF21+'Product Info'!EI21+'Product Info'!EL21+'Product Info'!EO21+'Product Info'!ER21+'Product Info'!EU21+'Product Info'!EX21+'Product Info'!FA21+'Product Info'!FD21)","v":0},{"$f":"AI20*('Product Info'!M21)","v":0},{"$f":"AI20*'Product Info'!P21","v":0},{"$f":"AI20*'Product Info'!S21","v":0},{"$f":"AI20*'Product Info'!V21","v":0},{"$f":"AI20*'Product Info'!Y21","v":0},{"$f":"AI20*'Product Info'!AB21","v":0},{"$f":"AI20*'Product Info'!AE21","v":0},{"$f":"AI20*'Product Info'!AH21","v":0},{"$f":"AI20*'Product Info'!AK21","v":0},{"$f":"AI20*'Product Info'!AN21","v":0},{"$f":"AI20*'Product Info'!AQ21","v":0},{"$f":"AI20*'Product Info'!AT21","v":0},{"$f":"AI20*'Product Info'!AW21","v":0},{"$f":"AI20*'Product Info'!AZ21","v":0},{"$f":"AI20*'Product Info'!BC21","v":0},{"$f":"AI20*'Product Info'!BF21","v":0},{"$f":"AI20*'Product Info'!BI21","v":0},{"$f":"AI20*'Product Info'!BL21","v":0},{"$f":"AI20*'Product Info'!BO21","v":0},{"$f":"AI20*'Product Info'!BR21","v":0},{"$f":"AI20*'Product Info'!BU21","v":0},{"$f":"AI20*'Product Info'!BX21","v":0}]
[{"$f":"'Product Info'!A22","v":0},{"$f":"'Product Info'!B22","v":0},{"$f":"'Product Info'!C22","v":0},null,null,null,null,null,null,null,null,null,null,null,null,null,null,null,null,null,null,null,null,null,null,null,null,null,null,null,null,null,null,null,0,{"$f":"'Product Info'!F22*('Daily Info (January)'!AI21)","v":0},null,null,{"$f":"AI21*('Product Info'!H22)","v":0},{"$f":"AI21*('Product Info'!M22+'Product Info'!P22+'Product Info'!S22+'Product Info'!V22+'Product Info'!Y22+'Product Info'!AB22+'Product Info'!AE22+'Product Info'!AH22+'Product Info'!AK22+'Product Info'!AN22+'Product Info'!AQ22+'Product Info'!AT22+'Product Info'!AW22+'Product Info'!AZ22+'Product Info'!BC22+'Product Info'!BF22+'Product Info'!BI22+'Product Info'!BL22+'Product Info'!BO22+'Product Info'!BR22+'Product Info'!BU22+'Product Info'!BX22+'Product Info'!CA22+'Product Info'!CD22+'Product Info'!CG22+'Product Info'!CJ22+'Product Info'!CM22+'Product Info'!CP22+'Product Info'!CS22+'Product Info'!CV22+'Product Info'!CY22+'Product Info'!DB22+'Product Info'!DE22+'Product Info'!DH22+'Product Info'!DK22+'Product Info'!DN22+'Product Info'!DQ22+'Product Info'!DT22+'Product Info'!DW22+'Product Info'!DZ22+'Product Info'!EC22+'Product Info'!EF22+'Product Info'!EI22+'Product Info'!EL22+'Product Info'!EO22+'Product Info'!ER22+'Product Info'!EU22+'Product Info'!EX22+'Product Info'!FA22+'Product Info'!FD22)","v":0},{"$f":"AI21*('Product Info'!M22)","v":0},{"$f":"AI21*'Product Info'!P22","v":0},{"$f":"AI21*'Product Info'!S22","v":0},{"$f":"AI21*'Product Info'!V22","v":0},{"$f":"AI21*'Product Info'!Y22","v":0},{"$f":"AI21*'Product Info'!AB22","v":0},{"$f":"AI21*'Product Info'!AE22","v":0},{"$f":"AI21*'Product Info'!AH22","v":0},{"$f":"AI21*'Product Info'!AK22","v":0},{"$f":"AI21*'Product Info'!AN22","v":0},{"$f":"AI21*'Product Info'!AQ22","v":0},{"$f":"AI21*'Product Info'!AT22","v":0},{"$f":"AI21*'Product Info'!AW22","v":0},{"$f":"AI21*'Product Info'!AZ22","v":0},{"$f":"AI21*'Product Info'!BC22","v":0},{"$f":"AI21*'Product Info'!BF22","v":0},{"$f":"AI21*'Product Info'!BI22","v":0},{"$f":"AI21*'Product Info'!BL22","v":0},{"$f":"AI21*'Product Info'!BO22","v":0},{"$f":"AI21*'Product Info'!BR22","v":0},{"$f":"AI21*'Product Info'!BU22","v":0},{"$f":"AI21*'Product Info'!BX22","v":0}]
[{"$f":"'Product Info'!A23","v":0},{"$f":"'Product Info'!B23","v":0},{"$f":"'Product Info'!C23","v":0},null,null,null,null,null,null,null,null,null,null,null,null,null,null,null,null,null,null,null,null,null,null,null,null,null,null,null,null,null,null,null,0,{"$f":"'Product Info'!F23*('Daily Info (January)'!AI22)","v":0},null,null,{"$f":"AI22*('Product Info'!H23)","v":0},{"$f":"AI22*('Product Info'!M23+'Product Info'!P23+'Product Info'!S23+'Product Info'!V23+'Product Info'!Y23+'Product Info'!AB23+'Product Info'!AE23+'Product Info'!AH23+'Product Info'!AK23+'Product Info'!AN23+'Product Info'!AQ23+'Product Info'!AT23+'Product Info'!AW23+'Product Info'!AZ23+'Product Info'!BC23+'Product Info'!BF23+'Product Info'!BI23+'Product Info'!BL23+'Product Info'!BO23+'Product Info'!BR23+'Product Info'!BU23+'Product Info'!BX23+'Product Info'!CA23+'Product Info'!CD23+'Product Info'!CG23+'Product Info'!CJ23+'Product Info'!CM23+'Product Info'!CP23+'Product Info'!CS23+'Product Info'!CV23+'Product Info'!CY23+'Product Info'!DB23+'Product Info'!DE23+'Product Info'!DH23+'Product Info'!DK23+'Product Info'!DN23+'Product Info'!DQ23+'Product Info'!DT23+'Product Info'!DW23+'Product Info'!DZ23+'Product Info'!EC23+'Product Info'!EF23+'Product Info'!EI23+'Product Info'!EL23+'Product Info'!EO23+'Product Info'!ER23+'Product Info'!EU23+'Product Info'!EX23+'Product Info'!FA23+'Product Info'!FD23)","v":0},{"$f":"AI22*('Product Info'!M23)","v":0},{"$f":"AI22*'Product Info'!P23","v":0},{"$f":"AI22*'Product Info'!S23","v":0},{"$f":"AI22*'Product Info'!V23","v":0},{"$f":"AI22*'Product Info'!Y23","v":0},{"$f":"AI22*'Product Info'!AB23","v":0},{"$f":"AI22*'Product Info'!AE23","v":0},{"$f":"AI22*'Product Info'!AH23","v":0},{"$f":"AI22*'Product Info'!AK23","v":0},{"$f":"AI22*'Product Info'!AN23","v":0},{"$f":"AI22*'Product Info'!AQ23","v":0},{"$f":"AI22*'Product Info'!AT23","v":0},{"$f":"AI22*'Product Info'!AW23","v":0},{"$f":"AI22*'Product Info'!AZ23","v":0},{"$f":"AI22*'Product Info'!BC23","v":0},{"$f":"AI22*'Product Info'!BF23","v":0},{"$f":"AI22*'Product Info'!BI23","v":0},{"$f":"AI22*'Product Info'!BL23","v":0},{"$f":"AI22*'Product Info'!BO23","v":0},{"$f":"AI22*'Product Info'!BR23","v":0},{"$f":"AI22*'Product Info'!BU23","v":0},{"$f":"AI22*'Product Info'!BX23","v":0}]
[{"$f":"'Product Info'!A24","v":0},{"$f":"'Product Info'!B24","v":0},{"$f":"'Product Info'!C24","v":0},null,null,null,null,null,null,null,null,null,null,null,null,null,null,null,null,null,null,null,null,null,null,null,null,null,null,null,null,null,null,null,0,{"$f":"'Product Info'!F24*('Daily Info (January)'!AI23)","v":0},null,null,{"$f":"AI23*('Product Info'!H24)","v":0},{"$f":"AI23*('Product Info'!M24+'Product Info'!P24+'Product Info'!S24+'Product Info'!V24+'Product Info'!Y24+'Product Info'!AB24+'Product Info'!AE24+'Product Info'!AH24+'Product Info'!AK24+'Product Info'!AN24+'Product Info'!AQ24+'Product Info'!AT24+'Product Info'!AW24+'Product Info'!AZ24+'Product Info'!BC24+'Product Info'!BF24+'Product Info'!BI24+'Product Info'!BL24+'Product Info'!BO24+'Product Info'!BR24+'Product Info'!BU24+'Product Info'!BX24+'Product Info'!CA24+'Product Info'!CD24+'Product Info'!CG24+'Product Info'!CJ24+'Product Info'!CM24+'Product Info'!CP24+'Product Info'!CS24+'Product Info'!CV24+'Product Info'!CY24+'Product Info'!DB24+'Product Info'!DE24+'Product Info'!DH24+'Product Info'!DK24+'Product Info'!DN24+'Product Info'!DQ24+'Product Info'!DT24+'Product Info'!DW24+'Product Info'!DZ24+'Product Info'!EC24+'Product Info'!EF24+'Product Info'!EI24+'Product Info'!EL24+'Product Info'!EO24+'Product Info'!ER24+'Product Info'!EU24+'Product Info'!EX24+'Product Info'!FA24+'Product Info'!FD24)","v":0},{"$f":"AI23*('Product Info'!M24)","v":0},{"$f":"AI23*'Product Info'!P24","v":0},{"$f":"AI23*'Product Info'!S24","v":0},{"$f":"AI23*'Product Info'!V24","v":0},{"$f":"AI23*'Product Info'!Y24","v":0},{"$f":"AI23*'Product Info'!AB24","v":0},{"$f":"AI23*'Product Info'!AE24","v":0},{"$f":"AI23*'Product Info'!AH24","v":0},{"$f":"AI23*'Product Info'!AK24","v":0},{"$f":"AI23*'Product Info'!AN24","v":0},{"$f":"AI23*'Product Info'!AQ24","v":0},{"$f":"AI23*'Product Info'!AT24","v":0},{"$f":"AI23*'Product Info'!AW24","v":0},{"$f":"AI23*'Product Info'!AZ24","v":0},{"$f":"AI23*'Product Info'!BC24","v":0},{"$f":"AI23*'Product Info'!BF24","v":0},{"$f":"AI23*'Product Info'!BI24","v":0},{"$f":"AI23*'Product Info'!BL24","v":0},{"$f":"AI23*'Product Info'!BO24","v":0},{"$f":"AI23*'Product Info'!BR24","v":0},{"$f":"AI23*'Product Info'!BU24","v":0},{"$f":"AI23*'Product Info'!BX24","v":0}]
[{"$f":"'Product Info'!A25","v":0},{"$f":"'Product Info'!B25","v":0},{"$f":"'Product Info'!C25","v":0},null,null,null,null,null,null,null,null,null,null,null,null,null,null,null,null,null,null,null,null,null,null,null,null,null,null,null,null,null,null,null,0,{"$f":"'Product Info'!F25*('Daily Info (January)'!AI24)","v":0},null,null,{"$f":"AI24*('Product Info'!H25)","v":0},{"$f":"AI24*('Product Info'!M25+'Product Info'!P25+'Product Info'!S25+'Product Info'!V25+'Product Info'!Y25+'Product Info'!AB25+'Product Info'!AE25+'Product Info'!AH25+'Product Info'!AK25+'Product Info'!AN25+'Product Info'!AQ25+'Product Info'!AT25+'Product Info'!AW25+'Product Info'!AZ25+'Product Info'!BC25+'Product Info'!BF25+'Product Info'!BI25+'Product Info'!BL25+'Product Info'!BO25+'Product Info'!BR25+'Product Info'!BU25+'Product Info'!BX25+'Product Info'!CA25+'Product Info'!CD25+'Product Info'!CG25+'Product Info'!CJ25+'Product Info'!CM25+'Product Info'!CP25+'Product Info'!CS25+'Product Info'!CV25+'Product Info'!CY25+'Product Info'!DB25+'Product Info'!DE25+'Product Info'!DH25+'Product Info'!DK25+'Product Info'!DN25+'Product Info'!DQ25+'Product Info'!DT25+'Product Info'!DW25+'Product Info'!DZ25+'Product Info'!EC25+'Product Info'!EF25+'Product Info'!EI25+'Product Info'!EL25+'Product Info'!EO25+'Product Info'!ER25+'Product Info'!EU25+'Product Info'!EX25+'Product Info'!FA25+'Product Info'!FD25)","v":0},{"$f":"AI24*('Product Info'!M25)","v":0},{"$f":"AI24*'Product Info'!P25","v":0},{"$f":"AI24*'Product Info'!S25","v":0},{"$f":"AI24*'Product Info'!V25","v":0},{"$f":"AI24*'Product Info'!Y25","v":0},{"$f":"AI24*'Product Info'!AB25","v":0},{"$f":"AI24*'Product Info'!AE25","v":0},{"$f":"AI24*'Product Info'!AH25","v":0},{"$f":"AI24*'Product Info'!AK25","v":0},{"$f":"AI24*'Product Info'!AN25","v":0},{"$f":"AI24*'Product Info'!AQ25","v":0},{"$f":"AI24*'Product Info'!AT25","v":0},{"$f":"AI24*'Product Info'!AW25","v":0},{"$f":"AI24*'Product Info'!AZ25","v":0},{"$f":"AI24*'Product Info'!BC25","v":0},{"$f":"AI24*'Product Info'!BF25","v":0},{"$f":"AI24*'Product Info'!BI25","v":0},{"$f":"AI24*'Product Info'!BL25","v":0},{"$f":"AI24*'Product Info'!BO25","v":0},{"$f":"AI24*'Product Info'!BR25","v":0},{"$f":"AI24*'Product Info'!BU25","v":0},{"$f":"AI24*'Product Info'!BX25","v":0}]
[{"$f":"'Product Info'!A26","v":0},{"$f":"'Product Info'!B26","v":0},{"$f":"'Product Info'!C26","v":0},null,null,null,null,null,null,null,null,null,null,null,null,null,null,null,null,null,null,null,null,null,null,null,null,null,null,null,null,null,null,null,0,{"$f":"'Product Info'!F26*('Daily Info (January)'!AI25)","v":0},null,null,{"$f":"AI25*('Product Info'!H26)","v":0},{"$f":"AI25*('Product Info'!M26+'Product Info'!P26+'Product Info'!S26+'Product Info'!V26+'Product Info'!Y26+'Product Info'!AB26+'Product Info'!AE26+'Product Info'!AH26+'Product Info'!AK26+'Product Info'!AN26+'Product Info'!AQ26+'Product Info'!AT26+'Product Info'!AW26+'Product Info'!AZ26+'Product Info'!BC26+'Product Info'!BF26+'Product Info'!BI26+'Product Info'!BL26+'Product Info'!BO26+'Product Info'!BR26+'Product Info'!BU26+'Product Info'!BX26+'Product Info'!CA26+'Product Info'!CD26+'Product Info'!CG26+'Product Info'!CJ26+'Product Info'!CM26+'Product Info'!CP26+'Product Info'!CS26+'Product Info'!CV26+'Product Info'!CY26+'Product Info'!DB26+'Product Info'!DE26+'Product Info'!DH26+'Product Info'!DK26+'Product Info'!DN26+'Product Info'!DQ26+'Product Info'!DT26+'Product Info'!DW26+'Product Info'!DZ26+'Product Info'!EC26+'Product Info'!EF26+'Product Info'!EI26+'Product Info'!EL26+'Product Info'!EO26+'Product Info'!ER26+'Product Info'!EU26+'Product Info'!EX26+'Product Info'!FA26+'Product Info'!FD26)","v":0},{"$f":"AI25*('Product Info'!M26)","v":0},{"$f":"AI25*'Product Info'!P26","v":0},{"$f":"AI25*'Product Info'!S26","v":0},{"$f":"AI25*'Product Info'!V26","v":0},{"$f":"AI25*'Product Info'!Y26","v":0},{"$f":"AI25*'Product Info'!AB26","v":0},{"$f":"AI25*'Product Info'!AE26","v":0},{"$f":"AI25*'Product Info'!AH26","v":0},{"$f":"AI25*'Product Info'!AK26","v":0},{"$f":"AI25*'Product Info'!AN26","v":0},{"$f":"AI25*'Product Info'!AQ26","v":0},{"$f":"AI25*'Product Info'!AT26","v":0},{"$f":"AI25*'Product Info'!AW26","v":0},{"$f":"AI25*'Product Info'!AZ26","v":0},{"$f":"AI25*'Product Info'!BC26","v":0},{"$f":"AI25*'Product Info'!BF26","v":0},{"$f":"AI25*'Product Info'!BI26","v":0},{"$f":"AI25*'Product Info'!BL26","v":0},{"$f":"AI25*'Product Info'!BO26","v":0},{"$f":"AI25*'Product Info'!BR26","v":0},{"$f":"AI25*'Product Info'!BU26","v":0},{"$f":"AI25*'Product Info'!BX26","v":0}]
[{"$f":"'Product Info'!A27","v":0},{"$f":"'Product Info'!B27","v":0},{"$f":"'Product Info'!C27","v":0},null,null,null,null,null,null,null,null,null,null,null,null,null,null,null,null,null,null,null,null,null,null,null,null,null,null,null,null,null,null,null,0,{"$f":"'Product Info'!F27*('Daily Info (January)'!AI26)","v":0},null,null,{"$f":"AI26*('Product Info'!H27)","v":0},{"$f":"AI26*('Product Info'!M27+'Product Info'!P27+'Product Info'!S27+'Product Info'!V27+'Product Info'!Y27+'Product Info'!AB27+'Product Info'!AE27+'Product Info'!AH27+'Product Info'!AK27+'Product Info'!AN27+'Product Info'!AQ27+'Product Info'!AT27+'Product Info'!AW27+'Product Info'!AZ27+'Product Info'!BC27+'Product Info'!BF27+'Product Info'!BI27+'Product Info'!BL27+'Product Info'!BO27+'Product Info'!BR27+'Product Info'!BU27+'Product Info'!BX27+'Product Info'!CA27+'Product Info'!CD27+'Product Info'!CG27+'Product Info'!CJ27+'Product Info'!CM27+'Product Info'!CP27+'Product Info'!CS27+'Product Info'!CV27+'Product Info'!CY27+'Product Info'!DB27+'Product Info'!DE27+'Product Info'!DH27+'Product Info'!DK27+'Product Info'!DN27+'Product Info'!DQ27+'Product Info'!DT27+'Product Info'!DW27+'Product Info'!DZ27+'Product Info'!EC27+'Product Info'!EF27+'Product Info'!EI27+'Product Info'!EL27+'Product Info'!EO27+'Product Info'!ER27+'Product Info'!EU27+'Product Info'!EX27+'Product Info'!FA27+'Product Info'!FD27)","v":0},{"$f":"AI26*('Product Info'!M27)","v":0},{"$f":"AI26*'Product Info'!P27","v":0},{"$f":"AI26*'Product Info'!S27","v":0},{"$f":"AI26*'Product Info'!V27","v":0},{"$f":"AI26*'Product Info'!Y27","v":0},{"$f":"AI26*'Product Info'!AB27","v":0},{"$f":"AI26*'Product Info'!AE27","v":0},{"$f":"AI26*'Product Info'!AH27","v":0},{"$f":"AI26*'Product Info'!AK27","v":0},{"$f":"AI26*'Product Info'!AN27","v":0},{"$f":"AI26*'Product Info'!AQ27","v":0},{"$f":"AI26*'Product Info'!AT27","v":0},{"$f":"AI26*'Product Info'!AW27","v":0},{"$f":"AI26*'Product Info'!AZ27","v":0},{"$f":"AI26*'Product Info'!BC27","v":0},{"$f":"AI26*'Product Info'!BF27","v":0},{"$f":"AI26*'Product Info'!BI27","v":0},{"$f":"AI26*'Product Info'!BL27","v":0},{"$f":"AI26*'Product Info'!BO27","v":0},{"$f":"AI26*'Product Info'!BR27","v":0},{"$f":"AI26*'Product Info'!BU27","v":0},{"$f":"AI26*'Product Info'!BX27","v":0}]
[{"$f":"'Product Info'!A28","v":0},{"$f":"'Product Info'!B28","v":0},{"$f":"'Product Info'!C28","v":0},null,null,null,null,null,null,null,null,null,null,null,null,null,null,null,null,null,null,null,null,null,null,null,null,null,null,null,null,null,null,null,0,{"$f":"'Product Info'!F28*('Daily Info (January)'!AI27)","v":0},null,null,{"$f":"AI27*('Product Info'!H28)","v":0},{"$f":"AI27*('Product Info'!M28+'Product Info'!P28+'Product Info'!S28+'Product Info'!V28+'Product Info'!Y28+'Product Info'!AB28+'Product Info'!AE28+'Product Info'!AH28+'Product Info'!AK28+'Product Info'!AN28+'Product Info'!AQ28+'Product Info'!AT28+'Product Info'!AW28+'Product Info'!AZ28+'Product Info'!BC28+'Product Info'!BF28+'Product Info'!BI28+'Product Info'!BL28+'Product Info'!BO28+'Product Info'!BR28+'Product Info'!BU28+'Product Info'!BX28+'Product Info'!CA28+'Product Info'!CD28+'Product Info'!CG28+'Product Info'!CJ28+'Product Info'!CM28+'Product Info'!CP28+'Product Info'!CS28+'Product Info'!CV28+'Product Info'!CY28+'Product Info'!DB28+'Product Info'!DE28+'Product Info'!DH28+'Product Info'!DK28+'Product Info'!DN28+'Product Info'!DQ28+'Product Info'!DT28+'Product Info'!DW28+'Product Info'!DZ28+'Product Info'!EC28+'Product Info'!EF28+'Product Info'!EI28+'Product Info'!EL28+'Product Info'!EO28+'Product Info'!ER28+'Product Info'!EU28+'Product Info'!EX28+'Product Info'!FA28+'Product Info'!FD28)","v":0},{"$f":"AI27*('Product Info'!M28)","v":0},{"$f":"AI27*'Product Info'!P28","v":0},{"$f":"AI27*'Product Info'!S28","v":0},{"$f":"AI27*'Product Info'!V28","v":0},{"$f":"AI27*'Product Info'!Y28","v":0},{"$f":"AI27*'Product Info'!AB28","v":0},{"$f":"AI27*'Product Info'!AE28","v":0},{"$f":"AI27*'Product Info'!AH28","v":0},{"$f":"AI27*'Product Info'!AK28","v":0},{"$f":"AI27*'Product Info'!AN28","v":0},{"$f":"AI27*'Product Info'!AQ28","v":0},{"$f":"AI27*'Product Info'!AT28","v":0},{"$f":"AI27*'Product Info'!AW28","v":0},{"$f":"AI27*'Product Info'!AZ28","v":0},{"$f":"AI27*'Product Info'!BC28","v":0},{"$f":"AI27*'Product Info'!BF28","v":0},{"$f":"AI27*'Product Info'!BI28","v":0},{"$f":"AI27*'Product Info'!BL28","v":0},{"$f":"AI27*'Product Info'!BO28","v":0},{"$f":"AI27*'Product Info'!BR28","v":0},{"$f":"AI27*'Product Info'!BU28","v":0},{"$f":"AI27*'Product Info'!BX28","v":0}]
[{"$f":"'Product Info'!A29","v":0},{"$f":"'Product Info'!B29","v":0},{"$f":"'Product Info'!C29","v":0},null,null,null,null,null,null,null,null,null,null,null,null,null,null,null,null,null,null,null,null,null,null,null,null,null,null,null,null,null,null,null,0,{"$f":"'Product Info'!F29*('Daily Info (January)'!AI28)","v":0},null,null,{"$f":"AI28*('Product Info'!H29)","v":0},{"$f":"AI28*('Product Info'!M29+'Product Info'!P29+'Product Info'!S29+'Product Info'!V29+'Product Info'!Y29+'Product Info'!AB29+'Product Info'!AE29+'Product Info'!AH29+'Product Info'!AK29+'Product Info'!AN29+'Product Info'!AQ29+'Product Info'!AT29+'Product Info'!AW29+'Product Info'!AZ29+'Product Info'!BC29+'Product Info'!BF29+'Product Info'!BI29+'Product Info'!BL29+'Product Info'!BO29+'Product Info'!BR29+'Product Info'!BU29+'Product Info'!BX29+'Product Info'!CA29+'Product Info'!CD29+'Product Info'!CG29+'Product Info'!CJ29+'Product Info'!CM29+'Product Info'!CP29+'Product Info'!CS29+'Product Info'!CV29+'Product Info'!CY29+'Product Info'!DB29+'Product Info'!DE29+'Product Info'!DH29+'Product Info'!DK29+'Product Info'!DN29+'Product Info'!DQ29+'Product Info'!DT29+'Product Info'!DW29+'Product Info'!DZ29+'Product Info'!EC29+'Product Info'!EF29+'Product Info'!EI29+'Product Info'!EL29+'Product Info'!EO29+'Product Info'!ER29+'Product Info'!EU29+'Product Info'!EX29+'Product Info'!FA29+'Product Info'!FD29)","v":0},{"$f":"AI28*('Product Info'!M29)","v":0},{"$f":"AI28*'Product Info'!P29","v":0},{"$f":"AI28*'Product Info'!S29","v":0},{"$f":"AI28*'Product Info'!V29","v":0},{"$f":"AI28*'Product Info'!Y29","v":0},{"$f":"AI28*'Product Info'!AB29","v":0},{"$f":"AI28*'Product Info'!AE29","v":0},{"$f":"AI28*'Product Info'!AH29","v":0},{"$f":"AI28*'Product Info'!AK29","v":0},{"$f":"AI28*'Product Info'!AN29","v":0},{"$f":"AI28*'Product Info'!AQ29","v":0},{"$f":"AI28*'Product Info'!AT29","v":0},{"$f":"AI28*'Product Info'!AW29","v":0},{"$f":"AI28*'Product Info'!AZ29","v":0},{"$f":"AI28*'Product Info'!BC29","v":0},{"$f":"AI28*'Product Info'!BF29","v":0},{"$f":"AI28*'Product Info'!BI29","v":0},{"$f":"AI28*'Product Info'!BL29","v":0},{"$f":"AI28*'Product Info'!BO29","v":0},{"$f":"AI28*'Product Info'!BR29","v":0},{"$f":"AI28*'Product Info'!BU29","v":0},{"$f":"AI28*'Product Info'!BX29","v":0}]
[{"$f":"'Product Info'!A30","v":0},{"$f":"'Product Info'!B30","v":0},{"$f":"'Product Info'!C30","v":0},null,null,null,null,null,null,null,null,null,null,null,null,null,null,null,null,null,null,null,null,null,null,null,null,null,null,null,null,null,null,null,0,{"$f":"'Product Info'!F30*('Daily Info (January)'!AI29)","v":0},null,null,{"$f":"AI29*('Product Info'!H30)","v":0},{"$f":"AI29*('Product Info'!M30+'Product Info'!P30+'Product Info'!S30+'Product Info'!V30+'Product Info'!Y30+'Product Info'!AB30+'Product Info'!AE30+'Product Info'!AH30+'Product Info'!AK30+'Product Info'!AN30+'Product Info'!AQ30+'Product Info'!AT30+'Product Info'!AW30+'Product Info'!AZ30+'Product Info'!BC30+'Product Info'!BF30+'Product Info'!BI30+'Product Info'!BL30+'Product Info'!BO30+'Product Info'!BR30+'Product Info'!BU30+'Product Info'!BX30+'Product Info'!CA30+'Product Info'!CD30+'Product Info'!CG30+'Product Info'!CJ30+'Product Info'!CM30+'Product Info'!CP30+'Product Info'!CS30+'Product Info'!CV30+'Product Info'!CY30+'Product Info'!DB30+'Product Info'!DE30+'Product Info'!DH30+'Product Info'!DK30+'Product Info'!DN30+'Product Info'!DQ30+'Product Info'!DT30+'Product Info'!DW30+'Product Info'!DZ30+'Product Info'!EC30+'Product Info'!EF30+'Product Info'!EI30+'Product Info'!EL30+'Product Info'!EO30+'Product Info'!ER30+'Product Info'!EU30+'Product Info'!EX30+'Product Info'!FA30+'Product Info'!FD30)","v":0},{"$f":"AI29*('Product Info'!M30)","v":0},{"$f":"AI29*'Product Info'!P30","v":0},{"$f":"AI29*'Product Info'!S30","v":0},{"$f":"AI29*'Product Info'!V30","v":0},{"$f":"AI29*'Product Info'!Y30","v":0},{"$f":"AI29*'Product Info'!AB30","v":0},{"$f":"AI29*'Product Info'!AE30","v":0},{"$f":"AI29*'Product Info'!AH30","v":0},{"$f":"AI29*'Product Info'!AK30","v":0},{"$f":"AI29*'Product Info'!AN30","v":0},{"$f":"AI29*'Product Info'!AQ30","v":0},{"$f":"AI29*'Product Info'!AT30","v":0},{"$f":"AI29*'Product Info'!AW30","v":0},{"$f":"AI29*'Product Info'!AZ30","v":0},{"$f":"AI29*'Product Info'!BC30","v":0},{"$f":"AI29*'Product Info'!BF30","v":0},{"$f":"AI29*'Product Info'!BI30","v":0},{"$f":"AI29*'Product Info'!BL30","v":0},{"$f":"AI29*'Product Info'!BO30","v":0},{"$f":"AI29*'Product Info'!BR30","v":0},{"$f":"AI29*'Product Info'!BU30","v":0},{"$f":"AI29*'Product Info'!BX30","v":0}]
[{"$f":"'Product Info'!A31","v":0},{"$f":"'Product Info'!B31","v":0},{"$f":"'Product Info'!C31","v":0},null,null,null,null,null,null,null,null,null,null,null,null,null,null,null,null,null,null,null,null,null,null,null,null,null,null,null,null,null,null,null,0,{"$f":"'Product Info'!F31*('Daily Info (January)'!AI30)","v":0},null,null,{"$f":"AI30*('Product Info'!H31)","v":0},{"$f":"AI30*('Product Info'!M31+'Product Info'!P31+'Product Info'!S31+'Product Info'!V31+'Product Info'!Y31+'Product Info'!AB31+'Product Info'!AE31+'Product Info'!AH31+'Product Info'!AK31+'Product Info'!AN31+'Product Info'!AQ31+'Product Info'!AT31+'Product Info'!AW31+'Product Info'!AZ31+'Product Info'!BC31+'Product Info'!BF31+'Product Info'!BI31+'Product Info'!BL31+'Product Info'!BO31+'Product Info'!BR31+'Product Info'!BU31+'Product Info'!BX31+'Product Info'!CA31+'Product Info'!CD31+'Product Info'!CG31+'Product Info'!CJ31+'Product Info'!CM31+'Product Info'!CP31+'Product Info'!CS31+'Product Info'!CV31+'Product Info'!CY31+'Product Info'!DB31+'Product Info'!DE31+'Product Info'!DH31+'Product Info'!DK31+'Product Info'!DN31+'Product Info'!DQ31+'Product Info'!DT31+'Product Info'!DW31+'Product Info'!DZ31+'Product Info'!EC31+'Product Info'!EF31+'Product Info'!EI31+'Product Info'!EL31+'Product Info'!EO31+'Product Info'!ER31+'Product Info'!EU31+'Product Info'!EX31+'Product Info'!FA31+'Product Info'!FD31)","v":0},{"$f":"AI30*('Product Info'!M31)","v":0},{"$f":"AI30*'Product Info'!P31","v":0},{"$f":"AI30*'Product Info'!S31","v":0},{"$f":"AI30*'Product Info'!V31","v":0},{"$f":"AI30*'Product Info'!Y31","v":0},{"$f":"AI30*'Product Info'!AB31","v":0},{"$f":"AI30*'Product Info'!AE31","v":0},{"$f":"AI30*'Product Info'!AH31","v":0},{"$f":"AI30*'Product Info'!AK31","v":0},{"$f":"AI30*'Product Info'!AN31","v":0},{"$f":"AI30*'Product Info'!AQ31","v":0},{"$f":"AI30*'Product Info'!AT31","v":0},{"$f":"AI30*'Product Info'!AW31","v":0},{"$f":"AI30*'Product Info'!AZ31","v":0},{"$f":"AI30*'Product Info'!BC31","v":0},{"$f":"AI30*'Product Info'!BF31","v":0},{"$f":"AI30*'Product Info'!BI31","v":0},{"$f":"AI30*'Product Info'!BL31","v":0},{"$f":"AI30*'Product Info'!BO31","v":0},{"$f":"AI30*'Product Info'!BR31","v":0},{"$f":"AI30*'Product Info'!BU31","v":0},{"$f":"AI30*'Product Info'!BX31","v":0}]
[{"$f":"'Product Info'!A32","v":0},{"$f":"'Product Info'!B32","v":0},{"$f":"'Product Info'!C32","v":0},null,null,null,null,null,null,null,null,null,null,null,null,null,null,null,null,null,null,null,null,null,null,null,null,null,null,null,null,null,null,null,0,{"$f":"'Product Info'!F32*('Daily Info (January)'!AI31)","v":0},null,null,{"$f":"AI31*('Product Info'!H32)","v":0},{"$f":"AI31*('Product Info'!M32+'Product Info'!P32+'Product Info'!S32+'Product Info'!V32+'Product Info'!Y32+'Product Info'!AB32+'Product Info'!AE32+'Product Info'!AH32+'Product Info'!AK32+'Product Info'!AN32+'Product Info'!AQ32+'Product Info'!AT32+'Product Info'!AW32+'Product Info'!AZ32+'Product Info'!BC32+'Product Info'!BF32+'Product Info'!BI32+'Product Info'!BL32+'Product Info'!BO32+'Product Info'!BR32+'Product Info'!BU32+'Product Info'!BX32+'Product Info'!CA32+'Product Info'!CD32+'Product Info'!CG32+'Product Info'!CJ32+'Product Info'!CM32+'Product Info'!CP32+'Product Info'!CS32+'Product Info'!CV32+'Product Info'!CY32+'Product Info'!DB32+'Product Info'!DE32+'Product Info'!DH32+'Product Info'!DK32+'Product Info'!DN32+'Product Info'!DQ32+'Product Info'!DT32+'Product Info'!DW32+'Product Info'!DZ32+'Product Info'!EC32+'Product Info'!EF32+'Product Info'!EI32+'Product Info'!EL32+'Product Info'!EO32+'Product Info'!ER32+'Product Info'!EU32+'Product Info'!EX32+'Product Info'!FA32+'Product Info'!FD32)","v":0},{"$f":"AI31*('Product Info'!M32)","v":0},{"$f":"AI31*'Product Info'!P32","v":0},{"$f":"AI31*'Product Info'!S32","v":0},{"$f":"AI31*'Product Info'!V32","v":0},{"$f":"AI31*'Product Info'!Y32","v":0},{"$f":"AI31*'Product Info'!AB32","v":0},{"$f":"AI31*'Product Info'!AE32","v":0},{"$f":"AI31*'Product Info'!AH32","v":0},{"$f":"AI31*'Product Info'!AK32","v":0},{"$f":"AI31*'Product Info'!AN32","v":0},{"$f":"AI31*'Product Info'!AQ32","v":0},{"$f":"AI31*'Product Info'!AT32","v":0},{"$f":"AI31*'Product Info'!AW32","v":0},{"$f":"AI31*'Product Info'!AZ32","v":0},{"$f":"AI31*'Product Info'!BC32","v":0},{"$f":"AI31*'Product Info'!BF32","v":0},{"$f":"AI31*'Product Info'!BI32","v":0},{"$f":"AI31*'Product Info'!BL32","v":0},{"$f":"AI31*'Product Info'!BO32","v":0},{"$f":"AI31*'Product Info'!BR32","v":0},{"$f":"AI31*'Product Info'!BU32","v":0},{"$f":"AI31*'Product Info'!BX32","v":0}]
[{"$f":"'Product Info'!A33","v":0},{"$f":"'Product Info'!B33","v":0},{"$f":"'Product Info'!C33","v":0},null,null,null,null,null,null,null,null,null,null,null,null,null,null,null,null,null,null,null,null,null,null,null,null,null,null,null,null,null,null,null,0,{"$f":"'Product Info'!F33*('Daily Info (January)'!AI32)","v":0},null,null,{"$f":"AI32*('Product Info'!H33)","v":0},{"$f":"AI32*('Product Info'!M33+'Product Info'!P33+'Product Info'!S33+'Product Info'!V33+'Product Info'!Y33+'Product Info'!AB33+'Product Info'!AE33+'Product Info'!AH33+'Product Info'!AK33+'Product Info'!AN33+'Product Info'!AQ33+'Product Info'!AT33+'Product Info'!AW33+'Product Info'!AZ33+'Product Info'!BC33+'Product Info'!BF33+'Product Info'!BI33+'Product Info'!BL33+'Product Info'!BO33+'Product Info'!BR33+'Product Info'!BU33+'Product Info'!BX33+'Product Info'!CA33+'Product Info'!CD33+'Product Info'!CG33+'Product Info'!CJ33+'Product Info'!CM33+'Product Info'!CP33+'Product Info'!CS33+'Product Info'!CV33+'Product Info'!CY33+'Product Info'!DB33+'Product Info'!DE33+'Product Info'!DH33+'Product Info'!DK33+'Product Info'!DN33+'Product Info'!DQ33+'Product Info'!DT33+'Product Info'!DW33+'Product Info'!DZ33+'Product Info'!EC33+'Product Info'!EF33+'Product Info'!EI33+'Product Info'!EL33+'Product Info'!EO33+'Product Info'!ER33+'Product Info'!EU33+'Product Info'!EX33+'Product Info'!FA33+'Product Info'!FD33)","v":0},{"$f":"AI32*('Product Info'!M33)","v":0},{"$f":"AI32*'Product Info'!P33","v":0},{"$f":"AI32*'Product Info'!S33","v":0},{"$f":"AI32*'Product Info'!V33","v":0},{"$f":"AI32*'Product Info'!Y33","v":0},{"$f":"AI32*'Product Info'!AB33","v":0},{"$f":"AI32*'Product Info'!AE33","v":0},{"$f":"AI32*'Product Info'!AH33","v":0},{"$f":"AI32*'Product Info'!AK33","v":0},{"$f":"AI32*'Product Info'!AN33","v":0},{"$f":"AI32*'Product Info'!AQ33","v":0},{"$f":"AI32*'Product Info'!AT33","v":0},{"$f":"AI32*'Product Info'!AW33","v":0},{"$f":"AI32*'Product Info'!AZ33","v":0},{"$f":"AI32*'Product Info'!BC33","v":0},{"$f":"AI32*'Product Info'!BF33","v":0},{"$f":"AI32*'Product Info'!BI33","v":0},{"$f":"AI32*'Product Info'!BL33","v":0},{"$f":"AI32*'Product Info'!BO33","v":0},{"$f":"AI32*'Product Info'!BR33","v":0},{"$f":"AI32*'Product Info'!BU33","v":0},{"$f":"AI32*'Product Info'!BX33","v":0}]
[{"$f":"'Product Info'!A34","v":0},{"$f":"'Product Info'!B34","v":0},{"$f":"'Product Info'!C34","v":0},null,null,null,null,null,null,null,null,null,null,null,null,null,null,null,null,null,null,null,null,null,null,null,null,null,null,null,null,null,null,null,0,{"$f":"'Product Info'!F34*('Daily Info (January)'!AI33)","v":0},null,null,{"$f":"AI33*('Product Info'!H34)","v":0},{"$f":"AI33*('Product Info'!M34+'Product Info'!P34+'Product Info'!S34+'Product Info'!V34+'Product Info'!Y34+'Product Info'!AB34+'Product Info'!AE34+'Product Info'!AH34+'Product Info'!AK34+'Product Info'!AN34+'Product Info'!AQ34+'Product Info'!AT34+'Product Info'!AW34+'Product Info'!AZ34+'Product Info'!BC34+'Product Info'!BF34+'Product Info'!BI34+'Product Info'!BL34+'Product Info'!BO34+'Product Info'!BR34+'Product Info'!BU34+'Product Info'!BX34+'Product Info'!CA34+'Product Info'!CD34+'Product Info'!CG34+'Product Info'!CJ34+'Product Info'!CM34+'Product Info'!CP34+'Product Info'!CS34+'Product Info'!CV34+'Product Info'!CY34+'Product Info'!DB34+'Product Info'!DE34+'Product Info'!DH34+'Product Info'!DK34+'Product Info'!DN34+'Product Info'!DQ34+'Product Info'!DT34+'Product Info'!DW34+'Product Info'!DZ34+'Product Info'!EC34+'Product Info'!EF34+'Product Info'!EI34+'Product Info'!EL34+'Product Info'!EO34+'Product Info'!ER34+'Product Info'!EU34+'Product Info'!EX34+'Product Info'!FA34+'Product Info'!FD34)","v":0},{"$f":"AI33*('Product Info'!M34)","v":0},{"$f":"AI33*'Product Info'!P34","v":0},{"$f":"AI33*'Product Info'!S34","v":0},{"$f":"AI33*'Product Info'!V34","v":0},{"$f":"AI33*'Product Info'!Y34","v":0},{"$f":"AI33*'Product Info'!AB34","v":0},{"$f":"AI33*'Product Info'!AE34","v":0},{"$f":"AI33*'Product Info'!AH34","v":0},{"$f":"AI33*'Product Info'!AK34","v":0},{"$f":"AI33*'Product Info'!AN34","v":0},{"$f":"AI33*'Product Info'!AQ34","v":0},{"$f":"AR33*'Product Info'!AF34","v":0},{"$f":"AI33*'Product Info'!AW34","v":0},{"$f":"AI33*'Product Info'!AZ34","v":0},{"$f":"AI33*'Product Info'!BC34","v":0},{"$f":"AI33*'Product Info'!BF34","v":0},{"$f":"AI33*'Product Info'!BI34","v":0},{"$f":"AI33*'Product Info'!BL34","v":0},{"$f":"AI33*'Product Info'!BO34","v":0},{"$f":"AI33*'Product Info'!BR34","v":0},{"$f":"AI33*'Product Info'!BU34","v":0},{"$f":"AI33*'Product Info'!BX34","v":0}]
[{"$f":"'Product Info'!A35","v":0},{"$f":"'Product Info'!B35","v":0},{"$f":"'Product Info'!C35","v":0},null,null,null,null,null,null,null,null,null,null,null,null,null,null,null,null,null,null,null,null,null,null,null,null,null,null,null,null,null,null,null,0,{"$f":"'Product Info'!F35*('Daily Info (January)'!AI34)","v":0},null,null,{"$f":"AI34*('Product Info'!H35)","v":0},{"$f":"AI34*('Product Info'!M35+'Product Info'!P35+'Product Info'!S35+'Product Info'!V35+'Product Info'!Y35+'Product Info'!AB35+'Product Info'!AE35+'Product Info'!AH35+'Product Info'!AK35+'Product Info'!AN35+'Product Info'!AQ35+'Product Info'!AT35+'Product Info'!AW35+'Product Info'!AZ35+'Product Info'!BC35+'Product Info'!BF35+'Product Info'!BI35+'Product Info'!BL35+'Product Info'!BO35+'Product Info'!BR35+'Product Info'!BU35+'Product Info'!BX35+'Product Info'!CA35+'Product Info'!CD35+'Product Info'!CG35+'Product Info'!CJ35+'Product Info'!CM35+'Product Info'!CP35+'Product Info'!CS35+'Product Info'!CV35+'Product Info'!CY35+'Product Info'!DB35+'Product Info'!DE35+'Product Info'!DH35+'Product Info'!DK35+'Product Info'!DN35+'Product Info'!DQ35+'Product Info'!DT35+'Product Info'!DW35+'Product Info'!DZ35+'Product Info'!EC35+'Product Info'!EF35+'Product Info'!EI35+'Product Info'!EL35+'Product Info'!EO35+'Product Info'!ER35+'Product Info'!EU35+'Product Info'!EX35+'Product Info'!FA35+'Product Info'!FD35)","v":0},{"$f":"AI34*('Product Info'!M35)","v":0},{"$f":"AI34*'Product Info'!P35","v":0},{"$f":"AI34*'Product Info'!S35","v":0},{"$f":"AI34*'Product Info'!V35","v":0},{"$f":"AI34*'Product Info'!Y35","v":0},{"$f":"AI34*'Product Info'!AB35","v":0},{"$f":"AI34*'Product Info'!AE35","v":0},{"$f":"AI34*'Product Info'!AH35","v":0},{"$f":"AI34*'Product Info'!AK35","v":0},{"$f":"AI34*'Product Info'!AN35","v":0},{"$f":"AI34*'Product Info'!AQ35","v":0},{"$f":"AI34*'Product Info'!AT35","v":0},{"$f":"AI34*'Product Info'!AW35","v":0},{"$f":"AI34*'Product Info'!AZ35","v":0},{"$f":"AI34*'Product Info'!BC35","v":0},{"$f":"AI34*'Product Info'!BF35","v":0},{"$f":"AI34*'Product Info'!BI35","v":0},{"$f":"AI34*'Product Info'!BL35","v":0},{"$f":"AI34*'Product Info'!BO35","v":0},{"$f":"AI34*'Product Info'!BR35","v":0},{"$f":"AI34*'Product Info'!BU35","v":0},{"$f":"AI34*'Product Info'!BX35","v":0}]
[{"$f":"'Product Info'!A36","v":0},{"$f":"'Product Info'!B36","v":0},{"$f":"'Product Info'!C36","v":0},null,null,null,null,null,null,null,null,null,null,null,null,null,null,null,null,null,null,null,null,null,null,null,null,null,null,null,null,null,null,null,0,{"$f":"'Product Info'!F36*('Daily Info (January)'!AI35)","v":0},null,null,{"$f":"AI35*('Product Info'!H36)","v":0},{"$f":"AI35*('Product Info'!M36+'Product Info'!P36+'Product Info'!S36+'Product Info'!V36+'Product Info'!Y36+'Product Info'!AB36+'Product Info'!AE36+'Product Info'!AH36+'Product Info'!AK36+'Product Info'!AN36+'Product Info'!AQ36+'Product Info'!AT36+'Product Info'!AW36+'Product Info'!AZ36+'Product Info'!BC36+'Product Info'!BF36+'Product Info'!BI36+'Product Info'!BL36+'Product Info'!BO36+'Product Info'!BR36+'Product Info'!BU36+'Product Info'!BX36+'Product Info'!CA36+'Product Info'!CD36+'Product Info'!CG36+'Product Info'!CJ36+'Product Info'!CM36+'Product Info'!CP36+'Product Info'!CS36+'Product Info'!CV36+'Product Info'!CY36+'Product Info'!DB36+'Product Info'!DE36+'Product Info'!DH36+'Product Info'!DK36+'Product Info'!DN36+'Product Info'!DQ36+'Product Info'!DT36+'Product Info'!DW36+'Product Info'!DZ36+'Product Info'!EC36+'Product Info'!EF36+'Product Info'!EI36+'Product Info'!EL36+'Product Info'!EO36+'Product Info'!ER36+'Product Info'!EU36+'Product Info'!EX36+'Product Info'!FA36+'Product Info'!FD36)","v":0},{"$f":"AI35*('Product Info'!M36)","v":0},{"$f":"AI35*'Product Info'!P36","v":0},{"$f":"AI35*'Product Info'!S36","v":0},{"$f":"AI35*'Product Info'!V36","v":0},{"$f":"AI35*'Product Info'!Y36","v":0},{"$f":"AI35*'Product Info'!AB36","v":0},{"$f":"AI35*'Product Info'!AE36","v":0},{"$f":"AI35*'Product Info'!AH36","v":0},{"$f":"AI35*'Product Info'!AK36","v":0},{"$f":"AI35*'Product Info'!AN36","v":0},{"$f":"AI35*'Product Info'!AQ36","v":0},{"$f":"AI35*'Product Info'!AT36","v":0},{"$f":"AI35*'Product Info'!AW36","v":0},{"$f":"AI35*'Product Info'!AZ36","v":0},{"$f":"AI35*'Product Info'!BC36","v":0},{"$f":"AI35*'Product Info'!BF36","v":0},{"$f":"AI35*'Product Info'!BI36","v":0},{"$f":"AI35*'Product Info'!BL36","v":0},{"$f":"AI35*'Product Info'!BO36","v":0},{"$f":"AI35*'Product Info'!BR36","v":0},{"$f":"AI35*'Product Info'!BU36","v":0},{"$f":"AI35*'Product Info'!BX36","v":0}]
[{"$f":"'Product Info'!A37","v":0},{"$f":"'Product Info'!B37","v":0},{"$f":"'Product Info'!C37","v":0},null,null,null,null,null,null,null,null,null,null,null,null,null,null,null,null,null,null,null,null,null,null,null,null,null,null,null,null,null,null,null,0,{"$f":"'Product Info'!F37*('Daily Info (January)'!AI36)","v":0},null,null,{"$f":"AI36*('Product Info'!H37)","v":0},{"$f":"AI36*('Product Info'!M37+'Product Info'!P37+'Product Info'!S37+'Product Info'!V37+'Product Info'!Y37+'Product Info'!AB37+'Product Info'!AE37+'Product Info'!AH37+'Product Info'!AK37+'Product Info'!AN37+'Product Info'!AQ37+'Product Info'!AT37+'Product Info'!AW37+'Product Info'!AZ37+'Product Info'!BC37+'Product Info'!BF37+'Product Info'!BI37+'Product Info'!BL37+'Product Info'!BO37+'Product Info'!BR37+'Product Info'!BU37+'Product Info'!BX37+'Product Info'!CA37+'Product Info'!CD37+'Product Info'!CG37+'Product Info'!CJ37+'Product Info'!CM37+'Product Info'!CP37+'Product Info'!CS37+'Product Info'!CV37+'Product Info'!CY37+'Product Info'!DB37+'Product Info'!DE37+'Product Info'!DH37+'Product Info'!DK37+'Product Info'!DN37+'Product Info'!DQ37+'Product Info'!DT37+'Product Info'!DW37+'Product Info'!DZ37+'Product Info'!EC37+'Product Info'!EF37+'Product Info'!EI37+'Product Info'!EL37+'Product Info'!EO37+'Product Info'!ER37+'Product Info'!EU37+'Product Info'!EX37+'Product Info'!FA37+'Product Info'!FD37)","v":0},{"$f":"AI36*('Product Info'!M37)","v":0},{"$f":"AI36*'Product Info'!P37","v":0},{"$f":"AI36*'Product Info'!S37","v":0},{"$f":"AI36*'Product Info'!V37","v":0},{"$f":"AI36*'Product Info'!Y37","v":0},{"$f":"AI36*'Product Info'!AB37","v":0},{"$f":"AI36*'Product Info'!AE37","v":0},{"$f":"AI36*'Product Info'!AH37","v":0},{"$f":"AI36*'Product Info'!AK37","v":0},{"$f":"AI36*'Product Info'!AN37","v":0},{"$f":"AI36*'Product Info'!AQ37","v":0},{"$f":"AI36*'Product Info'!AT37","v":0},{"$f":"AI36*'Product Info'!AW37","v":0},{"$f":"AI36*'Product Info'!AZ37","v":0},{"$f":"AI36*'Product Info'!BC37","v":0},{"$f":"AI36*'Product Info'!BF37","v":0},{"$f":"AI36*'Product Info'!BI37","v":0},{"$f":"AI36*'Product Info'!BL37","v":0},{"$f":"AI36*'Product Info'!BO37","v":0},{"$f":"AI36*'Product Info'!BR37","v":0},{"$f":"AI36*'Product Info'!BU37","v":0},{"$f":"AI36*'Product Info'!BX37","v":0}]
[{"$f":"'Product Info'!A38","v":0},{"$f":"'Product Info'!B38","v":0},{"$f":"'Product Info'!C38","v":0},null,null,null,null,null,null,null,null,null,null,null,null,null,null,null,null,null,null,null,null,null,null,null,null,null,null,null,null,null,null,null,0,{"$f":"'Product Info'!F38*('Daily Info (January)'!AI37)","v":0},null,null,{"$f":"AI37*('Product Info'!H38)","v":0},{"$f":"AI37*('Product Info'!M38+'Product Info'!P38+'Product Info'!S38+'Product Info'!V38+'Product Info'!Y38+'Product Info'!AB38+'Product Info'!AE38+'Product Info'!AH38+'Product Info'!AK38+'Product Info'!AN38+'Product Info'!AQ38+'Product Info'!AT38+'Product Info'!AW38+'Product Info'!AZ38+'Product Info'!BC38+'Product Info'!BF38+'Product Info'!BI38+'Product Info'!BL38+'Product Info'!BO38+'Product Info'!BR38+'Product Info'!BU38+'Product Info'!BX38+'Product Info'!CA38+'Product Info'!CD38+'Product Info'!CG38+'Product Info'!CJ38+'Product Info'!CM38+'Product Info'!CP38+'Product Info'!CS38+'Product Info'!CV38+'Product Info'!CY38+'Product Info'!DB38+'Product Info'!DE38+'Product Info'!DH38+'Product Info'!DK38+'Product Info'!DN38+'Product Info'!DQ38+'Product Info'!DT38+'Product Info'!DW38+'Product Info'!DZ38+'Product Info'!EC38+'Product Info'!EF38+'Product Info'!EI38+'Product Info'!EL38+'Product Info'!EO38+'Product Info'!ER38+'Product Info'!EU38+'Product Info'!EX38+'Product Info'!FA38+'Product Info'!FD38)","v":0},{"$f":"AI37*('Product Info'!M38)","v":0},{"$f":"AI37*'Product Info'!P38","v":0},{"$f":"AI37*'Product Info'!S38","v":0},{"$f":"AI37*'Product Info'!V38","v":0},{"$f":"AI37*'Product Info'!Y38","v":0},{"$f":"AI37*'Product Info'!AB38","v":0},{"$f":"AI37*'Product Info'!AE38","v":0},{"$f":"AI37*'Product Info'!AH38","v":0},{"$f":"AI37*'Product Info'!AK38","v":0},{"$f":"AI37*'Product Info'!AN38","v":0},{"$f":"AI37*'Product Info'!AQ38","v":0},{"$f":"AI37*'Product Info'!AT38","v":0},{"$f":"AI37*'Product Info'!AW38","v":0},{"$f":"AI37*'Product Info'!AZ38","v":0},{"$f":"AI37*'Product Info'!BC38","v":0},{"$f":"AI37*'Product Info'!BF38","v":0},{"$f":"AI37*'Product Info'!BI38","v":0},{"$f":"AI37*'Product Info'!BL38","v":0},{"$f":"AI37*'Product Info'!BO38","v":0},{"$f":"AI37*'Product Info'!BR38","v":0},{"$f":"AI37*'Product Info'!BU38","v":0},{"$f":"AI37*'Product Info'!BX38","v":0}]
[{"$f":"'Product Info'!A39","v":0},{"$f":"'Product Info'!B39","v":0},{"$f":"'Product Info'!C39","v":0},null,null,null,null,null,null,null,null,null,null,null,null,null,null,null,null,null,null,null,null,null,null,null,null,null,null,null,null,null,null,null,0,{"$f":"'Product Info'!F39*('Daily Info (January)'!AI38)","v":0},null,null,{"$f":"AI38*('Product Info'!H39)","v":0},{"$f":"AI38*('Product Info'!M39+'Product Info'!P39+'Product Info'!S39+'Product Info'!V39+'Product Info'!Y39+'Product Info'!AB39+'Product Info'!AE39+'Product Info'!AH39+'Product Info'!AK39+'Product Info'!AN39+'Product Info'!AQ39+'Product Info'!AT39+'Product Info'!AW39+'Product Info'!AZ39+'Product Info'!BC39+'Product Info'!BF39+'Product Info'!BI39+'Product Info'!BL39+'Product Info'!BO39+'Product Info'!BR39+'Product Info'!BU39+'Product Info'!BX39+'Product Info'!CA39+'Product Info'!CD39+'Product Info'!CG39+'Product Info'!CJ39+'Product Info'!CM39+'Product Info'!CP39+'Product Info'!CS39+'Product Info'!CV39+'Product Info'!CY39+'Product Info'!DB39+'Product Info'!DE39+'Product Info'!DH39+'Product Info'!DK39+'Product Info'!DN39+'Product Info'!DQ39+'Product Info'!DT39+'Product Info'!DW39+'Product Info'!DZ39+'Product Info'!EC39+'Product Info'!EF39+'Product Info'!EI39+'Product Info'!EL39+'Product Info'!EO39+'Product Info'!ER39+'Product Info'!EU39+'Product Info'!EX39+'Product Info'!FA39+'Product Info'!FD39)","v":0},{"$f":"AI38*('Product Info'!M39)","v":0},{"$f":"AI38*'Product Info'!P39","v":0},{"$f":"AI38*'Product Info'!S39","v":0},{"$f":"AI38*'Product Info'!V39","v":0},{"$f":"AI38*'Product Info'!Y39","v":0},{"$f":"AI38*'Product Info'!AB39","v":0},{"$f":"AI38*'Product Info'!AE39","v":0},{"$f":"AI38*'Product Info'!AH39","v":0},{"$f":"AI38*'Product Info'!AK39","v":0},{"$f":"AI38*'Product Info'!AN39","v":0},{"$f":"AI38*'Product Info'!AQ39","v":0},{"$f":"AI38*'Product Info'!AT39","v":0},{"$f":"AI38*'Product Info'!AW39","v":0},{"$f":"AI38*'Product Info'!AZ39","v":0},{"$f":"AI38*'Product Info'!BC39","v":0},{"$f":"AI38*'Product Info'!BF39","v":0},{"$f":"AI38*'Product Info'!BI39","v":0},{"$f":"AI38*'Product Info'!BL39","v":0},{"$f":"AI38*'Product Info'!BO39","v":0},{"$f":"AI38*'Product Info'!BR39","v":0},{"$f":"AI38*'Product Info'!BU39","v":0},{"$f":"AI38*'Product Info'!BX39","v":0}]
[{"$f":"'Product Info'!A40","v":0},{"$f":"'Product Info'!B40","v":0},{"$f":"'Product Info'!C40","v":0},null,null,null,null,null,null,null,null,null,null,null,null,null,null,null,null,null,null,null,null,null,null,null,null,null,null,null,null,null,null,null,0,{"$f":"'Product Info'!F40*('Daily Info (January)'!AI39)","v":0},null,null,{"$f":"AI39*('Product Info'!H40)","v":0},{"$f":"AI39*('Product Info'!M40+'Product Info'!P40+'Product Info'!S40+'Product Info'!V40+'Product Info'!Y40+'Product Info'!AB40+'Product Info'!AE40+'Product Info'!AH40+'Product Info'!AK40+'Product Info'!AN40+'Product Info'!AQ40+'Product Info'!AT40+'Product Info'!AW40+'Product Info'!AZ40+'Product Info'!BC40+'Product Info'!BF40+'Product Info'!BI40+'Product Info'!BL40+'Product Info'!BO40+'Product Info'!BR40+'Product Info'!BU40+'Product Info'!BX40+'Product Info'!CA40+'Product Info'!CD40+'Product Info'!CG40+'Product Info'!CJ40+'Product Info'!CM40+'Product Info'!CP40+'Product Info'!CS40+'Product Info'!CV40+'Product Info'!CY40+'Product Info'!DB40+'Product Info'!DE40+'Product Info'!DH40+'Product Info'!DK40+'Product Info'!DN40+'Product Info'!DQ40+'Product Info'!DT40+'Product Info'!DW40+'Product Info'!DZ40+'Product Info'!EC40+'Product Info'!EF40+'Product Info'!EI40+'Product Info'!EL40+'Product Info'!EO40+'Product Info'!ER40+'Product Info'!EU40+'Product Info'!EX40+'Product Info'!FA40+'Product Info'!FD40)","v":0},{"$f":"AI39*('Product Info'!M40)","v":0},{"$f":"AI39*'Product Info'!P40","v":0},{"$f":"AI39*'Product Info'!S40","v":0},{"$f":"AI39*'Product Info'!V40","v":0},{"$f":"AI39*'Product Info'!Y40","v":0},{"$f":"AI39*'Product Info'!AB40","v":0},{"$f":"AI39*'Product Info'!AE40","v":0},{"$f":"AI39*'Product Info'!AH40","v":0},{"$f":"AI39*'Product Info'!AK40","v":0},{"$f":"AI39*'Product Info'!AN40","v":0},{"$f":"AI39*'Product Info'!AQ40","v":0},{"$f":"AI39*'Product Info'!AT40","v":0},{"$f":"AI39*'Product Info'!AW40","v":0},{"$f":"AI39*'Product Info'!AZ40","v":0},{"$f":"AI39*'Product Info'!BC40","v":0},{"$f":"AI39*'Product Info'!BF40","v":0},{"$f":"AI39*'Product Info'!BI40","v":0},{"$f":"AI39*'Product Info'!BL40","v":0},{"$f":"AI39*'Product Info'!BO40","v":0},{"$f":"AI39*'Product Info'!BR40","v":0},{"$f":"AI39*'Product Info'!BU40","v":0},{"$f":"AI39*'Product Info'!BX40","v":0}]
[{"$f":"'Product Info'!A41","v":0},{"$f":"'Product Info'!B41","v":0},{"$f":"'Product Info'!C41","v":0},null,null,null,null,null,null,null,null,null,null,null,null,null,null,null,null,null,null,null,null,null,null,null,null,null,null,null,null,null,null,null,0,{"$f":"'Product Info'!F41*('Daily Info (January)'!AI40)","v":0},null,null,{"$f":"AI40*('Product Info'!H41)","v":0},{"$f":"AI40*('Product Info'!M41+'Product Info'!P41+'Product Info'!S41+'Product Info'!V41+'Product Info'!Y41+'Product Info'!AB41+'Product Info'!AE41+'Product Info'!AH41+'Product Info'!AK41+'Product Info'!AN41+'Product Info'!AQ41+'Product Info'!AT41+'Product Info'!AW41+'Product Info'!AZ41+'Product Info'!BC41+'Product Info'!BF41+'Product Info'!BI41+'Product Info'!BL41+'Product Info'!BO41+'Product Info'!BR41+'Product Info'!BU41+'Product Info'!BX41+'Product Info'!CA41+'Product Info'!CD41+'Product Info'!CG41+'Product Info'!CJ41+'Product Info'!CM41+'Product Info'!CP41+'Product Info'!CS41+'Product Info'!CV41+'Product Info'!CY41+'Product Info'!DB41+'Product Info'!DE41+'Product Info'!DH41+'Product Info'!DK41+'Product Info'!DN41+'Product Info'!DQ41+'Product Info'!DT41+'Product Info'!DW41+'Product Info'!DZ41+'Product Info'!EC41+'Product Info'!EF41+'Product Info'!EI41+'Product Info'!EL41+'Product Info'!EO41+'Product Info'!ER41+'Product Info'!EU41+'Product Info'!EX41+'Product Info'!FA41+'Product Info'!FD41)","v":0},{"$f":"AI40*('Product Info'!M41)","v":0},{"$f":"AI40*'Product Info'!P41","v":0},{"$f":"AI40*'Product Info'!S41","v":0},{"$f":"AI40*'Product Info'!V41","v":0},{"$f":"AI40*'Product Info'!Y41","v":0},{"$f":"AI40*'Product Info'!AB41","v":0},{"$f":"AI40*'Product Info'!AE41","v":0},{"$f":"AI40*'Product Info'!AH41","v":0},{"$f":"AI40*'Product Info'!AK41","v":0},{"$f":"AI40*'Product Info'!AN41","v":0},{"$f":"AI40*'Product Info'!AQ41","v":0},{"$f":"AI40*'Product Info'!AT41","v":0},{"$f":"AI40*'Product Info'!AW41","v":0},{"$f":"AI40*'Product Info'!AZ41","v":0},{"$f":"AI40*'Product Info'!BC41","v":0},{"$f":"AI40*'Product Info'!BF41","v":0},{"$f":"AI40*'Product Info'!BI41","v":0},{"$f":"AI40*'Product Info'!BL41","v":0},{"$f":"AI40*'Product Info'!BO41","v":0},{"$f":"AI40*'Product Info'!BR41","v":0},{"$f":"AI40*'Product Info'!BU41","v":0},{"$f":"AI40*'Product Info'!BX41","v":0}]
[{"$f":"'Product Info'!A42","v":0},{"$f":"'Product Info'!B42","v":0},{"$f":"'Product Info'!C42","v":0},null,null,null,null,null,null,null,null,null,null,null,null,null,null,null,null,null,null,null,null,null,null,null,null,null,null,null,null,null,null,null,0,{"$f":"'Product Info'!F42*('Daily Info (January)'!AI41)","v":0},null,null,{"$f":"AI41*('Product Info'!H42)","v":0},{"$f":"AI41*('Product Info'!M42+'Product Info'!P42+'Product Info'!S42+'Product Info'!V42+'Product Info'!Y42+'Product Info'!AB42+'Product Info'!AE42+'Product Info'!AH42+'Product Info'!AK42+'Product Info'!AN42+'Product Info'!AQ42+'Product Info'!AT42+'Product Info'!AW42+'Product Info'!AZ42+'Product Info'!BC42+'Product Info'!BF42+'Product Info'!BI42+'Product Info'!BL42+'Product Info'!BO42+'Product Info'!BR42+'Product Info'!BU42+'Product Info'!BX42+'Product Info'!CA42+'Product Info'!CD42+'Product Info'!CG42+'Product Info'!CJ42+'Product Info'!CM42+'Product Info'!CP42+'Product Info'!CS42+'Product Info'!CV42+'Product Info'!CY42+'Product Info'!DB42+'Product Info'!DE42+'Product Info'!DH42+'Product Info'!DK42+'Product Info'!DN42+'Product Info'!DQ42+'Product Info'!DT42+'Product Info'!DW42+'Product Info'!DZ42+'Product Info'!EC42+'Product Info'!EF42+'Product Info'!EI42+'Product Info'!EL42+'Product Info'!EO42+'Product Info'!ER42+'Product Info'!EU42+'Product Info'!EX42+'Product Info'!FA42+'Product Info'!FD42)","v":0},{"$f":"AI41*('Product Info'!M42)","v":0},{"$f":"AI41*'Product Info'!P42","v":0},{"$f":"AI41*'Product Info'!S42","v":0},{"$f":"AI41*'Product Info'!V42","v":0},{"$f":"AI41*'Product Info'!Y42","v":0},{"$f":"AI41*'Product Info'!AB42","v":0},{"$f":"AI41*'Product Info'!AE42","v":0},{"$f":"AI41*'Product Info'!AH42","v":0},{"$f":"AI41*'Product Info'!AK42","v":0},{"$f":"AI41*'Product Info'!AN42","v":0},{"$f":"AI41*'Product Info'!AQ42","v":0},{"$f":"AI41*'Product Info'!AT42","v":0},{"$f":"AI41*'Product Info'!AW42","v":0},{"$f":"AI41*'Product Info'!AZ42","v":0},{"$f":"AI41*'Product Info'!BC42","v":0},{"$f":"AI41*'Product Info'!BF42","v":0},{"$f":"AI41*'Product Info'!BI42","v":0},{"$f":"AI41*'Product Info'!BL42","v":0},{"$f":"AI41*'Product Info'!BO42","v":0},{"$f":"AI41*'Product Info'!BR42","v":0},{"$f":"AI41*'Product Info'!BU42","v":0},{"$f":"AI41*'Product Info'!BX42","v":0}]
[{"$f":"'Product Info'!A43","v":0},{"$f":"'Product Info'!B43","v":0},{"$f":"'Product Info'!C43","v":0},null,null,null,null,null,null,null,null,null,null,null,null,null,null,null,null,null,null,null,null,null,null,null,null,null,null,null,null,null,null,null,0,{"$f":"'Product Info'!F43*('Daily Info (January)'!AI42)","v":0},null,null,{"$f":"AI42*('Product Info'!H43)","v":0},{"$f":"AI42*('Product Info'!M43+'Product Info'!P43+'Product Info'!S43+'Product Info'!V43+'Product Info'!Y43+'Product Info'!AB43+'Product Info'!AE43+'Product Info'!AH43+'Product Info'!AK43+'Product Info'!AN43+'Product Info'!AQ43+'Product Info'!AT43+'Product Info'!AW43+'Product Info'!AZ43+'Product Info'!BC43+'Product Info'!BF43+'Product Info'!BI43+'Product Info'!BL43+'Product Info'!BO43+'Product Info'!BR43+'Product Info'!BU43+'Product Info'!BX43+'Product Info'!CA43+'Product Info'!CD43+'Product Info'!CG43+'Product Info'!CJ43+'Product Info'!CM43+'Product Info'!CP43+'Product Info'!CS43+'Product Info'!CV43+'Product Info'!CY43+'Product Info'!DB43+'Product Info'!DE43+'Product Info'!DH43+'Product Info'!DK43+'Product Info'!DN43+'Product Info'!DQ43+'Product Info'!DT43+'Product Info'!DW43+'Product Info'!DZ43+'Product Info'!EC43+'Product Info'!EF43+'Product Info'!EI43+'Product Info'!EL43+'Product Info'!EO43+'Product Info'!ER43+'Product Info'!EU43+'Product Info'!EX43+'Product Info'!FA43+'Product Info'!FD43)","v":0},{"$f":"AI42*('Product Info'!M43)","v":0},{"$f":"AI42*'Product Info'!P43","v":0},{"$f":"AI42*'Product Info'!S43","v":0},{"$f":"AI42*'Product Info'!V43","v":0},{"$f":"AI42*'Product Info'!Y43","v":0},{"$f":"AI42*'Product Info'!AB43","v":0},{"$f":"AI42*'Product Info'!AE43","v":0},{"$f":"AI42*'Product Info'!AH43","v":0},{"$f":"AI42*'Product Info'!AK43","v":0},{"$f":"AI42*'Product Info'!AN43","v":0},{"$f":"AI42*'Product Info'!AQ43","v":0},{"$f":"AI42*'Product Info'!AT43","v":0},{"$f":"AI42*'Product Info'!AW43","v":0},{"$f":"AI42*'Product Info'!AZ43","v":0},{"$f":"AI42*'Product Info'!BC43","v":0},{"$f":"AI42*'Product Info'!BF43","v":0},{"$f":"AI42*'Product Info'!BI43","v":0},{"$f":"AI42*'Product Info'!BL43","v":0},{"$f":"AI42*'Product Info'!BO43","v":0},{"$f":"AI42*'Product Info'!BR43","v":0},{"$f":"AI42*'Product Info'!BU43","v":0},{"$f":"AI42*'Product Info'!BX43","v":0}]
[{"$f":"'Product Info'!A44","v":0},{"$f":"'Product Info'!B44","v":0},{"$f":"'Product Info'!C44","v":0},null,null,null,null,null,null,null,null,null,null,null,null,null,null,null,null,null,null,null,null,null,null,null,null,null,null,null,null,null,null,null,0,{"$f":"'Product Info'!F44*('Daily Info (January)'!AI43)","v":0},null,null,{"$f":"AI43*('Product Info'!H44)","v":0},{"$f":"AI43*('Product Info'!M44+'Product Info'!P44+'Product Info'!S44+'Product Info'!V44+'Product Info'!Y44+'Product Info'!AB44+'Product Info'!AE44+'Product Info'!AH44+'Product Info'!AK44+'Product Info'!AN44+'Product Info'!AQ44+'Product Info'!AT44+'Product Info'!AW44+'Product Info'!AZ44+'Product Info'!BC44+'Product Info'!BF44+'Product Info'!BI44+'Product Info'!BL44+'Product Info'!BO44+'Product Info'!BR44+'Product Info'!BU44+'Product Info'!BX44+'Product Info'!CA44+'Product Info'!CD44+'Product Info'!CG44+'Product Info'!CJ44+'Product Info'!CM44+'Product Info'!CP44+'Product Info'!CS44+'Product Info'!CV44+'Product Info'!CY44+'Product Info'!DB44+'Product Info'!DE44+'Product Info'!DH44+'Product Info'!DK44+'Product Info'!DN44+'Product Info'!DQ44+'Product Info'!DT44+'Product Info'!DW44+'Product Info'!DZ44+'Product Info'!EC44+'Product Info'!EF44+'Product Info'!EI44+'Product Info'!EL44+'Product Info'!EO44+'Product Info'!ER44+'Product Info'!EU44+'Product Info'!EX44+'Product Info'!FA44+'Product Info'!FD44)","v":0},{"$f":"AI43*('Product Info'!M44)","v":0},{"$f":"AI43*'Product Info'!P44","v":0},{"$f":"AI43*'Product Info'!S44","v":0},{"$f":"AI43*'Product Info'!V44","v":0},{"$f":"AI43*'Product Info'!Y44","v":0},{"$f":"AI43*'Product Info'!AB44","v":0},{"$f":"AI43*'Product Info'!AE44","v":0},{"$f":"AI43*'Product Info'!AH44","v":0},{"$f":"AI43*'Product Info'!AK44","v":0},{"$f":"AI43*'Product Info'!AN44","v":0},{"$f":"AI43*'Product Info'!AQ44","v":0},{"$f":"AI43*'Product Info'!AT44","v":0},{"$f":"AI43*'Product Info'!AW44","v":0},{"$f":"AI43*'Product Info'!AZ44","v":0},{"$f":"AI43*'Product Info'!BC44","v":0},{"$f":"AI43*'Product Info'!BF44","v":0},{"$f":"AI43*'Product Info'!BI44","v":0},{"$f":"AI43*'Product Info'!BL44","v":0},{"$f":"AI43*'Product Info'!BO44","v":0},{"$f":"AI43*'Product Info'!BR44","v":0},{"$f":"AI43*'Product Info'!BU44","v":0},{"$f":"AI43*'Product Info'!BX44","v":0}]
[{"$f":"'Product Info'!A45","v":0},{"$f":"'Product Info'!B45","v":0},{"$f":"'Product Info'!C45","v":0},null,null,null,null,null,null,null,null,null,null,null,null,null,null,null,null,null,null,null,null,null,null,null,null,null,null,null,null,null,null,null,0,{"$f":"'Product Info'!F45*('Daily Info (January)'!AI44)","v":0},null,null,{"$f":"AI44*('Product Info'!H45)","v":0},{"$f":"AI44*('Product Info'!M45+'Product Info'!P45+'Product Info'!S45+'Product Info'!V45+'Product Info'!Y45+'Product Info'!AB45+'Product Info'!AE45+'Product Info'!AH45+'Product Info'!AK45+'Product Info'!AN45+'Product Info'!AQ45+'Product Info'!AT45+'Product Info'!AW45+'Product Info'!AZ45+'Product Info'!BC45+'Product Info'!BF45+'Product Info'!BI45+'Product Info'!BL45+'Product Info'!BO45+'Product Info'!BR45+'Product Info'!BU45+'Product Info'!BX45+'Product Info'!CA45+'Product Info'!CD45+'Product Info'!CG45+'Product Info'!CJ45+'Product Info'!CM45+'Product Info'!CP45+'Product Info'!CS45+'Product Info'!CV45+'Product Info'!CY45+'Product Info'!DB45+'Product Info'!DE45+'Product Info'!DH45+'Product Info'!DK45+'Product Info'!DN45+'Product Info'!DQ45+'Product Info'!DT45+'Product Info'!DW45+'Product Info'!DZ45+'Product Info'!EC45+'Product Info'!EF45+'Product Info'!EI45+'Product Info'!EL45+'Product Info'!EO45+'Product Info'!ER45+'Product Info'!EU45+'Product Info'!EX45+'Product Info'!FA45+'Product Info'!FD45)","v":0},{"$f":"AI44*('Product Info'!M45)","v":0},{"$f":"AI44*'Product Info'!P45","v":0},{"$f":"AI44*'Product Info'!S45","v":0},{"$f":"AI44*'Product Info'!V45","v":0},{"$f":"AI44*'Product Info'!Y45","v":0},{"$f":"AI44*'Product Info'!AB45","v":0},{"$f":"AI44*'Product Info'!AE45","v":0},{"$f":"AI44*'Product Info'!AH45","v":0},{"$f":"AI44*'Product Info'!AK45","v":0},{"$f":"AI44*'Product Info'!AN45","v":0},{"$f":"AI44*'Product Info'!AQ45","v":0},{"$f":"AI44*'Product Info'!AT45","v":0},{"$f":"AI44*'Product Info'!AW45","v":0},{"$f":"AI44*'Product Info'!AZ45","v":0},{"$f":"AI44*'Product Info'!BC45","v":0},{"$f":"AI44*'Product Info'!BF45","v":0},{"$f":"AI44*'Product Info'!BI45","v":0},{"$f":"AI44*'Product Info'!BL45","v":0},{"$f":"AI44*'Product Info'!BO45","v":0},{"$f":"AI44*'Product Info'!BR45","v":0},{"$f":"AI44*'Product Info'!BU45","v":0},{"$f":"AI44*'Product Info'!BX45","v":0}]
[{"$f":"'Product Info'!A46","v":0},{"$f":"'Product Info'!B46","v":0},{"$f":"'Product Info'!C46","v":0},null,null,null,null,null,null,null,null,null,null,null,null,null,null,null,null,null,null,null,null,null,null,null,null,null,null,null,null,null,null,null,0,{"$f":"'Product Info'!F46*('Daily Info (January)'!AI45)","v":0},null,null,{"$f":"AI45*('Product Info'!H46)","v":0},{"$f":"AI45*('Product Info'!M46+'Product Info'!P46+'Product Info'!S46+'Product Info'!V46+'Product Info'!Y46+'Product Info'!AB46+'Product Info'!AE46+'Product Info'!AH46+'Product Info'!AK46+'Product Info'!AN46+'Product Info'!AQ46+'Product Info'!AT46+'Product Info'!AW46+'Product Info'!AZ46+'Product Info'!BC46+'Product Info'!BF46+'Product Info'!BI46+'Product Info'!BL46+'Product Info'!BO46+'Product Info'!BR46+'Product Info'!BU46+'Product Info'!BX46+'Product Info'!CA46+'Product Info'!CD46+'Product Info'!CG46+'Product Info'!CJ46+'Product Info'!CM46+'Product Info'!CP46+'Product Info'!CS46+'Product Info'!CV46+'Product Info'!CY46+'Product Info'!DB46+'Product Info'!DE46+'Product Info'!DH46+'Product Info'!DK46+'Product Info'!DN46+'Product Info'!DQ46+'Product Info'!DT46+'Product Info'!DW46+'Product Info'!DZ46+'Product Info'!EC46+'Product Info'!EF46+'Product Info'!EI46+'Product Info'!EL46+'Product Info'!EO46+'Product Info'!ER46+'Product Info'!EU46+'Product Info'!EX46+'Product Info'!FA46+'Product Info'!FD46)","v":0},{"$f":"AI45*('Product Info'!M46)","v":0},{"$f":"AI45*'Product Info'!P46","v":0},{"$f":"AI45*'Product Info'!S46","v":0},{"$f":"AI45*'Product Info'!V46","v":0},{"$f":"AI45*'Product Info'!Y46","v":0},{"$f":"AI45*'Product Info'!AB46","v":0},{"$f":"AI45*'Product Info'!AE46","v":0},{"$f":"AI45*'Product Info'!AH46","v":0},{"$f":"AI45*'Product Info'!AK46","v":0},{"$f":"AI45*'Product Info'!AN46","v":0},{"$f":"AI45*'Product Info'!AQ46","v":0},{"$f":"AI45*'Product Info'!AT46","v":0},{"$f":"AI45*'Product Info'!AW46","v":0},{"$f":"AI45*'Product Info'!AZ46","v":0},{"$f":"AI45*'Product Info'!BC46","v":0},{"$f":"AI45*'Product Info'!BF46","v":0},{"$f":"AI45*'Product Info'!BI46","v":0},{"$f":"AI45*'Product Info'!BL46","v":0},{"$f":"AI45*'Product Info'!BO46","v":0},{"$f":"AI45*'Product Info'!BR46","v":0},{"$f":"AI45*'Product Info'!BU46","v":0},{"$f":"AI45*'Product Info'!BX46","v":0}]
[{"$f":"'Product Info'!A47","v":0},{"$f":"'Product Info'!B47","v":0},{"$f":"'Product Info'!C47","v":0},null,null,null,null,null,null,null,null,null,null,null,null,null,null,null,null,null,null,null,null,null,null,null,null,null,null,null,null,null,null,null,0,{"$f":"'Product Info'!F47*('Daily Info (January)'!AI46)","v":0},null,null,{"$f":"AI46*('Product Info'!H47)","v":0},{"$f":"AI46*('Product Info'!M47+'Product Info'!P47+'Product Info'!S47+'Product Info'!V47+'Product Info'!Y47+'Product Info'!AB47+'Product Info'!AE47+'Product Info'!AH47+'Product Info'!AK47+'Product Info'!AN47+'Product Info'!AQ47+'Product Info'!AT47+'Product Info'!AW47+'Product Info'!AZ47+'Product Info'!BC47+'Product Info'!BF47+'Product Info'!BI47+'Product Info'!BL47+'Product Info'!BO47+'Product Info'!BR47+'Product Info'!BU47+'Product Info'!BX47+'Product Info'!CA47+'Product Info'!CD47+'Product Info'!CG47+'Product Info'!CJ47+'Product Info'!CM47+'Product Info'!CP47+'Product Info'!CS47+'Product Info'!CV47+'Product Info'!CY47+'Product Info'!DB47+'Product Info'!DE47+'Product Info'!DH47+'Product Info'!DK47+'Product Info'!DN47+'Product Info'!DQ47+'Product Info'!DT47+'Product Info'!DW47+'Product Info'!DZ47+'Product Info'!EC47+'Product Info'!EF47+'Product Info'!EI47+'Product Info'!EL47+'Product Info'!EO47+'Product Info'!ER47+'Product Info'!EU47+'Product Info'!EX47+'Product Info'!FA47+'Product Info'!FD47)","v":0},{"$f":"AI46*('Product Info'!M47)","v":0},{"$f":"AI46*'Product Info'!P47","v":0},{"$f":"AI46*'Product Info'!S47","v":0},{"$f":"AI46*'Product Info'!V47","v":0},{"$f":"AI46*'Product Info'!Y47","v":0},{"$f":"AI46*'Product Info'!AB47","v":0},{"$f":"AI46*'Product Info'!AE47","v":0},{"$f":"AI46*'Product Info'!AH47","v":0},{"$f":"AI46*'Product Info'!AK47","v":0},{"$f":"AI46*'Product Info'!AN47","v":0},{"$f":"AI46*'Product Info'!AQ47","v":0},{"$f":"AI46*'Product Info'!AT47","v":0},{"$f":"AI46*'Product Info'!AW47","v":0},{"$f":"AI46*'Product Info'!AZ47","v":0},{"$f":"AI46*'Product Info'!BC47","v":0},{"$f":"AI46*'Product Info'!BF47","v":0},{"$f":"AI46*'Product Info'!BI47","v":0},{"$f":"AI46*'Product Info'!BL47","v":0},{"$f":"AI46*'Product Info'!BO47","v":0},{"$f":"AI46*'Product Info'!BR47","v":0},{"$f":"AI46*'Product Info'!BU47","v":0},{"$f":"AI46*'Product Info'!BX47","v":0}]
[{"$f":"'Product Info'!A48","v":0},{"$f":"'Product Info'!B48","v":0},{"$f":"'Product Info'!C48","v":0},null,null,null,null,null,null,null,null,null,null,null,null,null,null,null,null,null,null,null,null,null,null,null,null,null,null,null,null,null,null,null,0,{"$f":"'Product Info'!F48*('Daily Info (January)'!AI47)","v":0},null,null,{"$f":"AI47*('Product Info'!H48)","v":0},{"$f":"AI47*('Product Info'!M48+'Product Info'!P48+'Product Info'!S48+'Product Info'!V48+'Product Info'!Y48+'Product Info'!AB48+'Product Info'!AE48+'Product Info'!AH48+'Product Info'!AK48+'Product Info'!AN48+'Product Info'!AQ48+'Product Info'!AT48+'Product Info'!AW48+'Product Info'!AZ48+'Product Info'!BC48+'Product Info'!BF48+'Product Info'!BI48+'Product Info'!BL48+'Product Info'!BO48+'Product Info'!BR48+'Product Info'!BU48+'Product Info'!BX48+'Product Info'!CA48+'Product Info'!CD48+'Product Info'!CG48+'Product Info'!CJ48+'Product Info'!CM48+'Product Info'!CP48+'Product Info'!CS48+'Product Info'!CV48+'Product Info'!CY48+'Product Info'!DB48+'Product Info'!DE48+'Product Info'!DH48+'Product Info'!DK48+'Product Info'!DN48+'Product Info'!DQ48+'Product Info'!DT48+'Product Info'!DW48+'Product Info'!DZ48+'Product Info'!EC48+'Product Info'!EF48+'Product Info'!EI48+'Product Info'!EL48+'Product Info'!EO48+'Product Info'!ER48+'Product Info'!EU48+'Product Info'!EX48+'Product Info'!FA48+'Product Info'!FD48)","v":0},{"$f":"AI47*('Product Info'!M48)","v":0},{"$f":"AI47*'Product Info'!P48","v":0},{"$f":"AI47*'Product Info'!S48","v":0},{"$f":"AI47*'Product Info'!V48","v":0},{"$f":"AI47*'Product Info'!Y48","v":0},{"$f":"AI47*'Product Info'!AB48","v":0},{"$f":"AI47*'Product Info'!AE48","v":0},{"$f":"AI47*'Product Info'!AH48","v":0},{"$f":"AI47*'Product Info'!AK48","v":0},{"$f":"AI47*'Product Info'!AN48","v":0},{"$f":"AI47*'Product Info'!AQ48","v":0},{"$f":"AR47*'Product Info'!AF48","v":0},{"$f":"AI47*'Product Info'!AW48","v":0},{"$f":"AI47*'Product Info'!AZ48","v":0},{"$f":"AI47*'Product Info'!BC48","v":0},{"$f":"AI47*'Product Info'!BF48","v":0},{"$f":"AI47*'Product Info'!BI48","v":0},{"$f":"AI47*'Product Info'!BL48","v":0},{"$f":"AI47*'Product Info'!BO48","v":0},{"$f":"AI47*'Product Info'!BR48","v":0},{"$f":"AI47*'Product Info'!BU48","v":0},{"$f":"AI47*'Product Info'!BX48","v":0}]
[{"$f":"'Product Info'!A49","v":0},{"$f":"'Product Info'!B49","v":0},{"$f":"'Product Info'!C49","v":0},null,null,null,null,null,null,null,null,null,null,null,null,null,null,null,null,null,null,null,null,null,null,null,null,null,null,null,null,null,null,null,{"$f":"SUM(D48:AH48)","v":0},{"$f":"'Product Info'!F49*('Daily Info (January)'!AI48)","v":0},null,null,{"$f":"AI48*('Product Info'!H49)","v":0},{"$f":"AI48*('Product Info'!M49+'Product Info'!P49+'Product Info'!S49+'Product Info'!V49+'Product Info'!Y49+'Product Info'!AB49+'Product Info'!AE49+'Product Info'!AH49+'Product Info'!AK49+'Product Info'!AN49+'Product Info'!AQ49+'Product Info'!AT49+'Product Info'!AW49+'Product Info'!AZ49+'Product Info'!BC49+'Product Info'!BF49+'Product Info'!BI49+'Product Info'!BL49+'Product Info'!BO49+'Product Info'!BR49+'Product Info'!BU49+'Product Info'!BX49+'Product Info'!CA49+'Product Info'!CD49+'Product Info'!CG49+'Product Info'!CJ49+'Product Info'!CM49+'Product Info'!CP49+'Product Info'!CS49+'Product Info'!CV49+'Product Info'!CY49+'Product Info'!DB49+'Product Info'!DE49+'Product Info'!DH49+'Product Info'!DK49+'Product Info'!DN49+'Product Info'!DQ49+'Product Info'!DT49+'Product Info'!DW49+'Product Info'!DZ49+'Product Info'!EC49+'Product Info'!EF49+'Product Info'!EI49+'Product Info'!EL49+'Product Info'!EO49+'Product Info'!ER49+'Product Info'!EU49+'Product Info'!EX49+'Product Info'!FA49+'Product Info'!FD49)","v":0},{"$f":"AI48*('Product Info'!M49)","v":0},{"$f":"AI48*'Product Info'!P49","v":0},{"$f":"AI48*'Product Info'!S49","v":0},{"$f":"AI48*'Product Info'!V49","v":0},{"$f":"AI48*'Product Info'!Y49","v":0},{"$f":"AI48*'Product Info'!AB49","v":0},{"$f":"AI48*'Product Info'!AE49","v":0},{"$f":"AI48*'Product Info'!AH49","v":0},{"$f":"AI48*'Product Info'!AK49","v":0},{"$f":"AI48*'Product Info'!AN49","v":0},{"$f":"AI48*'Product Info'!AQ49","v":0},{"$f":"AR48*'Product Info'!AF49","v":0},{"$f":"AI48*'Product Info'!AW49","v":0},{"$f":"AI48*'Product Info'!AZ49","v":0},{"$f":"AI48*'Product Info'!BC49","v":0},{"$f":"AI48*'Product Info'!BF49","v":0},{"$f":"AI48*'Product Info'!BI49","v":0},{"$f":"AI48*'Product Info'!BL49","v":0},{"$f":"AI48*'Product Info'!BO49","v":0},{"$f":"AI48*'Product Info'!BR49","v":0},{"$f":"AI48*'Product Info'!BU49","v":0},{"$f":"AI48*'Product Info'!BX49","v":0}]
[{"$f":"'Product Info'!A50","v":0},{"$f":"'Product Info'!B50","v":0},{"$f":"'Product Info'!C50","v":0},null,null,null,null,null,null,null,null,null,null,null,null,null,null,null,null,null,null,null,null,null,null,null,null,null,null,null,null,null,null,null,0,{"$f":"'Product Info'!F50*('Daily Info (January)'!AI49)","v":0},null,null,{"$f":"AI49*('Product Info'!H50)","v":0},{"$f":"AI49*('Product Info'!M50+'Product Info'!P50+'Product Info'!S50+'Product Info'!V50+'Product Info'!Y50+'Product Info'!AB50+'Product Info'!AE50+'Product Info'!AH50+'Product Info'!AK50+'Product Info'!AN50+'Product Info'!AQ50+'Product Info'!AT50+'Product Info'!AW50+'Product Info'!AZ50+'Product Info'!BC50+'Product Info'!BF50+'Product Info'!BI50+'Product Info'!BL50+'Product Info'!BO50+'Product Info'!BR50+'Product Info'!BU50+'Product Info'!BX50+'Product Info'!CA50+'Product Info'!CD50+'Product Info'!CG50+'Product Info'!CJ50+'Product Info'!CM50+'Product Info'!CP50+'Product Info'!CS50+'Product Info'!CV50+'Product Info'!CY50+'Product Info'!DB50+'Product Info'!DE50+'Product Info'!DH50+'Product Info'!DK50+'Product Info'!DN50+'Product Info'!DQ50+'Product Info'!DT50+'Product Info'!DW50+'Product Info'!DZ50+'Product Info'!EC50+'Product Info'!EF50+'Product Info'!EI50+'Product Info'!EL50+'Product Info'!EO50+'Product Info'!ER50+'Product Info'!EU50+'Product Info'!EX50+'Product Info'!FA50+'Product Info'!FD50)","v":0},{"$f":"AI49*('Product Info'!M50)","v":0},{"$f":"AI49*'Product Info'!P50","v":0},{"$f":"AI49*'Product Info'!S50","v":0},{"$f":"AI49*'Product Info'!V50","v":0},{"$f":"AI49*'Product Info'!Y50","v":0},{"$f":"AI49*'Product Info'!AB50","v":0},{"$f":"AI49*'Product Info'!AE50","v":0},{"$f":"AI49*'Product Info'!AH50","v":0},{"$f":"AI49*'Product Info'!AK50","v":0},{"$f":"AI49*'Product Info'!AN50","v":0},{"$f":"AI49*'Product Info'!AQ50","v":0},{"$f":"AI49*'Product Info'!AT50","v":0},{"$f":"AI49*'Product Info'!AW50","v":0},{"$f":"AI49*'Product Info'!AZ50","v":0},{"$f":"AI49*'Product Info'!BC50","v":0},{"$f":"AI49*'Product Info'!BF50","v":0},{"$f":"AI49*'Product Info'!BI50","v":0},{"$f":"AI49*'Product Info'!BL50","v":0},{"$f":"AI49*'Product Info'!BO50","v":0},{"$f":"AI49*'Product Info'!BR50","v":0},{"$f":"AI49*'Product Info'!BU50","v":0},{"$f":"AI49*'Product Info'!BX50","v":0}]
[{"$f":"'Product Info'!A51","v":0},{"$f":"'Product Info'!B51","v":0},{"$f":"'Product Info'!C51","v":0},null,null,null,null,null,null,null,null,null,null,null,null,null,null,null,null,null,null,null,null,null,null,null,null,null,null,null,null,null,null,null,0,{"$f":"'Product Info'!F51*('Daily Info (January)'!AI50)","v":0},null,null,{"$f":"AI50*('Product Info'!H51)","v":0},{"$f":"AI50*('Product Info'!M51+'Product Info'!P51+'Product Info'!S51+'Product Info'!V51+'Product Info'!Y51+'Product Info'!AB51+'Product Info'!AE51+'Product Info'!AH51+'Product Info'!AK51+'Product Info'!AN51+'Product Info'!AQ51+'Product Info'!AT51+'Product Info'!AW51+'Product Info'!AZ51+'Product Info'!BC51+'Product Info'!BF51+'Product Info'!BI51+'Product Info'!BL51+'Product Info'!BO51+'Product Info'!BR51+'Product Info'!BU51+'Product Info'!BX51+'Product Info'!CA51+'Product Info'!CD51+'Product Info'!CG51+'Product Info'!CJ51+'Product Info'!CM51+'Product Info'!CP51+'Product Info'!CS51+'Product Info'!CV51+'Product Info'!CY51+'Product Info'!DB51+'Product Info'!DE51+'Product Info'!DH51+'Product Info'!DK51+'Product Info'!DN51+'Product Info'!DQ51+'Product Info'!DT51+'Product Info'!DW51+'Product Info'!DZ51+'Product Info'!EC51+'Product Info'!EF51+'Product Info'!EI51+'Product Info'!EL51+'Product Info'!EO51+'Product Info'!ER51+'Product Info'!EU51+'Product Info'!EX51+'Product Info'!FA51+'Product Info'!FD51)","v":0},{"$f":"AI50*('Product Info'!M51)","v":0},{"$f":"AI50*'Product Info'!P51","v":0},{"$f":"AI50*'Product Info'!S51","v":0},{"$f":"AI50*'Product Info'!V51","v":0},{"$f":"AI50*'Product Info'!Y51","v":0},{"$f":"AI50*'Product Info'!AB51","v":0},{"$f":"AI50*'Product Info'!AE51","v":0},{"$f":"AI50*'Product Info'!AH51","v":0},{"$f":"AI50*'Product Info'!AK51","v":0},{"$f":"AI50*'Product Info'!AN51","v":0},{"$f":"AI50*'Product Info'!AQ51","v":0},{"$f":"AI50*'Product Info'!AT51","v":0},{"$f":"AI50*'Product Info'!AW51","v":0},{"$f":"AI50*'Product Info'!AZ51","v":0},{"$f":"AI50*'Product Info'!BC51","v":0},{"$f":"AI50*'Product Info'!BF51","v":0},{"$f":"AI50*'Product Info'!BI51","v":0},{"$f":"AI50*'Product Info'!BL51","v":0},{"$f":"AI50*'Product Info'!BO51","v":0},{"$f":"AI50*'Product Info'!BR51","v":0},{"$f":"AI50*'Product Info'!BU51","v":0},{"$f":"AI50*'Product Info'!BX51","v":0}]
[{"$f":"'Product Info'!A52","v":0},{"$f":"'Product Info'!B52","v":0},{"$f":"'Product Info'!C52","v":0},null,null,null,null,null,null,null,null,null,null,null,null,null,null,null,null,null,null,null,null,null,null,null,null,null,null,null,null,null,null,null,0,{"$f":"'Product Info'!F52*('Daily Info (January)'!AI51)","v":0},null,null,{"$f":"AI51*('Product Info'!H52)","v":0},{"$f":"AI51*('Product Info'!M52+'Product Info'!P52+'Product Info'!S52+'Product Info'!V52+'Product Info'!Y52+'Product Info'!AB52+'Product Info'!AE52+'Product Info'!AH52+'Product Info'!AK52+'Product Info'!AN52+'Product Info'!AQ52+'Product Info'!AT52+'Product Info'!AW52+'Product Info'!AZ52+'Product Info'!BC52+'Product Info'!BF52+'Product Info'!BI52+'Product Info'!BL52+'Product Info'!BO52+'Product Info'!BR52+'Product Info'!BU52+'Product Info'!BX52+'Product Info'!CA52+'Product Info'!CD52+'Product Info'!CG52+'Product Info'!CJ52+'Product Info'!CM52+'Product Info'!CP52+'Product Info'!CS52+'Product Info'!CV52+'Product Info'!CY52+'Product Info'!DB52+'Product Info'!DE52+'Product Info'!DH52+'Product Info'!DK52+'Product Info'!DN52+'Product Info'!DQ52+'Product Info'!DT52+'Product Info'!DW52+'Product Info'!DZ52+'Product Info'!EC52+'Product Info'!EF52+'Product Info'!EI52+'Product Info'!EL52+'Product Info'!EO52+'Product Info'!ER52+'Product Info'!EU52+'Product Info'!EX52+'Product Info'!FA52+'Product Info'!FD52)","v":0},{"$f":"AI51*('Product Info'!M52)","v":0},{"$f":"AI51*'Product Info'!P52","v":0},{"$f":"AI51*'Product Info'!S52","v":0},{"$f":"AI51*'Product Info'!V52","v":0},{"$f":"AI51*'Product Info'!Y52","v":0},{"$f":"AI51*'Product Info'!AB52","v":0},{"$f":"AI51*'Product Info'!AE52","v":0},{"$f":"AI51*'Product Info'!AH52","v":0},{"$f":"AI51*'Product Info'!AK52","v":0},{"$f":"AI51*'Product Info'!AN52","v":0},{"$f":"AI51*'Product Info'!AQ52","v":0},{"$f":"AI51*'Product Info'!AT52","v":0},{"$f":"AI51*'Product Info'!AW52","v":0},{"$f":"AI51*'Product Info'!AZ52","v":0},{"$f":"AI51*'Product Info'!BC52","v":0},{"$f":"AI51*'Product Info'!BF52","v":0},{"$f":"AI51*'Product Info'!BI52","v":0},{"$f":"AI51*'Product Info'!BL52","v":0},{"$f":"AI51*'Product Info'!BO52","v":0},{"$f":"AI51*'Product Info'!BR52","v":0},{"$f":"AI51*'Product Info'!BU52","v":0},{"$f":"AI51*'Product Info'!BX52","v":0}]
[{"$f":"'Product Info'!A53","v":0},{"$f":"'Product Info'!B53","v":0},{"$f":"'Product Info'!C53","v":0},null,null,null,null,null,null,null,null,null,null,null,null,null,null,null,null,null,null,null,null,null,null,null,null,null,null,null,null,null,null,null,0,{"$f":"'Product Info'!F53*('Daily Info (January)'!AI52)","v":0},null,null,{"$f":"AI52*('Product Info'!H53)","v":0},{"$f":"AI52*('Product Info'!M53+'Product Info'!P53+'Product Info'!S53+'Product Info'!V53+'Product Info'!Y53+'Product Info'!AB53+'Product Info'!AE53+'Product Info'!AH53+'Product Info'!AK53+'Product Info'!AN53+'Product Info'!AQ53+'Product Info'!AT53+'Product Info'!AW53+'Product Info'!AZ53+'Product Info'!BC53+'Product Info'!BF53+'Product Info'!BI53+'Product Info'!BL53+'Product Info'!BO53+'Product Info'!BR53+'Product Info'!BU53+'Product Info'!BX53+'Product Info'!CA53+'Product Info'!CD53+'Product Info'!CG53+'Product Info'!CJ53+'Product Info'!CM53+'Product Info'!CP53+'Product Info'!CS53+'Product Info'!CV53+'Product Info'!CY53+'Product Info'!DB53+'Product Info'!DE53+'Product Info'!DH53+'Product Info'!DK53+'Product Info'!DN53+'Product Info'!DQ53+'Product Info'!DT53+'Product Info'!DW53+'Product Info'!DZ53+'Product Info'!EC53+'Product Info'!EF53+'Product Info'!EI53+'Product Info'!EL53+'Product Info'!EO53+'Product Info'!ER53+'Product Info'!EU53+'Product Info'!EX53+'Product Info'!FA53+'Product Info'!FD53)","v":0},{"$f":"AI52*('Product Info'!M53)","v":0},{"$f":"AI52*'Product Info'!P53","v":0},{"$f":"AI52*'Product Info'!S53","v":0},{"$f":"AI52*'Product Info'!V53","v":0},{"$f":"AI52*'Product Info'!Y53","v":0},{"$f":"AI52*'Product Info'!AB53","v":0},{"$f":"AI52*'Product Info'!AE53","v":0},{"$f":"AI52*'Product Info'!AH53","v":0},{"$f":"AI52*'Product Info'!AK53","v":0},{"$f":"AI52*'Product Info'!AN53","v":0},{"$f":"AI52*'Product Info'!AQ53","v":0},{"$f":"AI52*'Product Info'!AT53","v":0},{"$f":"AI52*'Product Info'!AW53","v":0},{"$f":"AI52*'Product Info'!AZ53","v":0},{"$f":"AI52*'Product Info'!BC53","v":0},{"$f":"AI52*'Product Info'!BF53","v":0},{"$f":"AI52*'Product Info'!BI53","v":0},{"$f":"AI52*'Product Info'!BL53","v":0},{"$f":"AI52*'Product Info'!BO53","v":0},{"$f":"AI52*'Product Info'!BR53","v":0},{"$f":"AI52*'Product Info'!BU53","v":0},{"$f":"AI52*'Product Info'!BX53","v":0}]
[{"$f":"'Product Info'!A54","v":0},{"$f":"'Product Info'!B54","v":0},{"$f":"'Product Info'!C54","v":0},null,null,null,null,null,null,null,null,null,null,null,null,null,null,null,null,null,null,null,null,null,null,null,null,null,null,null,null,null,null,null,0,{"$f":"'Product Info'!F54*('Daily Info (January)'!AI53)","v":0},null,null,{"$f":"AI53*('Product Info'!H54)","v":0},{"$f":"AI53*('Product Info'!M54+'Product Info'!P54+'Product Info'!S54+'Product Info'!V54+'Product Info'!Y54+'Product Info'!AB54+'Product Info'!AE54+'Product Info'!AH54+'Product Info'!AK54+'Product Info'!AN54+'Product Info'!AQ54+'Product Info'!AT54+'Product Info'!AW54+'Product Info'!AZ54+'Product Info'!BC54+'Product Info'!BF54+'Product Info'!BI54+'Product Info'!BL54+'Product Info'!BO54+'Product Info'!BR54+'Product Info'!BU54+'Product Info'!BX54+'Product Info'!CA54+'Product Info'!CD54+'Product Info'!CG54+'Product Info'!CJ54+'Product Info'!CM54+'Product Info'!CP54+'Product Info'!CS54+'Product Info'!CV54+'Product Info'!CY54+'Product Info'!DB54+'Product Info'!DE54+'Product Info'!DH54+'Product Info'!DK54+'Product Info'!DN54+'Product Info'!DQ54+'Product Info'!DT54+'Product Info'!DW54+'Product Info'!DZ54+'Product Info'!EC54+'Product Info'!EF54+'Product Info'!EI54+'Product Info'!EL54+'Product Info'!EO54+'Product Info'!ER54+'Product Info'!EU54+'Product Info'!EX54+'Product Info'!FA54+'Product Info'!FD54)","v":0},{"$f":"AI53*('Product Info'!M54)","v":0},{"$f":"AI53*'Product Info'!P54","v":0},{"$f":"AI53*'Product Info'!S54","v":0},{"$f":"AI53*'Product Info'!V54","v":0},{"$f":"AI53*'Product Info'!Y54","v":0},{"$f":"AI53*'Product Info'!AB54","v":0},{"$f":"AI53*'Product Info'!AE54","v":0},{"$f":"AI53*'Product Info'!AH54","v":0},{"$f":"AI53*'Product Info'!AK54","v":0},{"$f":"AI53*'Product Info'!AN54","v":0},{"$f":"AI53*'Product Info'!AQ54","v":0},{"$f":"AI53*'Product Info'!AT54","v":0},{"$f":"AI53*'Product Info'!AW54","v":0},{"$f":"AI53*'Product Info'!AZ54","v":0},{"$f":"AI53*'Product Info'!BC54","v":0},{"$f":"AI53*'Product Info'!BF54","v":0},{"$f":"AI53*'Product Info'!BI54","v":0},{"$f":"AI53*'Product Info'!BL54","v":0},{"$f":"AI53*'Product Info'!BO54","v":0},{"$f":"AI53*'Product Info'!BR54","v":0},{"$f":"AI53*'Product Info'!BU54","v":0},{"$f":"AI53*'Product Info'!BX54","v":0}]
[{"$f":"'Product Info'!A55","v":0},{"$f":"'Product Info'!B55","v":0},{"$f":"'Product Info'!C55","v":0},null,null,null,null,null,null,null,null,null,null,null,null,null,null,null,null,null,null,null,null,null,null,null,null,null,null,null,null,null,null,null,0,{"$f":"'Product Info'!F55*('Daily Info (January)'!AI54)","v":0},null,null,{"$f":"AI54*('Product Info'!H55)","v":0},{"$f":"AI54*('Product Info'!M55+'Product Info'!P55+'Product Info'!S55+'Product Info'!V55+'Product Info'!Y55+'Product Info'!AB55+'Product Info'!AE55+'Product Info'!AH55+'Product Info'!AK55+'Product Info'!AN55+'Product Info'!AQ55+'Product Info'!AT55+'Product Info'!AW55+'Product Info'!AZ55+'Product Info'!BC55+'Product Info'!BF55+'Product Info'!BI55+'Product Info'!BL55+'Product Info'!BO55+'Product Info'!BR55+'Product Info'!BU55+'Product Info'!BX55+'Product Info'!CA55+'Product Info'!CD55+'Product Info'!CG55+'Product Info'!CJ55+'Product Info'!CM55+'Product Info'!CP55+'Product Info'!CS55+'Product Info'!CV55+'Product Info'!CY55+'Product Info'!DB55+'Product Info'!DE55+'Product Info'!DH55+'Product Info'!DK55+'Product Info'!DN55+'Product Info'!DQ55+'Product Info'!DT55+'Product Info'!DW55+'Product Info'!DZ55+'Product Info'!EC55+'Product Info'!EF55+'Product Info'!EI55+'Product Info'!EL55+'Product Info'!EO55+'Product Info'!ER55+'Product Info'!EU55+'Product Info'!EX55+'Product Info'!FA55+'Product Info'!FD55)","v":0},{"$f":"AI54*('Product Info'!M55)","v":0},{"$f":"AI54*'Product Info'!P55","v":0},{"$f":"AI54*'Product Info'!S55","v":0},{"$f":"AI54*'Product Info'!V55","v":0},{"$f":"AI54*'Product Info'!Y55","v":0},{"$f":"AI54*'Product Info'!AB55","v":0},{"$f":"AI54*'Product Info'!AE55","v":0},{"$f":"AI54*'Product Info'!AH55","v":0},{"$f":"AI54*'Product Info'!AK55","v":0},{"$f":"AI54*'Product Info'!AN55","v":0},{"$f":"AI54*'Product Info'!AQ55","v":0},{"$f":"AI54*'Product Info'!AT55","v":0},{"$f":"AI54*'Product Info'!AW55","v":0},{"$f":"AI54*'Product Info'!AZ55","v":0},{"$f":"AI54*'Product Info'!BC55","v":0},{"$f":"AI54*'Product Info'!BF55","v":0},{"$f":"AI54*'Product Info'!BI55","v":0},{"$f":"AI54*'Product Info'!BL55","v":0},{"$f":"AI54*'Product Info'!BO55","v":0},{"$f":"AI54*'Product Info'!BR55","v":0},{"$f":"AI54*'Product Info'!BU55","v":0},{"$f":"AI54*'Product Info'!BX55","v":0}]
[{"$f":"'Product Info'!A56","v":0},{"$f":"'Product Info'!B56","v":0},{"$f":"'Product Info'!C56","v":0},null,null,null,null,null,null,null,null,null,null,null,null,null,null,null,null,null,null,null,null,null,null,null,null,null,null,null,null,null,null,null,0,{"$f":"'Product Info'!F56*('Daily Info (January)'!AI55)","v":0},null,null,{"$f":"AI55*('Product Info'!H56)","v":0},{"$f":"AI55*('Product Info'!M56+'Product Info'!P56+'Product Info'!S56+'Product Info'!V56+'Product Info'!Y56+'Product Info'!AB56+'Product Info'!AE56+'Product Info'!AH56+'Product Info'!AK56+'Product Info'!AN56+'Product Info'!AQ56+'Product Info'!AT56+'Product Info'!AW56+'Product Info'!AZ56+'Product Info'!BC56+'Product Info'!BF56+'Product Info'!BI56+'Product Info'!BL56+'Product Info'!BO56+'Product Info'!BR56+'Product Info'!BU56+'Product Info'!BX56+'Product Info'!CA56+'Product Info'!CD56+'Product Info'!CG56+'Product Info'!CJ56+'Product Info'!CM56+'Product Info'!CP56+'Product Info'!CS56+'Product Info'!CV56+'Product Info'!CY56+'Product Info'!DB56+'Product Info'!DE56+'Product Info'!DH56+'Product Info'!DK56+'Product Info'!DN56+'Product Info'!DQ56+'Product Info'!DT56+'Product Info'!DW56+'Product Info'!DZ56+'Product Info'!EC56+'Product Info'!EF56+'Product Info'!EI56+'Product Info'!EL56+'Product Info'!EO56+'Product Info'!ER56+'Product Info'!EU56+'Product Info'!EX56+'Product Info'!FA56+'Product Info'!FD56)","v":0},{"$f":"AI55*('Product Info'!M56)","v":0},{"$f":"AI55*'Product Info'!P56","v":0},{"$f":"AI55*'Product Info'!S56","v":0},{"$f":"AI55*'Product Info'!V56","v":0},{"$f":"AI55*'Product Info'!Y56","v":0},{"$f":"AI55*'Product Info'!AB56","v":0},{"$f":"AI55*'Product Info'!AE56","v":0},{"$f":"AI55*'Product Info'!AH56","v":0},{"$f":"AI55*'Product Info'!AK56","v":0},{"$f":"AI55*'Product Info'!AN56","v":0},{"$f":"AI55*'Product Info'!AQ56","v":0},{"$f":"AI55*'Product Info'!AT56","v":0},{"$f":"AI55*'Product Info'!AW56","v":0},{"$f":"AI55*'Product Info'!AZ56","v":0},{"$f":"AI55*'Product Info'!BC56","v":0},{"$f":"AI55*'Product Info'!BF56","v":0},{"$f":"AI55*'Product Info'!BI56","v":0},{"$f":"AI55*'Product Info'!BL56","v":0},{"$f":"AI55*'Product Info'!BO56","v":0},{"$f":"AI55*'Product Info'!BR56","v":0},{"$f":"AI55*'Product Info'!BU56","v":0},{"$f":"AI55*'Product Info'!BX56","v":0}]
[{"$f":"'Product Info'!A57","v":0},{"$f":"'Product Info'!B57","v":0},{"$f":"'Product Info'!C57","v":0},null,null,null,null,null,null,null,null,null,null,null,null,null,null,null,null,null,null,null,null,null,null,null,null,null,null,null,null,null,null,null,0,{"$f":"'Product Info'!F57*('Daily Info (January)'!AI56)","v":0},null,null,{"$f":"AI56*('Product Info'!H57)","v":0},{"$f":"AI56*('Product Info'!M57+'Product Info'!P57+'Product Info'!S57+'Product Info'!V57+'Product Info'!Y57+'Product Info'!AB57+'Product Info'!AE57+'Product Info'!AH57+'Product Info'!AK57+'Product Info'!AN57+'Product Info'!AQ57+'Product Info'!AT57+'Product Info'!AW57+'Product Info'!AZ57+'Product Info'!BC57+'Product Info'!BF57+'Product Info'!BI57+'Product Info'!BL57+'Product Info'!BO57+'Product Info'!BR57+'Product Info'!BU57+'Product Info'!BX57+'Product Info'!CA57+'Product Info'!CD57+'Product Info'!CG57+'Product Info'!CJ57+'Product Info'!CM57+'Product Info'!CP57+'Product Info'!CS57+'Product Info'!CV57+'Product Info'!CY57+'Product Info'!DB57+'Product Info'!DE57+'Product Info'!DH57+'Product Info'!DK57+'Product Info'!DN57+'Product Info'!DQ57+'Product Info'!DT57+'Product Info'!DW57+'Product Info'!DZ57+'Product Info'!EC57+'Product Info'!EF57+'Product Info'!EI57+'Product Info'!EL57+'Product Info'!EO57+'Product Info'!ER57+'Product Info'!EU57+'Product Info'!EX57+'Product Info'!FA57+'Product Info'!FD57)","v":0},{"$f":"AI56*('Product Info'!M57)","v":0},{"$f":"AI56*'Product Info'!P57","v":0},{"$f":"AI56*'Product Info'!S57","v":0},{"$f":"AI56*'Product Info'!V57","v":0},{"$f":"AI56*'Product Info'!Y57","v":0},{"$f":"AI56*'Product Info'!AB57","v":0},{"$f":"AI56*'Product Info'!AE57","v":0},{"$f":"AI56*'Product Info'!AH57","v":0},{"$f":"AI56*'Product Info'!AK57","v":0},{"$f":"AI56*'Product Info'!AN57","v":0},{"$f":"AI56*'Product Info'!AQ57","v":0},{"$f":"AI56*'Product Info'!AT57","v":0},{"$f":"AI56*'Product Info'!AW57","v":0},{"$f":"AI56*'Product Info'!AZ57","v":0},{"$f":"AI56*'Product Info'!BC57","v":0},{"$f":"AI56*'Product Info'!BF57","v":0},{"$f":"AI56*'Product Info'!BI57","v":0},{"$f":"AI56*'Product Info'!BL57","v":0},{"$f":"AI56*'Product Info'!BO57","v":0},{"$f":"AI56*'Product Info'!BR57","v":0},{"$f":"AI56*'Product Info'!BU57","v":0},{"$f":"AI56*'Product Info'!BX57","v":0}]
[{"$f":"'Product Info'!A58","v":0},{"$f":"'Product Info'!B58","v":0},{"$f":"'Product Info'!C58","v":0},null,null,null,null,null,null,null,null,null,null,null,null,null,null,null,null,null,null,null,null,null,null,null,null,null,null,null,null,null,null,null,0,{"$f":"'Product Info'!F58*('Daily Info (January)'!AI57)","v":0},null,null,{"$f":"AI57*('Product Info'!H58)","v":0},{"$f":"AI57*('Product Info'!M58+'Product Info'!P58+'Product Info'!S58+'Product Info'!V58+'Product Info'!Y58+'Product Info'!AB58+'Product Info'!AE58+'Product Info'!AH58+'Product Info'!AK58+'Product Info'!AN58+'Product Info'!AQ58+'Product Info'!AT58+'Product Info'!AW58+'Product Info'!AZ58+'Product Info'!BC58+'Product Info'!BF58+'Product Info'!BI58+'Product Info'!BL58+'Product Info'!BO58+'Product Info'!BR58+'Product Info'!BU58+'Product Info'!BX58+'Product Info'!CA58+'Product Info'!CD58+'Product Info'!CG58+'Product Info'!CJ58+'Product Info'!CM58+'Product Info'!CP58+'Product Info'!CS58+'Product Info'!CV58+'Product Info'!CY58+'Product Info'!DB58+'Product Info'!DE58+'Product Info'!DH58+'Product Info'!DK58+'Product Info'!DN58+'Product Info'!DQ58+'Product Info'!DT58+'Product Info'!DW58+'Product Info'!DZ58+'Product Info'!EC58+'Product Info'!EF58+'Product Info'!EI58+'Product Info'!EL58+'Product Info'!EO58+'Product Info'!ER58+'Product Info'!EU58+'Product Info'!EX58+'Product Info'!FA58+'Product Info'!FD58)","v":0},{"$f":"AI57*('Product Info'!M58)","v":0},{"$f":"AI57*'Product Info'!P58","v":0},{"$f":"AI57*'Product Info'!S58","v":0},{"$f":"AI57*'Product Info'!V58","v":0},{"$f":"AI57*'Product Info'!Y58","v":0},{"$f":"AI57*'Product Info'!AB58","v":0},{"$f":"AI57*'Product Info'!AE58","v":0},{"$f":"AI57*'Product Info'!AH58","v":0},{"$f":"AI57*'Product Info'!AK58","v":0},{"$f":"AI57*'Product Info'!AN58","v":0},{"$f":"AI57*'Product Info'!AQ58","v":0},{"$f":"AI57*'Product Info'!AT58","v":0},{"$f":"AI57*'Product Info'!AW58","v":0},{"$f":"AI57*'Product Info'!AZ58","v":0},{"$f":"AI57*'Product Info'!BC58","v":0},{"$f":"AI57*'Product Info'!BF58","v":0},{"$f":"AI57*'Product Info'!BI58","v":0},{"$f":"AI57*'Product Info'!BL58","v":0},{"$f":"AI57*'Product Info'!BO58","v":0},{"$f":"AI57*'Product Info'!BR58","v":0},{"$f":"AI57*'Product Info'!BU58","v":0},{"$f":"AI57*'Product Info'!BX58","v":0}]
[{"$f":"'Product Info'!A59","v":0},{"$f":"'Product Info'!B59","v":0},{"$f":"'Product Info'!C59","v":0},null,null,null,null,null,null,null,null,null,null,null,null,null,null,null,null,null,null,null,null,null,null,null,null,null,null,null,null,null,null,null,0,{"$f":"'Product Info'!F59*('Daily Info (January)'!AI58)","v":0},null,null,{"$f":"AI58*('Product Info'!H59)","v":0},{"$f":"AI58*('Product Info'!M59+'Product Info'!P59+'Product Info'!S59+'Product Info'!V59+'Product Info'!Y59+'Product Info'!AB59+'Product Info'!AE59+'Product Info'!AH59+'Product Info'!AK59+'Product Info'!AN59+'Product Info'!AQ59+'Product Info'!AT59+'Product Info'!AW59+'Product Info'!AZ59+'Product Info'!BC59+'Product Info'!BF59+'Product Info'!BI59+'Product Info'!BL59+'Product Info'!BO59+'Product Info'!BR59+'Product Info'!BU59+'Product Info'!BX59+'Product Info'!CA59+'Product Info'!CD59+'Product Info'!CG59+'Product Info'!CJ59+'Product Info'!CM59+'Product Info'!CP59+'Product Info'!CS59+'Product Info'!CV59+'Product Info'!CY59+'Product Info'!DB59+'Product Info'!DE59+'Product Info'!DH59+'Product Info'!DK59+'Product Info'!DN59+'Product Info'!DQ59+'Product Info'!DT59+'Product Info'!DW59+'Product Info'!DZ59+'Product Info'!EC59+'Product Info'!EF59+'Product Info'!EI59+'Product Info'!EL59+'Product Info'!EO59+'Product Info'!ER59+'Product Info'!EU59+'Product Info'!EX59+'Product Info'!FA59+'Product Info'!FD59)","v":0},{"$f":"AI58*('Product Info'!M59)","v":0},{"$f":"AI58*'Product Info'!P59","v":0},{"$f":"AI58*'Product Info'!S59","v":0},{"$f":"AI58*'Product Info'!V59","v":0},{"$f":"AI58*'Product Info'!Y59","v":0},{"$f":"AI58*'Product Info'!AB59","v":0},{"$f":"AI58*'Product Info'!AE59","v":0},{"$f":"AI58*'Product Info'!AH59","v":0},{"$f":"AI58*'Product Info'!AK59","v":0},{"$f":"AI58*'Product Info'!AN59","v":0},{"$f":"AI58*'Product Info'!AQ59","v":0},{"$f":"AI58*'Product Info'!AT59","v":0},{"$f":"AI58*'Product Info'!AW59","v":0},{"$f":"AI58*'Product Info'!AZ59","v":0},{"$f":"AI58*'Product Info'!BC59","v":0},{"$f":"AI58*'Product Info'!BF59","v":0},{"$f":"AI58*'Product Info'!BI59","v":0},{"$f":"AI58*'Product Info'!BL59","v":0},{"$f":"AI58*'Product Info'!BO59","v":0},{"$f":"AI58*'Product Info'!BR59","v":0},{"$f":"AI58*'Product Info'!BU59","v":0},{"$f":"AI58*'Product Info'!BX59","v":0}]
[{"$f":"'Product Info'!A60","v":0},{"$f":"'Product Info'!B60","v":0},{"$f":"'Product Info'!C60","v":0},null,null,null,null,null,null,null,null,null,null,null,null,null,null,null,null,null,null,null,null,null,null,null,null,null,null,null,null,null,null,null,0,{"$f":"'Product Info'!F60*('Daily Info (January)'!AI59)","v":0},null,null,{"$f":"AI59*('Product Info'!H60)","v":0},{"$f":"AI59*('Product Info'!M60+'Product Info'!P60+'Product Info'!S60+'Product Info'!V60+'Product Info'!Y60+'Product Info'!AB60+'Product Info'!AE60+'Product Info'!AH60+'Product Info'!AK60+'Product Info'!AN60+'Product Info'!AQ60+'Product Info'!AT60+'Product Info'!AW60+'Product Info'!AZ60+'Product Info'!BC60+'Product Info'!BF60+'Product Info'!BI60+'Product Info'!BL60+'Product Info'!BO60+'Product Info'!BR60+'Product Info'!BU60+'Product Info'!BX60+'Product Info'!CA60+'Product Info'!CD60+'Product Info'!CG60+'Product Info'!CJ60+'Product Info'!CM60+'Product Info'!CP60+'Product Info'!CS60+'Product Info'!CV60+'Product Info'!CY60+'Product Info'!DB60+'Product Info'!DE60+'Product Info'!DH60+'Product Info'!DK60+'Product Info'!DN60+'Product Info'!DQ60+'Product Info'!DT60+'Product Info'!DW60+'Product Info'!DZ60+'Product Info'!EC60+'Product Info'!EF60+'Product Info'!EI60+'Product Info'!EL60+'Product Info'!EO60+'Product Info'!ER60+'Product Info'!EU60+'Product Info'!EX60+'Product Info'!FA60+'Product Info'!FD60)","v":0},{"$f":"AI59*('Product Info'!M60)","v":0},{"$f":"AI59*'Product Info'!P60","v":0},{"$f":"AI59*'Product Info'!S60","v":0},{"$f":"AI59*'Product Info'!V60","v":0},{"$f":"AI59*'Product Info'!Y60","v":0},{"$f":"AI59*'Product Info'!AB60","v":0},{"$f":"AI59*'Product Info'!AE60","v":0},{"$f":"AI59*'Product Info'!AH60","v":0},{"$f":"AI59*'Product Info'!AK60","v":0},{"$f":"AI59*'Product Info'!AN60","v":0},{"$f":"AI59*'Product Info'!AQ60","v":0},{"$f":"AI59*'Product Info'!AT60","v":0},{"$f":"AI59*'Product Info'!AW60","v":0},{"$f":"AI59*'Product Info'!AZ60","v":0},{"$f":"AI59*'Product Info'!BC60","v":0},{"$f":"AI59*'Product Info'!BF60","v":0},{"$f":"AI59*'Product Info'!BI60","v":0},{"$f":"AI59*'Product Info'!BL60","v":0},{"$f":"AI59*'Product Info'!BO60","v":0},{"$f":"AI59*'Product Info'!BR60","v":0},{"$f":"AI59*'Product Info'!BU60","v":0},{"$f":"AI59*'Product Info'!BX60","v":0}]
[{"$f":"'Product Info'!A61","v":0},{"$f":"'Product Info'!B61","v":0},{"$f":"'Product Info'!C61","v":0},null,null,null,null,null,null,null,null,null,null,null,null,null,null,null,null,null,null,null,null,null,null,null,null,null,null,null,null,null,null,null,0,{"$f":"'Product Info'!F61*('Daily Info (January)'!AI60)","v":0},null,null,{"$f":"AI60*('Product Info'!H61)","v":0},{"$f":"AI60*('Product Info'!M61+'Product Info'!P61+'Product Info'!S61+'Product Info'!V61+'Product Info'!Y61+'Product Info'!AB61+'Product Info'!AE61+'Product Info'!AH61+'Product Info'!AK61+'Product Info'!AN61+'Product Info'!AQ61+'Product Info'!AT61+'Product Info'!AW61+'Product Info'!AZ61+'Product Info'!BC61+'Product Info'!BF61+'Product Info'!BI61+'Product Info'!BL61+'Product Info'!BO61+'Product Info'!BR61+'Product Info'!BU61+'Product Info'!BX61+'Product Info'!CA61+'Product Info'!CD61+'Product Info'!CG61+'Product Info'!CJ61+'Product Info'!CM61+'Product Info'!CP61+'Product Info'!CS61+'Product Info'!CV61+'Product Info'!CY61+'Product Info'!DB61+'Product Info'!DE61+'Product Info'!DH61+'Product Info'!DK61+'Product Info'!DN61+'Product Info'!DQ61+'Product Info'!DT61+'Product Info'!DW61+'Product Info'!DZ61+'Product Info'!EC61+'Product Info'!EF61+'Product Info'!EI61+'Product Info'!EL61+'Product Info'!EO61+'Product Info'!ER61+'Product Info'!EU61+'Product Info'!EX61+'Product Info'!FA61+'Product Info'!FD61)","v":0},{"$f":"AI60*('Product Info'!M61)","v":0},{"$f":"AI60*'Product Info'!P61","v":0},{"$f":"AI60*'Product Info'!S61","v":0},{"$f":"AI60*'Product Info'!V61","v":0},{"$f":"AI60*'Product Info'!Y61","v":0},{"$f":"AI60*'Product Info'!AB61","v":0},{"$f":"AI60*'Product Info'!AE61","v":0},{"$f":"AI60*'Product Info'!AH61","v":0},{"$f":"AI60*'Product Info'!AK61","v":0},{"$f":"AI60*'Product Info'!AN61","v":0},{"$f":"AI60*'Product Info'!AQ61","v":0},{"$f":"AI60*'Product Info'!AT61","v":0},{"$f":"AI60*'Product Info'!AW61","v":0},{"$f":"AI60*'Product Info'!AZ61","v":0},{"$f":"AI60*'Product Info'!BC61","v":0},{"$f":"AI60*'Product Info'!BF61","v":0},{"$f":"AI60*'Product Info'!BI61","v":0},{"$f":"AI60*'Product Info'!BL61","v":0},{"$f":"AI60*'Product Info'!BO61","v":0},{"$f":"AI60*'Product Info'!BR61","v":0},{"$f":"AI60*'Product Info'!BU61","v":0},{"$f":"AI60*'Product Info'!BX61","v":0}]
[{"$f":"'Product Info'!A62","v":0},{"$f":"'Product Info'!B62","v":0},{"$f":"'Product Info'!C62","v":0},null,null,null,null,null,null,null,null,null,null,null,null,null,null,null,null,null,null,null,null,null,null,null,null,null,null,null,null,null,null,null,0,{"$f":"'Product Info'!F62*('Daily Info (January)'!AI61)","v":0},null,null,{"$f":"AI61*('Product Info'!H62)","v":0},{"$f":"AI61*('Product Info'!M62+'Product Info'!P62+'Product Info'!S62+'Product Info'!V62+'Product Info'!Y62+'Product Info'!AB62+'Product Info'!AE62+'Product Info'!AH62+'Product Info'!AK62+'Product Info'!AN62+'Product Info'!AQ62+'Product Info'!AT62+'Product Info'!AW62+'Product Info'!AZ62+'Product Info'!BC62+'Product Info'!BF62+'Product Info'!BI62+'Product Info'!BL62+'Product Info'!BO62+'Product Info'!BR62+'Product Info'!BU62+'Product Info'!BX62+'Product Info'!CA62+'Product Info'!CD62+'Product Info'!CG62+'Product Info'!CJ62+'Product Info'!CM62+'Product Info'!CP62+'Product Info'!CS62+'Product Info'!CV62+'Product Info'!CY62+'Product Info'!DB62+'Product Info'!DE62+'Product Info'!DH62+'Product Info'!DK62+'Product Info'!DN62+'Product Info'!DQ62+'Product Info'!DT62+'Product Info'!DW62+'Product Info'!DZ62+'Product Info'!EC62+'Product Info'!EF62+'Product Info'!EI62+'Product Info'!EL62+'Product Info'!EO62+'Product Info'!ER62+'Product Info'!EU62+'Product Info'!EX62+'Product Info'!FA62+'Product Info'!FD62)","v":0},{"$f":"AI61*('Product Info'!M62)","v":0},{"$f":"AI61*'Product Info'!P62","v":0},{"$f":"AI61*'Product Info'!S62","v":0},{"$f":"AI61*'Product Info'!V62","v":0},{"$f":"AI61*'Product Info'!Y62","v":0},{"$f":"AI61*'Product Info'!AB62","v":0},{"$f":"AI61*'Product Info'!AE62","v":0},{"$f":"AI61*'Product Info'!AH62","v":0},{"$f":"AI61*'Product Info'!AK62","v":0},{"$f":"AI61*'Product Info'!AN62","v":0},{"$f":"AI61*'Product Info'!AQ62","v":0},{"$f":"AI61*'Product Info'!AT62","v":0},{"$f":"AI61*'Product Info'!AW62","v":0},{"$f":"AI61*'Product Info'!AZ62","v":0},{"$f":"AI61*'Product Info'!BC62","v":0},{"$f":"AI61*'Product Info'!BF62","v":0},{"$f":"AI61*'Product Info'!BI62","v":0},{"$f":"AI61*'Product Info'!BL62","v":0},{"$f":"AI61*'Product Info'!BO62","v":0},{"$f":"AI61*'Product Info'!BR62","v":0},{"$f":"AI61*'Product Info'!BU62","v":0},{"$f":"AI61*'Product Info'!BX62","v":0}]
["TOTALS for January",null,null,null,null,null,null,null,null,null,null,null,null,null,null,null,null,null,null,null,null,null,null,null,null,null,null,null,null,null,null,null,null,null,{"$f":"SUM(AI4:AI18)","v":0},0,null,null,0,0,0,0,0,0,0,0,0,0,0,0,0,0,0,{"$f":"SUM(BB4:BB18)","v":0},0,0,0,0,0,0,0,0]

{"sheet":"Daily Info (February)","index":3,"n_rows":62,"n_cols":59,"rows_kept":62,"cut":false,"hidden":false,"merged":[[60,32,60,33],[61,32,61,33],[56,32,56,33],[57,32,57,33],[58,32,58,33],[59,32,59,33],[52,32,52,33],[53,32,53,33],[54,32,54,33],[55,32,55,33],[48,32,48,33],[49,32,49,33],[50,32,50,33],[51,32,51,33],[44,32,44,33],[45,32,45,33],[46,32,46,33],[47,32,47,33],[40,32,40,33],[41,32,41,33],[42,32,42,33],[43,32,43,33],[36,32,36,33],[37,32,37,33],[38,32,38,33],[39,32,39,33],[32,32,32,33],[33,32,33,33],[34,32,34,33],[35,32,35,33],[28,32,28,33],[29,32,29,33],[30,32,30,33],[31,32,31,33],[24,32,24,33],[25,32,25,33],[26,32,26,33],[27,32,27,33],[23,32,23,33],[16,32,16,33],[17,32,17,33],[18,32,18,33],[19,32,19,33],[10,32,10,33],[11,32,11,33],[20,32,20,33],[21,32,21,33],[22,32,22,33],[0,3,0,12],[0,35,0,36],[61,0,61,1],[61,3,61,30],[1,32,1,33],[3,32,3,33],[4,32,4,33],[5,32,5,33],[6,32,6,33],[7,32,7,33],[12,32,12,33],[13,32,13,33],[14,32,14,33],[15,32,15,33],[8,32,8,33],[9,32,9,33]]}
["Main Menu","VOC Product Information",null,"Daily Usage (gal)",null,null,null,null,null,null,null,null,null,null,null,null,null,null,null,null,null,null,null,null,null,"Daily Usage (gal)",null,null,null,null,null,null,null,null,null,"Emissions"]
["Product Number","Product Name","Product Type","2006-02-01","2006-02-02","2006-02-03","2006-02-04","2006-02-05","2006-02-06","2006-02-07","2006-02-08","2006-02-09","2006-02-10","2006-02-11","2006-02-12","2006-02-13","2006-02-14","2006-02-15","2006-02-16","2006-02-17","2006-02-18","2006-02-19","2006-02-20","2006-02-21","2006-02-22","2006-02-23","1900-01-24","2006-02-25","2006-02-26","2006-02-27","2006-02-28","Total Usage (gal)","Total Usage (lbs)",null,null,"Pounds VOCs Emitted","Pounds Total HAPs Emitted",{"$f":"'Product Info'!K3","v":0},{"$f":"'Product Info'!N3","v":0},{"$f":"'Product Info'!Q3","v":0},{"$f":"'Product Info'!T3","v":0},{"$f":"'Product Info'!W3","v":0},{"$f":"'Product Info'!Z3","v":0},{"$f":"'Product Info'!AC3","v":0},{"$f":"'Product Info'!AF3","v":0},{"$f":"'Product Info'!AI3","v":0},{"$f":"'Product Info'!AL3","v":0},{"$f":"'Product Info'!AO3","v":0},{"$f":"'Product Info'!AR3","v":0},{"$f":"'Product Info'!AU3","v":0},{"$f":"'Product Info'!AX3","v":0},{"$f":"'Product Info'!BA3","v":0},{"$f":"'Product Info'!BD3","v":0},{"$f":"'Product Info'!BG3","v":0},{"$f":"'Product Info'!BJ3","v":0},{"$f":"'Product Info'!BM3","v":0},{"$f":"'Product Info'!BP3","v":0},{"$f":"'Product Info'!BS3","v":0},{"$f":"'Product Info'!BV3","v":0}]
[]
[{"$f":"'Product Info'!A5","v":0},{"$f":"'Product Info'!B5","v":0},{"$f":"'Product Info'!C5","v":0},null,null,null,null,null,null,null,null,null,null,null,null,null,null,null,null,null,null,null,null,null,null,null,null,null,null,null,null,{"$f":"SUM(D4:AE4)","v":0},{"$f":"'Product Info'!F5*('Daily Info (February)'!AF4)","v":0},null,null,{"$f":"AF4*('Product Info'!H5)","v":0},{"$f":"AF4*('Product Info'!M5+'Product Info'!P5+'Product Info'!S5+'Product Info'!V5+'Product Info'!Y5+'Product Info'!AB5+'Product Info'!AE5+'Product Info'!AH5+'Product Info'!AK5+'Product Info'!AN5+'Product Info'!AQ5+'Product Info'!AT5+'Product Info'!AW5+'Product Info'!AZ5+'Product Info'!BC5+'Product Info'!BF5+'Product Info'!BI5+'Product Info'!BL5+'Product Info'!BO5+'Product Info'!BR5+'Product Info'!BU5+'Product Info'!BX5+'Product Info'!CA5+'Product Info'!CD5+'Product Info'!CG5+'Product Info'!CJ5+'Product Info'!CM5+'Product Info'!CP5+'Product Info'!CS5+'Product Info'!CV5+'Product Info'!CY5+'Product Info'!DB5+'Product Info'!DE5+'Product Info'!DH5+'Product Info'!DK5+'Product Info'!DN5+'Product Info'!DQ5+'Product Info'!DT5+'Product Info'!DW5+'Product Info'!DZ5+'Product Info'!EC5+'Product Info'!EF5+'Product Info'!EI5+'Product Info'!EL5+'Product Info'!EO5+'Product Info'!ER5+'Product Info'!EU5+'Product Info'!EX5+'Product Info'!FA5+'Product Info'!FD5)","v":0},{"$f":"AF4*('Product Info'!M5)","v":0},{"$f":"AF4*'Product Info'!P5","v":0},{"$f":"AF4*'Product Info'!S5","v":0},{"$f":"AF4*'Product Info'!V5","v":0},{"$f":"AF4*'Product Info'!Y5","v":0},{"$f":"AF4*'Product Info'!AB5","v":0},{"$f":"AF4*'Product Info'!AE5","v":0},{"$f":"AF4*'Product Info'!AH5","v":0},{"$f":"AF4*'Product Info'!AK5","v":0},{"$f":"AF4*'Product Info'!AN5","v":0},{"$f":"AF4*'Product Info'!AQ5","v":0},{"$f":"AF4*'Product Info'!AT5","v":0},{"$f":"AF4*'Product Info'!AW5","v":0},{"$f":"AF4*'Product Info'!AZ5","v":0},{"$f":"AF4*'Product Info'!BC5","v":0},{"$f":"AF4*'Product Info'!BF5","v":0},{"$f":"AF4*'Product Info'!BI5","v":0},{"$f":"AF4*'Product Info'!BL5","v":0},{"$f":"AF4*'Product Info'!BO5","v":0},{"$f":"AF4*'Product Info'!BR5","v":0},{"$f":"AF4*'Product Info'!BU5","v":0},{"$f":"AF4*'Product Info'!BX5","v":0}]
[{"$f":"'Product Info'!A6","v":0},{"$f":"'Product Info'!B6","v":0},{"$f":"'Product Info'!C6","v":0},null,null,null,null,null,null,null,null,null,null,null,null,null,null,null,null,null,null,null,null,null,null,null,null,null,null,null,null,0,{"$f":"'Product Info'!F6*('Daily Info (February)'!AF5)","v":0},null,null,{"$f":"AF5*('Product Info'!H6)","v":0},{"$f":"AF5*('Product Info'!M6+'Product Info'!P6+'Product Info'!S6+'Product Info'!V6+'Product Info'!Y6+'Product Info'!AB6+'Product Info'!AE6+'Product Info'!AH6+'Product Info'!AK6+'Product Info'!AN6+'Product Info'!AQ6+'Product Info'!AT6+'Product Info'!AW6+'Product Info'!AZ6+'Product Info'!BC6+'Product Info'!BF6+'Product Info'!BI6+'Product Info'!BL6+'Product Info'!BO6+'Product Info'!BR6+'Product Info'!BU6+'Product Info'!BX6+'Product Info'!CA6+'Product Info'!CD6+'Product Info'!CG6+'Product Info'!CJ6+'Product Info'!CM6+'Product Info'!CP6+'Product Info'!CS6+'Product Info'!CV6+'Product Info'!CY6+'Product Info'!DB6+'Product Info'!DE6+'Product Info'!DH6+'Product Info'!DK6+'Product Info'!DN6+'Product Info'!DQ6+'Product Info'!DT6+'Product Info'!DW6+'Product Info'!DZ6+'Product Info'!EC6+'Product Info'!EF6+'Product Info'!EI6+'Product Info'!EL6+'Product Info'!EO6+'Product Info'!ER6+'Product Info'!EU6+'Product Info'!EX6+'Product Info'!FA6+'Product Info'!FD6)","v":0},{"$f":"AF5*('Product Info'!M6)","v":0},{"$f":"AF5*'Product Info'!P6","v":0},{"$f":"AF5*'Product Info'!S6","v":0},{"$f":"AF5*'Product Info'!V6","v":0},{"$f":"AF5*'Product Info'!Y6","v":0},{"$f":"AF5*'Product Info'!AB6","v":0},{"$f":"AF5*'Product Info'!AE6","v":0},{"$f":"AF5*'Product Info'!AH6","v":0},{"$f":"AF5*'Product Info'!AK6","v":0},{"$f":"AF5*'Product Info'!AN6","v":0},{"$f":"AF5*'Product Info'!AQ6","v":0},{"$f":"AF5*'Product Info'!AT6","v":0},{"$f":"AF5*'Product Info'!AW6","v":0},{"$f":"AF5*'Product Info'!AZ6","v":0},{"$f":"AF5*'Product Info'!BC6","v":0},{"$f":"AF5*'Product Info'!BF6","v":0},{"$f":"AF5*'Product Info'!BI6","v":0},{"$f":"AF5*'Product Info'!BL6","v":0},{"$f":"AF5*'Product Info'!BO6","v":0},{"$f":"AF5*'Product Info'!BR6","v":0},{"$f":"AF5*'Product Info'!BU6","v":0},{"$f":"AF5*'Product Info'!BX6","v":0}]
[{"$f":"'Product Info'!A7","v":0},{"$f":"'Product Info'!B7","v":0},{"$f":"'Product Info'!C7","v":0},null,null,null,null,null,null,null,null,null,null,null,null,null,null,null,null,null,null,null,null,null,null,null,null,null,null,null,null,0,{"$f":"'Product Info'!F7*('Daily Info (February)'!AF6)","v":0},null,null,{"$f":"AF6*('Product Info'!H7)","v":0},{"$f":"AF6*('Product Info'!M7+'Product Info'!P7+'Product Info'!S7+'Product Info'!V7+'Product Info'!Y7+'Product Info'!AB7+'Product Info'!AE7+'Product Info'!AH7+'Product Info'!AK7+'Product Info'!AN7+'Product Info'!AQ7+'Product Info'!AT7+'Product Info'!AW7+'Product Info'!AZ7+'Product Info'!BC7+'Product Info'!BF7+'Product Info'!BI7+'Product Info'!BL7+'Product Info'!BO7+'Product Info'!BR7+'Product Info'!BU7+'Product Info'!BX7+'Product Info'!CA7+'Product Info'!CD7+'Product Info'!CG7+'Product Info'!CJ7+'Product Info'!CM7+'Product Info'!CP7+'Product Info'!CS7+'Product Info'!CV7+'Product Info'!CY7+'Product Info'!DB7+'Product Info'!DE7+'Product Info'!DH7+'Product Info'!DK7+'Product Info'!DN7+'Product Info'!DQ7+'Product Info'!DT7+'Product Info'!DW7+'Product Info'!DZ7+'Product Info'!EC7+'Product Info'!EF7+'Product Info'!EI7+'Product Info'!EL7+'Product Info'!EO7+'Product Info'!ER7+'Product Info'!EU7+'Product Info'!EX7+'Product Info'!FA7+'Product Info'!FD7)","v":0},{"$f":"AF6*('Product Info'!M7)","v":0},{"$f":"AF6*'Product Info'!P7","v":0},{"$f":"AF6*'Product Info'!S7","v":0},{"$f":"AF6*'Product Info'!V7","v":0},{"$f":"AF6*'Product Info'!Y7","v":0},{"$f":"AF6*'Product Info'!AB7","v":0},{"$f":"AF6*'Product Info'!AE7","v":0},{"$f":"AF6*'Product Info'!AH7","v":0},{"$f":"AF6*'Product Info'!AK7","v":0},{"$f":"AF6*'Product Info'!AN7","v":0},{"$f":"AF6*'Product Info'!AQ7","v":0},{"$f":"AF6*'Product Info'!AT7","v":0},{"$f":"AF6*'Product Info'!AW7","v":0},{"$f":"AF6*'Product Info'!AZ7","v":0},{"$f":"AF6*'Product Info'!BC7","v":0},{"$f":"AF6*'Product Info'!BF7","v":0},{"$f":"AF6*'Product Info'!BI7","v":0},{"$f":"AF6*'Product Info'!BL7","v":0},{"$f":"AF6*'Product Info'!BO7","v":0},{"$f":"AF6*'Product Info'!BR7","v":0},{"$f":"AF6*'Product Info'!BU7","v":0},{"$f":"AF6*'Product Info'!BX7","v":0}]
[{"$f":"'Product Info'!A8","v":0},{"$f":"'Product Info'!B8","v":0},{"$f":"'Product Info'!C8","v":0},null,null,null,null,null,null,null,null,null,null,null,null,null,null,null,null,null,null,null,null,null,null,null,null,null,null,null,null,0,{"$f":"'Product Info'!F8*('Daily Info (February)'!AF7)","v":0},null,null,{"$f":"AF7*('Product Info'!H8)","v":0},{"$f":"AF7*('Product Info'!M8+'Product Info'!P8+'Product Info'!S8+'Product Info'!V8+'Product Info'!Y8+'Product Info'!AB8+'Product Info'!AE8+'Product Info'!AH8+'Product Info'!AK8+'Product Info'!AN8+'Product Info'!AQ8+'Product Info'!AT8+'Product Info'!AW8+'Product Info'!AZ8+'Product Info'!BC8+'Product Info'!BF8+'Product Info'!BI8+'Product Info'!BL8+'Product Info'!BO8+'Product Info'!BR8+'Product Info'!BU8+'Product Info'!BX8+'Product Info'!CA8+'Product Info'!CD8+'Product Info'!CG8+'Product Info'!CJ8+'Product Info'!CM8+'Product Info'!CP8+'Product Info'!CS8+'Product Info'!CV8+'Product Info'!CY8+'Product Info'!DB8+'Product Info'!DE8+'Product Info'!DH8+'Product Info'!DK8+'Product Info'!DN8+'Product Info'!DQ8+'Product Info'!DT8+'Product Info'!DW8+'Product Info'!DZ8+'Product Info'!EC8+'Product Info'!EF8+'Product Info'!EI8+'Product Info'!EL8+'Product Info'!EO8+'Product Info'!ER8+'Product Info'!EU8+'Product Info'!EX8+'Product Info'!FA8+'Product Info'!FD8)","v":0},{"$f":"AF7*('Product Info'!M8)","v":0},{"$f":"AF7*'Product Info'!P8","v":0},{"$f":"AF7*'Product Info'!S8","v":0},{"$f":"AF7*'Product Info'!V8","v":0},{"$f":"AF7*'Product Info'!Y8","v":0},{"$f":"AF7*'Product Info'!AB8","v":0},{"$f":"AF7*'Product Info'!AE8","v":0},{"$f":"AF7*'Product Info'!AH8","v":0},{"$f":"AF7*'Product Info'!AK8","v":0},{"$f":"AF7*'Product Info'!AN8","v":0},{"$f":"AF7*'Product Info'!AQ8","v":0},{"$f":"AF7*'Product Info'!AT8","v":0},{"$f":"AF7*'Product Info'!AW8","v":0},{"$f":"AF7*'Product Info'!AZ8","v":0},{"$f":"AF7*'Product Info'!BC8","v":0},{"$f":"AF7*'Product Info'!BF8","v":0},{"$f":"AF7*'Product Info'!BI8","v":0},{"$f":"AF7*'Product Info'!BL8","v":0},{"$f":"AF7*'Product Info'!BO8","v":0},{"$f":"AF7*'Product Info'!BR8","v":0},{"$f":"AF7*'Product Info'!BU8","v":0},{"$f":"AF7*'Product Info'!BX8","v":0}]
[{"$f":"'Product Info'!A9","v":0},{"$f":"'Product Info'!B9","v":0},{"$f":"'Product Info'!C9","v":0},null,null,null,null,null,null,null,null,null,null,null,null,null,null,null,null,null,null,null,null,null,null,null,null,null,null,null,null,0,{"$f":"'Product Info'!F9*('Daily Info (February)'!AF8)","v":0},null,null,{"$f":"AF8*('Product Info'!H9)","v":0},{"$f":"AF8*('Product Info'!M9+'Product Info'!P9+'Product Info'!S9+'Product Info'!V9+'Product Info'!Y9+'Product Info'!AB9+'Product Info'!AE9+'Product Info'!AH9+'Product Info'!AK9+'Product Info'!AN9+'Product Info'!AQ9+'Product Info'!AT9+'Product Info'!AW9+'Product Info'!AZ9+'Product Info'!BC9+'Product Info'!BF9+'Product Info'!BI9+'Product Info'!BL9+'Product Info'!BO9+'Product Info'!BR9+'Product Info'!BU9+'Product Info'!BX9+'Product Info'!CA9+'Product Info'!CD9+'Product Info'!CG9+'Product Info'!CJ9+'Product Info'!CM9+'Product Info'!CP9+'Product Info'!CS9+'Product Info'!CV9+'Product Info'!CY9+'Product Info'!DB9+'Product Info'!DE9+'Product Info'!DH9+'Product Info'!DK9+'Product Info'!DN9+'Product Info'!DQ9+'Product Info'!DT9+'Product Info'!DW9+'Product Info'!DZ9+'Product Info'!EC9+'Product Info'!EF9+'Product Info'!EI9+'Product Info'!EL9+'Product Info'!EO9+'Product Info'!ER9+'Product Info'!EU9+'Product Info'!EX9+'Product Info'!FA9+'Product Info'!FD9)","v":0},{"$f":"AF8*('Product Info'!M9)","v":0},{"$f":"AF8*'Product Info'!P9","v":0},{"$f":"AF8*'Product Info'!S9","v":0},{"$f":"AF8*'Product Info'!V9","v":0},{"$f":"AF8*'Product Info'!Y9","v":0},{"$f":"AF8*'Product Info'!AB9","v":0},{"$f":"AF8*'Product Info'!AE9","v":0},{"$f":"AF8*'Product Info'!AH9","v":0},{"$f":"AF8*'Product Info'!AK9","v":0},{"$f":"AF8*'Product Info'!AN9","v":0},{"$f":"AF8*'Product Info'!AQ9","v":0},{"$f":"AF8*'Product Info'!AT9","v":0},{"$f":"AF8*'Product Info'!AW9","v":0},{"$f":"AF8*'Product Info'!AZ9","v":0},{"$f":"AF8*'Product Info'!BC9","v":0},{"$f":"AF8*'Product Info'!BF9","v":0},{"$f":"AF8*'Product Info'!BI9","v":0},{"$f":"AF8*'Product Info'!BL9","v":0},{"$f":"AF8*'Product Info'!BO9","v":0},{"$f":"AF8*'Product Info'!BR9","v":0},{"$f":"AF8*'Product Info'!BU9","v":0},{"$f":"AF8*'Product Info'!BX9","v":0}]
[{"$f":"'Product Info'!A10","v":0},{"$f":"'Product Info'!B10","v":0},{"$f":"'Product Info'!C10","v":0},null,null,null,null,null,null,null,null,null,null,null,null,null,null,null,null,null,null,null,null,null,null,null,null,null,null,null,null,0,{"$f":"'Product Info'!F10*('Daily Info (February)'!AF9)","v":0},null,null,{"$f":"AF9*('Product Info'!H10)","v":0},{"$f":"AF9*('Product Info'!M10+'Product Info'!P10+'Product Info'!S10+'Product Info'!V10+'Product Info'!Y10+'Product Info'!AB10+'Product Info'!AE10+'Product Info'!AH10+'Product Info'!AK10+'Product Info'!AN10+'Product Info'!AQ10+'Product Info'!AT10+'Product Info'!AW10+'Product Info'!AZ10+'Product Info'!BC10+'Product Info'!BF10+'Product Info'!BI10+'Product Info'!BL10+'Product Info'!BO10+'Product Info'!BR10+'Product Info'!BU10+'Product Info'!BX10+'Product Info'!CA10+'Product Info'!CD10+'Product Info'!CG10+'Product Info'!CJ10+'Product Info'!CM10+'Product Info'!CP10+'Product Info'!CS10+'Product Info'!CV10+'Product Info'!CY10+'Product Info'!DB10+'Product Info'!DE10+'Product Info'!DH10+'Product Info'!DK10+'Product Info'!DN10+'Product Info'!DQ10+'Product Info'!DT10+'Product Info'!DW10+'Product Info'!DZ10+'Product Info'!EC10+'Product Info'!EF10+'Product Info'!EI10+'Product Info'!EL10+'Product Info'!EO10+'Product Info'!ER10+'Product Info'!EU10+'Product Info'!EX10+'Product Info'!FA10+'Product Info'!FD10)","v":0},{"$f":"AF9*('Product Info'!M10)","v":0},{"$f":"AF9*'Product Info'!P10","v":0},{"$f":"AF9*'Product Info'!S10","v":0},{"$f":"AF9*'Product Info'!V10","v":0},{"$f":"AF9*'Product Info'!Y10","v":0},{"$f":"AF9*'Product Info'!AB10","v":0},{"$f":"AF9*'Product Info'!AE10","v":0},{"$f":"AF9*'Product Info'!AH10","v":0},{"$f":"AF9*'Product Info'!AK10","v":0},{"$f":"AF9*'Product Info'!AN10","v":0},{"$f":"AF9*'Product Info'!AQ10","v":0},{"$f":"AF9*'Product Info'!AT10","v":0},{"$f":"AF9*'Product Info'!AW10","v":0},{"$f":"AF9*'Product Info'!AZ10","v":0},{"$f":"AF9*'Product Info'!BC10","v":0},{"$f":"AF9*'Product Info'!BF10","v":0},{"$f":"AF9*'Product Info'!BI10","v":0},{"$f":"AF9*'Product Info'!BL10","v":0},{"$f":"AF9*'Product Info'!BO10","v":0},{"$f":"AF9*'Product Info'!BR10","v":0},{"$f":"AF9*'Product Info'!BU10","v":0},{"$f":"AF9*'Product Info'!BX10","v":0}]
[{"$f":"'Product Info'!A11","v":0},{"$f":"'Product Info'!B11","v":0},{"$f":"'Product Info'!C11","v":0},null,null,null,null,null,null,null,null,null,null,null,null,null,null,null,null,null,null,null,null,null,null,null,null,null,null,null,null,0,{"$f":"'Product Info'!F11*('Daily Info (February)'!AF10)","v":0},null,null,{"$f":"AF10*('Product Info'!H11)","v":0},{"$f":"AF10*('Product Info'!M11+'Product Info'!P11+'Product Info'!S11+'Product Info'!V11+'Product Info'!Y11+'Product Info'!AB11+'Product Info'!AE11+'Product Info'!AH11+'Product Info'!AK11+'Product Info'!AN11+'Product Info'!AQ11+'Product Info'!AT11+'Product Info'!AW11+'Product Info'!AZ11+'Product Info'!BC11+'Product Info'!BF11+'Product Info'!BI11+'Product Info'!BL11+'Product Info'!BO11+'Product Info'!BR11+'Product Info'!BU11+'Product Info'!BX11+'Product Info'!CA11+'Product Info'!CD11+'Product Info'!CG11+'Product Info'!CJ11+'Product Info'!CM11+'Product Info'!CP11+'Product Info'!CS11+'Product Info'!CV11+'Product Info'!CY11+'Product Info'!DB11+'Product Info'!DE11+'Product Info'!DH11+'Product Info'!DK11+'Product Info'!DN11+'Product Info'!DQ11+'Product Info'!DT11+'Product Info'!DW11+'Product Info'!DZ11+'Product Info'!EC11+'Product Info'!EF11+'Product Info'!EI11+'Product Info'!EL11+'Product Info'!EO11+'Product Info'!ER11+'Product Info'!EU11+'Product Info'!EX11+'Product Info'!FA11+'Product Info'!FD11)","v":0},{"$f":"AF10*('Product Info'!M11)","v":0},{"$f":"AF10*'Product Info'!P11","v":0},{"$f":"AF10*'Product Info'!S11","v":0},{"$f":"AF10*'Product Info'!V11","v":0},{"$f":"AF10*'Product Info'!Y11","v":0},{"$f":"AF10*'Product Info'!AB11","v":0},{"$f":"AF10*'Product Info'!AE11","v":0},{"$f":"AF10*'Product Info'!AH11","v":0},{"$f":"AF10*'Product Info'!AK11","v":0},{"$f":"AF10*'Product Info'!AN11","v":0},{"$f":"AF10*'Product Info'!AQ11","v":0},{"$f":"AF10*'Product Info'!AT11","v":0},{"$f":"AF10*'Product Info'!AW11","v":0},{"$f":"AF10*'Product Info'!AZ11","v":0},{"$f":"AF10*'Product Info'!BC11","v":0},{"$f":"AF10*'Product Info'!BF11","v":0},{"$f":"AF10*'Product Info'!BI11","v":0},{"$f":"AF10*'Product Info'!BL11","v":0},{"$f":"AF10*'Product Info'!BO11","v":0},{"$f":"AF10*'Product Info'!BR11","v":0},{"$f":"AF10*'Product Info'!BU11","v":0},{"$f":"AF10*'Product Info'!BX11","v":0}]
[{"$f":"'Product Info'!A12","v":0},{"$f":"'Product Info'!B12","v":0},{"$f":"'Product Info'!C12","v":0},null,null,null,null,null,null,null,null,null,null,null,null,null,null,null,null,null,null,null,null,null,null,null,null,null,null,null,null,0,{"$f":"'Product Info'!F12*('Daily Info (February)'!AF11)","v":0},null,null,{"$f":"AF11*('Product Info'!H12)","v":0},{"$f":"AF11*('Product Info'!M12+'Product Info'!P12+'Product Info'!S12+'Product Info'!V12+'Product Info'!Y12+'Product Info'!AB12+'Product Info'!AE12+'Product Info'!AH12+'Product Info'!AK12+'Product Info'!AN12+'Product Info'!AQ12+'Product Info'!AT12+'Product Info'!AW12+'Product Info'!AZ12+'Product Info'!BC12+'Product Info'!BF12+'Product Info'!BI12+'Product Info'!BL12+'Product Info'!BO12+'Product Info'!BR12+'Product Info'!BU12+'Product Info'!BX12+'Product Info'!CA12+'Product Info'!CD12+'Product Info'!CG12+'Product Info'!CJ12+'Product Info'!CM12+'Product Info'!CP12+'Product Info'!CS12+'Product Info'!CV12+'Product Info'!CY12+'Product Info'!DB12+'Product Info'!DE12+'Product Info'!DH12+'Product Info'!DK12+'Product Info'!DN12+'Product Info'!DQ12+'Product Info'!DT12+'Product Info'!DW12+'Product Info'!DZ12+'Product Info'!EC12+'Product Info'!EF12+'Product Info'!EI12+'Product Info'!EL12+'Product Info'!EO12+'Product Info'!ER12+'Product Info'!EU12+'Product Info'!EX12+'Product Info'!FA12+'Product Info'!FD12)","v":0},{"$f":"AF11*('Product Info'!M12)","v":0},{"$f":"AF11*'Product Info'!P12","v":0},{"$f":"AF11*'Product Info'!S12","v":0},{"$f":"AF11*'Product Info'!V12","v":0},{"$f":"AF11*'Product Info'!Y12","v":0},{"$f":"AF11*'Product Info'!AB12","v":0},{"$f":"AF11*'Product Info'!AE12","v":0},{"$f":"AF11*'Product Info'!AH12","v":0},{"$f":"AF11*'Product Info'!AK12","v":0},{"$f":"AF11*'Product Info'!AN12","v":0},{"$f":"AF11*'Product Info'!AQ12","v":0},{"$f":"AF11*'Product Info'!AT12","v":0},{"$f":"AF11*'Product Info'!AW12","v":0},{"$f":"AF11*'Product Info'!AZ12","v":0},{"$f":"AF11*'Product Info'!BC12","v":0},{"$f":"AF11*'Product Info'!BF12","v":0},{"$f":"AF11*'Product Info'!BI12","v":0},{"$f":"AF11*'Product Info'!BL12","v":0},{"$f":"AF11*'Product Info'!BO12","v":0},{"$f":"AF11*'Product Info'!BR12","v":0},{"$f":"AF11*'Product Info'!BU12","v":0},{"$f":"AF11*'Product Info'!BX12","v":0}]
[{"$f":"'Product Info'!A13","v":0},{"$f":"'Product Info'!B13","v":0},{"$f":"'Product Info'!C13","v":0},null,null,null,null,null,null,null,null,null,null,null,null,null,null,null,null,null,null,null,null,null,null,null,null,null,null,null,null,0,{"$f":"'Product Info'!F13*('Daily Info (February)'!AF12)","v":0},null,null,{"$f":"AF12*('Product Info'!H13)","v":0},{"$f":"AF12*('Product Info'!M13+'Product Info'!P13+'Product Info'!S13+'Product Info'!V13+'Product Info'!Y13+'Product Info'!AB13+'Product Info'!AE13+'Product Info'!AH13+'Product Info'!AK13+'Product Info'!AN13+'Product Info'!AQ13+'Product Info'!AT13+'Product Info'!AW13+'Product Info'!AZ13+'Product Info'!BC13+'Product Info'!BF13+'Product Info'!BI13+'Product Info'!BL13+'Product Info'!BO13+'Product Info'!BR13+'Product Info'!BU13+'Product Info'!BX13+'Product Info'!CA13+'Product Info'!CD13+'Product Info'!CG13+'Product Info'!CJ13+'Product Info'!CM13+'Product Info'!CP13+'Product Info'!CS13+'Product Info'!CV13+'Product Info'!CY13+'Product Info'!DB13+'Product Info'!DE13+'Product Info'!DH13+'Product Info'!DK13+'Product Info'!DN13+'Product Info'!DQ13+'Product Info'!DT13+'Product Info'!DW13+'Product Info'!DZ13+'Product Info'!EC13+'Product Info'!EF13+'Product Info'!EI13+'Product Info'!EL13+'Product Info'!EO13+'Product Info'!ER13+'Product Info'!EU13+'Product Info'!EX13+'Product Info'!FA13+'Product Info'!FD13)","v":0},{"$f":"AF12*('Product Info'!M13)","v":0},{"$f":"AF12*'Product Info'!P13","v":0},{"$f":"AF12*'Product Info'!S13","v":0},{"$f":"AF12*'Product Info'!V13","v":0},{"$f":"AF12*'Product Info'!Y13","v":0},{"$f":"AF12*'Product Info'!AB13","v":0},{"$f":"AF12*'Product Info'!AE13","v":0},{"$f":"AF12*'Product Info'!AH13","v":0},{"$f":"AF12*'Product Info'!AK13","v":0},{"$f":"AF12*'Product Info'!AN13","v":0},{"$f":"AF12*'Product Info'!AQ13","v":0},{"$f":"AF12*'Product Info'!AT13","v":0},{"$f":"AF12*'Product Info'!AW13","v":0},{"$f":"AF12*'Product Info'!AZ13","v":0},{"$f":"AF12*'Product Info'!BC13","v":0},{"$f":"AF12*'Product Info'!BF13","v":0},{"$f":"AF12*'Product Info'!BI13","v":0},{"$f":"AF12*'Product Info'!BL13","v":0},{"$f":"AF12*'Product Info'!BO13","v":0},{"$f":"AF12*'Product Info'!BR13","v":0},{"$f":"AF12*'Product Info'!BU13","v":0},{"$f":"AF12*'Product Info'!BX13","v":0}]
[{"$f":"'Product Info'!A14","v":0},{"$f":"'Product Info'!B14","v":0},{"$f":"'Product Info'!C14","v":0},null,null,null,null,null,null,null,null,null,null,null,null,null,null,null,null,null,null,null,null,null,null,null,null,null,null,null,null,0,{"$f":"'Product Info'!F14*('Daily Info (February)'!AF13)","v":0},null,null,{"$f":"AF13*('Product Info'!H14)","v":0},{"$f":"AF13*('Product Info'!M14+'Product Info'!P14+'Product Info'!S14+'Product Info'!V14+'Product Info'!Y14+'Product Info'!AB14+'Product Info'!AE14+'Product Info'!AH14+'Product Info'!AK14+'Product Info'!AN14+'Product Info'!AQ14+'Product Info'!AT14+'Product Info'!AW14+'Product Info'!AZ14+'Product Info'!BC14+'Product Info'!BF14+'Product Info'!BI14+'Product Info'!BL14+'Product Info'!BO14+'Product Info'!BR14+'Product Info'!BU14+'Product Info'!BX14+'Product Info'!CA14+'Product Info'!CD14+'Product Info'!CG14+'Product Info'!CJ14+'Product Info'!CM14+'Product Info'!CP14+'Product Info'!CS14+'Product Info'!CV14+'Product Info'!CY14+'Product Info'!DB14+'Product Info'!DE14+'Product Info'!DH14+'Product Info'!DK14+'Product Info'!DN14+'Product Info'!DQ14+'Product Info'!DT14+'Product Info'!DW14+'Product Info'!DZ14+'Product Info'!EC14+'Product Info'!EF14+'Product Info'!EI14+'Product Info'!EL14+'Product Info'!EO14+'Product Info'!ER14+'Product Info'!EU14+'Product Info'!EX14+'Product Info'!FA14+'Product Info'!FD14)","v":0},{"$f":"AF13*('Product Info'!M14)","v":0},{"$f":"AF13*'Product Info'!P14","v":0},{"$f":"AF13*'Product Info'!S14","v":0},{"$f":"AF13*'Product Info'!V14","v":0},{"$f":"AF13*'Product Info'!Y14","v":0},{"$f":"AF13*'Product Info'!AB14","v":0},{"$f":"AF13*'Product Info'!AE14","v":0},{"$f":"AF13*'Product Info'!AH14","v":0},{"$f":"AF13*'Product Info'!AK14","v":0},{"$f":"AF13*'Product Info'!AN14","v":0},{"$f":"AF13*'Product Info'!AQ14","v":0},{"$f":"AF13*'Product Info'!AT14","v":0},{"$f":"AF13*'Product Info'!AW14","v":0},{"$f":"AF13*'Product Info'!AZ14","v":0},{"$f":"AF13*'Product Info'!BC14","v":0},{"$f":"AF13*'Product Info'!BF14","v":0},{"$f":"AF13*'Product Info'!BI14","v":0},{"$f":"AF13*'Product Info'!BL14","v":0},{"$f":"AF13*'Product Info'!BO14","v":0},{"$f":"AF13*'Product Info'!BR14","v":0},{"$f":"AF13*'Product Info'!BU14","v":0},{"$f":"AF13*'Product Info'!BX14","v":0}]
[{"$f":"'Product Info'!A15","v":0},{"$f":"'Product Info'!B15","v":0},{"$f":"'Product Info'!C15","v":0},null,null,null,null,null,null,null,null,null,null,null,null,null,null,null,null,null,null,null,null,null,null,null,null,null,null,null,null,0,{"$f":"'Product Info'!F15*('Daily Info (February)'!AF14)","v":0},null,null,{"$f":"AF14*('Product Info'!H15)","v":0},{"$f":"AF14*('Product Info'!M15+'Product Info'!P15+'Product Info'!S15+'Product Info'!V15+'Product Info'!Y15+'Product Info'!AB15+'Product Info'!AE15+'Product Info'!AH15+'Product Info'!AK15+'Product Info'!AN15+'Product Info'!AQ15+'Product Info'!AT15+'Product Info'!AW15+'Product Info'!AZ15+'Product Info'!BC15+'Product Info'!BF15+'Product Info'!BI15+'Product Info'!BL15+'Product Info'!BO15+'Product Info'!BR15+'Product Info'!BU15+'Product Info'!BX15+'Product Info'!CA15+'Product Info'!CD15+'Product Info'!CG15+'Product Info'!CJ15+'Product Info'!CM15+'Product Info'!CP15+'Product Info'!CS15+'Product Info'!CV15+'Product Info'!CY15+'Product Info'!DB15+'Product Info'!DE15+'Product Info'!DH15+'Product Info'!DK15+'Product Info'!DN15+'Product Info'!DQ15+'Product Info'!DT15+'Product Info'!DW15+'Product Info'!DZ15+'Product Info'!EC15+'Product Info'!EF15+'Product Info'!EI15+'Product Info'!EL15+'Product Info'!EO15+'Product Info'!ER15+'Product Info'!EU15+'Product Info'!EX15+'Product Info'!FA15+'Product Info'!FD15)","v":0},{"$f":"AF14*('Product Info'!M15)","v":0},{"$f":"AF14*'Product Info'!P15","v":0},{"$f":"AF14*'Product Info'!S15","v":0},{"$f":"AF14*'Product Info'!V15","v":0},{"$f":"AF14*'Product Info'!Y15","v":0},{"$f":"AF14*'Product Info'!AB15","v":0},{"$f":"AF14*'Product Info'!AE15","v":0},{"$f":"AF14*'Product Info'!AH15","v":0},{"$f":"AF14*'Product Info'!AK15","v":0},{"$f":"AF14*'Product Info'!AN15","v":0},{"$f":"AF14*'Product Info'!AQ15","v":0},{"$f":"AF14*'Product Info'!AT15","v":0},{"$f":"AF14*'Product Info'!AW15","v":0},{"$f":"AF14*'Product Info'!AZ15","v":0},{"$f":"AF14*'Product Info'!BC15","v":0},{"$f":"AF14*'Product Info'!BF15","v":0},{"$f":"AF14*'Product Info'!BI15","v":0},{"$f":"AF14*'Product Info'!BL15","v":0},{"$f":"AF14*'Product Info'!BO15","v":0},{"$f":"AF14*'Product Info'!BR15","v":0},{"$f":"AF14*'Product Info'!BU15","v":0},{"$f":"AF14*'Product Info'!BX15","v":0}]
[{"$f":"'Product Info'!A16","v":0},{"$f":"'Product Info'!B16","v":0},{"$f":"'Product Info'!C16","v":0},null,null,null,null,null,null,null,null,null,null,null,null,null,null,null,null,null,null,null,null,null,null,null,null,null,null,null,null,0,{"$f":"'Product Info'!F16*('Daily Info (February)'!AF15)","v":0},null,null,{"$f":"AF15*('Product Info'!H16)","v":0},{"$f":"AF15*('Product Info'!M16+'Product Info'!P16+'Product Info'!S16+'Product Info'!V16+'Product Info'!Y16+'Product Info'!AB16+'Product Info'!AE16+'Product Info'!AH16+'Product Info'!AK16+'Product Info'!AN16+'Product Info'!AQ16+'Product Info'!AT16+'Product Info'!AW16+'Product Info'!AZ16+'Product Info'!BC16+'Product Info'!BF16+'Product Info'!BI16+'Product Info'!BL16+'Product Info'!BO16+'Product Info'!BR16+'Product Info'!BU16+'Product Info'!BX16+'Product Info'!CA16+'Product Info'!CD16+'Product Info'!CG16+'Product Info'!CJ16+'Product Info'!CM16+'Product Info'!CP16+'Product Info'!CS16+'Product Info'!CV16+'Product Info'!CY16+'Product Info'!DB16+'Product Info'!DE16+'Product Info'!DH16+'Product Info'!DK16+'Product Info'!DN16+'Product Info'!DQ16+'Product Info'!DT16+'Product Info'!DW16+'Product Info'!DZ16+'Product Info'!EC16+'Product Info'!EF16+'Product Info'!EI16+'Product Info'!EL16+'Product Info'!EO16+'Product Info'!ER16+'Product Info'!EU16+'Product Info'!EX16+'Product Info'!FA16+'Product Info'!FD16)","v":0},{"$f":"AF15*('Product Info'!M16)","v":0},{"$f":"AF15*'Product Info'!P16","v":0},{"$f":"AF15*'Product Info'!S16","v":0},{"$f":"AF15*'Product Info'!V16","v":0},{"$f":"AF15*'Product Info'!Y16","v":0},{"$f":"AF15*'Product Info'!AB16","v":0},{"$f":"AF15*'Product Info'!AE16","v":0},{"$f":"AF15*'Product Info'!AH16","v":0},{"$f":"AF15*'Product Info'!AK16","v":0},{"$f":"AF15*'Product Info'!AN16","v":0},{"$f":"AF15*'Product Info'!AQ16","v":0},{"$f":"AF15*'Product Info'!AT16","v":0},{"$f":"AF15*'Product Info'!AW16","v":0},{"$f":"AF15*'Product Info'!AZ16","v":0},{"$f":"AF15*'Product Info'!BC16","v":0},{"$f":"AF15*'Product Info'!BF16","v":0},{"$f":"AF15*'Product Info'!BI16","v":0},{"$f":"AF15*'Product Info'!BL16","v":0},{"$f":"AF15*'Product Info'!BO16","v":0},{"$f":"AF15*'Product Info'!BR16","v":0},{"$f":"AF15*'Product Info'!BU16","v":0},{"$f":"AF15*'Product Info'!BX16","v":0}]
[{"$f":"'Product Info'!A17","v":0},{"$f":"'Product Info'!B17","v":0},{"$f":"'Product Info'!C17","v":0},null,null,null,null,null,null,null,null,null,null,null,null,null,null,null,null,null,null,null,null,null,null,null,null,null,null,null,null,0,{"$f":"'Product Info'!F17*('Daily Info (February)'!AF16)","v":0},null,null,{"$f":"AF16*('Product Info'!H17)","v":0},{"$f":"AF16*('Product Info'!M17+'Product Info'!P17+'Product Info'!S17+'Product Info'!V17+'Product Info'!Y17+'Product Info'!AB17+'Product Info'!AE17+'Product Info'!AH17+'Product Info'!AK17+'Product Info'!AN17+'Product Info'!AQ17+'Product Info'!AT17+'Product Info'!AW17+'Product Info'!AZ17+'Product Info'!BC17+'Product Info'!BF17+'Product Info'!BI17+'Product Info'!BL17+'Product Info'!BO17+'Product Info'!BR17+'Product Info'!BU17+'Product Info'!BX17+'Product Info'!CA17+'Product Info'!CD17+'Product Info'!CG17+'Product Info'!CJ17+'Product Info'!CM17+'Product Info'!CP17+'Product Info'!CS17+'Product Info'!CV17+'Product Info'!CY17+'Product Info'!DB17+'Product Info'!DE17+'Product Info'!DH17+'Product Info'!DK17+'Product Info'!DN17+'Product Info'!DQ17+'Product Info'!DT17+'Product Info'!DW17+'Product Info'!DZ17+'Product Info'!EC17+'Product Info'!EF17+'Product Info'!EI17+'Product Info'!EL17+'Product Info'!EO17+'Product Info'!ER17+'Product Info'!EU17+'Product Info'!EX17+'Product Info'!FA17+'Product Info'!FD17)","v":0},{"$f":"AF16*('Product Info'!M17)","v":0},{"$f":"AF16*'Product Info'!P17","v":0},{"$f":"AF16*'Product Info'!S17","v":0},{"$f":"AF16*'Product Info'!V17","v":0},{"$f":"AF16*'Product Info'!Y17","v":0},{"$f":"AF16*'Product Info'!AB17","v":0},{"$f":"AF16*'Product Info'!AE17","v":0},{"$f":"AF16*'Product Info'!AH17","v":0},{"$f":"AF16*'Product Info'!AK17","v":0},{"$f":"AF16*'Product Info'!AN17","v":0},{"$f":"AF16*'Product Info'!AQ17","v":0},{"$f":"AF16*'Product Info'!AT17","v":0},{"$f":"AF16*'Product Info'!AW17","v":0},{"$f":"AF16*'Product Info'!AZ17","v":0},{"$f":"AF16*'Product Info'!BC17","v":0},{"$f":"AF16*'Product Info'!BF17","v":0},{"$f":"AF16*'Product Info'!BI17","v":0},{"$f":"AF16*'Product Info'!BL17","v":0},{"$f":"AF16*'Product Info'!BO17","v":0},{"$f":"AF16*'Product Info'!BR17","v":0},{"$f":"AF16*'Product Info'!BU17","v":0},{"$f":"AF16*'Product Info'!BX17","v":0}]
[{"$f":"'Product Info'!A18","v":0},{"$f":"'Product Info'!B18","v":0},{"$f":"'Product Info'!C18","v":0},null,null,null,null,null,null,null,null,null,null,null,null,null,null,null,null,null,null,null,null,null,null,null,null,null,null,null,null,0,{"$f":"'Product Info'!F18*('Daily Info (February)'!AF17)","v":0},null,null,{"$f":"AF17*('Product Info'!H18)","v":0},{"$f":"AF17*('Product Info'!M18+'Product Info'!P18+'Product Info'!S18+'Product Info'!V18+'Product Info'!Y18+'Product Info'!AB18+'Product Info'!AE18+'Product Info'!AH18+'Product Info'!AK18+'Product Info'!AN18+'Product Info'!AQ18+'Product Info'!AT18+'Product Info'!AW18+'Product Info'!AZ18+'Product Info'!BC18+'Product Info'!BF18+'Product Info'!BI18+'Product Info'!BL18+'Product Info'!BO18+'Product Info'!BR18+'Product Info'!BU18+'Product Info'!BX18+'Product Info'!CA18+'Product Info'!CD18+'Product Info'!CG18+'Product Info'!CJ18+'Product Info'!CM18+'Product Info'!CP18+'Product Info'!CS18+'Product Info'!CV18+'Product Info'!CY18+'Product Info'!DB18+'Product Info'!DE18+'Product Info'!DH18+'Product Info'!DK18+'Product Info'!DN18+'Product Info'!DQ18+'Product Info'!DT18+'Product Info'!DW18+'Product Info'!DZ18+'Product Info'!EC18+'Product Info'!EF18+'Product Info'!EI18+'Product Info'!EL18+'Product Info'!EO18+'Product Info'!ER18+'Product Info'!EU18+'Product Info'!EX18+'Product Info'!FA18+'Product Info'!FD18)","v":0},{"$f":"AF17*('Product Info'!M18)","v":0},{"$f":"AF17*'Product Info'!P18","v":0},{"$f":"AF17*'Product Info'!S18","v":0},{"$f":"AF17*'Product Info'!V18","v":0},{"$f":"AF17*'Product Info'!Y18","v":0},{"$f":"AF17*'Product Info'!AB18","v":0},{"$f":"AF17*'Product Info'!AE18","v":0},{"$f":"AF17*'Product Info'!AH18","v":0},{"$f":"AF17*'Product Info'!AK18","v":0},{"$f":"AF17*'Product Info'!AN18","v":0},{"$f":"AF17*'Product Info'!AQ18","v":0},{"$f":"AF17*'Product Info'!AT18","v":0},{"$f":"AF17*'Product Info'!AW18","v":0},{"$f":"AF17*'Product Info'!AZ18","v":0},{"$f":"AF17*'Product Info'!BC18","v":0},{"$f":"AF17*'Product Info'!BF18","v":0},{"$f":"AF17*'Product Info'!BI18","v":0},{"$f":"AF17*'Product Info'!BL18","v":0},{"$f":"AF17*'Product Info'!BO18","v":0},{"$f":"AF17*'Product Info'!BR18","v":0},{"$f":"AF17*'Product Info'!BU18","v":0},{"$f":"AF17*'Product Info'!BX18","v":0}]
[{"$f":"'Product Info'!A19","v":0},{"$f":"'Product Info'!B19","v":0},{"$f":"'Product Info'!C19","v":0},null,null,null,null,null,null,null,null,null,null,null,null,null,null,null,null,null,null,null,null,null,null,null,null,null,null,null,null,0,{"$f":"'Product Info'!F19*('Daily Info (February)'!AF18)","v":0},null,null,{"$f":"AF18*('Product Info'!H19)","v":0},{"$f":"AF18*('Product Info'!M19+'Product Info'!P19+'Product Info'!S19+'Product Info'!V19+'Product Info'!Y19+'Product Info'!AB19+'Product Info'!AE19+'Product Info'!AH19+'Product Info'!AK19+'Product Info'!AN19+'Product Info'!AQ19+'Product Info'!AT19+'Product Info'!AW19+'Product Info'!AZ19+'Product Info'!BC19+'Product Info'!BF19+'Product Info'!BI19+'Product Info'!BL19+'Product Info'!BO19+'Product Info'!BR19+'Product Info'!BU19+'Product Info'!BX19+'Product Info'!CA19+'Product Info'!CD19+'Product Info'!CG19+'Product Info'!CJ19+'Product Info'!CM19+'Product Info'!CP19+'Product Info'!CS19+'Product Info'!CV19+'Product Info'!CY19+'Product Info'!DB19+'Product Info'!DE19+'Product Info'!DH19+'Product Info'!DK19+'Product Info'!DN19+'Product Info'!DQ19+'Product Info'!DT19+'Product Info'!DW19+'Product Info'!DZ19+'Product Info'!EC19+'Product Info'!EF19+'Product Info'!EI19+'Product Info'!EL19+'Product Info'!EO19+'Product Info'!ER19+'Product Info'!EU19+'Product Info'!EX19+'Product Info'!FA19+'Product Info'!FD19)","v":0},{"$f":"AF18*('Product Info'!M19)","v":0},{"$f":"AF18*'Product Info'!P19","v":0},{"$f":"AF18*'Product Info'!S19","v":0},{"$f":"AF18*'Product Info'!V19","v":0},{"$f":"AF18*'Product Info'!Y19","v":0},{"$f":"AF18*'Product Info'!AB19","v":0},{"$f":"AF18*'Product Info'!AE19","v":0},{"$f":"AF18*'Product Info'!AH19","v":0},{"$f":"AF18*'Product Info'!AK19","v":0},{"$f":"AF18*'Product Info'!AN19","v":0},{"$f":"AF18*'Product Info'!AQ19","v":0},{"$f":"AO18*'Product Info'!AF19","v":0},{"$f":"AF18*'Product Info'!AW19","v":0},{"$f":"AF18*'Product Info'!AZ19","v":0},{"$f":"AF18*'Product Info'!BC19","v":0},{"$f":"AF18*'Product Info'!BF19","v":0},{"$f":"AF18*'Product Info'!BI19","v":0},{"$f":"AF18*'Product Info'!BL19","v":0},{"$f":"AF18*'Product Info'!BO19","v":0},{"$f":"AF18*'Product Info'!BR19","v":0},{"$f":"AF18*'Product Info'!BU19","v":0},{"$f":"AF18*'Product Info'!BX19","v":0}]
[{"$f":"'Product Info'!A20","v":0},{"$f":"'Product Info'!B20","v":0},{"$f":"'Product Info'!C20","v":0},null,null,null,null,null,null,null,null,null,null,null,null,null,null,null,null,null,null,null,null,null,null,null,null,null,null,null,null,0,{"$f":"'Product Info'!F20*('Daily Info (February)'!AF19)","v":0},null,null,{"$f":"AF19*('Product Info'!H20)","v":0},{"$f":"AF19*('Product Info'!M20+'Product Info'!P20+'Product Info'!S20+'Product Info'!V20+'Product Info'!Y20+'Product Info'!AB20+'Product Info'!AE20+'Product Info'!AH20+'Product Info'!AK20+'Product Info'!AN20+'Product Info'!AQ20+'Product Info'!AT20+'Product Info'!AW20+'Product Info'!AZ20+'Product Info'!BC20+'Product Info'!BF20+'Product Info'!BI20+'Product Info'!BL20+'Product Info'!BO20+'Product Info'!BR20+'Product Info'!BU20+'Product Info'!BX20+'Product Info'!CA20+'Product Info'!CD20+'Product Info'!CG20+'Product Info'!CJ20+'Product Info'!CM20+'Product Info'!CP20+'Product Info'!CS20+'Product Info'!CV20+'Product Info'!CY20+'Product Info'!DB20+'Product Info'!DE20+'Product Info'!DH20+'Product Info'!DK20+'Product Info'!DN20+'Product Info'!DQ20+'Product Info'!DT20+'Product Info'!DW20+'Product Info'!DZ20+'Product Info'!EC20+'Product Info'!EF20+'Product Info'!EI20+'Product Info'!EL20+'Product Info'!EO20+'Product Info'!ER20+'Product Info'!EU20+'Product Info'!EX20+'Product Info'!FA20+'Product Info'!FD20)","v":0},{"$f":"AF19*('Product Info'!M20)","v":0},{"$f":"AF19*'Product Info'!P20","v":0},{"$f":"AF19*'Product Info'!S20","v":0},{"$f":"AF19*'Product Info'!V20","v":0},{"$f":"AF19*'Product Info'!Y20","v":0},{"$f":"AF19*'Product Info'!AB20","v":0},{"$f":"AF19*'Product Info'!AE20","v":0},{"$f":"AF19*'Product Info'!AH20","v":0},{"$f":"AF19*'Product Info'!AK20","v":0},{"$f":"AF19*'Product Info'!AN20","v":0},{"$f":"AF19*'Product Info'!AQ20","v":0},{"$f":"AO19*'Product Info'!AF20","v":0},{"$f":"AF19*'Product Info'!AW20","v":0},{"$f":"AF19*'Product Info'!AZ20","v":0},{"$f":"AF19*'Product Info'!BC20","v":0},{"$f":"AF19*'Product Info'!BF20","v":0},{"$f":"AF19*'Product Info'!BI20","v":0},{"$f":"AF19*'Product Info'!BL20","v":0},{"$f":"AF19*'Product Info'!BO20","v":0},{"$f":"AF19*'Product Info'!BR20","v":0},{"$f":"AF19*'Product Info'!BU20","v":0},{"$f":"AF19*'Product Info'!BX20","v":0}]
[{"$f":"'Product Info'!A21","v":0},{"$f":"'Product Info'!B21","v":0},{"$f":"'Product Info'!C21","v":0},null,null,null,null,null,null,null,null,null,null,null,null,null,null,null,null,null,null,null,null,null,null,null,null,null,null,null,null,0,{"$f":"'Product Info'!F21*('Daily Info (February)'!AF20)","v":0},null,null,{"$f":"AF20*('Product Info'!H21)","v":0},{"$f":"AF20*('Product Info'!M21+'Product Info'!P21+'Product Info'!S21+'Product Info'!V21+'Product Info'!Y21+'Product Info'!AB21+'Product Info'!AE21+'Product Info'!AH21+'Product Info'!AK21+'Product Info'!AN21+'Product Info'!AQ21+'Product Info'!AT21+'Product Info'!AW21+'Product Info'!AZ21+'Product Info'!BC21+'Product Info'!BF21+'Product Info'!BI21+'Product Info'!BL21+'Product Info'!BO21+'Product Info'!BR21+'Product Info'!BU21+'Product Info'!BX21+'Product Info'!CA21+'Product Info'!CD21+'Product Info'!CG21+'Product Info'!CJ21+'Product Info'!CM21+'Product Info'!CP21+'Product Info'!CS21+'Product Info'!CV21+'Product Info'!CY21+'Product Info'!DB21+'Product Info'!DE21+'Product Info'!DH21+'Product Info'!DK21+'Product Info'!DN21+'Product Info'!DQ21+'Product Info'!DT21+'Product Info'!DW21+'Product Info'!DZ21+'Product Info'!EC21+'Product Info'!EF21+'Product Info'!EI21+'Product Info'!EL21+'Product Info'!EO21+'Product Info'!ER21+'Product Info'!EU21+'Product Info'!EX21+'Product Info'!FA21+'Product Info'!FD21)","v":0},{"$f":"AF20*('Product Info'!M21)","v":0},{"$f":"AF20*'Product Info'!P21","v":0},{"$f":"AF20*'Product Info'!S21","v":0},{"$f":"AF20*'Product Info'!V21","v":0},{"$f":"AF20*'Product Info'!Y21","v":0},{"$f":"AF20*'Product Info'!AB21","v":0},{"$f":"AF20*'Product Info'!AE21","v":0},{"$f":"AF20*'Product Info'!AH21","v":0},{"$f":"AF20*'Product Info'!AK21","v":0},{"$f":"AF20*'Product Info'!AN21","v":0},{"$f":"AF20*'Product Info'!AQ21","v":0},{"$f":"AF20*'Product Info'!AT21","v":0},{"$f":"AF20*'Product Info'!AW21","v":0},{"$f":"AF20*'Product Info'!AZ21","v":0},{"$f":"AF20*'Product Info'!BC21","v":0},{"$f":"AF20*'Product Info'!BF21","v":0},{"$f":"AF20*'Product Info'!BI21","v":0},{"$f":"AF20*'Product Info'!BL21","v":0},{"$f":"AF20*'Product Info'!BO21","v":0},{"$f":"AF20*'Product Info'!BR21","v":0},{"$f":"AF20*'Product Info'!BU21","v":0},{"$f":"AF20*'Product Info'!BX21","v":0}]
[{"$f":"'Product Info'!A22","v":0},{"$f":"'Product Info'!B22","v":0},{"$f":"'Product Info'!C22","v":0},null,null,null,null,null,null,null,null,null,null,null,null,null,null,null,null,null,null,null,null,null,null,null,null,null,null,null,null,0,{"$f":"'Product Info'!F22*('Daily Info (February)'!AF21)","v":0},null,null,{"$f":"AF21*('Product Info'!H22)","v":0},{"$f":"AF21*('Product Info'!M22+'Product Info'!P22+'Product Info'!S22+'Product Info'!V22+'Product Info'!Y22+'Product Info'!AB22+'Product Info'!AE22+'Product Info'!AH22+'Product Info'!AK22+'Product Info'!AN22+'Product Info'!AQ22+'Product Info'!AT22+'Product Info'!AW22+'Product Info'!AZ22+'Product Info'!BC22+'Product Info'!BF22+'Product Info'!BI22+'Product Info'!BL22+'Product Info'!BO22+'Product Info'!BR22+'Product Info'!BU22+'Product Info'!BX22+'Product Info'!CA22+'Product Info'!CD22+'Product Info'!CG22+'Product Info'!CJ22+'Product Info'!CM22+'Product Info'!CP22+'Product Info'!CS22+'Product Info'!CV22+'Product Info'!CY22+'Product Info'!DB22+'Product Info'!DE22+'Product Info'!DH22+'Product Info'!DK22+'Product Info'!DN22+'Product Info'!DQ22+'Product Info'!DT22+'Product Info'!DW22+'Product Info'!DZ22+'Product Info'!EC22+'Product Info'!EF22+'Product Info'!EI22+'Product Info'!EL22+'Product Info'!EO22+'Product Info'!ER22+'Product Info'!EU22+'Product Info'!EX22+'Product Info'!FA22+'Product Info'!FD22)","v":0},{"$f":"AF21*('Product Info'!M22)","v":0},{"$f":"AF21*'Product Info'!P22","v":0},{"$f":"AF21*'Product Info'!S22","v":0},{"$f":"AF21*'Product Info'!V22","v":0},{"$f":"AF21*'Product Info'!Y22","v":0},{"$f":"AF21*'Product Info'!AB22","v":0},{"$f":"AF21*'Product Info'!AE22","v":0},{"$f":"AF21*'Product Info'!AH22","v":0},{"$f":"AF21*'Product Info'!AK22","v":0},{"$f":"AF21*'Product Info'!AN22","v":0},{"$f":"AF21*'Product Info'!AQ22","v":0},{"$f":"AF21*'Product Info'!AT22","v":0},{"$f":"AF21*'Product Info'!AW22","v":0},{"$f":"AF21*'Product Info'!AZ22","v":0},{"$f":"AF21*'Product Info'!BC22","v":0},{"$f":"AF21*'Product Info'!BF22","v":0},{"$f":"AF21*'Product Info'!BI22","v":0},{"$f":"AF21*'Product Info'!BL22","v":0},{"$f":"AF21*'Product Info'!BO22","v":0},{"$f":"AF21*'Product Info'!BR22","v":0},{"$f":"AF21*'Product Info'!BU22","v":0},{"$f":"AF21*'Product Info'!BX22","v":0}]
[{"$f":"'Product Info'!A23","v":0},{"$f":"'Product Info'!B23","v":0},{"$f":"'Product Info'!C23","v":0},null,null,null,null,null,null,null,null,null,null,null,null,null,null,null,null,null,null,null,null,null,null,null,null,null,null,null,null,0,{"$f":"'Product Info'!F23*('Daily Info (February)'!AF22)","v":0},null,null,{"$f":"AF22*('Product Info'!H23)","v":0},{"$f":"AF22*('Product Info'!M23+'Product Info'!P23+'Product Info'!S23+'Product Info'!V23+'Product Info'!Y23+'Product Info'!AB23+'Product Info'!AE23+'Product Info'!AH23+'Product Info'!AK23+'Product Info'!AN23+'Product Info'!AQ23+'Product Info'!AT23+'Product Info'!AW23+'Product Info'!AZ23+'Product Info'!BC23+'Product Info'!BF23+'Product Info'!BI23+'Product Info'!BL23+'Product Info'!BO23+'Product Info'!BR23+'Product Info'!BU23+'Product Info'!BX23+'Product Info'!CA23+'Product Info'!CD23+'Product Info'!CG23+'Product Info'!CJ23+'Product Info'!CM23+'Product Info'!CP23+'Product Info'!CS23+'Product Info'!CV23+'Product Info'!CY23+'Product Info'!DB23+'Product Info'!DE23+'Product Info'!DH23+'Product Info'!DK23+'Product Info'!DN23+'Product Info'!DQ23+'Product Info'!DT23+'Product Info'!DW23+'Product Info'!DZ23+'Product Info'!EC23+'Product Info'!EF23+'Product Info'!EI23+'Product Info'!EL23+'Product Info'!EO23+'Product Info'!ER23+'Product Info'!EU23+'Product Info'!EX23+'Product Info'!FA23+'Product Info'!FD23)","v":0},{"$f":"AF22*('Product Info'!M23)","v":0},{"$f":"AF22*'Product Info'!P23","v":0},{"$f":"AF22*'Product Info'!S23","v":0},{"$f":"AF22*'Product Info'!V23","v":0},{"$f":"AF22*'Product Info'!Y23","v":0},{"$f":"AF22*'Product Info'!AB23","v":0},{"$f":"AF22*'Product Info'!AE23","v":0},{"$f":"AF22*'Product Info'!AH23","v":0},{"$f":"AF22*'Product Info'!AK23","v":0},{"$f":"AF22*'Product Info'!AN23","v":0},{"$f":"AF22*'Product Info'!AQ23","v":0},{"$f":"AF22*'Product Info'!AT23","v":0},{"$f":"AF22*'Product Info'!AW23","v":0},{"$f":"AF22*'Product Info'!AZ23","v":0},{"$f":"AF22*'Product Info'!BC23","v":0},{"$f":"AF22*'Product Info'!BF23","v":0},{"$f":"AF22*'Product Info'!BI23","v":0},{"$f":"AF22*'Product Info'!BL23","v":0},{"$f":"AF22*'Product Info'!BO23","v":0},{"$f":"AF22*'Product Info'!BR23","v":0},{"$f":"AF22*'Product Info'!BU23","v":0},{"$f":"AF22*'Product Info'!BX23","v":0}]
[{"$f":"'Product Info'!A24","v":0},{"$f":"'Product Info'!B24","v":0},{"$f":"'Product Info'!C24","v":0},null,null,null,null,null,null,null,null,null,null,null,null,null,null,null,null,null,null,null,null,null,null,null,null,null,null,null,null,0,{"$f":"'Product Info'!F24*('Daily Info (February)'!AF23)","v":0},null,null,{"$f":"AF23*('Product Info'!H24)","v":0},{"$f":"AF23*('Product Info'!M24+'Product Info'!P24+'Product Info'!S24+'Product Info'!V24+'Product Info'!Y24+'Product Info'!AB24+'Product Info'!AE24+'Product Info'!AH24+'Product Info'!AK24+'Product Info'!AN24+'Product Info'!AQ24+'Product Info'!AT24+'Product Info'!AW24+'Product Info'!AZ24+'Product Info'!BC24+'Product Info'!BF24+'Product Info'!BI24+'Product Info'!BL24+'Product Info'!BO24+'Product Info'!BR24+'Product Info'!BU24+'Product Info'!BX24+'Product Info'!CA24+'Product Info'!CD24+'Product Info'!CG24+'Product Info'!CJ24+'Product Info'!CM24+'Product Info'!CP24+'Product Info'!CS24+'Product Info'!CV24+'Product Info'!CY24+'Product Info'!DB24+'Product Info'!DE24+'Product Info'!DH24+'Product Info'!DK24+'Product Info'!DN24+'Product Info'!DQ24+'Product Info'!DT24+'Product Info'!DW24+'Product Info'!DZ24+'Product Info'!EC24+'Product Info'!EF24+'Product Info'!EI24+'Product Info'!EL24+'Product Info'!EO24+'Product Info'!ER24+'Product Info'!EU24+'Product Info'!EX24+'Product Info'!FA24+'Product Info'!FD24)","v":0},{"$f":"AF23*('Product Info'!M24)","v":0},{"$f":"AF23*'Product Info'!P24","v":0},{"$f":"AF23*'Product Info'!S24","v":0},{"$f":"AF23*'Product Info'!V24","v":0},{"$f":"AF23*'Product Info'!Y24","v":0},{"$f":"AF23*'Product Info'!AB24","v":0},{"$f":"AF23*'Product Info'!AE24","v":0},{"$f":"AF23*'Product Info'!AH24","v":0},{"$f":"AF23*'Product Info'!AK24","v":0},{"$f":"AF23*'Product Info'!AN24","v":0},{"$f":"AF23*'Product Info'!AQ24","v":0},{"$f":"AF23*'Product Info'!AT24","v":0},{"$f":"AF23*'Product Info'!AW24","v":0},{"$f":"AF23*'Product Info'!AZ24","v":0},{"$f":"AF23*'Product Info'!BC24","v":0},{"$f":"AF23*'Product Info'!BF24","v":0},{"$f":"AF23*'Product Info'!BI24","v":0},{"$f":"AF23*'Product Info'!BL24","v":0},{"$f":"AF23*'Product Info'!BO24","v":0},{"$f":"AF23*'Product Info'!BR24","v":0},{"$f":"AF23*'Product Info'!BU24","v":0},{"$f":"AF23*'Product Info'!BX24","v":0}]
[{"$f":"'Product Info'!A25","v":0},{"$f":"'Product Info'!B25","v":0},{"$f":"'Product Info'!C25","v":0},null,null,null,null,null,null,null,null,null,null,null,null,null,null,null,null,null,null,null,null,null,null,null,null,null,null,null,null,0,{"$f":"'Product Info'!F25*('Daily Info (February)'!AF24)","v":0},null,null,{"$f":"AF24*('Product Info'!H25)","v":0},{"$f":"AF24*('Product Info'!M25+'Product Info'!P25+'Product Info'!S25+'Product Info'!V25+'Product Info'!Y25+'Product Info'!AB25+'Product Info'!AE25+'Product Info'!AH25+'Product Info'!AK25+'Product Info'!AN25+'Product Info'!AQ25+'Product Info'!AT25+'Product Info'!AW25+'Product Info'!AZ25+'Product Info'!BC25+'Product Info'!BF25+'Product Info'!BI25+'Product Info'!BL25+'Product Info'!BO25+'Product Info'!BR25+'Product Info'!BU25+'Product Info'!BX25+'Product Info'!CA25+'Product Info'!CD25+'Product Info'!CG25+'Product Info'!CJ25+'Product Info'!CM25+'Product Info'!CP25+'Product Info'!CS25+'Product Info'!CV25+'Product Info'!CY25+'Product Info'!DB25+'Product Info'!DE25+'Product Info'!DH25+'Product Info'!DK25+'Product Info'!DN25+'Product Info'!DQ25+'Product Info'!DT25+'Product Info'!DW25+'Product Info'!DZ25+'Product Info'!EC25+'Product Info'!EF25+'Product Info'!EI25+'Product Info'!EL25+'Product Info'!EO25+'Product Info'!ER25+'Product Info'!EU25+'Product Info'!EX25+'Product Info'!FA25+'Product Info'!FD25)","v":0},{"$f":"AF24*('Product Info'!M25)","v":0},{"$f":"AF24*'Product Info'!P25","v":0},{"$f":"AF24*'Product Info'!S25","v":0},{"$f":"AF24*'Product Info'!V25","v":0},{"$f":"AF24*'Product Info'!Y25","v":0},{"$f":"AF24*'Product Info'!AB25","v":0},{"$f":"AF24*'Product Info'!AE25","v":0},{"$f":"AF24*'Product Info'!AH25","v":0},{"$f":"AF24*'Product Info'!AK25","v":0},{"$f":"AF24*'Product Info'!AN25","v":0},{"$f":"AF24*'Product Info'!AQ25","v":0},{"$f":"AF24*'Product Info'!AT25","v":0},{"$f":"AF24*'Product Info'!AW25","v":0},{"$f":"AF24*'Product Info'!AZ25","v":0},{"$f":"AF24*'Product Info'!BC25","v":0},{"$f":"AF24*'Product Info'!BF25","v":0},{"$f":"AF24*'Product Info'!BI25","v":0},{"$f":"AF24*'Product Info'!BL25","v":0},{"$f":"AF24*'Product Info'!BO25","v":0},{"$f":"AF24*'Product Info'!BR25","v":0},{"$f":"AF24*'Product Info'!BU25","v":0},{"$f":"AF24*'Product Info'!BX25","v":0}]
[{"$f":"'Product Info'!A26","v":0},{"$f":"'Product Info'!B26","v":0},{"$f":"'Product Info'!C26","v":0},null,null,null,null,null,null,null,null,null,null,null,null,null,null,null,null,null,null,null,null,null,null,null,null,null,null,null,null,0,{"$f":"'Product Info'!F26*('Daily Info (February)'!AF25)","v":0},null,null,{"$f":"AF25*('Product Info'!H26)","v":0},{"$f":"AF25*('Product Info'!M26+'Product Info'!P26+'Product Info'!S26+'Product Info'!V26+'Product Info'!Y26+'Product Info'!AB26+'Product Info'!AE26+'Product Info'!AH26+'Product Info'!AK26+'Product Info'!AN26+'Product Info'!AQ26+'Product Info'!AT26+'Product Info'!AW26+'Product Info'!AZ26+'Product Info'!BC26+'Product Info'!BF26+'Product Info'!BI26+'Product Info'!BL26+'Product Info'!BO26+'Product Info'!BR26+'Product Info'!BU26+'Product Info'!BX26+'Product Info'!CA26+'Product Info'!CD26+'Product Info'!CG26+'Product Info'!CJ26+'Product Info'!CM26+'Product Info'!CP26+'Product Info'!CS26+'Product Info'!CV26+'Product Info'!CY26+'Product Info'!DB26+'Product Info'!DE26+'Product Info'!DH26+'Product Info'!DK26+'Product Info'!DN26+'Product Info'!DQ26+'Product Info'!DT26+'Product Info'!DW26+'Product Info'!DZ26+'Product Info'!EC26+'Product Info'!EF26+'Product Info'!EI26+'Product Info'!EL26+'Product Info'!EO26+'Product Info'!ER26+'Product Info'!EU26+'Product Info'!EX26+'Product Info'!FA26+'Product Info'!FD26)","v":0},{"$f":"AF25*('Product Info'!M26)","v":0},{"$f":"AF25*'Product Info'!P26","v":0},{"$f":"AF25*'Product Info'!S26","v":0},{"$f":"AF25*'Product Info'!V26","v":0},{"$f":"AF25*'Product Info'!Y26","v":0},{"$f":"AF25*'Product Info'!AB26","v":0},{"$f":"AF25*'Product Info'!AE26","v":0},{"$f":"AF25*'Product Info'!AH26","v":0},{"$f":"AF25*'Product Info'!AK26","v":0},{"$f":"AF25*'Product Info'!AN26","v":0},{"$f":"AF25*'Product Info'!AQ26","v":0},{"$f":"AF25*'Product Info'!AT26","v":0},{"$f":"AF25*'Product Info'!AW26","v":0},{"$f":"AF25*'Product Info'!AZ26","v":0},{"$f":"AF25*'Product Info'!BC26","v":0},{"$f":"AF25*'Product Info'!BF26","v":0},{"$f":"AF25*'Product Info'!BI26","v":0},{"$f":"AF25*'Product Info'!BL26","v":0},{"$f":"AF25*'Product Info'!BO26","v":0},{"$f":"AF25*'Product Info'!BR26","v":0},{"$f":"AF25*'Product Info'!BU26","v":0},{"$f":"AF25*'Product Info'!BX26","v":0}]
[{"$f":"'Product Info'!A27","v":0},{"$f":"'Product Info'!B27","v":0},{"$f":"'Product Info'!C27","v":0},null,null,null,null,null,null,null,null,null,null,null,null,null,null,null,null,null,null,null,null,null,null,null,null,null,null,null,null,0,{"$f":"'Product Info'!F27*('Daily Info (February)'!AF26)","v":0},null,null,{"$f":"AF26*('Product Info'!H27)","v":0},{"$f":"AF26*('Product Info'!M27+'Product Info'!P27+'Product Info'!S27+'Product Info'!V27+'Product Info'!Y27+'Product Info'!AB27+'Product Info'!AE27+'Product Info'!AH27+'Product Info'!AK27+'Product Info'!AN27+'Product Info'!AQ27+'Product Info'!AT27+'Product Info'!AW27+'Product Info'!AZ27+'Product Info'!BC27+'Product Info'!BF27+'Product Info'!BI27+'Product Info'!BL27+'Product Info'!BO27+'Product Info'!BR27+'Product Info'!BU27+'Product Info'!BX27+'Product Info'!CA27+'Product Info'!CD27+'Product Info'!CG27+'Product Info'!CJ27+'Product Info'!CM27+'Product Info'!CP27+'Product Info'!CS27+'Product Info'!CV27+'Product Info'!CY27+'Product Info'!DB27+'Product Info'!DE27+'Product Info'!DH27+'Product Info'!DK27+'Product Info'!DN27+'Product Info'!DQ27+'Product Info'!DT27+'Product Info'!DW27+'Product Info'!DZ27+'Product Info'!EC27+'Product Info'!EF27+'Product Info'!EI27+'Product Info'!EL27+'Product Info'!EO27+'Product Info'!ER27+'Product Info'!EU27+'Product Info'!EX27+'Product Info'!FA27+'Product Info'!FD27)","v":0},{"$f":"AF26*('Product Info'!M27)","v":0},{"$f":"AF26*'Product Info'!P27","v":0},{"$f":"AF26*'Product Info'!S27","v":0},{"$f":"AF26*'Product Info'!V27","v":0},{"$f":"AF26*'Product Info'!Y27","v":0},{"$f":"AF26*'Product Info'!AB27","v":0},{"$f":"AF26*'Product Info'!AE27","v":0},{"$f":"AF26*'Product Info'!AH27","v":0},{"$f":"AF26*'Product Info'!AK27","v":0},{"$f":"AF26*'Product Info'!AN27","v":0},{"$f":"AF26*'Product Info'!AQ27","v":0},{"$f":"AF26*'Product Info'!AT27","v":0},{"$f":"AF26*'Product Info'!AW27","v":0},{"$f":"AF26*'Product Info'!AZ27","v":0},{"$f":"AF26*'Product Info'!BC27","v":0},{"$f":"AF26*'Product Info'!BF27","v":0},{"$f":"AF26*'Product Info'!BI27","v":0},{"$f":"AF26*'Product Info'!BL27","v":0},{"$f":"AF26*'Product Info'!BO27","v":0},{"$f":"AF26*'Product Info'!BR27","v":0},{"$f":"AF26*'Product Info'!BU27","v":0},{"$f":"AF26*'Product Info'!BX27","v":0}]
[{"$f":"'Product Info'!A28","v":0},{"$f":"'Product Info'!B28","v":0},{"$f":"'Product Info'!C28","v":0},null,null,null,null,null,null,null,null,null,null,null,null,null,null,null,null,null,null,null,null,null,null,null,null,null,null,null,null,0,{"$f":"'Product Info'!F28*('Daily Info (February)'!AF27)","v":0},null,null,{"$f":"AF27*('Product Info'!H28)","v":0},{"$f":"AF27*('Product Info'!M28+'Product Info'!P28+'Product Info'!S28+'Product Info'!V28+'Product Info'!Y28+'Product Info'!AB28+'Product Info'!AE28+'Product Info'!AH28+'Product Info'!AK28+'Product Info'!AN28+'Product Info'!AQ28+'Product Info'!AT28+'Product Info'!AW28+'Product Info'!AZ28+'Product Info'!BC28+'Product Info'!BF28+'Product Info'!BI28+'Product Info'!BL28+'Product Info'!BO28+'Product Info'!BR28+'Product Info'!BU28+'Product Info'!BX28+'Product Info'!CA28+'Product Info'!CD28+'Product Info'!CG28+'Product Info'!CJ28+'Product Info'!CM28+'Product Info'!CP28+'Product Info'!CS28+'Product Info'!CV28+'Product Info'!CY28+'Product Info'!DB28+'Product Info'!DE28+'Product Info'!DH28+'Product Info'!DK28+'Product Info'!DN28+'Product Info'!DQ28+'Product Info'!DT28+'Product Info'!DW28+'Product Info'!DZ28+'Product Info'!EC28+'Product Info'!EF28+'Product Info'!EI28+'Product Info'!EL28+'Product Info'!EO28+'Product Info'!ER28+'Product Info'!EU28+'Product Info'!EX28+'Product Info'!FA28+'Product Info'!FD28)","v":0},{"$f":"AF27*('Product Info'!M28)","v":0},{"$f":"AF27*'Product Info'!P28","v":0},{"$f":"AF27*'Product Info'!S28","v":0},{"$f":"AF27*'Product Info'!V28","v":0},{"$f":"AF27*'Product Info'!Y28","v":0},{"$f":"AF27*'Product Info'!AB28","v":0},{"$f":"AF27*'Product Info'!AE28","v":0},{"$f":"AF27*'Product Info'!AH28","v":0},{"$f":"AF27*'Product Info'!AK28","v":0},{"$f":"AF27*'Product Info'!AN28","v":0},{"$f":"AF27*'Product Info'!AQ28","v":0},{"$f":"AF27*'Product Info'!AT28","v":0},{"$f":"AF27*'Product Info'!AW28","v":0},{"$f":"AF27*'Product Info'!AZ28","v":0},{"$f":"AF27*'Product Info'!BC28","v":0},{"$f":"AF27*'Product Info'!BF28","v":0},{"$f":"AF27*'Product Info'!BI28","v":0},{"$f":"AF27*'Product Info'!BL28","v":0},{"$f":"AF27*'Product Info'!BO28","v":0},{"$f":"AF27*'Product Info'!BR28","v":0},{"$f":"AF27*'Product Info'!BU28","v":0},{"$f":"AF27*'Product Info'!BX28","v":0}]
[{"$f":"'Product Info'!A29","v":0},{"$f":"'Product Info'!B29","v":0},{"$f":"'Product Info'!C29","v":0},null,null,null,null,null,null,null,null,null,null,null,null,null,null,null,null,null,null,null,null,null,null,null,null,null,null,null,null,0,{"$f":"'Product Info'!F29*('Daily Info (February)'!AF28)","v":0},null,null,{"$f":"AF28*('Product Info'!H29)","v":0},{"$f":"AF28*('Product Info'!M29+'Product Info'!P29+'Product Info'!S29+'Product Info'!V29+'Product Info'!Y29+'Product Info'!AB29+'Product Info'!AE29+'Product Info'!AH29+'Product Info'!AK29+'Product Info'!AN29+'Product Info'!AQ29+'Product Info'!AT29+'Product Info'!AW29+'Product Info'!AZ29+'Product Info'!BC29+'Product Info'!BF29+'Product Info'!BI29+'Product Info'!BL29+'Product Info'!BO29+'Product Info'!BR29+'Product Info'!BU29+'Product Info'!BX29+'Product Info'!CA29+'Product Info'!CD29+'Product Info'!CG29+'Product Info'!CJ29+'Product Info'!CM29+'Product Info'!CP29+'Product Info'!CS29+'Product Info'!CV29+'Product Info'!CY29+'Product Info'!DB29+'Product Info'!DE29+'Product Info'!DH29+'Product Info'!DK29+'Product Info'!DN29+'Product Info'!DQ29+'Product Info'!DT29+'Product Info'!DW29+'Product Info'!DZ29+'Product Info'!EC29+'Product Info'!EF29+'Product Info'!EI29+'Product Info'!EL29+'Product Info'!EO29+'Product Info'!ER29+'Product Info'!EU29+'Product Info'!EX29+'Product Info'!FA29+'Product Info'!FD29)","v":0},{"$f":"AF28*('Product Info'!M29)","v":0},{"$f":"AF28*'Product Info'!P29","v":0},{"$f":"AF28*'Product Info'!S29","v":0},{"$f":"AF28*'Product Info'!V29","v":0},{"$f":"AF28*'Product Info'!Y29","v":0},{"$f":"AF28*'Product Info'!AB29","v":0},{"$f":"AF28*'Product Info'!AE29","v":0},{"$f":"AF28*'Product Info'!AH29","v":0},{"$f":"AF28*'Product Info'!AK29","v":0},{"$f":"AF28*'Product Info'!AN29","v":0},{"$f":"AF28*'Product Info'!AQ29","v":0},{"$f":"AF28*'Product Info'!AT29","v":0},{"$f":"AF28*'Product Info'!AW29","v":0},{"$f":"AF28*'Product Info'!AZ29","v":0},{"$f":"AF28*'Product Info'!BC29","v":0},{"$f":"AF28*'Product Info'!BF29","v":0},{"$f":"AF28*'Product Info'!BI29","v":0},{"$f":"AF28*'Product Info'!BL29","v":0},{"$f":"AF28*'Product Info'!BO29","v":0},{"$f":"AF28*'Product Info'!BR29","v":0},{"$f":"AF28*'Product Info'!BU29","v":0},{"$f":"AF28*'Product Info'!BX29","v":0}]
[{"$f":"'Product Info'!A30","v":0},{"$f":"'Product Info'!B30","v":0},{"$f":"'Product Info'!C30","v":0},null,null,null,null,null,null,null,null,null,null,null,null,null,null,null,null,null,null,null,null,null,null,null,null,null,null,null,null,0,{"$f":"'Product Info'!F30*('Daily Info (February)'!AF29)","v":0},null,null,{"$f":"AF29*('Product Info'!H30)","v":0},{"$f":"AF29*('Product Info'!M30+'Product Info'!P30+'Product Info'!S30+'Product Info'!V30+'Product Info'!Y30+'Product Info'!AB30+'Product Info'!AE30+'Product Info'!AH30+'Product Info'!AK30+'Product Info'!AN30+'Product Info'!AQ30+'Product Info'!AT30+'Product Info'!AW30+'Product Info'!AZ30+'Product Info'!BC30+'Product Info'!BF30+'Product Info'!BI30+'Product Info'!BL30+'Product Info'!BO30+'Product Info'!BR30+'Product Info'!BU30+'Product Info'!BX30+'Product Info'!CA30+'Product Info'!CD30+'Product Info'!CG30+'Product Info'!CJ30+'Product Info'!CM30+'Product Info'!CP30+'Product Info'!CS30+'Product Info'!CV30+'Product Info'!CY30+'Product Info'!DB30+'Product Info'!DE30+'Product Info'!DH30+'Product Info'!DK30+'Product Info'!DN30+'Product Info'!DQ30+'Product Info'!DT30+'Product Info'!DW30+'Product Info'!DZ30+'Product Info'!EC30+'Product Info'!EF30+'Product Info'!EI30+'Product Info'!EL30+'Product Info'!EO30+'Product Info'!ER30+'Product Info'!EU30+'Product Info'!EX30+'Product Info'!FA30+'Product Info'!FD30)","v":0},{"$f":"AF29*('Product Info'!M30)","v":0},{"$f":"AF29*'Product Info'!P30","v":0},{"$f":"AF29*'Product Info'!S30","v":0},{"$f":"AF29*'Product Info'!V30","v":0},{"$f":"AF29*'Product Info'!Y30","v":0},{"$f":"AF29*'Product Info'!AB30","v":0},{"$f":"AF29*'Product Info'!AE30","v":0},{"$f":"AF29*'Product Info'!AH30","v":0},{"$f":"AF29*'Product Info'!AK30","v":0},{"$f":"AF29*'Product Info'!AN30","v":0},{"$f":"AF29*'Product Info'!AQ30","v":0},{"$f":"AF29*'Product Info'!AT30","v":0},{"$f":"AF29*'Product Info'!AW30","v":0},{"$f":"AF29*'Product Info'!AZ30","v":0},{"$f":"AF29*'Product Info'!BC30","v":0},{"$f":"AF29*'Product Info'!BF30","v":0},{"$f":"AF29*'Product Info'!BI30","v":0},{"$f":"AF29*'Product Info'!BL30","v":0},{"$f":"AF29*'Product Info'!BO30","v":0},{"$f":"AF29*'Product Info'!BR30","v":0},{"$f":"AF29*'Product Info'!BU30","v":0},{"$f":"AF29*'Product Info'!BX30","v":0}]
[{"$f":"'Product Info'!A31","v":0},{"$f":"'Product Info'!B31","v":0},{"$f":"'Product Info'!C31","v":0},null,null,null,null,null,null,null,null,null,null,null,null,null,null,null,null,null,null,null,null,null,null,null,null,null,null,null,null,0,{"$f":"'Product Info'!F31*('Daily Info (February)'!AF30)","v":0},null,null,{"$f":"AF30*('Product Info'!H31)","v":0},{"$f":"AF30*('Product Info'!M31+'Product Info'!P31+'Product Info'!S31+'Product Info'!V31+'Product Info'!Y31+'Product Info'!AB31+'Product Info'!AE31+'Product Info'!AH31+'Product Info'!AK31+'Product Info'!AN31+'Product Info'!AQ31+'Product Info'!AT31+'Product Info'!AW31+'Product Info'!AZ31+'Product Info'!BC31+'Product Info'!BF31+'Product Info'!BI31+'Product Info'!BL31+'Product Info'!BO31+'Product Info'!BR31+'Product Info'!BU31+'Product Info'!BX31+'Product Info'!CA31+'Product Info'!CD31+'Product Info'!CG31+'Product Info'!CJ31+'Product Info'!CM31+'Product Info'!CP31+'Product Info'!CS31+'Product Info'!CV31+'Product Info'!CY31+'Product Info'!DB31+'Product Info'!DE31+'Product Info'!DH31+'Product Info'!DK31+'Product Info'!DN31+'Product Info'!DQ31+'Product Info'!DT31+'Product Info'!DW31+'Product Info'!DZ31+'Product Info'!EC31+'Product Info'!EF31+'Product Info'!EI31+'Product Info'!EL31+'Product Info'!EO31+'Product Info'!ER31+'Product Info'!EU31+'Product Info'!EX31+'Product Info'!FA31+'Product Info'!FD31)","v":0},{"$f":"AF30*('Product Info'!M31)","v":0},{"$f":"AF30*'Product Info'!P31","v":0},{"$f":"AF30*'Product Info'!S31","v":0},{"$f":"AF30*'Product Info'!V31","v":0},{"$f":"AF30*'Product Info'!Y31","v":0},{"$f":"AF30*'Product Info'!AB31","v":0},{"$f":"AF30*'Product Info'!AE31","v":0},{"$f":"AF30*'Product Info'!AH31","v":0},{"$f":"AF30*'Product Info'!AK31","v":0},{"$f":"AF30*'Product Info'!AN31","v":0},{"$f":"AF30*'Product Info'!AQ31","v":0},{"$f":"AF30*'Product Info'!AT31","v":0},{"$f":"AF30*'Product Info'!AW31","v":0},{"$f":"AF30*'Product Info'!AZ31","v":0},{"$f":"AF30*'Product Info'!BC31","v":0},{"$f":"AF30*'Product Info'!BF31","v":0},{"$f":"AF30*'Product Info'!BI31","v":0},{"$f":"AF30*'Product Info'!BL31","v":0},{"$f":"AF30*'Product Info'!BO31","v":0},{"$f":"AF30*'Product Info'!BR31","v":0},{"$f":"AF30*'Product Info'!BU31","v":0},{"$f":"AF30*'Product Info'!BX31","v":0}]
[{"$f":"'Product Info'!A32","v":0},{"$f":"'Product Info'!B32","v":0},{"$f":"'Product Info'!C32","v":0},null,null,null,null,null,null,null,null,null,null,null,null,null,null,null,null,null,null,null,null,null,null,null,null,null,null,null,null,0,{"$f":"'Product Info'!F32*('Daily Info (February)'!AF31)","v":0},null,null,{"$f":"AF31*('Product Info'!H32)","v":0},{"$f":"AF31*('Product Info'!M32+'Product Info'!P32+'Product Info'!S32+'Product Info'!V32+'Product Info'!Y32+'Product Info'!AB32+'Product Info'!AE32+'Product Info'!AH32+'Product Info'!AK32+'Product Info'!AN32+'Product Info'!AQ32+'Product Info'!AT32+'Product Info'!AW32+'Product Info'!AZ32+'Product Info'!BC32+'Product Info'!BF32+'Product Info'!BI32+'Product Info'!BL32+'Product Info'!BO32+'Product Info'!BR32+'Product Info'!BU32+'Product Info'!BX32+'Product Info'!CA32+'Product Info'!CD32+'Product Info'!CG32+'Product Info'!CJ32+'Product Info'!CM32+'Product Info'!CP32+'Product Info'!CS32+'Product Info'!CV32+'Product Info'!CY32+'Product Info'!DB32+'Product Info'!DE32+'Product Info'!DH32+'Product Info'!DK32+'Product Info'!DN32+'Product Info'!DQ32+'Product Info'!DT32+'Product Info'!DW32+'Product Info'!DZ32+'Product Info'!EC32+'Product Info'!EF32+'Product Info'!EI32+'Product Info'!EL32+'Product Info'!EO32+'Product Info'!ER32+'Product Info'!EU32+'Product Info'!EX32+'Product Info'!FA32+'Product Info'!FD32)","v":0},{"$f":"AF31*('Product Info'!M32)","v":0},{"$f":"AF31*'Product Info'!P32","v":0},{"$f":"AF31*'Product Info'!S32","v":0},{"$f":"AF31*'Product Info'!V32","v":0},{"$f":"AF31*'Product Info'!Y32","v":0},{"$f":"AF31*'Product Info'!AB32","v":0},{"$f":"AF31*'Product Info'!AE32","v":0},{"$f":"AF31*'Product Info'!AH32","v":0},{"$f":"AF31*'Product Info'!AK32","v":0},{"$f":"AF31*'Product Info'!AN32","v":0},{"$f":"AF31*'Product Info'!AQ32","v":0},{"$f":"AF31*'Product Info'!AT32","v":0},{"$f":"AF31*'Product Info'!AW32","v":0},{"$f":"AF31*'Product Info'!AZ32","v":0},{"$f":"AF31*'Product Info'!BC32","v":0},{"$f":"AF31*'Product Info'!BF32","v":0},{"$f":"AF31*'Product Info'!BI32","v":0},{"$f":"AF31*'Product Info'!BL32","v":0},{"$f":"AF31*'Product Info'!BO32","v":0},{"$f":"AF31*'Product Info'!BR32","v":0},{"$f":"AF31*'Product Info'!BU32","v":0},{"$f":"AF31*'Product Info'!BX32","v":0}]
[{"$f":"'Product Info'!A33","v":0},{"$f":"'Product Info'!B33","v":0},{"$f":"'Product Info'!C33","v":0},null,null,null,null,null,null,null,null,null,null,null,null,null,null,null,null,null,null,null,null,null,null,null,null,null,null,null,null,0,{"$f":"'Product Info'!F33*('Daily Info (February)'!AF32)","v":0},null,null,{"$f":"AF32*('Product Info'!H33)","v":0},{"$f":"AF32*('Product Info'!M33+'Product Info'!P33+'Product Info'!S33+'Product Info'!V33+'Product Info'!Y33+'Product Info'!AB33+'Product Info'!AE33+'Product Info'!AH33+'Product Info'!AK33+'Product Info'!AN33+'Product Info'!AQ33+'Product Info'!AT33+'Product Info'!AW33+'Product Info'!AZ33+'Product Info'!BC33+'Product Info'!BF33+'Product Info'!BI33+'Product Info'!BL33+'Product Info'!BO33+'Product Info'!BR33+'Product Info'!BU33+'Product Info'!BX33+'Product Info'!CA33+'Product Info'!CD33+'Product Info'!CG33+'Product Info'!CJ33+'Product Info'!CM33+'Product Info'!CP33+'Product Info'!CS33+'Product Info'!CV33+'Product Info'!CY33+'Product Info'!DB33+'Product Info'!DE33+'Product Info'!DH33+'Product Info'!DK33+'Product Info'!DN33+'Product Info'!DQ33+'Product Info'!DT33+'Product Info'!DW33+'Product Info'!DZ33+'Product Info'!EC33+'Product Info'!EF33+'Product Info'!EI33+'Product Info'!EL33+'Product Info'!EO33+'Product Info'!ER33+'Product Info'!EU33+'Product Info'!EX33+'Product Info'!FA33+'Product Info'!FD33)","v":0},{"$f":"AF32*('Product Info'!M33)","v":0},{"$f":"AF32*'Product Info'!P33","v":0},{"$f":"AF32*'Product Info'!S33","v":0},{"$f":"AF32*'Product Info'!V33","v":0},{"$f":"AF32*'Product Info'!Y33","v":0},{"$f":"AF32*'Product Info'!AB33","v":0},{"$f":"AF32*'Product Info'!AE33","v":0},{"$f":"AF32*'Product Info'!AH33","v":0},{"$f":"AF32*'Product Info'!AK33","v":0},{"$f":"AF32*'Product Info'!AN33","v":0},{"$f":"AF32*'Product Info'!AQ33","v":0},{"$f":"AF32*'Product Info'!AT33","v":0},{"$f":"AF32*'Product Info'!AW33","v":0},{"$f":"AF32*'Product Info'!AZ33","v":0},{"$f":"AF32*'Product Info'!BC33","v":0},{"$f":"AF32*'Product Info'!BF33","v":0},{"$f":"AF32*'Product Info'!BI33","v":0},{"$f":"AF32*'Product Info'!BL33","v":0},{"$f":"AF32*'Product Info'!BO33","v":0},{"$f":"AF32*'Product Info'!BR33","v":0},{"$f":"AF32*'Product Info'!BU33","v":0},{"$f":"AF32*'Product Info'!BX33","v":0}]
[{"$f":"'Product Info'!A34","v":0},{"$f":"'Product Info'!B34","v":0},{"$f":"'Product Info'!C34","v":0},null,null,null,null,null,null,null,null,null,null,null,null,null,null,null,null,null,null,null,null,null,null,null,null,null,null,null,null,0,{"$f":"'Product Info'!F34*('Daily Info (February)'!AF33)","v":0},null,null,{"$f":"AF33*('Product Info'!H34)","v":0},{"$f":"AF33*('Product Info'!M34+'Product Info'!P34+'Product Info'!S34+'Product Info'!V34+'Product Info'!Y34+'Product Info'!AB34+'Product Info'!AE34+'Product Info'!AH34+'Product Info'!AK34+'Product Info'!AN34+'Product Info'!AQ34+'Product Info'!AT34+'Product Info'!AW34+'Product Info'!AZ34+'Product Info'!BC34+'Product Info'!BF34+'Product Info'!BI34+'Product Info'!BL34+'Product Info'!BO34+'Product Info'!BR34+'Product Info'!BU34+'Product Info'!BX34+'Product Info'!CA34+'Product Info'!CD34+'Product Info'!CG34+'Product Info'!CJ34+'Product Info'!CM34+'Product Info'!CP34+'Product Info'!CS34+'Product Info'!CV34+'Product Info'!CY34+'Product Info'!DB34+'Product Info'!DE34+'Product Info'!DH34+'Product Info'!DK34+'Product Info'!DN34+'Product Info'!DQ34+'Product Info'!DT34+'Product Info'!DW34+'Product Info'!DZ34+'Product Info'!EC34+'Product Info'!EF34+'Product Info'!EI34+'Product Info'!EL34+'Product Info'!EO34+'Product Info'!ER34+'Product Info'!EU34+'Product Info'!EX34+'Product Info'!FA34+'Product Info'!FD34)","v":0},{"$f":"AF33*('Product Info'!M34)","v":0},{"$f":"AF33*'Product Info'!P34","v":0},{"$f":"AF33*'Product Info'!S34","v":0},{"$f":"AF33*'Product Info'!V34","v":0},{"$f":"AF33*'Product Info'!Y34","v":0},{"$f":"AF33*'Product Info'!AB34","v":0},{"$f":"AF33*'Product Info'!AE34","v":0},{"$f":"AF33*'Product Info'!AH34","v":0},{"$f":"AF33*'Product Info'!AK34","v":0},{"$f":"AF33*'Product Info'!AN34","v":0},{"$f":"AF33*'Product Info'!AQ34","v":0},{"$f":"AO33*'Product Info'!AF34","v":0},{"$f":"AF33*'Product Info'!AW34","v":0},{"$f":"AF33*'Product Info'!AZ34","v":0},{"$f":"AF33*'Product Info'!BC34","v":0},{"$f":"AF33*'Product Info'!BF34","v":0},{"$f":"AF33*'Product Info'!BI34","v":0},{"$f":"AF33*'Product Info'!BL34","v":0},{"$f":"AF33*'Product Info'!BO34","v":0},{"$f":"AF33*'Product Info'!BR34","v":0},{"$f":"AF33*'Product Info'!BU34","v":0},{"$f":"AF33*'Product Info'!BX34","v":0}]
[{"$f":"'Product Info'!A35","v":0},{"$f":"'Product Info'!B35","v":0},{"$f":"'Product Info'!C35","v":0},null,null,null,null,null,null,null,null,null,null,null,null,null,null,null,null,null,null,null,null,null,null,null,null,null,null,null,null,0,{"$f":"'Product Info'!F35*('Daily Info (February)'!AF34)","v":0},null,null,{"$f":"AF34*('Product Info'!H35)","v":0},{"$f":"AF34*('Product Info'!M35+'Product Info'!P35+'Product Info'!S35+'Product Info'!V35+'Product Info'!Y35+'Product Info'!AB35+'Product Info'!AE35+'Product Info'!AH35+'Product Info'!AK35+'Product Info'!AN35+'Product Info'!AQ35+'Product Info'!AT35+'Product Info'!AW35+'Product Info'!AZ35+'Product Info'!BC35+'Product Info'!BF35+'Product Info'!BI35+'Product Info'!BL35+'Product Info'!BO35+'Product Info'!BR35+'Product Info'!BU35+'Product Info'!BX35+'Product Info'!CA35+'Product Info'!CD35+'Product Info'!CG35+'Product Info'!CJ35+'Product Info'!CM35+'Product Info'!CP35+'Product Info'!CS35+'Product Info'!CV35+'Product Info'!CY35+'Product Info'!DB35+'Product Info'!DE35+'Product Info'!DH35+'Product Info'!DK35+'Product Info'!DN35+'Product Info'!DQ35+'Product Info'!DT35+'Product Info'!DW35+'Product Info'!DZ35+'Product Info'!EC35+'Product Info'!EF35+'Product Info'!EI35+'Product Info'!EL35+'Product Info'!EO35+'Product Info'!ER35+'Product Info'!EU35+'Product Info'!EX35+'Product Info'!FA35+'Product Info'!FD35)","v":0},{"$f":"AF34*('Product Info'!M35)","v":0},{"$f":"AF34*'Product Info'!P35","v":0},{"$f":"AF34*'Product Info'!S35","v":0},{"$f":"AF34*'Product Info'!V35","v":0},{"$f":"AF34*'Product Info'!Y35","v":0},{"$f":"AF34*'Product Info'!AB35","v":0},{"$f":"AF34*'Product Info'!AE35","v":0},{"$f":"AF34*'Product Info'!AH35","v":0},{"$f":"AF34*'Product Info'!AK35","v":0},{"$f":"AF34*'Product Info'!AN35","v":0},{"$f":"AF34*'Product Info'!AQ35","v":0},{"$f":"AF34*'Product Info'!AT35","v":0},{"$f":"AF34*'Product Info'!AW35","v":0},{"$f":"AF34*'Product Info'!AZ35","v":0},{"$f":"AF34*'Product Info'!BC35","v":0},{"$f":"AF34*'Product Info'!BF35","v":0},{"$f":"AF34*'Product Info'!BI35","v":0},{"$f":"AF34*'Product Info'!BL35","v":0},{"$f":"AF34*'Product Info'!BO35","v":0},{"$f":"AF34*'Product Info'!BR35","v":0},{"$f":"AF34*'Product Info'!BU35","v":0},{"$f":"AF34*'Product Info'!BX35","v":0}]
[{"$f":"'Product Info'!A36","v":0},{"$f":"'Product Info'!B36","v":0},{"$f":"'Product Info'!C36","v":0},null,null,null,null,null,null,null,null,null,null,null,null,null,null,null,null,null,null,null,null,null,null,null,null,null,null,null,null,0,{"$f":"'Product Info'!F36*('Daily Info (February)'!AF35)","v":0},null,null,{"$f":"AF35*('Product Info'!H36)","v":0},{"$f":"AF35*('Product Info'!M36+'Product Info'!P36+'Product Info'!S36+'Product Info'!V36+'Product Info'!Y36+'Product Info'!AB36+'Product Info'!AE36+'Product Info'!AH36+'Product Info'!AK36+'Product Info'!AN36+'Product Info'!AQ36+'Product Info'!AT36+'Product Info'!AW36+'Product Info'!AZ36+'Product Info'!BC36+'Product Info'!BF36+'Product Info'!BI36+'Product Info'!BL36+'Product Info'!BO36+'Product Info'!BR36+'Product Info'!BU36+'Product Info'!BX36+'Product Info'!CA36+'Product Info'!CD36+'Product Info'!CG36+'Product Info'!CJ36+'Product Info'!CM36+'Product Info'!CP36+'Product Info'!CS36+'Product Info'!CV36+'Product Info'!CY36+'Product Info'!DB36+'Product Info'!DE36+'Product Info'!DH36+'Product Info'!DK36+'Product Info'!DN36+'Product Info'!DQ36+'Product Info'!DT36+'Product Info'!DW36+'Product Info'!DZ36+'Product Info'!EC36+'Product Info'!EF36+'Product Info'!EI36+'Product Info'!EL36+'Product Info'!EO36+'Product Info'!ER36+'Product Info'!EU36+'Product Info'!EX36+'Product Info'!FA36+'Product Info'!FD36)","v":0},{"$f":"AF35*('Product Info'!M36)","v":0},{"$f":"AF35*'Product Info'!P36","v":0},{"$f":"AF35*'Product Info'!S36","v":0},{"$f":"AF35*'Product Info'!V36","v":0},{"$f":"AF35*'Product Info'!Y36","v":0},{"$f":"AF35*'Product Info'!AB36","v":0},{"$f":"AF35*'Product Info'!AE36","v":0},{"$f":"AF35*'Product Info'!AH36","v":0},{"$f":"AF35*'Product Info'!AK36","v":0},{"$f":"AF35*'Product Info'!AN36","v":0},{"$f":"AF35*'Product Info'!AQ36","v":0},{"$f":"AF35*'Product Info'!AT36","v":0},{"$f":"AF35*'Product Info'!AW36","v":0},{"$f":"AF35*'Product Info'!AZ36","v":0},{"$f":"AF35*'Product Info'!BC36","v":0},{"$f":"AF35*'Product Info'!BF36","v":0},{"$f":"AF35*'Product Info'!BI36","v":0},{"$f":"AF35*'Product Info'!BL36","v":0},{"$f":"AF35*'Product Info'!BO36","v":0},{"$f":"AF35*'Product Info'!BR36","v":0},{"$f":"AF35*'Product Info'!BU36","v":0},{"$f":"AF35*'Product Info'!BX36","v":0}]
[{"$f":"'Product Info'!A37","v":0},{"$f":"'Product Info'!B37","v":0},{"$f":"'Product Info'!C37","v":0},null,null,null,null,null,null,null,null,null,null,null,null,null,null,null,null,null,null,null,null,null,null,null,null,null,null,null,null,{"$f":"SUM(D36:AE36)","v":0},{"$f":"'Product Info'!F37*('Daily Info (February)'!AF36)","v":0},null,null,{"$f":"AF36*('Product Info'!H37)","v":0},{"$f":"AF36*('Product Info'!M37+'Product Info'!P37+'Product Info'!S37+'Product Info'!V37+'Product Info'!Y37+'Product Info'!AB37+'Product Info'!AE37+'Product Info'!AH37+'Product Info'!AK37+'Product Info'!AN37+'Product Info'!AQ37+'Product Info'!AT37+'Product Info'!AW37+'Product Info'!AZ37+'Product Info'!BC37+'Product Info'!BF37+'Product Info'!BI37+'Product Info'!BL37+'Product Info'!BO37+'Product Info'!BR37+'Product Info'!BU37+'Product Info'!BX37+'Product Info'!CA37+'Product Info'!CD37+'Product Info'!CG37+'Product Info'!CJ37+'Product Info'!CM37+'Product Info'!CP37+'Product Info'!CS37+'Product Info'!CV37+'Product Info'!CY37+'Product Info'!DB37+'Product Info'!DE37+'Product Info'!DH37+'Product Info'!DK37+'Product Info'!DN37+'Product Info'!DQ37+'Product Info'!DT37+'Product Info'!DW37+'Product Info'!DZ37+'Product Info'!EC37+'Product Info'!EF37+'Product Info'!EI37+'Product Info'!EL37+'Product Info'!EO37+'Product Info'!ER37+'Product Info'!EU37+'Product Info'!EX37+'Product Info'!FA37+'Product Info'!FD37)","v":0},{"$f":"AF36*('Product Info'!M37)","v":0},{"$f":"AF36*'Product Info'!P37","v":0},{"$f":"AF36*'Product Info'!S37","v":0},{"$f":"AF36*'Product Info'!V37","v":0},{"$f":"AF36*'Product Info'!Y37","v":0},{"$f":"AF36*'Product Info'!AB37","v":0},{"$f":"AF36*'Product Info'!AE37","v":0},{"$f":"AF36*'Product Info'!AH37","v":0},{"$f":"AF36*'Product Info'!AK37","v":0},{"$f":"AF36*'Product Info'!AN37","v":0},{"$f":"AF36*'Product Info'!AQ37","v":0},{"$f":"AF36*'Product Info'!AT37","v":0},{"$f":"AF36*'Product Info'!AW37","v":0},{"$f":"AF36*'Product Info'!AZ37","v":0},{"$f":"AF36*'Product Info'!BC37","v":0},{"$f":"AF36*'Product Info'!BF37","v":0},{"$f":"AF36*'Product Info'!BI37","v":0},{"$f":"AF36*'Product Info'!BL37","v":0},{"$f":"AF36*'Product Info'!BO37","v":0},{"$f":"AF36*'Product Info'!BR37","v":0},{"$f":"AF36*'Product Info'!BU37","v":0},{"$f":"AF36*'Product Info'!BX37","v":0}]
[{"$f":"'Product Info'!A38","v":0},{"$f":"'Product Info'!B38","v":0},{"$f":"'Product Info'!C38","v":0},null,null,null,null,null,null,null,null,null,null,null,null,null,null,null,null,null,null,null,null,null,null,null,null,null,null,null,null,0,{"$f":"'Product Info'!F38*('Daily Info (February)'!AF37)","v":0},null,null,{"$f":"AF37*('Product Info'!H38)","v":0},{"$f":"AF37*('Product Info'!M38+'Product Info'!P38+'Product Info'!S38+'Product Info'!V38+'Product Info'!Y38+'Product Info'!AB38+'Product Info'!AE38+'Product Info'!AH38+'Product Info'!AK38+'Product Info'!AN38+'Product Info'!AQ38+'Product Info'!AT38+'Product Info'!AW38+'Product Info'!AZ38+'Product Info'!BC38+'Product Info'!BF38+'Product Info'!BI38+'Product Info'!BL38+'Product Info'!BO38+'Product Info'!BR38+'Product Info'!BU38+'Product Info'!BX38+'Product Info'!CA38+'Product Info'!CD38+'Product Info'!CG38+'Product Info'!CJ38+'Product Info'!CM38+'Product Info'!CP38+'Product Info'!CS38+'Product Info'!CV38+'Product Info'!CY38+'Product Info'!DB38+'Product Info'!DE38+'Product Info'!DH38+'Product Info'!DK38+'Product Info'!DN38+'Product Info'!DQ38+'Product Info'!DT38+'Product Info'!DW38+'Product Info'!DZ38+'Product Info'!EC38+'Product Info'!EF38+'Product Info'!EI38+'Product Info'!EL38+'Product Info'!EO38+'Product Info'!ER38+'Product Info'!EU38+'Product Info'!EX38+'Product Info'!FA38+'Product Info'!FD38)","v":0},{"$f":"AF37*('Product Info'!M38)","v":0},{"$f":"AF37*'Product Info'!P38","v":0},{"$f":"AF37*'Product Info'!S38","v":0},{"$f":"AF37*'Product Info'!V38","v":0},{"$f":"AF37*'Product Info'!Y38","v":0},{"$f":"AF37*'Product Info'!AB38","v":0},{"$f":"AF37*'Product Info'!AE38","v":0},{"$f":"AF37*'Product Info'!AH38","v":0},{"$f":"AF37*'Product Info'!AK38","v":0},{"$f":"AF37*'Product Info'!AN38","v":0},{"$f":"AF37*'Product Info'!AQ38","v":0},{"$f":"AF37*'Product Info'!AT38","v":0},{"$f":"AF37*'Product Info'!AW38","v":0},{"$f":"AF37*'Product Info'!AZ38","v":0},{"$f":"AF37*'Product Info'!BC38","v":0},{"$f":"AF37*'Product Info'!BF38","v":0},{"$f":"AF37*'Product Info'!BI38","v":0},{"$f":"AF37*'Product Info'!BL38","v":0},{"$f":"AF37*'Product Info'!BO38","v":0},{"$f":"AF37*'Product Info'!BR38","v":0},{"$f":"AF37*'Product Info'!BU38","v":0},{"$f":"AF37*'Product Info'!BX38","v":0}]
[{"$f":"'Product Info'!A39","v":0},{"$f":"'Product Info'!B39","v":0},{"$f":"'Product Info'!C39","v":0},null,null,null,null,null,null,null,null,null,null,null,null,null,null,null,null,null,null,null,null,null,null,null,null,null,null,null,null,0,{"$f":"'Product Info'!F39*('Daily Info (February)'!AF38)","v":0},null,null,{"$f":"AF38*('Product Info'!H39)","v":0},{"$f":"AF38*('Product Info'!M39+'Product Info'!P39+'Product Info'!S39+'Product Info'!V39+'Product Info'!Y39+'Product Info'!AB39+'Product Info'!AE39+'Product Info'!AH39+'Product Info'!AK39+'Product Info'!AN39+'Product Info'!AQ39+'Product Info'!AT39+'Product Info'!AW39+'Product Info'!AZ39+'Product Info'!BC39+'Product Info'!BF39+'Product Info'!BI39+'Product Info'!BL39+'Product Info'!BO39+'Product Info'!BR39+'Product Info'!BU39+'Product Info'!BX39+'Product Info'!CA39+'Product Info'!CD39+'Product Info'!CG39+'Product Info'!CJ39+'Product Info'!CM39+'Product Info'!CP39+'Product Info'!CS39+'Product Info'!CV39+'Product Info'!CY39+'Product Info'!DB39+'Product Info'!DE39+'Product Info'!DH39+'Product Info'!DK39+'Product Info'!DN39+'Product Info'!DQ39+'Product Info'!DT39+'Product Info'!DW39+'Product Info'!DZ39+'Product Info'!EC39+'Product Info'!EF39+'Product Info'!EI39+'Product Info'!EL39+'Product Info'!EO39+'Product Info'!ER39+'Product Info'!EU39+'Product Info'!EX39+'Product Info'!FA39+'Product Info'!FD39)","v":0},{"$f":"AF38*('Product Info'!M39)","v":0},{"$f":"AF38*'Product Info'!P39","v":0},{"$f":"AF38*'Product Info'!S39","v":0},{"$f":"AF38*'Product Info'!V39","v":0},{"$f":"AF38*'Product Info'!Y39","v":0},{"$f":"AF38*'Product Info'!AB39","v":0},{"$f":"AF38*'Product Info'!AE39","v":0},{"$f":"AF38*'Product Info'!AH39","v":0},{"$f":"AF38*'Product Info'!AK39","v":0},{"$f":"AF38*'Product Info'!AN39","v":0},{"$f":"AF38*'Product Info'!AQ39","v":0},{"$f":"AF38*'Product Info'!AT39","v":0},{"$f":"AF38*'Product Info'!AW39","v":0},{"$f":"AF38*'Product Info'!AZ39","v":0},{"$f":"AF38*'Product Info'!BC39","v":0},{"$f":"AF38*'Product Info'!BF39","v":0},{"$f":"AF38*'Product Info'!BI39","v":0},{"$f":"AF38*'Product Info'!BL39","v":0},{"$f":"AF38*'Product Info'!BO39","v":0},{"$f":"AF38*'Product Info'!BR39","v":0},{"$f":"AF38*'Product Info'!BU39","v":0},{"$f":"AF38*'Product Info'!BX39","v":0}]
[{"$f":"'Product Info'!A40","v":0},{"$f":"'Product Info'!B40","v":0},{"$f":"'Product Info'!C40","v":0},null,null,null,null,null,null,null,null,null,null,null,null,null,null,null,null,null,null,null,null,null,null,null,null,null,null,null,null,0,{"$f":"'Product Info'!F40*('Daily Info (February)'!AF39)","v":0},null,null,{"$f":"AF39*('Product Info'!H40)","v":0},{"$f":"AF39*('Product Info'!M40+'Product Info'!P40+'Product Info'!S40+'Product Info'!V40+'Product Info'!Y40+'Product Info'!AB40+'Product Info'!AE40+'Product Info'!AH40+'Product Info'!AK40+'Product Info'!AN40+'Product Info'!AQ40+'Product Info'!AT40+'Product Info'!AW40+'Product Info'!AZ40+'Product Info'!BC40+'Product Info'!BF40+'Product Info'!BI40+'Product Info'!BL40+'Product Info'!BO40+'Product Info'!BR40+'Product Info'!BU40+'Product Info'!BX40+'Product Info'!CA40+'Product Info'!CD40+'Product Info'!CG40+'Product Info'!CJ40+'Product Info'!CM40+'Product Info'!CP40+'Product Info'!CS40+'Product Info'!CV40+'Product Info'!CY40+'Product Info'!DB40+'Product Info'!DE40+'Product Info'!DH40+'Product Info'!DK40+'Product Info'!DN40+'Product Info'!DQ40+'Product Info'!DT40+'Product Info'!DW40+'Product Info'!DZ40+'Product Info'!EC40+'Product Info'!EF40+'Product Info'!EI40+'Product Info'!EL40+'Product Info'!EO40+'Product Info'!ER40+'Product Info'!EU40+'Product Info'!EX40+'Product Info'!FA40+'Product Info'!FD40)","v":0},{"$f":"AF39*('Product Info'!M40)","v":0},{"$f":"AF39*'Product Info'!P40","v":0},{"$f":"AF39*'Product Info'!S40","v":0},{"$f":"AF39*'Product Info'!V40","v":0},{"$f":"AF39*'Product Info'!Y40","v":0},{"$f":"AF39*'Product Info'!AB40","v":0},{"$f":"AF39*'Product Info'!AE40","v":0},{"$f":"AF39*'Product Info'!AH40","v":0},{"$f":"AF39*'Product Info'!AK40","v":0},{"$f":"AF39*'Product Info'!AN40","v":0},{"$f":"AF39*'Product Info'!AQ40","v":0},{"$f":"AF39*'Product Info'!AT40","v":0},{"$f":"AF39*'Product Info'!AW40","v":0},{"$f":"AF39*'Product Info'!AZ40","v":0},{"$f":"AF39*'Product Info'!BC40","v":0},{"$f":"AF39*'Product Info'!BF40","v":0},{"$f":"AF39*'Product Info'!BI40","v":0},{"$f":"AF39*'Product Info'!BL40","v":0},{"$f":"AF39*'Product Info'!BO40","v":0},{"$f":"AF39*'Product Info'!BR40","v":0},{"$f":"AF39*'Product Info'!BU40","v":0},{"$f":"AF39*'Product Info'!BX40","v":0}]
[{"$f":"'Product Info'!A41","v":0},{"$f":"'Product Info'!B41","v":0},{"$f":"'Product Info'!C41","v":0},null,null,null,null,null,null,null,null,null,null,null,null,null,null,null,null,null,null,null,null,null,null,null,null,null,null,null,null,0,{"$f":"'Product Info'!F41*('Daily Info (February)'!AF40)","v":0},null,null,{"$f":"AF40*('Product Info'!H41)","v":0},{"$f":"AF40*('Product Info'!M41+'Product Info'!P41+'Product Info'!S41+'Product Info'!V41+'Product Info'!Y41+'Product Info'!AB41+'Product Info'!AE41+'Product Info'!AH41+'Product Info'!AK41+'Product Info'!AN41+'Product Info'!AQ41+'Product Info'!AT41+'Product Info'!AW41+'Product Info'!AZ41+'Product Info'!BC41+'Product Info'!BF41+'Product Info'!BI41+'Product Info'!BL41+'Product Info'!BO41+'Product Info'!BR41+'Product Info'!BU41+'Product Info'!BX41+'Product Info'!CA41+'Product Info'!CD41+'Product Info'!CG41+'Product Info'!CJ41+'Product Info'!CM41+'Product Info'!CP41+'Product Info'!CS41+'Product Info'!CV41+'Product Info'!CY41+'Product Info'!DB41+'Product Info'!DE41+'Product Info'!DH41+'Product Info'!DK41+'Product Info'!DN41+'Product Info'!DQ41+'Product Info'!DT41+'Product Info'!DW41+'Product Info'!DZ41+'Product Info'!EC41+'Product Info'!EF41+'Product Info'!EI41+'Product Info'!EL41+'Product Info'!EO41+'Product Info'!ER41+'Product Info'!EU41+'Product Info'!EX41+'Product Info'!FA41+'Product Info'!FD41)","v":0},{"$f":"AF40*('Product Info'!M41)","v":0},{"$f":"AF40*'Product Info'!P41","v":0},{"$f":"AF40*'Product Info'!S41","v":0},{"$f":"AF40*'Product Info'!V41","v":0},{"$f":"AF40*'Product Info'!Y41","v":0},{"$f":"AF40*'Product Info'!AB41","v":0},{"$f":"AF40*'Product Info'!AE41","v":0},{"$f":"AF40*'Product Info'!AH41","v":0},{"$f":"AF40*'Product Info'!AK41","v":0},{"$f":"AF40*'Product Info'!AN41","v":0},{"$f":"AF40*'Product Info'!AQ41","v":0},{"$f":"AF40*'Product Info'!AT41","v":0},{"$f":"AF40*'Product Info'!AW41","v":0},{"$f":"AF40*'Product Info'!AZ41","v":0},{"$f":"AF40*'Product Info'!BC41","v":0},{"$f":"AF40*'Product Info'!BF41","v":0},{"$f":"AF40*'Product Info'!BI41","v":0},{"$f":"AF40*'Product Info'!BL41","v":0},{"$f":"AF40*'Product Info'!BO41","v":0},{"$f":"AF40*'Product Info'!BR41","v":0},{"$f":"AF40*'Product Info'!BU41","v":0},{"$f":"AF40*'Product Info'!BX41","v":0}]
[{"$f":"'Product Info'!A42","v":0},{"$f":"'Product Info'!B42","v":0},{"$f":"'Product Info'!C42","v":0},null,null,null,null,null,null,null,null,null,null,null,null,null,null,null,null,null,null,null,null,null,null,null,null,null,null,null,null,0,{"$f":"'Product Info'!F42*('Daily Info (February)'!AF41)","v":0},null,null,{"$f":"AF41*('Product Info'!H42)","v":0},{"$f":"AF41*('Product Info'!M42+'Product Info'!P42+'Product Info'!S42+'Product Info'!V42+'Product Info'!Y42+'Product Info'!AB42+'Product Info'!AE42+'Product Info'!AH42+'Product Info'!AK42+'Product Info'!AN42+'Product Info'!AQ42+'Product Info'!AT42+'Product Info'!AW42+'Product Info'!AZ42+'Product Info'!BC42+'Product Info'!BF42+'Product Info'!BI42+'Product Info'!BL42+'Product Info'!BO42+'Product Info'!BR42+'Product Info'!BU42+'Product Info'!BX42+'Product Info'!CA42+'Product Info'!CD42+'Product Info'!CG42+'Product Info'!CJ42+'Product Info'!CM42+'Product Info'!CP42+'Product Info'!CS42+'Product Info'!CV42+'Product Info'!CY42+'Product Info'!DB42+'Product Info'!DE42+'Product Info'!DH42+'Product Info'!DK42+'Product Info'!DN42+'Product Info'!DQ42+'Product Info'!DT42+'Product Info'!DW42+'Product Info'!DZ42+'Product Info'!EC42+'Product Info'!EF42+'Product Info'!EI42+'Product Info'!EL42+'Product Info'!EO42+'Product Info'!ER42+'Product Info'!EU42+'Product Info'!EX42+'Product Info'!FA42+'Product Info'!FD42)","v":0},{"$f":"AF41*('Product Info'!M42)","v":0},{"$f":"AF41*'Product Info'!P42","v":0},{"$f":"AF41*'Product Info'!S42","v":0},{"$f":"AF41*'Product Info'!V42","v":0},{"$f":"AF41*'Product Info'!Y42","v":0},{"$f":"AF41*'Product Info'!AB42","v":0},{"$f":"AF41*'Product Info'!AE42","v":0},{"$f":"AF41*'Product Info'!AH42","v":0},{"$f":"AF41*'Product Info'!AK42","v":0},{"$f":"AF41*'Product Info'!AN42","v":0},{"$f":"AF41*'Product Info'!AQ42","v":0},{"$f":"AF41*'Product Info'!AT42","v":0},{"$f":"AF41*'Product Info'!AW42","v":0},{"$f":"AF41*'Product Info'!AZ42","v":0},{"$f":"AF41*'Product Info'!BC42","v":0},{"$f":"AF41*'Product Info'!BF42","v":0},{"$f":"AF41*'Product Info'!BI42","v":0},{"$f":"AF41*'Product Info'!BL42","v":0},{"$f":"AF41*'Product Info'!BO42","v":0},{"$f":"AF41*'Product Info'!BR42","v":0},{"$f":"AF41*'Product Info'!BU42","v":0},{"$f":"AF41*'Product Info'!BX42","v":0}]
[{"$f":"'Product Info'!A43","v":0},{"$f":"'Product Info'!B43","v":0},{"$f":"'Product Info'!C43","v":0},null,null,null,null,null,null,null,null,null,null,null,null,null,null,null,null,null,null,null,null,null,null,null,null,null,null,null,null,0,{"$f":"'Product Info'!F43*('Daily Info (February)'!AF42)","v":0},null,null,{"$f":"AF42*('Product Info'!H43)","v":0},{"$f":"AF42*('Product Info'!M43+'Product Info'!P43+'Product Info'!S43+'Product Info'!V43+'Product Info'!Y43+'Product Info'!AB43+'Product Info'!AE43+'Product Info'!AH43+'Product Info'!AK43+'Product Info'!AN43+'Product Info'!AQ43+'Product Info'!AT43+'Product Info'!AW43+'Product Info'!AZ43+'Product Info'!BC43+'Product Info'!BF43+'Product Info'!BI43+'Product Info'!BL43+'Product Info'!BO43+'Product Info'!BR43+'Product Info'!BU43+'Product Info'!BX43+'Product Info'!CA43+'Product Info'!CD43+'Product Info'!CG43+'Product Info'!CJ43+'Product Info'!CM43+'Product Info'!CP43+'Product Info'!CS43+'Product Info'!CV43+'Product Info'!CY43+'Product Info'!DB43+'Product Info'!DE43+'Product Info'!DH43+'Product Info'!DK43+'Product Info'!DN43+'Product Info'!DQ43+'Product Info'!DT43+'Product Info'!DW43+'Product Info'!DZ43+'Product Info'!EC43+'Product Info'!EF43+'Product Info'!EI43+'Product Info'!EL43+'Product Info'!EO43+'Product Info'!ER43+'Product Info'!EU43+'Product Info'!EX43+'Product Info'!FA43+'Product Info'!FD43)","v":0},{"$f":"AF42*('Product Info'!M43)","v":0},{"$f":"AF42*'Product Info'!P43","v":0},{"$f":"AF42*'Product Info'!S43","v":0},{"$f":"AF42*'Product Info'!V43","v":0},{"$f":"AF42*'Product Info'!Y43","v":0},{"$f":"AF42*'Product Info'!AB43","v":0},{"$f":"AF42*'Product Info'!AE43","v":0},{"$f":"AF42*'Product Info'!AH43","v":0},{"$f":"AF42*'Product Info'!AK43","v":0},{"$f":"AF42*'Product Info'!AN43","v":0},{"$f":"AF42*'Product Info'!AQ43","v":0},{"$f":"AF42*'Product Info'!AT43","v":0},{"$f":"AF42*'Product Info'!AW43","v":0},{"$f":"AF42*'Product Info'!AZ43","v":0},{"$f":"AF42*'Product Info'!BC43","v":0},{"$f":"AF42*'Product Info'!BF43","v":0},{"$f":"AF42*'Product Info'!BI43","v":0},{"$f":"AF42*'Product Info'!BL43","v":0},{"$f":"AF42*'Product Info'!BO43","v":0},{"$f":"AF42*'Product Info'!BR43","v":0},{"$f":"AF42*'Product Info'!BU43","v":0},{"$f":"AF42*'Product Info'!BX43","v":0}]
[{"$f":"'Product Info'!A44","v":0},{"$f":"'Product Info'!B44","v":0},{"$f":"'Product Info'!C44","v":0},null,null,null,null,null,null,null,null,null,null,null,null,null,null,null,null,null,null,null,null,null,null,null,null,null,null,null,null,0,{"$f":"'Product Info'!F44*('Daily Info (February)'!AF43)","v":0},null,null,{"$f":"AF43*('Product Info'!H44)","v":0},{"$f":"AF43*('Product Info'!M44+'Product Info'!P44+'Product Info'!S44+'Product Info'!V44+'Product Info'!Y44+'Product Info'!AB44+'Product Info'!AE44+'Product Info'!AH44+'Product Info'!AK44+'Product Info'!AN44+'Product Info'!AQ44+'Product Info'!AT44+'Product Info'!AW44+'Product Info'!AZ44+'Product Info'!BC44+'Product Info'!BF44+'Product Info'!BI44+'Product Info'!BL44+'Product Info'!BO44+'Product Info'!BR44+'Product Info'!BU44+'Product Info'!BX44+'Product Info'!CA44+'Product Info'!CD44+'Product Info'!CG44+'Product Info'!CJ44+'Product Info'!CM44+'Product Info'!CP44+'Product Info'!CS44+'Product Info'!CV44+'Product Info'!CY44+'Product Info'!DB44+'Product Info'!DE44+'Product Info'!DH44+'Product Info'!DK44+'Product Info'!DN44+'Product Info'!DQ44+'Product Info'!DT44+'Product Info'!DW44+'Product Info'!DZ44+'Product Info'!EC44+'Product Info'!EF44+'Product Info'!EI44+'Product Info'!EL44+'Product Info'!EO44+'Product Info'!ER44+'Product Info'!EU44+'Product Info'!EX44+'Product Info'!FA44+'Product Info'!FD44)","v":0},{"$f":"AF43*('Product Info'!M44)","v":0},{"$f":"AF43*'Product Info'!P44","v":0},{"$f":"AF43*'Product Info'!S44","v":0},{"$f":"AF43*'Product Info'!V44","v":0},{"$f":"AF43*'Product Info'!Y44","v":0},{"$f":"AF43*'Product Info'!AB44","v":0},{"$f":"AF43*'Product Info'!AE44","v":0},{"$f":"AF43*'Product Info'!AH44","v":0},{"$f":"AF43*'Product Info'!AK44","v":0},{"$f":"AF43*'Product Info'!AN44","v":0},{"$f":"AF43*'Product Info'!AQ44","v":0},{"$f":"AF43*'Product Info'!AT44","v":0},{"$f":"AF43*'Product Info'!AW44","v":0},{"$f":"AF43*'Product Info'!AZ44","v":0},{"$f":"AF43*'Product Info'!BC44","v":0},{"$f":"AF43*'Product Info'!BF44","v":0},{"$f":"AF43*'Product Info'!BI44","v":0},{"$f":"AF43*'Product Info'!BL44","v":0},{"$f":"AF43*'Product Info'!BO44","v":0},{"$f":"AF43*'Product Info'!BR44","v":0},{"$f":"AF43*'Product Info'!BU44","v":0},{"$f":"AF43*'Product Info'!BX44","v":0}]
[{"$f":"'Product Info'!A45","v":0},{"$f":"'Product Info'!B45","v":0},{"$f":"'Product Info'!C45","v":0},null,null,null,null,null,null,null,null,null,null,null,null,null,null,null,null,null,null,null,null,null,null,null,null,null,null,null,null,0,{"$f":"'Product Info'!F45*('Daily Info (February)'!AF44)","v":0},null,null,{"$f":"AF44*('Product Info'!H45)","v":0},{"$f":"AF44*('Product Info'!M45+'Product Info'!P45+'Product Info'!S45+'Product Info'!V45+'Product Info'!Y45+'Product Info'!AB45+'Product Info'!AE45+'Product Info'!AH45+'Product Info'!AK45+'Product Info'!AN45+'Product Info'!AQ45+'Product Info'!AT45+'Product Info'!AW45+'Product Info'!AZ45+'Product Info'!BC45+'Product Info'!BF45+'Product Info'!BI45+'Product Info'!BL45+'Product Info'!BO45+'Product Info'!BR45+'Product Info'!BU45+'Product Info'!BX45+'Product Info'!CA45+'Product Info'!CD45+'Product Info'!CG45+'Product Info'!CJ45+'Product Info'!CM45+'Product Info'!CP45+'Product Info'!CS45+'Product Info'!CV45+'Product Info'!CY45+'Product Info'!DB45+'Product Info'!DE45+'Product Info'!DH45+'Product Info'!DK45+'Product Info'!DN45+'Product Info'!DQ45+'Product Info'!DT45+'Product Info'!DW45+'Product Info'!DZ45+'Product Info'!EC45+'Product Info'!EF45+'Product Info'!EI45+'Product Info'!EL45+'Product Info'!EO45+'Product Info'!ER45+'Product Info'!EU45+'Product Info'!EX45+'Product Info'!FA45+'Product Info'!FD45)","v":0},{"$f":"AF44*('Product Info'!M45)","v":0},{"$f":"AF44*'Product Info'!P45","v":0},{"$f":"AF44*'Product Info'!S45","v":0},{"$f":"AF44*'Product Info'!V45","v":0},{"$f":"AF44*'Product Info'!Y45","v":0},{"$f":"AF44*'Product Info'!AB45","v":0},{"$f":"AF44*'Product Info'!AE45","v":0},{"$f":"AF44*'Product Info'!AH45","v":0},{"$f":"AF44*'Product Info'!AK45","v":0},{"$f":"AF44*'Product Info'!AN45","v":0},{"$f":"AF44*'Product Info'!AQ45","v":0},{"$f":"AF44*'Product Info'!AT45","v":0},{"$f":"AF44*'Product Info'!AW45","v":0},{"$f":"AF44*'Product Info'!AZ45","v":0},{"$f":"AF44*'Product Info'!BC45","v":0},{"$f":"AF44*'Product Info'!BF45","v":0},{"$f":"AF44*'Product Info'!BI45","v":0},{"$f":"AF44*'Product Info'!BL45","v":0},{"$f":"AF44*'Product Info'!BO45","v":0},{"$f":"AF44*'Product Info'!BR45","v":0},{"$f":"AF44*'Product Info'!BU45","v":0},{"$f":"AF44*'Product Info'!BX45","v":0}]
[{"$f":"'Product Info'!A46","v":0},{"$f":"'Product Info'!B46","v":0},{"$f":"'Product Info'!C46","v":0},null,null,null,null,null,null,null,null,null,null,null,null,null,null,null,null,null,null,null,null,null,null,null,null,null,null,null,null,0,{"$f":"'Product Info'!F46*('Daily Info (February)'!AF45)","v":0},null,null,{"$f":"AF45*('Product Info'!H46)","v":0},{"$f":"AF45*('Product Info'!M46+'Product Info'!P46+'Product Info'!S46+'Product Info'!V46+'Product Info'!Y46+'Product Info'!AB46+'Product Info'!AE46+'Product Info'!AH46+'Product Info'!AK46+'Product Info'!AN46+'Product Info'!AQ46+'Product Info'!AT46+'Product Info'!AW46+'Product Info'!AZ46+'Product Info'!BC46+'Product Info'!BF46+'Product Info'!BI46+'Product Info'!BL46+'Product Info'!BO46+'Product Info'!BR46+'Product Info'!BU46+'Product Info'!BX46+'Product Info'!CA46+'Product Info'!CD46+'Product Info'!CG46+'Product Info'!CJ46+'Product Info'!CM46+'Product Info'!CP46+'Product Info'!CS46+'Product Info'!CV46+'Product Info'!CY46+'Product Info'!DB46+'Product Info'!DE46+'Product Info'!DH46+'Product Info'!DK46+'Product Info'!DN46+'Product Info'!DQ46+'Product Info'!DT46+'Product Info'!DW46+'Product Info'!DZ46+'Product Info'!EC46+'Product Info'!EF46+'Product Info'!EI46+'Product Info'!EL46+'Product Info'!EO46+'Product Info'!ER46+'Product Info'!EU46+'Product Info'!EX46+'Product Info'!FA46+'Product Info'!FD46)","v":0},{"$f":"AF45*('Product Info'!M46)","v":0},{"$f":"AF45*'Product Info'!P46","v":0},{"$f":"AF45*'Product Info'!S46","v":0},{"$f":"AF45*'Product Info'!V46","v":0},{"$f":"AF45*'Product Info'!Y46","v":0},{"$f":"AF45*'Product Info'!AB46","v":0},{"$f":"AF45*'Product Info'!AE46","v":0},{"$f":"AF45*'Product Info'!AH46","v":0},{"$f":"AF45*'Product Info'!AK46","v":0},{"$f":"AF45*'Product Info'!AN46","v":0},{"$f":"AF45*'Product Info'!AQ46","v":0},{"$f":"AF45*'Product Info'!AT46","v":0},{"$f":"AF45*'Product Info'!AW46","v":0},{"$f":"AF45*'Product Info'!AZ46","v":0},{"$f":"AF45*'Product Info'!BC46","v":0},{"$f":"AF45*'Product Info'!BF46","v":0},{"$f":"AF45*'Product Info'!BI46","v":0},{"$f":"AF45*'Product Info'!BL46","v":0},{"$f":"AF45*'Product Info'!BO46","v":0},{"$f":"AF45*'Product Info'!BR46","v":0},{"$f":"AF45*'Product Info'!BU46","v":0},{"$f":"AF45*'Product Info'!BX46","v":0}]
[{"$f":"'Product Info'!A47","v":0},{"$f":"'Product Info'!B47","v":0},{"$f":"'Product Info'!C47","v":0},null,null,null,null,null,null,null,null,null,null,null,null,null,null,null,null,null,null,null,null,null,null,null,null,null,null,null,null,0,{"$f":"'Product Info'!F47*('Daily Info (February)'!AF46)","v":0},null,null,{"$f":"AF46*('Product Info'!H47)","v":0},{"$f":"AF46*('Product Info'!M47+'Product Info'!P47+'Product Info'!S47+'Product Info'!V47+'Product Info'!Y47+'Product Info'!AB47+'Product Info'!AE47+'Product Info'!AH47+'Product Info'!AK47+'Product Info'!AN47+'Product Info'!AQ47+'Product Info'!AT47+'Product Info'!AW47+'Product Info'!AZ47+'Product Info'!BC47+'Product Info'!BF47+'Product Info'!BI47+'Product Info'!BL47+'Product Info'!BO47+'Product Info'!BR47+'Product Info'!BU47+'Product Info'!BX47+'Product Info'!CA47+'Product Info'!CD47+'Product Info'!CG47+'Product Info'!CJ47+'Product Info'!CM47+'Product Info'!CP47+'Product Info'!CS47+'Product Info'!CV47+'Product Info'!CY47+'Product Info'!DB47+'Product Info'!DE47+'Product Info'!DH47+'Product Info'!DK47+'Product Info'!DN47+'Product Info'!DQ47+'Product Info'!DT47+'Product Info'!DW47+'Product Info'!DZ47+'Product Info'!EC47+'Product Info'!EF47+'Product Info'!EI47+'Product Info'!EL47+'Product Info'!EO47+'Product Info'!ER47+'Product Info'!EU47+'Product Info'!EX47+'Product Info'!FA47+'Product Info'!FD47)","v":0},{"$f":"AF46*('Product Info'!M47)","v":0},{"$f":"AF46*'Product Info'!P47","v":0},{"$f":"AF46*'Product Info'!S47","v":0},{"$f":"AF46*'Product Info'!V47","v":0},{"$f":"AF46*'Product Info'!Y47","v":0},{"$f":"AF46*'Product Info'!AB47","v":0},{"$f":"AF46*'Product Info'!AE47","v":0},{"$f":"AF46*'Product Info'!AH47","v":0},{"$f":"AF46*'Product Info'!AK47","v":0},{"$f":"AF46*'Product Info'!AN47","v":0},{"$f":"AF46*'Product Info'!AQ47","v":0},{"$f":"AF46*'Product Info'!AT47","v":0},{"$f":"AF46*'Product Info'!AW47","v":0},{"$f":"AF46*'Product Info'!AZ47","v":0},{"$f":"AF46*'Product Info'!BC47","v":0},{"$f":"AF46*'Product Info'!BF47","v":0},{"$f":"AF46*'Product Info'!BI47","v":0},{"$f":"AF46*'Product Info'!BL47","v":0},{"$f":"AF46*'Product Info'!BO47","v":0},{"$f":"AF46*'Product Info'!BR47","v":0},{"$f":"AF46*'Product Info'!BU47","v":0},{"$f":"AF46*'Product Info'!BX47","v":0}]
[{"$f":"'Product Info'!A48","v":0},{"$f":"'Product Info'!B48","v":0},{"$f":"'Product Info'!C48","v":0},null,null,null,null,null,null,null,null,null,null,null,null,null,null,null,null,null,null,null,null,null,null,null,null,null,null,null,null,0,{"$f":"'Product Info'!F48*('Daily Info (February)'!AF47)","v":0},null,null,{"$f":"AF47*('Product Info'!H48)","v":0},{"$f":"AF47*('Product Info'!M48+'Product Info'!P48+'Product Info'!S48+'Product Info'!V48+'Product Info'!Y48+'Product Info'!AB48+'Product Info'!AE48+'Product Info'!AH48+'Product Info'!AK48+'Product Info'!AN48+'Product Info'!AQ48+'Product Info'!AT48+'Product Info'!AW48+'Product Info'!AZ48+'Product Info'!BC48+'Product Info'!BF48+'Product Info'!BI48+'Product Info'!BL48+'Product Info'!BO48+'Product Info'!BR48+'Product Info'!BU48+'Product Info'!BX48+'Product Info'!CA48+'Product Info'!CD48+'Product Info'!CG48+'Product Info'!CJ48+'Product Info'!CM48+'Product Info'!CP48+'Product Info'!CS48+'Product Info'!CV48+'Product Info'!CY48+'Product Info'!DB48+'Product Info'!DE48+'Product Info'!DH48+'Product Info'!DK48+'Product Info'!DN48+'Product Info'!DQ48+'Product Info'!DT48+'Product Info'!DW48+'Product Info'!DZ48+'Product Info'!EC48+'Product Info'!EF48+'Product Info'!EI48+'Product Info'!EL48+'Product Info'!EO48+'Product Info'!ER48+'Product Info'!EU48+'Product Info'!EX48+'Product Info'!FA48+'Product Info'!FD48)","v":0},{"$f":"AF47*('Product Info'!M48)","v":0},{"$f":"AF47*'Product Info'!P48","v":0},{"$f":"AF47*'Product Info'!S48","v":0},{"$f":"AF47*'Product Info'!V48","v":0},{"$f":"AF47*'Product Info'!Y48","v":0},{"$f":"AF47*'Product Info'!AB48","v":0},{"$f":"AF47*'Product Info'!AE48","v":0},{"$f":"AF47*'Product Info'!AH48","v":0},{"$f":"AF47*'Product Info'!AK48","v":0},{"$f":"AF47*'Product Info'!AN48","v":0},{"$f":"AF47*'Product Info'!AQ48","v":0},{"$f":"AO47*'Product Info'!AF48","v":0},{"$f":"AF47*'Product Info'!AW48","v":0},{"$f":"AF47*'Product Info'!AZ48","v":0},{"$f":"AF47*'Product Info'!BC48","v":0},{"$f":"AF47*'Product Info'!BF48","v":0},{"$f":"AF47*'Product Info'!BI48","v":0},{"$f":"AF47*'Product Info'!BL48","v":0},{"$f":"AF47*'Product Info'!BO48","v":0},{"$f":"AF47*'Product Info'!BR48","v":0},{"$f":"AF47*'Product Info'!BU48","v":0},{"$f":"AF47*'Product Info'!BX48","v":0}]
[{"$f":"'Product Info'!A49","v":0},{"$f":"'Product Info'!B49","v":0},{"$f":"'Product Info'!C49","v":0},null,null,null,null,null,null,null,null,null,null,null,null,null,null,null,null,null,null,null,null,null,null,null,null,null,null,null,null,0,{"$f":"'Product Info'!F49*('Daily Info (February)'!AF48)","v":0},null,null,{"$f":"AF48*('Product Info'!H49)","v":0},{"$f":"AF48*('Product Info'!M49+'Product Info'!P49+'Product Info'!S49+'Product Info'!V49+'Product Info'!Y49+'Product Info'!AB49+'Product Info'!AE49+'Product Info'!AH49+'Product Info'!AK49+'Product Info'!AN49+'Product Info'!AQ49+'Product Info'!AT49+'Product Info'!AW49+'Product Info'!AZ49+'Product Info'!BC49+'Product Info'!BF49+'Product Info'!BI49+'Product Info'!BL49+'Product Info'!BO49+'Product Info'!BR49+'Product Info'!BU49+'Product Info'!BX49+'Product Info'!CA49+'Product Info'!CD49+'Product Info'!CG49+'Product Info'!CJ49+'Product Info'!CM49+'Product Info'!CP49+'Product Info'!CS49+'Product Info'!CV49+'Product Info'!CY49+'Product Info'!DB49+'Product Info'!DE49+'Product Info'!DH49+'Product Info'!DK49+'Product Info'!DN49+'Product Info'!DQ49+'Product Info'!DT49+'Product Info'!DW49+'Product Info'!DZ49+'Product Info'!EC49+'Product Info'!EF49+'Product Info'!EI49+'Product Info'!EL49+'Product Info'!EO49+'Product Info'!ER49+'Product Info'!EU49+'Product Info'!EX49+'Product Info'!FA49+'Product Info'!FD49)","v":0},{"$f":"AF48*('Product Info'!M49)","v":0},{"$f":"AF48*'Product Info'!P49","v":0},{"$f":"AF48*'Product Info'!S49","v":0},{"$f":"AF48*'Product Info'!V49","v":0},{"$f":"AF48*'Product Info'!Y49","v":0},{"$f":"AF48*'Product Info'!AB49","v":0},{"$f":"AF48*'Product Info'!AE49","v":0},{"$f":"AF48*'Product Info'!AH49","v":0},{"$f":"AF48*'Product Info'!AK49","v":0},{"$f":"AF48*'Product Info'!AN49","v":0},{"$f":"AF48*'Product Info'!AQ49","v":0},{"$f":"AO48*'Product Info'!AF49","v":0},{"$f":"AF48*'Product Info'!AW49","v":0},{"$f":"AF48*'Product Info'!AZ49","v":0},{"$f":"AF48*'Product Info'!BC49","v":0},{"$f":"AF48*'Product Info'!BF49","v":0},{"$f":"AF48*'Product Info'!BI49","v":0},{"$f":"AF48*'Product Info'!BL49","v":0},{"$f":"AF48*'Product Info'!BO49","v":0},{"$f":"AF48*'Product Info'!BR49","v":0},{"$f":"AF48*'Product Info'!BU49","v":0},{"$f":"AF48*'Product Info'!BX49","v":0}]
[{"$f":"'Product Info'!A50","v":0},{"$f":"'Product Info'!B50","v":0},{"$f":"'Product Info'!C50","v":0},null,null,null,null,null,null,null,null,null,null,null,null,null,null,null,null,null,null,null,null,null,null,null,null,null,null,null,null,0,{"$f":"'Product Info'!F50*('Daily Info (February)'!AF49)","v":0},null,null,{"$f":"AF49*('Product Info'!H50)","v":0},{"$f":"AF49*('Product Info'!M50+'Product Info'!P50+'Product Info'!S50+'Product Info'!V50+'Product Info'!Y50+'Product Info'!AB50+'Product Info'!AE50+'Product Info'!AH50+'Product Info'!AK50+'Product Info'!AN50+'Product Info'!AQ50+'Product Info'!AT50+'Product Info'!AW50+'Product Info'!AZ50+'Product Info'!BC50+'Product Info'!BF50+'Product Info'!BI50+'Product Info'!BL50+'Product Info'!BO50+'Product Info'!BR50+'Product Info'!BU50+'Product Info'!BX50+'Product Info'!CA50+'Product Info'!CD50+'Product Info'!CG50+'Product Info'!CJ50+'Product Info'!CM50+'Product Info'!CP50+'Product Info'!CS50+'Product Info'!CV50+'Product Info'!CY50+'Product Info'!DB50+'Product Info'!DE50+'Product Info'!DH50+'Product Info'!DK50+'Product Info'!DN50+'Product Info'!DQ50+'Product Info'!DT50+'Product Info'!DW50+'Product Info'!DZ50+'Product Info'!EC50+'Product Info'!EF50+'Product Info'!EI50+'Product Info'!EL50+'Product Info'!EO50+'Product Info'!ER50+'Product Info'!EU50+'Product Info'!EX50+'Product Info'!FA50+'Product Info'!FD50)","v":0},{"$f":"AF49*('Product Info'!M50)","v":0},{"$f":"AF49*'Product Info'!P50","v":0},{"$f":"AF49*'Product Info'!S50","v":0},{"$f":"AF49*'Product Info'!V50","v":0},{"$f":"AF49*'Product Info'!Y50","v":0},{"$f":"AF49*'Product Info'!AB50","v":0},{"$f":"AF49*'Product Info'!AE50","v":0},{"$f":"AF49*'Product Info'!AH50","v":0},{"$f":"AF49*'Product Info'!AK50","v":0},{"$f":"AF49*'Product Info'!AN50","v":0},{"$f":"AF49*'Product Info'!AQ50","v":0},{"$f":"AF49*'Product Info'!AT50","v":0},{"$f":"AF49*'Product Info'!AW50","v":0},{"$f":"AF49*'Product Info'!AZ50","v":0},{"$f":"AF49*'Product Info'!BC50","v":0},{"$f":"AF49*'Product Info'!BF50","v":0},{"$f":"AF49*'Product Info'!BI50","v":0},{"$f":"AF49*'Product Info'!BL50","v":0},{"$f":"AF49*'Product Info'!BO50","v":0},{"$f":"AF49*'Product Info'!BR50","v":0},{"$f":"AF49*'Product Info'!BU50","v":0},{"$f":"AF49*'Product Info'!BX50","v":0}]
[{"$f":"'Product Info'!A51","v":0},{"$f":"'Product Info'!B51","v":0},{"$f":"'Product Info'!C51","v":0},null,null,null,null,null,null,null,null,null,null,null,null,null,null,null,null,null,null,null,null,null,null,null,null,null,null,null,null,0,{"$f":"'Product Info'!F51*('Daily Info (February)'!AF50)","v":0},null,null,{"$f":"AF50*('Product Info'!H51)","v":0},{"$f":"AF50*('Product Info'!M51+'Product Info'!P51+'Product Info'!S51+'Product Info'!V51+'Product Info'!Y51+'Product Info'!AB51+'Product Info'!AE51+'Product Info'!AH51+'Product Info'!AK51+'Product Info'!AN51+'Product Info'!AQ51+'Product Info'!AT51+'Product Info'!AW51+'Product Info'!AZ51+'Product Info'!BC51+'Product Info'!BF51+'Product Info'!BI51+'Product Info'!BL51+'Product Info'!BO51+'Product Info'!BR51+'Product Info'!BU51+'Product Info'!BX51+'Product Info'!CA51+'Product Info'!CD51+'Product Info'!CG51+'Product Info'!CJ51+'Product Info'!CM51+'Product Info'!CP51+'Product Info'!CS51+'Product Info'!CV51+'Product Info'!CY51+'Product Info'!DB51+'Product Info'!DE51+'Product Info'!DH51+'Product Info'!DK51+'Product Info'!DN51+'Product Info'!DQ51+'Product Info'!DT51+'Product Info'!DW51+'Product Info'!DZ51+'Product Info'!EC51+'Product Info'!EF51+'Product Info'!EI51+'Product Info'!EL51+'Product Info'!EO51+'Product Info'!ER51+'Product Info'!EU51+'Product Info'!EX51+'Product Info'!FA51+'Product Info'!FD51)","v":0},{"$f":"AF50*('Product Info'!M51)","v":0},{"$f":"AF50*'Product Info'!P51","v":0},{"$f":"AF50*'Product Info'!S51","v":0},{"$f":"AF50*'Product Info'!V51","v":0},{"$f":"AF50*'Product Info'!Y51","v":0},{"$f":"AF50*'Product Info'!AB51","v":0},{"$f":"AF50*'Product Info'!AE51","v":0},{"$f":"AF50*'Product Info'!AH51","v":0},{"$f":"AF50*'Product Info'!AK51","v":0},{"$f":"AF50*'Product Info'!AN51","v":0},{"$f":"AF50*'Product Info'!AQ51","v":0},{"$f":"AF50*'Product Info'!AT51","v":0},{"$f":"AF50*'Product Info'!AW51","v":0},{"$f":"AF50*'Product Info'!AZ51","v":0},{"$f":"AF50*'Product Info'!BC51","v":0},{"$f":"AF50*'Product Info'!BF51","v":0},{"$f":"AF50*'Product Info'!BI51","v":0},{"$f":"AF50*'Product Info'!BL51","v":0},{"$f":"AF50*'Product Info'!BO51","v":0},{"$f":"AF50*'Product Info'!BR51","v":0},{"$f":"AF50*'Product Info'!BU51","v":0},{"$f":"AF50*'Product Info'!BX51","v":0}]
[{"$f":"'Product Info'!A52","v":0},{"$f":"'Product Info'!B52","v":0},{"$f":"'Product Info'!C52","v":0},null,null,null,null,null,null,null,null,null,null,null,null,null,null,null,null,null,null,null,null,null,null,null,null,null,null,null,null,0,{"$f":"'Product Info'!F52*('Daily Info (February)'!AF51)","v":0},null,null,{"$f":"AF51*('Product Info'!H52)","v":0},{"$f":"AF51*('Product Info'!M52+'Product Info'!P52+'Product Info'!S52+'Product Info'!V52+'Product Info'!Y52+'Product Info'!AB52+'Product Info'!AE52+'Product Info'!AH52+'Product Info'!AK52+'Product Info'!AN52+'Product Info'!AQ52+'Product Info'!AT52+'Product Info'!AW52+'Product Info'!AZ52+'Product Info'!BC52+'Product Info'!BF52+'Product Info'!BI52+'Product Info'!BL52+'Product Info'!BO52+'Product Info'!BR52+'Product Info'!BU52+'Product Info'!BX52+'Product Info'!CA52+'Product Info'!CD52+'Product Info'!CG52+'Product Info'!CJ52+'Product Info'!CM52+'Product Info'!CP52+'Product Info'!CS52+'Product Info'!CV52+'Product Info'!CY52+'Product Info'!DB52+'Product Info'!DE52+'Product Info'!DH52+'Product Info'!DK52+'Product Info'!DN52+'Product Info'!DQ52+'Product Info'!DT52+'Product Info'!DW52+'Product Info'!DZ52+'Product Info'!EC52+'Product Info'!EF52+'Product Info'!EI52+'Product Info'!EL52+'Product Info'!EO52+'Product Info'!ER52+'Product Info'!EU52+'Product Info'!EX52+'Product Info'!FA52+'Product Info'!FD52)","v":0},{"$f":"AF51*('Product Info'!M52)","v":0},{"$f":"AF51*'Product Info'!P52","v":0},{"$f":"AF51*'Product Info'!S52","v":0},{"$f":"AF51*'Product Info'!V52","v":0},{"$f":"AF51*'Product Info'!Y52","v":0},{"$f":"AF51*'Product Info'!AB52","v":0},{"$f":"AF51*'Product Info'!AE52","v":0},{"$f":"AF51*'Product Info'!AH52","v":0},{"$f":"AF51*'Product Info'!AK52","v":0},{"$f":"AF51*'Product Info'!AN52","v":0},{"$f":"AF51*'Product Info'!AQ52","v":0},{"$f":"AF51*'Product Info'!AT52","v":0},{"$f":"AF51*'Product Info'!AW52","v":0},{"$f":"AF51*'Product Info'!AZ52","v":0},{"$f":"AF51*'Product Info'!BC52","v":0},{"$f":"AF51*'Product Info'!BF52","v":0},{"$f":"AF51*'Product Info'!BI52","v":0},{"$f":"AF51*'Product Info'!BL52","v":0},{"$f":"AF51*'Product Info'!BO52","v":0},{"$f":"AF51*'Product Info'!BR52","v":0},{"$f":"AF51*'Product Info'!BU52","v":0},{"$f":"AF51*'Product Info'!BX52","v":0}]
[{"$f":"'Product Info'!A53","v":0},{"$f":"'Product Info'!B53","v":0},{"$f":"'Product Info'!C53","v":0},null,null,null,null,null,null,null,null,null,null,null,null,null,null,null,null,null,null,null,null,null,null,null,null,null,null,null,null,0,{"$f":"'Product Info'!F53*('Daily Info (February)'!AF52)","v":0},null,null,{"$f":"AF52*('Product Info'!H53)","v":0},{"$f":"AF52*('Product Info'!M53+'Product Info'!P53+'Product Info'!S53+'Product Info'!V53+'Product Info'!Y53+'Product Info'!AB53+'Product Info'!AE53+'Product Info'!AH53+'Product Info'!AK53+'Product Info'!AN53+'Product Info'!AQ53+'Product Info'!AT53+'Product Info'!AW53+'Product Info'!AZ53+'Product Info'!BC53+'Product Info'!BF53+'Product Info'!BI53+'Product Info'!BL53+'Product Info'!BO53+'Product Info'!BR53+'Product Info'!BU53+'Product Info'!BX53+'Product Info'!CA53+'Product Info'!CD53+'Product Info'!CG53+'Product Info'!CJ53+'Product Info'!CM53+'Product Info'!CP53+'Product Info'!CS53+'Product Info'!CV53+'Product Info'!CY53+'Product Info'!DB53+'Product Info'!DE53+'Product Info'!DH53+'Product Info'!DK53+'Product Info'!DN53+'Product Info'!DQ53+'Product Info'!DT53+'Product Info'!DW53+'Product Info'!DZ53+'Product Info'!EC53+'Product Info'!EF53+'Product Info'!EI53+'Product Info'!EL53+'Product Info'!EO53+'Product Info'!ER53+'Product Info'!EU53+'Product Info'!EX53+'Product Info'!FA53+'Product Info'!FD53)","v":0},{"$f":"AF52*('Product Info'!M53)","v":0},{"$f":"AF52*'Product Info'!P53","v":0},{"$f":"AF52*'Product Info'!S53","v":0},{"$f":"AF52*'Product Info'!V53","v":0},{"$f":"AF52*'Product Info'!Y53","v":0},{"$f":"AF52*'Product Info'!AB53","v":0},{"$f":"AF52*'Product Info'!AE53","v":0},{"$f":"AF52*'Product Info'!AH53","v":0},{"$f":"AF52*'Product Info'!AK53","v":0},{"$f":"AF52*'Product Info'!AN53","v":0},{"$f":"AF52*'Product Info'!AQ53","v":0},{"$f":"AF52*'Product Info'!AT53","v":0},{"$f":"AF52*'Product Info'!AW53","v":0},{"$f":"AF52*'Product Info'!AZ53","v":0},{"$f":"AF52*'Product Info'!BC53","v":0},{"$f":"AF52*'Product Info'!BF53","v":0},{"$f":"AF52*'Product Info'!BI53","v":0},{"$f":"AF52*'Product Info'!BL53","v":0},{"$f":"AF52*'Product Info'!BO53","v":0},{"$f":"AF52*'Product Info'!BR53","v":0},{"$f":"AF52*'Product Info'!BU53","v":0},{"$f":"AF52*'Product Info'!BX53","v":0}]
[{"$f":"'Product Info'!A54","v":0},{"$f":"'Product Info'!B54","v":0},{"$f":"'Product Info'!C54","v":0},null,null,null,null,null,null,null,null,null,null,null,null,null,null,null,null,null,null,null,null,null,null,null,null,null,null,null,null,0,{"$f":"'Product Info'!F54*('Daily Info (February)'!AF53)","v":0},null,null,{"$f":"AF53*('Product Info'!H54)","v":0},{"$f":"AF53*('Product Info'!M54+'Product Info'!P54+'Product Info'!S54+'Product Info'!V54+'Product Info'!Y54+'Product Info'!AB54+'Product Info'!AE54+'Product Info'!AH54+'Product Info'!AK54+'Product Info'!AN54+'Product Info'!AQ54+'Product Info'!AT54+'Product Info'!AW54+'Product Info'!AZ54+'Product Info'!BC54+'Product Info'!BF54+'Product Info'!BI54+'Product Info'!BL54+'Product Info'!BO54+'Product Info'!BR54+'Product Info'!BU54+'Product Info'!BX54+'Product Info'!CA54+'Product Info'!CD54+'Product Info'!CG54+'Product Info'!CJ54+'Product Info'!CM54+'Product Info'!CP54+'Product Info'!CS54+'Product Info'!CV54+'Product Info'!CY54+'Product Info'!DB54+'Product Info'!DE54+'Product Info'!DH54+'Product Info'!DK54+'Product Info'!DN54+'Product Info'!DQ54+'Product Info'!DT54+'Product Info'!DW54+'Product Info'!DZ54+'Product Info'!EC54+'Product Info'!EF54+'Product Info'!EI54+'Product Info'!EL54+'Product Info'!EO54+'Product Info'!ER54+'Product Info'!EU54+'Product Info'!EX54+'Product Info'!FA54+'Product Info'!FD54)","v":0},{"$f":"AF53*('Product Info'!M54)","v":0},{"$f":"AF53*'Product Info'!P54","v":0},{"$f":"AF53*'Product Info'!S54","v":0},{"$f":"AF53*'Product Info'!V54","v":0},{"$f":"AF53*'Product Info'!Y54","v":0},{"$f":"AF53*'Product Info'!AB54","v":0},{"$f":"AF53*'Product Info'!AE54","v":0},{"$f":"AF53*'Product Info'!AH54","v":0},{"$f":"AF53*'Product Info'!AK54","v":0},{"$f":"AF53*'Product Info'!AN54","v":0},{"$f":"AF53*'Product Info'!AQ54","v":0},{"$f":"AF53*'Product Info'!AT54","v":0},{"$f":"AF53*'Product Info'!AW54","v":0},{"$f":"AF53*'Product Info'!AZ54","v":0},{"$f":"AF53*'Product Info'!BC54","v":0},{"$f":"AF53*'Product Info'!BF54","v":0},{"$f":"AF53*'Product Info'!BI54","v":0},{"$f":"AF53*'Product Info'!BL54","v":0},{"$f":"AF53*'Product Info'!BO54","v":0},{"$f":"AF53*'Product Info'!BR54","v":0},{"$f":"AF53*'Product Info'!BU54","v":0},{"$f":"AF53*'Product Info'!BX54","v":0}]
[{"$f":"'Product Info'!A55","v":0},{"$f":"'Product Info'!B55","v":0},{"$f":"'Product Info'!C55","v":0},null,null,null,null,null,null,null,null,null,null,null,null,null,null,null,null,null,null,null,null,null,null,null,null,null,null,null,null,0,{"$f":"'Product Info'!F55*('Daily Info (February)'!AF54)","v":0},null,null,{"$f":"AF54*('Product Info'!H55)","v":0},{"$f":"AF54*('Product Info'!M55+'Product Info'!P55+'Product Info'!S55+'Product Info'!V55+'Product Info'!Y55+'Product Info'!AB55+'Product Info'!AE55+'Product Info'!AH55+'Product Info'!AK55+'Product Info'!AN55+'Product Info'!AQ55+'Product Info'!AT55+'Product Info'!AW55+'Product Info'!AZ55+'Product Info'!BC55+'Product Info'!BF55+'Product Info'!BI55+'Product Info'!BL55+'Product Info'!BO55+'Product Info'!BR55+'Product Info'!BU55+'Product Info'!BX55+'Product Info'!CA55+'Product Info'!CD55+'Product Info'!CG55+'Product Info'!CJ55+'Product Info'!CM55+'Product Info'!CP55+'Product Info'!CS55+'Product Info'!CV55+'Product Info'!CY55+'Product Info'!DB55+'Product Info'!DE55+'Product Info'!DH55+'Product Info'!DK55+'Product Info'!DN55+'Product Info'!DQ55+'Product Info'!DT55+'Product Info'!DW55+'Product Info'!DZ55+'Product Info'!EC55+'Product Info'!EF55+'Product Info'!EI55+'Product Info'!EL55+'Product Info'!EO55+'Product Info'!ER55+'Product Info'!EU55+'Product Info'!EX55+'Product Info'!FA55+'Product Info'!FD55)","v":0},{"$f":"AF54*('Product Info'!M55)","v":0},{"$f":"AF54*'Product Info'!P55","v":0},{"$f":"AF54*'Product Info'!S55","v":0},{"$f":"AF54*'Product Info'!V55","v":0},{"$f":"AF54*'Product Info'!Y55","v":0},{"$f":"AF54*'Product Info'!AB55","v":0},{"$f":"AF54*'Product Info'!AE55","v":0},{"$f":"AF54*'Product Info'!AH55","v":0},{"$f":"AF54*'Product Info'!AK55","v":0},{"$f":"AF54*'Product Info'!AN55","v":0},{"$f":"AF54*'Product Info'!AQ55","v":0},{"$f":"AF54*'Product Info'!AT55","v":0},{"$f":"AF54*'Product Info'!AW55","v":0},{"$f":"AF54*'Product Info'!AZ55","v":0},{"$f":"AF54*'Product Info'!BC55","v":0},{"$f":"AF54*'Product Info'!BF55","v":0},{"$f":"AF54*'Product Info'!BI55","v":0},{"$f":"AF54*'Product Info'!BL55","v":0},{"$f":"AF54*'Product Info'!BO55","v":0},{"$f":"AF54*'Product Info'!BR55","v":0},{"$f":"AF54*'Product Info'!BU55","v":0},{"$f":"AF54*'Product Info'!BX55","v":0}]
[{"$f":"'Product Info'!A56","v":0},{"$f":"'Product Info'!B56","v":0},{"$f":"'Product Info'!C56","v":0},null,null,null,null,null,null,null,null,null,null,null,null,null,null,null,null,null,null,null,null,null,null,null,null,null,null,null,null,0,{"$f":"'Product Info'!F56*('Daily Info (February)'!AF55)","v":0},null,null,{"$f":"AF55*('Product Info'!H56)","v":0},{"$f":"AF55*('Product Info'!M56+'Product Info'!P56+'Product Info'!S56+'Product Info'!V56+'Product Info'!Y56+'Product Info'!AB56+'Product Info'!AE56+'Product Info'!AH56+'Product Info'!AK56+'Product Info'!AN56+'Product Info'!AQ56+'Product Info'!AT56+'Product Info'!AW56+'Product Info'!AZ56+'Product Info'!BC56+'Product Info'!BF56+'Product Info'!BI56+'Product Info'!BL56+'Product Info'!BO56+'Product Info'!BR56+'Product Info'!BU56+'Product Info'!BX56+'Product Info'!CA56+'Product Info'!CD56+'Product Info'!CG56+'Product Info'!CJ56+'Product Info'!CM56+'Product Info'!CP56+'Product Info'!CS56+'Product Info'!CV56+'Product Info'!CY56+'Product Info'!DB56+'Product Info'!DE56+'Product Info'!DH56+'Product Info'!DK56+'Product Info'!DN56+'Product Info'!DQ56+'Product Info'!DT56+'Product Info'!DW56+'Product Info'!DZ56+'Product Info'!EC56+'Product Info'!EF56+'Product Info'!EI56+'Product Info'!EL56+'Product Info'!EO56+'Product Info'!ER56+'Product Info'!EU56+'Product Info'!EX56+'Product Info'!FA56+'Product Info'!FD56)","v":0},{"$f":"AF55*('Product Info'!M56)","v":0},{"$f":"AF55*'Product Info'!P56","v":0},{"$f":"AF55*'Product Info'!S56","v":0},{"$f":"AF55*'Product Info'!V56","v":0},{"$f":"AF55*'Product Info'!Y56","v":0},{"$f":"AF55*'Product Info'!AB56","v":0},{"$f":"AF55*'Product Info'!AE56","v":0},{"$f":"AF55*'Product Info'!AH56","v":0},{"$f":"AF55*'Product Info'!AK56","v":0},{"$f":"AF55*'Product Info'!AN56","v":0},{"$f":"AF55*'Product Info'!AQ56","v":0},{"$f":"AF55*'Product Info'!AT56","v":0},{"$f":"AF55*'Product Info'!AW56","v":0},{"$f":"AF55*'Product Info'!AZ56","v":0},{"$f":"AF55*'Product Info'!BC56","v":0},{"$f":"AF55*'Product Info'!BF56","v":0},{"$f":"AF55*'Product Info'!BI56","v":0},{"$f":"AF55*'Product Info'!BL56","v":0},{"$f":"AF55*'Product Info'!BO56","v":0},{"$f":"AF55*'Product Info'!BR56","v":0},{"$f":"AF55*'Product Info'!BU56","v":0},{"$f":"AF55*'Product Info'!BX56","v":0}]
[{"$f":"'Product Info'!A57","v":0},{"$f":"'Product Info'!B57","v":0},{"$f":"'Product Info'!C57","v":0},null,null,null,null,null,null,null,null,null,null,null,null,null,null,null,null,null,null,null,null,null,null,null,null,null,null,null,null,0,{"$f":"'Product Info'!F57*('Daily Info (February)'!AF56)","v":0},null,null,{"$f":"AF56*('Product Info'!H57)","v":0},{"$f":"AF56*('Product Info'!M57+'Product Info'!P57+'Product Info'!S57+'Product Info'!V57+'Product Info'!Y57+'Product Info'!AB57+'Product Info'!AE57+'Product Info'!AH57+'Product Info'!AK57+'Product Info'!AN57+'Product Info'!AQ57+'Product Info'!AT57+'Product Info'!AW57+'Product Info'!AZ57+'Product Info'!BC57+'Product Info'!BF57+'Product Info'!BI57+'Product Info'!BL57+'Product Info'!BO57+'Product Info'!BR57+'Product Info'!BU57+'Product Info'!BX57+'Product Info'!CA57+'Product Info'!CD57+'Product Info'!CG57+'Product Info'!CJ57+'Product Info'!CM57+'Product Info'!CP57+'Product Info'!CS57+'Product Info'!CV57+'Product Info'!CY57+'Product Info'!DB57+'Product Info'!DE57+'Product Info'!DH57+'Product Info'!DK57+'Product Info'!DN57+'Product Info'!DQ57+'Product Info'!DT57+'Product Info'!DW57+'Product Info'!DZ57+'Product Info'!EC57+'Product Info'!EF57+'Product Info'!EI57+'Product Info'!EL57+'Product Info'!EO57+'Product Info'!ER57+'Product Info'!EU57+'Product Info'!EX57+'Product Info'!FA57+'Product Info'!FD57)","v":0},{"$f":"AF56*('Product Info'!M57)","v":0},{"$f":"AF56*'Product Info'!P57","v":0},{"$f":"AF56*'Product Info'!S57","v":0},{"$f":"AF56*'Product Info'!V57","v":0},{"$f":"AF56*'Product Info'!Y57","v":0},{"$f":"AF56*'Product Info'!AB57","v":0},{"$f":"AF56*'Product Info'!AE57","v":0},{"$f":"AF56*'Product Info'!AH57","v":0},{"$f":"AF56*'Product Info'!AK57","v":0},{"$f":"AF56*'Product Info'!AN57","v":0},{"$f":"AF56*'Product Info'!AQ57","v":0},{"$f":"AF56*'Product Info'!AT57","v":0},{"$f":"AF56*'Product Info'!AW57","v":0},{"$f":"AF56*'Product Info'!AZ57","v":0},{"$f":"AF56*'Product Info'!BC57","v":0},{"$f":"AF56*'Product Info'!BF57","v":0},{"$f":"AF56*'Product Info'!BI57","v":0},{"$f":"AF56*'Product Info'!BL57","v":0},{"$f":"AF56*'Product Info'!BO57","v":0},{"$f":"AF56*'Product Info'!BR57","v":0},{"$f":"AF56*'Product Info'!BU57","v":0},{"$f":"AF56*'Product Info'!BX57","v":0}]
[{"$f":"'Product Info'!A58","v":0},{"$f":"'Product Info'!B58","v":0},{"$f":"'Product Info'!C58","v":0},null,null,null,null,null,null,null,null,null,null,null,null,null,null,null,null,null,null,null,null,null,null,null,null,null,null,null,null,0,{"$f":"'Product Info'!F58*('Daily Info (February)'!AF57)","v":0},null,null,{"$f":"AF57*('Product Info'!H58)","v":0},{"$f":"AF57*('Product Info'!M58+'Product Info'!P58+'Product Info'!S58+'Product Info'!V58+'Product Info'!Y58+'Product Info'!AB58+'Product Info'!AE58+'Product Info'!AH58+'Product Info'!AK58+'Product Info'!AN58+'Product Info'!AQ58+'Product Info'!AT58+'Product Info'!AW58+'Product Info'!AZ58+'Product Info'!BC58+'Product Info'!BF58+'Product Info'!BI58+'Product Info'!BL58+'Product Info'!BO58+'Product Info'!BR58+'Product Info'!BU58+'Product Info'!BX58+'Product Info'!CA58+'Product Info'!CD58+'Product Info'!CG58+'Product Info'!CJ58+'Product Info'!CM58+'Product Info'!CP58+'Product Info'!CS58+'Product Info'!CV58+'Product Info'!CY58+'Product Info'!DB58+'Product Info'!DE58+'Product Info'!DH58+'Product Info'!DK58+'Product Info'!DN58+'Product Info'!DQ58+'Product Info'!DT58+'Product Info'!DW58+'Product Info'!DZ58+'Product Info'!EC58+'Product Info'!EF58+'Product Info'!EI58+'Product Info'!EL58+'Product Info'!EO58+'Product Info'!ER58+'Product Info'!EU58+'Product Info'!EX58+'Product Info'!FA58+'Product Info'!FD58)","v":0},{"$f":"AF57*('Product Info'!M58)","v":0},{"$f":"AF57*'Product Info'!P58","v":0},{"$f":"AF57*'Product Info'!S58","v":0},{"$f":"AF57*'Product Info'!V58","v":0},{"$f":"AF57*'Product Info'!Y58","v":0},{"$f":"AF57*'Product Info'!AB58","v":0},{"$f":"AF57*'Product Info'!AE58","v":0},{"$f":"AF57*'Product Info'!AH58","v":0},{"$f":"AF57*'Product Info'!AK58","v":0},{"$f":"AF57*'Product Info'!AN58","v":0},{"$f":"AF57*'Product Info'!AQ58","v":0},{"$f":"AF57*'Product Info'!AT58","v":0},{"$f":"AF57*'Product Info'!AW58","v":0},{"$f":"AF57*'Product Info'!AZ58","v":0},{"$f":"AF57*'Product Info'!BC58","v":0},{"$f":"AF57*'Product Info'!BF58","v":0},{"$f":"AF57*'Product Info'!BI58","v":0},{"$f":"AF57*'Product Info'!BL58","v":0},{"$f":"AF57*'Product Info'!BO58","v":0},{"$f":"AF57*'Product Info'!BR58","v":0},{"$f":"AF57*'Product Info'!BU58","v":0},{"$f":"AF57*'Product Info'!BX58","v":0}]
[{"$f":"'Product Info'!A59","v":0},{"$f":"'Product Info'!B59","v":0},{"$f":"'Product Info'!C59","v":0},null,null,null,null,null,null,null,null,null,null,null,null,null,null,null,null,null,null,null,null,null,null,null,null,null,null,null,null,0,{"$f":"'Product Info'!F59*('Daily Info (February)'!AF58)","v":0},null,null,{"$f":"AF58*('Product Info'!H59)","v":0},{"$f":"AF58*('Product Info'!M59+'Product Info'!P59+'Product Info'!S59+'Product Info'!V59+'Product Info'!Y59+'Product Info'!AB59+'Product Info'!AE59+'Product Info'!AH59+'Product Info'!AK59+'Product Info'!AN59+'Product Info'!AQ59+'Product Info'!AT59+'Product Info'!AW59+'Product Info'!AZ59+'Product Info'!BC59+'Product Info'!BF59+'Product Info'!BI59+'Product Info'!BL59+'Product Info'!BO59+'Product Info'!BR59+'Product Info'!BU59+'Product Info'!BX59+'Product Info'!CA59+'Product Info'!CD59+'Product Info'!CG59+'Product Info'!CJ59+'Product Info'!CM59+'Product Info'!CP59+'Product Info'!CS59+'Product Info'!CV59+'Product Info'!CY59+'Product Info'!DB59+'Product Info'!DE59+'Product Info'!DH59+'Product Info'!DK59+'Product Info'!DN59+'Product Info'!DQ59+'Product Info'!DT59+'Product Info'!DW59+'Product Info'!DZ59+'Product Info'!EC59+'Product Info'!EF59+'Product Info'!EI59+'Product Info'!EL59+'Product Info'!EO59+'Product Info'!ER59+'Product Info'!EU59+'Product Info'!EX59+'Product Info'!FA59+'Product Info'!FD59)","v":0},{"$f":"AF58*('Product Info'!M59)","v":0},{"$f":"AF58*'Product Info'!P59","v":0},{"$f":"AF58*'Product Info'!S59","v":0},{"$f":"AF58*'Product Info'!V59","v":0},{"$f":"AF58*'Product Info'!Y59","v":0},{"$f":"AF58*'Product Info'!AB59","v":0},{"$f":"AF58*'Product Info'!AE59","v":0},{"$f":"AF58*'Product Info'!AH59","v":0},{"$f":"AF58*'Product Info'!AK59","v":0},{"$f":"AF58*'Product Info'!AN59","v":0},{"$f":"AF58*'Product Info'!AQ59","v":0},{"$f":"AF58*'Product Info'!AT59","v":0},{"$f":"AF58*'Product Info'!AW59","v":0},{"$f":"AF58*'Product Info'!AZ59","v":0},{"$f":"AF58*'Product Info'!BC59","v":0},{"$f":"AF58*'Product Info'!BF59","v":0},{"$f":"AF58*'Product Info'!BI59","v":0},{"$f":"AF58*'Product Info'!BL59","v":0},{"$f":"AF58*'Product Info'!BO59","v":0},{"$f":"AF58*'Product Info'!BR59","v":0},{"$f":"AF58*'Product Info'!BU59","v":0},{"$f":"AF58*'Product Info'!BX59","v":0}]
[{"$f":"'Product Info'!A60","v":0},{"$f":"'Product Info'!B60","v":0},{"$f":"'Product Info'!C60","v":0},null,null,null,null,null,null,null,null,null,null,null,null,null,null,null,null,null,null,null,null,null,null,null,null,null,null,null,null,0,{"$f":"'Product Info'!F60*('Daily Info (February)'!AF59)","v":0},null,null,{"$f":"AF59*('Product Info'!H60)","v":0},{"$f":"AF59*('Product Info'!M60+'Product Info'!P60+'Product Info'!S60+'Product Info'!V60+'Product Info'!Y60+'Product Info'!AB60+'Product Info'!AE60+'Product Info'!AH60+'Product Info'!AK60+'Product Info'!AN60+'Product Info'!AQ60+'Product Info'!AT60+'Product Info'!AW60+'Product Info'!AZ60+'Product Info'!BC60+'Product Info'!BF60+'Product Info'!BI60+'Product Info'!BL60+'Product Info'!BO60+'Product Info'!BR60+'Product Info'!BU60+'Product Info'!BX60+'Product Info'!CA60+'Product Info'!CD60+'Product Info'!CG60+'Product Info'!CJ60+'Product Info'!CM60+'Product Info'!CP60+'Product Info'!CS60+'Product Info'!CV60+'Product Info'!CY60+'Product Info'!DB60+'Product Info'!DE60+'Product Info'!DH60+'Product Info'!DK60+'Product Info'!DN60+'Product Info'!DQ60+'Product Info'!DT60+'Product Info'!DW60+'Product Info'!DZ60+'Product Info'!EC60+'Product Info'!EF60+'Product Info'!EI60+'Product Info'!EL60+'Product Info'!EO60+'Product Info'!ER60+'Product Info'!EU60+'Product Info'!EX60+'Product Info'!FA60+'Product Info'!FD60)","v":0},{"$f":"AF59*('Product Info'!M60)","v":0},{"$f":"AF59*'Product Info'!P60","v":0},{"$f":"AF59*'Product Info'!S60","v":0},{"$f":"AF59*'Product Info'!V60","v":0},{"$f":"AF59*'Product Info'!Y60","v":0},{"$f":"AF59*'Product Info'!AB60","v":0},{"$f":"AF59*'Product Info'!AE60","v":0},{"$f":"AF59*'Product Info'!AH60","v":0},{"$f":"AF59*'Product Info'!AK60","v":0},{"$f":"AF59*'Product Info'!AN60","v":0},{"$f":"AF59*'Product Info'!AQ60","v":0},{"$f":"AF59*'Product Info'!AT60","v":0},{"$f":"AF59*'Product Info'!AW60","v":0},{"$f":"AF59*'Product Info'!AZ60","v":0},{"$f":"AF59*'Product Info'!BC60","v":0},{"$f":"AF59*'Product Info'!BF60","v":0},{"$f":"AF59*'Product Info'!BI60","v":0},{"$f":"AF59*'Product Info'!BL60","v":0},{"$f":"AF59*'Product Info'!BO60","v":0},{"$f":"AF59*'Product Info'!BR60","v":0},{"$f":"AF59*'Product Info'!BU60","v":0},{"$f":"AF59*'Product Info'!BX60","v":0}]
[{"$f":"'Product Info'!A61","v":0},{"$f":"'Product Info'!B61","v":0},{"$f":"'Product Info'!C61","v":0},null,null,null,null,null,null,null,null,null,null,null,null,null,null,null,null,null,null,null,null,null,null,null,null,null,null,null,null,0,{"$f":"'Product Info'!F61*('Daily Info (February)'!AF60)","v":0},null,null,{"$f":"AF60*('Product Info'!H61)","v":0},{"$f":"AF60*('Product Info'!M61+'Product Info'!P61+'Product Info'!S61+'Product Info'!V61+'Product Info'!Y61+'Product Info'!AB61+'Product Info'!AE61+'Product Info'!AH61+'Product Info'!AK61+'Product Info'!AN61+'Product Info'!AQ61+'Product Info'!AT61+'Product Info'!AW61+'Product Info'!AZ61+'Product Info'!BC61+'Product Info'!BF61+'Product Info'!BI61+'Product Info'!BL61+'Product Info'!BO61+'Product Info'!BR61+'Product Info'!BU61+'Product Info'!BX61+'Product Info'!CA61+'Product Info'!CD61+'Product Info'!CG61+'Product Info'!CJ61+'Product Info'!CM61+'Product Info'!CP61+'Product Info'!CS61+'Product Info'!CV61+'Product Info'!CY61+'Product Info'!DB61+'Product Info'!DE61+'Product Info'!DH61+'Product Info'!DK61+'Product Info'!DN61+'Product Info'!DQ61+'Product Info'!DT61+'Product Info'!DW61+'Product Info'!DZ61+'Product Info'!EC61+'Product Info'!EF61+'Product Info'!EI61+'Product Info'!EL61+'Product Info'!EO61+'Product Info'!ER61+'Product Info'!EU61+'Product Info'!EX61+'Product Info'!FA61+'Product Info'!FD61)","v":0},{"$f":"AF60*('Product Info'!M61)","v":0},{"$f":"AF60*'Product Info'!P61","v":0},{"$f":"AF60*'Product Info'!S61","v":0},{"$f":"AF60*'Product Info'!V61","v":0},{"$f":"AF60*'Product Info'!Y61","v":0},{"$f":"AF60*'Product Info'!AB61","v":0},{"$f":"AF60*'Product Info'!AE61","v":0},{"$f":"AF60*'Product Info'!AH61","v":0},{"$f":"AF60*'Product Info'!AK61","v":0},{"$f":"AF60*'Product Info'!AN61","v":0},{"$f":"AF60*'Product Info'!AQ61","v":0},{"$f":"AF60*'Product Info'!AT61","v":0},{"$f":"AF60*'Product Info'!AW61","v":0},{"$f":"AF60*'Product Info'!AZ61","v":0},{"$f":"AF60*'Product Info'!BC61","v":0},{"$f":"AF60*'Product Info'!BF61","v":0},{"$f":"AF60*'Product Info'!BI61","v":0},{"$f":"AF60*'Product Info'!BL61","v":0},{"$f":"AF60*'Product Info'!BO61","v":0},{"$f":"AF60*'Product Info'!BR61","v":0},{"$f":"AF60*'Product Info'!BU61","v":0},{"$f":"AF60*'Product Info'!BX61","v":0}]
[{"$f":"'Product Info'!A62","v":0},{"$f":"'Product Info'!B62","v":0},{"$f":"'Product Info'!C62","v":0},null,null,null,null,null,null,null,null,null,null,null,null,null,null,null,null,null,null,null,null,null,null,null,null,null,null,null,null,0,{"$f":"'Product Info'!F62*('Daily Info (February)'!AF61)","v":0},null,null,{"$f":"AF61*('Product Info'!H62)","v":0},{"$f":"AF61*('Product Info'!M62+'Product Info'!P62+'Product Info'!S62+'Product Info'!V62+'Product Info'!Y62+'Product Info'!AB62+'Product Info'!AE62+'Product Info'!AH62+'Product Info'!AK62+'Product Info'!AN62+'Product Info'!AQ62+'Product Info'!AT62+'Product Info'!AW62+'Product Info'!AZ62+'Product Info'!BC62+'Product Info'!BF62+'Product Info'!BI62+'Product Info'!BL62+'Product Info'!BO62+'Product Info'!BR62+'Product Info'!BU62+'Product Info'!BX62+'Product Info'!CA62+'Product Info'!CD62+'Product Info'!CG62+'Product Info'!CJ62+'Product Info'!CM62+'Product Info'!CP62+'Product Info'!CS62+'Product Info'!CV62+'Product Info'!CY62+'Product Info'!DB62+'Product Info'!DE62+'Product Info'!DH62+'Product Info'!DK62+'Product Info'!DN62+'Product Info'!DQ62+'Product Info'!DT62+'Product Info'!DW62+'Product Info'!DZ62+'Product Info'!EC62+'Product Info'!EF62+'Product Info'!EI62+'Product Info'!EL62+'Product Info'!EO62+'Product Info'!ER62+'Product Info'!EU62+'Product Info'!EX62+'Product Info'!FA62+'Product Info'!FD62)","v":0},{"$f":"AF61*('Product Info'!M62)","v":0},{"$f":"AF61*'Product Info'!P62","v":0},{"$f":"AF61*'Product Info'!S62","v":0},{"$f":"AF61*'Product Info'!V62","v":0},{"$f":"AF61*'Product Info'!Y62","v":0},{"$f":"AF61*'Product Info'!AB62","v":0},{"$f":"AF61*'Product Info'!AE62","v":0},{"$f":"AF61*'Product Info'!AH62","v":0},{"$f":"AF61*'Product Info'!AK62","v":0},{"$f":"AF61*'Product Info'!AN62","v":0},{"$f":"AF61*'Product Info'!AQ62","v":0},{"$f":"AF61*'Product Info'!AT62","v":0},{"$f":"AF61*'Product Info'!AW62","v":0},{"$f":"AF61*'Product Info'!AZ62","v":0},{"$f":"AF61*'Product Info'!BC62","v":0},{"$f":"AF61*'Product Info'!BF62","v":0},{"$f":"AF61*'Product Info'!BI62","v":0},{"$f":"AF61*'Product Info'!BL62","v":0},{"$f":"AF61*'Product Info'!BO62","v":0},{"$f":"AF61*'Product Info'!BR62","v":0},{"$f":"AF61*'Product Info'!BU62","v":0},{"$f":"AF61*'Product Info'!BX62","v":0}]
["TOTALS for February",null,null,null,null,null,null,null,null,null,null,null,null,null,null,null,null,null,null,null,null,null,null,null,null,null,null,null,null,null,null,{"$f":"SUM(AF4:AF18)","v":0},{"$f":"SUM(AG4:AG18)","v":0},null,null,{"$f":"SUM(AJ4:AJ18)","v":0},{"$f":"SUM(AK4:AK18)","v":0},0,0,0,0,0,0,0,0,0,0,0,0,0,0,0,0,0,0,0,0,0,0]

{"sheet":"Daily Info (March)","index":4,"n_rows":62,"n_cols":62,"rows_kept":62,"cut":false,"hidden":false,"merged":[[0,3,0,12],[0,38,0,39],[61,0,61,1],[61,3,61,33],[1,35,1,36],[3,35,3,36],[4,35,4,36],[5,35,5,36],[6,35,6,36],[7,35,7,36],[19,35,19,36],[8,35,8,36],[9,35,9,36],[10,35,10,36],[11,35,11,36],[12,35,12,36],[13,35,13,36],[14,35,14,36],[15,35,15,36],[16,35,16,36],[17,35,17,36],[18,35,18,36],[31,35,31,36],[20,35,20,36],[21,35,21,36],[22,35,22,36],[23,35,23,36],[24,35,24,36],[25,35,25,36],[26,35,26,36],[27,35,27,36],[28,35,28,36],[29,35,29,36],[30,35,30,36],[32,35,32,36],[61,35,61,36],[33,35,33,36],[34,35,34,36],[35,35,35,36],[36,35,36,36],[37,35,37,36],[38,35,38,36],[39,35,39,36],[40,35,40,36],[52,35,52,36],[41,35,41,36],[42,35,42,36],[43,35,43,36],[44,35,44,36],[45,35,45,36],[46,35,46,36],[47,35,47,36],[48,35,48,36],[49,35,49,36],[50,35,50,36],[51,35,51,36],[59,35,59,36],[60,35,60,36],[53,35,53,36],[54,35,54,36],[55,35,55,36],[56,35,56,36],[57,35,57,36],[58,35,58,36]]}
["Main Menu","VOC Product Information",null,"Daily Usage (gal)",null,null,null,null,null,null,null,null,null,null,null,null,null,null,null,null,null,null,null,null,null,"Daily Usage (gal)",null,null,null,null,null,null,null,null,null,null,null,null,"Emissions"]
["Product Number","Product Name","Product Type","2006-03-01","2006-03-02","2006-03-03","2006-03-04","2006-03-05","2006-03-06","2006-03-07","2006-03-08","2006-03-09","2006-03-10","2006-03-11","2006-03-12","2006-03-13","2006-03-14","2006-03-15","2006-03-16","2006-03-17","2006-03-18","2006-03-19","2006-03-20","2006-03-21","2006-03-22","2006-03-23","2006-03-24","2006-03-25","2006-03-26","2006-03-27","2006-03-28","2006-03-29","2006-03-30","2006-03-31","Total Usage (gal)","Total Usage (lbs)",null,null,"Pounds VOCs Emitted","Pounds Total HAPs Emitted",{"$f":"'Product Info'!K3","v":0},{"$f":"'Product Info'!N3","v":0},{"$f":"'Product Info'!Q3","v":0},{"$f":"'Product Info'!T3","v":0},{"$f":"'Product Info'!W3","v":0},{"$f":"'Product Info'!Z3","v":0},{"$f":"'Product Info'!AC3","v":0},{"$f":"'Product Info'!AF3","v":0},{"$f":"'Product Info'!AI3","v":0},{"$f":"'Product Info'!AL3","v":0},{"$f":"'Product Info'!AO3","v":0},{"$f":"'Product Info'!AR3","v":0},{"$f":"'Product Info'!AU3","v":0},{"$f":"'Product Info'!AX3","v":0},{"$f":"'Product Info'!BA3","v":0},{"$f":"'Product Info'!BD3","v":0},{"$f":"'Product Info'!BG3","v":0},{"$f":"'Product Info'!BJ3","v":0},{"$f":"'Product Info'!BM3","v":0},{"$f":"'Product Info'!BP3","v":0},{"$f":"'Product Info'!BS3","v":0},{"$f":"'Product Info'!BV3","v":0}]
[]
[{"$f":"'Product Info'!A5","v":0},{"$f":"'Product Info'!B5","v":0},{"$f":"'Product Info'!C5","v":0},null,null,null,null,null,null,null,null,null,null,null,null,null,null,null,null,null,null,null,null,null,null,null,null,null,null,null,null,null,null,null,{"$f":"SUM(D4:AH4)","v":0},{"$f":"'Product Info'!F5*('Daily Info (March)'!AI4)","v":0},null,null,{"$f":"AI4*('Product Info'!H5)","v":0},{"$f":"AI4*('Product Info'!M5+'Product Info'!P5+'Product Info'!S5+'Product Info'!V5+'Product Info'!Y5+'Product Info'!AB5+'Product Info'!AE5+'Product Info'!AH5+'Product Info'!AK5+'Product Info'!AN5+'Product Info'!AQ5+'Product Info'!AT5+'Product Info'!AW5+'Product Info'!AZ5+'Product Info'!BC5+'Product Info'!BF5+'Product Info'!BI5+'Product Info'!BL5+'Product Info'!BO5+'Product Info'!BR5+'Product Info'!BU5+'Product Info'!BX5+'Product Info'!CA5+'Product Info'!CD5+'Product Info'!CG5+'Product Info'!CJ5+'Product Info'!CM5+'Product Info'!CP5+'Product Info'!CS5+'Product Info'!CV5+'Product Info'!CY5+'Product Info'!DB5+'Product Info'!DE5+'Product Info'!DH5+'Product Info'!DK5+'Product Info'!DN5+'Product Info'!DQ5+'Product Info'!DT5+'Product Info'!DW5+'Product Info'!DZ5+'Product Info'!EC5+'Product Info'!EF5+'Product Info'!EI5+'Product Info'!EL5+'Product Info'!EO5+'Product Info'!ER5+'Product Info'!EU5+'Product Info'!EX5+'Product Info'!FA5+'Product Info'!FD5)","v":0},{"$f":"AI4*('Product Info'!M5)","v":0},{"$f":"AI4*'Product Info'!P5","v":0},{"$f":"AI4*'Product Info'!S5","v":0},{"$f":"AI4*'Product Info'!V5","v":0},{"$f":"AI4*'Product Info'!Y5","v":0},{"$f":"AI4*'Product Info'!AB5","v":0},{"$f":"AI4*'Product Info'!AE5","v":0},{"$f":"AI4*'Product Info'!AH5","v":0},{"$f":"AI4*'Product Info'!AK5","v":0},{"$f":"AI4*'Product Info'!AN5","v":0},{"$f":"AI4*'Product Info'!AQ5","v":0},{"$f":"AI4*'Product Info'!AT5","v":0},{"$f":"AI4*'Product Info'!AW5","v":0},{"$f":"AI4*'Product Info'!AZ5","v":0},{"$f":"AI4*'Product Info'!BC5","v":0},{"$f":"AI4*'Product Info'!BF5","v":0},{"$f":"AI4*'Product Info'!BI5","v":0},{"$f":"AI4*'Product Info'!BL5","v":0},{"$f":"AI4*'Product Info'!BO5","v":0},{"$f":"AI4*'Product Info'!BR5","v":0},{"$f":"AI4*'Product Info'!BU5","v":0},{"$f":"AI4*'Product Info'!BX5","v":0}]
[{"$f":"'Product Info'!A6","v":0},{"$f":"'Product Info'!B6","v":0},{"$f":"'Product Info'!C6","v":0},null,null,null,null,null,null,null,null,null,null,null,null,null,null,null,null,null,null,null,null,null,null,null,null,null,null,null,null,null,null,null,0,{"$f":"'Product Info'!F6*('Daily Info (March)'!AI5)","v":0},null,null,{"$f":"AI5*('Product Info'!H6)","v":0},{"$f":"AI5*('Product Info'!M6+'Product Info'!P6+'Product Info'!S6+'Product Info'!V6+'Product Info'!Y6+'Product Info'!AB6+'Product Info'!AE6+'Product Info'!AH6+'Product Info'!AK6+'Product Info'!AN6+'Product Info'!AQ6+'Product Info'!AT6+'Product Info'!AW6+'Product Info'!AZ6+'Product Info'!BC6+'Product Info'!BF6+'Product Info'!BI6+'Product Info'!BL6+'Product Info'!BO6+'Product Info'!BR6+'Product Info'!BU6+'Product Info'!BX6+'Product Info'!CA6+'Product Info'!CD6+'Product Info'!CG6+'Product Info'!CJ6+'Product Info'!CM6+'Product Info'!CP6+'Product Info'!CS6+'Product Info'!CV6+'Product Info'!CY6+'Product Info'!DB6+'Product Info'!DE6+'Product Info'!DH6+'Product Info'!DK6+'Product Info'!DN6+'Product Info'!DQ6+'Product Info'!DT6+'Product Info'!DW6+'Product Info'!DZ6+'Product Info'!EC6+'Product Info'!EF6+'Product Info'!EI6+'Product Info'!EL6+'Product Info'!EO6+'Product Info'!ER6+'Product Info'!EU6+'Product Info'!EX6+'Product Info'!FA6+'Product Info'!FD6)","v":0},{"$f":"AI5*('Product Info'!M6)","v":0},{"$f":"AI5*'Product Info'!P6","v":0},{"$f":"AI5*'Product Info'!S6","v":0},{"$f":"AI5*'Product Info'!V6","v":0},{"$f":"AI5*'Product Info'!Y6","v":0},{"$f":"AI5*'Product Info'!AB6","v":0},{"$f":"AI5*'Product Info'!AE6","v":0},{"$f":"AI5*'Product Info'!AH6","v":0},{"$f":"AI5*'Product Info'!AK6","v":0},{"$f":"AI5*'Product Info'!AN6","v":0},{"$f":"AI5*'Product Info'!AQ6","v":0},{"$f":"AI5*'Product Info'!AT6","v":0},{"$f":"AI5*'Product Info'!AW6","v":0},{"$f":"AI5*'Product Info'!AZ6","v":0},{"$f":"AI5*'Product Info'!BC6","v":0},{"$f":"AI5*'Product Info'!BF6","v":0},{"$f":"AI5*'Product Info'!BI6","v":0},{"$f":"AI5*'Product Info'!BL6","v":0},{"$f":"AI5*'Product Info'!BO6","v":0},{"$f":"AI5*'Product Info'!BR6","v":0},{"$f":"AI5*'Product Info'!BU6","v":0},{"$f":"AI5*'Product Info'!BX6","v":0}]
[{"$f":"'Product Info'!A7","v":0},{"$f":"'Product Info'!B7","v":0},{"$f":"'Product Info'!C7","v":0},null,null,null,null,null,null,null,null,null,null,null,null,null,null,null,null,null,null,null,null,null,null,null,null,null,null,null,null,null,null,null,0,{"$f":"'Product Info'!F7*('Daily Info (March)'!AI6)","v":0},null,null,{"$f":"AI6*('Product Info'!H7)","v":0},{"$f":"AI6*('Product Info'!M7+'Product Info'!P7+'Product Info'!S7+'Product Info'!V7+'Product Info'!Y7+'Product Info'!AB7+'Product Info'!AE7+'Product Info'!AH7+'Product Info'!AK7+'Product Info'!AN7+'Product Info'!AQ7+'Product Info'!AT7+'Product Info'!AW7+'Product Info'!AZ7+'Product Info'!BC7+'Product Info'!BF7+'Product Info'!BI7+'Product Info'!BL7+'Product Info'!BO7+'Product Info'!BR7+'Product Info'!BU7+'Product Info'!BX7+'Product Info'!CA7+'Product Info'!CD7+'Product Info'!CG7+'Product Info'!CJ7+'Product Info'!CM7+'Product Info'!CP7+'Product Info'!CS7+'Product Info'!CV7+'Product Info'!CY7+'Product Info'!DB7+'Product Info'!DE7+'Product Info'!DH7+'Product Info'!DK7+'Product Info'!DN7+'Product Info'!DQ7+'Product Info'!DT7+'Product Info'!DW7+'Product Info'!DZ7+'Product Info'!EC7+'Product Info'!EF7+'Product Info'!EI7+'Product Info'!EL7+'Product Info'!EO7+'Product Info'!ER7+'Product Info'!EU7+'Product Info'!EX7+'Product Info'!FA7+'Product Info'!FD7)","v":0},{"$f":"AI6*('Product Info'!M7)","v":0},{"$f":"AI6*'Product Info'!P7","v":0},{"$f":"AI6*'Product Info'!S7","v":0},{"$f":"AI6*'Product Info'!V7","v":0},{"$f":"AI6*'Product Info'!Y7","v":0},{"$f":"AI6*'Product Info'!AB7","v":0},{"$f":"AI6*'Product Info'!AE7","v":0},{"$f":"AI6*'Product Info'!AH7","v":0},{"$f":"AI6*'Product Info'!AK7","v":0},{"$f":"AI6*'Product Info'!AN7","v":0},{"$f":"AI6*'Product Info'!AQ7","v":0},{"$f":"AI6*'Product Info'!AT7","v":0},{"$f":"AI6*'Product Info'!AW7","v":0},{"$f":"AI6*'Product Info'!AZ7","v":0},{"$f":"AI6*'Product Info'!BC7","v":0},{"$f":"AI6*'Product Info'!BF7","v":0},{"$f":"AI6*'Product Info'!BI7","v":0},{"$f":"AI6*'Product Info'!BL7","v":0},{"$f":"AI6*'Product Info'!BO7","v":0},{"$f":"AI6*'Product Info'!BR7","v":0},{"$f":"AI6*'Product Info'!BU7","v":0},{"$f":"AI6*'Product Info'!BX7","v":0}]
[{"$f":"'Product Info'!A8","v":0},{"$f":"'Product Info'!B8","v":0},{"$f":"'Product Info'!C8","v":0},null,null,null,null,null,null,null,null,null,null,null,null,null,null,null,null,null,null,null,null,null,null,null,null,null,null,null,null,null,null,null,0,{"$f":"'Product Info'!F8*('Daily Info (March)'!AI7)","v":0},null,null,{"$f":"AI7*('Product Info'!H8)","v":0},{"$f":"AI7*('Product Info'!M8+'Product Info'!P8+'Product Info'!S8+'Product Info'!V8+'Product Info'!Y8+'Product Info'!AB8+'Product Info'!AE8+'Product Info'!AH8+'Product Info'!AK8+'Product Info'!AN8+'Product Info'!AQ8+'Product Info'!AT8+'Product Info'!AW8+'Product Info'!AZ8+'Product Info'!BC8+'Product Info'!BF8+'Product Info'!BI8+'Product Info'!BL8+'Product Info'!BO8+'Product Info'!BR8+'Product Info'!BU8+'Product Info'!BX8+'Product Info'!CA8+'Product Info'!CD8+'Product Info'!CG8+'Product Info'!CJ8+'Product Info'!CM8+'Product Info'!CP8+'Product Info'!CS8+'Product Info'!CV8+'Product Info'!CY8+'Product Info'!DB8+'Product Info'!DE8+'Product Info'!DH8+'Product Info'!DK8+'Product Info'!DN8+'Product Info'!DQ8+'Product Info'!DT8+'Product Info'!DW8+'Product Info'!DZ8+'Product Info'!EC8+'Product Info'!EF8+'Product Info'!EI8+'Product Info'!EL8+'Product Info'!EO8+'Product Info'!ER8+'Product Info'!EU8+'Product Info'!EX8+'Product Info'!FA8+'Product Info'!FD8)","v":0},{"$f":"AI7*('Product Info'!M8)","v":0},{"$f":"AI7*'Product Info'!P8","v":0},{"$f":"AI7*'Product Info'!S8","v":0},{"$f":"AI7*'Product Info'!V8","v":0},{"$f":"AI7*'Product Info'!Y8","v":0},{"$f":"AI7*'Product Info'!AB8","v":0},{"$f":"AI7*'Product Info'!AE8","v":0},{"$f":"AI7*'Product Info'!AH8","v":0},{"$f":"AI7*'Product Info'!AK8","v":0},{"$f":"AI7*'Product Info'!AN8","v":0},{"$f":"AI7*'Product Info'!AQ8","v":0},{"$f":"AI7*'Product Info'!AT8","v":0},{"$f":"AI7*'Product Info'!AW8","v":0},{"$f":"AI7*'Product Info'!AZ8","v":0},{"$f":"AI7*'Product Info'!BC8","v":0},{"$f":"AI7*'Product Info'!BF8","v":0},{"$f":"AI7*'Product Info'!BI8","v":0},{"$f":"AI7*'Product Info'!BL8","v":0},{"$f":"AI7*'Product Info'!BO8","v":0},{"$f":"AI7*'Product Info'!BR8","v":0},{"$f":"AI7*'Product Info'!BU8","v":0},{"$f":"AI7*'Product Info'!BX8","v":0}]
[{"$f":"'Product Info'!A9","v":0},{"$f":"'Product Info'!B9","v":0},{"$f":"'Product Info'!C9","v":0},null,null,null,null,null,null,null,null,null,null,null,null,null,null,null,null,null,null,null,null,null,null,null,null,null,null,null,null,null,null,null,0,{"$f":"'Product Info'!F9*('Daily Info (March)'!AI8)","v":0},null,null,{"$f":"AI8*('Product Info'!H9)","v":0},{"$f":"AI8*('Product Info'!M9+'Product Info'!P9+'Product Info'!S9+'Product Info'!V9+'Product Info'!Y9+'Product Info'!AB9+'Product Info'!AE9+'Product Info'!AH9+'Product Info'!AK9+'Product Info'!AN9+'Product Info'!AQ9+'Product Info'!AT9+'Product Info'!AW9+'Product Info'!AZ9+'Product Info'!BC9+'Product Info'!BF9+'Product Info'!BI9+'Product Info'!BL9+'Product Info'!BO9+'Product Info'!BR9+'Product Info'!BU9+'Product Info'!BX9+'Product Info'!CA9+'Product Info'!CD9+'Product Info'!CG9+'Product Info'!CJ9+'Product Info'!CM9+'Product Info'!CP9+'Product Info'!CS9+'Product Info'!CV9+'Product Info'!CY9+'Product Info'!DB9+'Product Info'!DE9+'Product Info'!DH9+'Product Info'!DK9+'Product Info'!DN9+'Product Info'!DQ9+'Product Info'!DT9+'Product Info'!DW9+'Product Info'!DZ9+'Product Info'!EC9+'Product Info'!EF9+'Product Info'!EI9+'Product Info'!EL9+'Product Info'!EO9+'Product Info'!ER9+'Product Info'!EU9+'Product Info'!EX9+'Product Info'!FA9+'Product Info'!FD9)","v":0},{"$f":"AI8*('Product Info'!M9)","v":0},{"$f":"AI8*'Product Info'!P9","v":0},{"$f":"AI8*'Product Info'!S9","v":0},{"$f":"AI8*'Product Info'!V9","v":0},{"$f":"AI8*'Product Info'!Y9","v":0},{"$f":"AI8*'Product Info'!AB9","v":0},{"$f":"AI8*'Product Info'!AE9","v":0},{"$f":"AI8*'Product Info'!AH9","v":0},{"$f":"AI8*'Product Info'!AK9","v":0},{"$f":"AI8*'Product Info'!AN9","v":0},{"$f":"AI8*'Product Info'!AQ9","v":0},{"$f":"AI8*'Product Info'!AT9","v":0},{"$f":"AI8*'Product Info'!AW9","v":0},{"$f":"AI8*'Product Info'!AZ9","v":0},{"$f":"AI8*'Product Info'!BC9","v":0},{"$f":"AI8*'Product Info'!BF9","v":0},{"$f":"AI8*'Product Info'!BI9","v":0},{"$f":"AI8*'Product Info'!BL9","v":0},{"$f":"AI8*'Product Info'!BO9","v":0},{"$f":"AI8*'Product Info'!BR9","v":0},{"$f":"AI8*'Product Info'!BU9","v":0},{"$f":"AI8*'Product Info'!BX9","v":0}]
[{"$f":"'Product Info'!A10","v":0},{"$f":"'Product Info'!B10","v":0},{"$f":"'Product Info'!C10","v":0},null,null,null,null,null,null,null,null,null,null,null,null,null,null,null,null,null,null,null,null,null,null,null,null,null,null,null,null,null,null,null,0,{"$f":"'Product Info'!F10*('Daily Info (March)'!AI9)","v":0},null,null,{"$f":"AI9*('Product Info'!H10)","v":0},{"$f":"AI9*('Product Info'!M10+'Product Info'!P10+'Product Info'!S10+'Product Info'!V10+'Product Info'!Y10+'Product Info'!AB10+'Product Info'!AE10+'Product Info'!AH10+'Product Info'!AK10+'Product Info'!AN10+'Product Info'!AQ10+'Product Info'!AT10+'Product Info'!AW10+'Product Info'!AZ10+'Product Info'!BC10+'Product Info'!BF10+'Product Info'!BI10+'Product Info'!BL10+'Product Info'!BO10+'Product Info'!BR10+'Product Info'!BU10+'Product Info'!BX10+'Product Info'!CA10+'Product Info'!CD10+'Product Info'!CG10+'Product Info'!CJ10+'Product Info'!CM10+'Product Info'!CP10+'Product Info'!CS10+'Product Info'!CV10+'Product Info'!CY10+'Product Info'!DB10+'Product Info'!DE10+'Product Info'!DH10+'Product Info'!DK10+'Product Info'!DN10+'Product Info'!DQ10+'Product Info'!DT10+'Product Info'!DW10+'Product Info'!DZ10+'Product Info'!EC10+'Product Info'!EF10+'Product Info'!EI10+'Product Info'!EL10+'Product Info'!EO10+'Product Info'!ER10+'Product Info'!EU10+'Product Info'!EX10+'Product Info'!FA10+'Product Info'!FD10)","v":0},{"$f":"AI9*('Product Info'!M10)","v":0},{"$f":"AI9*'Product Info'!P10","v":0},{"$f":"AI9*'Product Info'!S10","v":0},{"$f":"AI9*'Product Info'!V10","v":0},{"$f":"AI9*'Product Info'!Y10","v":0},{"$f":"AI9*'Product Info'!AB10","v":0},{"$f":"AI9*'Product Info'!AE10","v":0},{"$f":"AI9*'Product Info'!AH10","v":0},{"$f":"AI9*'Product Info'!AK10","v":0},{"$f":"AI9*'Product Info'!AN10","v":0},{"$f":"AI9*'Product Info'!AQ10","v":0},{"$f":"AI9*'Product Info'!AT10","v":0},{"$f":"AI9*'Product Info'!AW10","v":0},{"$f":"AI9*'Product Info'!AZ10","v":0},{"$f":"AI9*'Product Info'!BC10","v":0},{"$f":"AI9*'Product Info'!BF10","v":0},{"$f":"AI9*'Product Info'!BI10","v":0},{"$f":"AI9*'Product Info'!BL10","v":0},{"$f":"AI9*'Product Info'!BO10","v":0},{"$f":"AI9*'Product Info'!BR10","v":0},{"$f":"AI9*'Product Info'!BU10","v":0},{"$f":"AI9*'Product Info'!BX10","v":0}]
[{"$f":"'Product Info'!A11","v":0},{"$f":"'Product Info'!B11","v":0},{"$f":"'Product Info'!C11","v":0},null,null,null,null,null,null,null,null,null,null,null,null,null,null,null,null,null,null,null,null,null,null,null,null,null,null,null,null,null,null,null,0,{"$f":"'Product Info'!F11*('Daily Info (March)'!AI10)","v":0},null,null,{"$f":"AI10*('Product Info'!H11)","v":0},{"$f":"AI10*('Product Info'!M11+'Product Info'!P11+'Product Info'!S11+'Product Info'!V11+'Product Info'!Y11+'Product Info'!AB11+'Product Info'!AE11+'Product Info'!AH11+'Product Info'!AK11+'Product Info'!AN11+'Product Info'!AQ11+'Product Info'!AT11+'Product Info'!AW11+'Product Info'!AZ11+'Product Info'!BC11+'Product Info'!BF11+'Product Info'!BI11+'Product Info'!BL11+'Product Info'!BO11+'Product Info'!BR11+'Product Info'!BU11+'Product Info'!BX11+'Product Info'!CA11+'Product Info'!CD11+'Product Info'!CG11+'Product Info'!CJ11+'Product Info'!CM11+'Product Info'!CP11+'Product Info'!CS11+'Product Info'!CV11+'Product Info'!CY11+'Product Info'!DB11+'Product Info'!DE11+'Product Info'!DH11+'Product Info'!DK11+'Product Info'!DN11+'Product Info'!DQ11+'Product Info'!DT11+'Product Info'!DW11+'Product Info'!DZ11+'Product Info'!EC11+'Product Info'!EF11+'Product Info'!EI11+'Product Info'!EL11+'Product Info'!EO11+'Product Info'!ER11+'Product Info'!EU11+'Product Info'!EX11+'Product Info'!FA11+'Product Info'!FD11)","v":0},{"$f":"AI10*('Product Info'!M11)","v":0},{"$f":"AI10*'Product Info'!P11","v":0},{"$f":"AI10*'Product Info'!S11","v":0},{"$f":"AI10*'Product Info'!V11","v":0},{"$f":"AI10*'Product Info'!Y11","v":0},{"$f":"AI10*'Product Info'!AB11","v":0},{"$f":"AI10*'Product Info'!AE11","v":0},{"$f":"AI10*'Product Info'!AH11","v":0},{"$f":"AI10*'Product Info'!AK11","v":0},{"$f":"AI10*'Product Info'!AN11","v":0},{"$f":"AI10*'Product Info'!AQ11","v":0},{"$f":"AI10*'Product Info'!AT11","v":0},{"$f":"AI10*'Product Info'!AW11","v":0},{"$f":"AI10*'Product Info'!AZ11","v":0},{"$f":"AI10*'Product Info'!BC11","v":0},{"$f":"AI10*'Product Info'!BF11","v":0},{"$f":"AI10*'Product Info'!BI11","v":0},{"$f":"AI10*'Product Info'!BL11","v":0},{"$f":"AI10*'Product Info'!BO11","v":0},{"$f":"AI10*'Product Info'!BR11","v":0},{"$f":"AI10*'Product Info'!BU11","v":0},{"$f":"AI10*'Product Info'!BX11","v":0}]
[{"$f":"'Product Info'!A12","v":0},{"$f":"'Product Info'!B12","v":0},{"$f":"'Product Info'!C12","v":0},null,null,null,null,null,null,null,null,null,null,null,null,null,null,null,null,null,null,null,null,null,null,null,null,null,null,null,null,null,null,null,0,{"$f":"'Product Info'!F12*('Daily Info (March)'!AI11)","v":0},null,null,{"$f":"AI11*('Product Info'!H12)","v":0},{"$f":"AI11*('Product Info'!M12+'Product Info'!P12+'Product Info'!S12+'Product Info'!V12+'Product Info'!Y12+'Product Info'!AB12+'Product Info'!AE12+'Product Info'!AH12+'Product Info'!AK12+'Product Info'!AN12+'Product Info'!AQ12+'Product Info'!AT12+'Product Info'!AW12+'Product Info'!AZ12+'Product Info'!BC12+'Product Info'!BF12+'Product Info'!BI12+'Product Info'!BL12+'Product Info'!BO12+'Product Info'!BR12+'Product Info'!BU12+'Product Info'!BX12+'Product Info'!CA12+'Product Info'!CD12+'Product Info'!CG12+'Product Info'!CJ12+'Product Info'!CM12+'Product Info'!CP12+'Product Info'!CS12+'Product Info'!CV12+'Product Info'!CY12+'Product Info'!DB12+'Product Info'!DE12+'Product Info'!DH12+'Product Info'!DK12+'Product Info'!DN12+'Product Info'!DQ12+'Product Info'!DT12+'Product Info'!DW12+'Product Info'!DZ12+'Product Info'!EC12+'Product Info'!EF12+'Product Info'!EI12+'Product Info'!EL12+'Product Info'!EO12+'Product Info'!ER12+'Product Info'!EU12+'Product Info'!EX12+'Product Info'!FA12+'Product Info'!FD12)","v":0},{"$f":"AI11*('Product Info'!M12)","v":0},{"$f":"AI11*'Product Info'!P12","v":0},{"$f":"AI11*'Product Info'!S12","v":0},{"$f":"AI11*'Product Info'!V12","v":0},{"$f":"AI11*'Product Info'!Y12","v":0},{"$f":"AI11*'Product Info'!AB12","v":0},{"$f":"AI11*'Product Info'!AE12","v":0},{"$f":"AI11*'Product Info'!AH12","v":0},{"$f":"AI11*'Product Info'!AK12","v":0},{"$f":"AI11*'Product Info'!AN12","v":0},{"$f":"AI11*'Product Info'!AQ12","v":0},{"$f":"AI11*'Product Info'!AT12","v":0},{"$f":"AI11*'Product Info'!AW12","v":0},{"$f":"AI11*'Product Info'!AZ12","v":0},{"$f":"AI11*'Product Info'!BC12","v":0},{"$f":"AI11*'Product Info'!BF12","v":0},{"$f":"AI11*'Product Info'!BI12","v":0},{"$f":"AI11*'Product Info'!BL12","v":0},{"$f":"AI11*'Product Info'!BO12","v":0},{"$f":"AI11*'Product Info'!BR12","v":0},{"$f":"AI11*'Product Info'!BU12","v":0},{"$f":"AI11*'Product Info'!BX12","v":0}]
[{"$f":"'Product Info'!A13","v":0},{"$f":"'Product Info'!B13","v":0},{"$f":"'Product Info'!C13","v":0},null,null,null,null,null,null,null,null,null,null,null,null,null,null,null,null,null,null,null,null,null,null,null,null,null,null,null,null,null,null,null,0,{"$f":"'Product Info'!F13*('Daily Info (March)'!AI12)","v":0},null,null,{"$f":"AI12*('Product Info'!H13)","v":0},{"$f":"AI12*('Product Info'!M13+'Product Info'!P13+'Product Info'!S13+'Product Info'!V13+'Product Info'!Y13+'Product Info'!AB13+'Product Info'!AE13+'Product Info'!AH13+'Product Info'!AK13+'Product Info'!AN13+'Product Info'!AQ13+'Product Info'!AT13+'Product Info'!AW13+'Product Info'!AZ13+'Product Info'!BC13+'Product Info'!BF13+'Product Info'!BI13+'Product Info'!BL13+'Product Info'!BO13+'Product Info'!BR13+'Product Info'!BU13+'Product Info'!BX13+'Product Info'!CA13+'Product Info'!CD13+'Product Info'!CG13+'Product Info'!CJ13+'Product Info'!CM13+'Product Info'!CP13+'Product Info'!CS13+'Product Info'!CV13+'Product Info'!CY13+'Product Info'!DB13+'Product Info'!DE13+'Product Info'!DH13+'Product Info'!DK13+'Product Info'!DN13+'Product Info'!DQ13+'Product Info'!DT13+'Product Info'!DW13+'Product Info'!DZ13+'Product Info'!EC13+'Product Info'!EF13+'Product Info'!EI13+'Product Info'!EL13+'Product Info'!EO13+'Product Info'!ER13+'Product Info'!EU13+'Product Info'!EX13+'Product Info'!FA13+'Product Info'!FD13)","v":0},{"$f":"AI12*('Product Info'!M13)","v":0},{"$f":"AI12*'Product Info'!P13","v":0},{"$f":"AI12*'Product Info'!S13","v":0},{"$f":"AI12*'Product Info'!V13","v":0},{"$f":"AI12*'Product Info'!Y13","v":0},{"$f":"AI12*'Product Info'!AB13","v":0},{"$f":"AI12*'Product Info'!AE13","v":0},{"$f":"AI12*'Product Info'!AH13","v":0},{"$f":"AI12*'Product Info'!AK13","v":0},{"$f":"AI12*'Product Info'!AN13","v":0},{"$f":"AI12*'Product Info'!AQ13","v":0},{"$f":"AI12*'Product Info'!AT13","v":0},{"$f":"AI12*'Product Info'!AW13","v":0},{"$f":"AI12*'Product Info'!AZ13","v":0},{"$f":"AI12*'Product Info'!BC13","v":0},{"$f":"AI12*'Product Info'!BF13","v":0},{"$f":"AI12*'Product Info'!BI13","v":0},{"$f":"AI12*'Product Info'!BL13","v":0},{"$f":"AI12*'Product Info'!BO13","v":0},{"$f":"AI12*'Product Info'!BR13","v":0},{"$f":"AI12*'Product Info'!BU13","v":0},{"$f":"AI12*'Product Info'!BX13","v":0}]
[{"$f":"'Product Info'!A14","v":0},{"$f":"'Product Info'!B14","v":0},{"$f":"'Product Info'!C14","v":0},null,null,null,null,null,null,null,null,null,null,null,null,null,null,null,null,null,null,null,null,null,null,null,null,null,null,null,null,null,null,null,0,{"$f":"'Product Info'!F14*('Daily Info (March)'!AI13)","v":0},null,null,{"$f":"AI13*('Product Info'!H14)","v":0},{"$f":"AI13*('Product Info'!M14+'Product Info'!P14+'Product Info'!S14+'Product Info'!V14+'Product Info'!Y14+'Product Info'!AB14+'Product Info'!AE14+'Product Info'!AH14+'Product Info'!AK14+'Product Info'!AN14+'Product Info'!AQ14+'Product Info'!AT14+'Product Info'!AW14+'Product Info'!AZ14+'Product Info'!BC14+'Product Info'!BF14+'Product Info'!BI14+'Product Info'!BL14+'Product Info'!BO14+'Product Info'!BR14+'Product Info'!BU14+'Product Info'!BX14+'Product Info'!CA14+'Product Info'!CD14+'Product Info'!CG14+'Product Info'!CJ14+'Product Info'!CM14+'Product Info'!CP14+'Product Info'!CS14+'Product Info'!CV14+'Product Info'!CY14+'Product Info'!DB14+'Product Info'!DE14+'Product Info'!DH14+'Product Info'!DK14+'Product Info'!DN14+'Product Info'!DQ14+'Product Info'!DT14+'Product Info'!DW14+'Product Info'!DZ14+'Product Info'!EC14+'Product Info'!EF14+'Product Info'!EI14+'Product Info'!EL14+'Product Info'!EO14+'Product Info'!ER14+'Product Info'!EU14+'Product Info'!EX14+'Product Info'!FA14+'Product Info'!FD14)","v":0},{"$f":"AI13*('Product Info'!M14)","v":0},{"$f":"AI13*'Product Info'!P14","v":0},{"$f":"AI13*'Product Info'!S14","v":0},{"$f":"AI13*'Product Info'!V14","v":0},{"$f":"AI13*'Product Info'!Y14","v":0},{"$f":"AI13*'Product Info'!AB14","v":0},{"$f":"AI13*'Product Info'!AE14","v":0},{"$f":"AI13*'Product Info'!AH14","v":0},{"$f":"AI13*'Product Info'!AK14","v":0},{"$f":"AI13*'Product Info'!AN14","v":0},{"$f":"AI13*'Product Info'!AQ14","v":0},{"$f":"AI13*'Product Info'!AT14","v":0},{"$f":"AI13*'Product Info'!AW14","v":0},{"$f":"AI13*'Product Info'!AZ14","v":0},{"$f":"AI13*'Product Info'!BC14","v":0},{"$f":"AI13*'Product Info'!BF14","v":0},{"$f":"AI13*'Product Info'!BI14","v":0},{"$f":"AI13*'Product Info'!BL14","v":0},{"$f":"AI13*'Product Info'!BO14","v":0},{"$f":"AI13*'Product Info'!BR14","v":0},{"$f":"AI13*'Product Info'!BU14","v":0},{"$f":"AI13*'Product Info'!BX14","v":0}]
[{"$f":"'Product Info'!A15","v":0},{"$f":"'Product Info'!B15","v":0},{"$f":"'Product Info'!C15","v":0},null,null,null,null,null,null,null,null,null,null,null,null,null,null,null,null,null,null,null,null,null,null,null,null,null,null,null,null,null,null,null,0,{"$f":"'Product Info'!F15*('Daily Info (March)'!AI14)","v":0},null,null,{"$f":"AI14*('Product Info'!H15)","v":0},{"$f":"AI14*('Product Info'!M15+'Product Info'!P15+'Product Info'!S15+'Product Info'!V15+'Product Info'!Y15+'Product Info'!AB15+'Product Info'!AE15+'Product Info'!AH15+'Product Info'!AK15+'Product Info'!AN15+'Product Info'!AQ15+'Product Info'!AT15+'Product Info'!AW15+'Product Info'!AZ15+'Product Info'!BC15+'Product Info'!BF15+'Product Info'!BI15+'Product Info'!BL15+'Product Info'!BO15+'Product Info'!BR15+'Product Info'!BU15+'Product Info'!BX15+'Product Info'!CA15+'Product Info'!CD15+'Product Info'!CG15+'Product Info'!CJ15+'Product Info'!CM15+'Product Info'!CP15+'Product Info'!CS15+'Product Info'!CV15+'Product Info'!CY15+'Product Info'!DB15+'Product Info'!DE15+'Product Info'!DH15+'Product Info'!DK15+'Product Info'!DN15+'Product Info'!DQ15+'Product Info'!DT15+'Product Info'!DW15+'Product Info'!DZ15+'Product Info'!EC15+'Product Info'!EF15+'Product Info'!EI15+'Product Info'!EL15+'Product Info'!EO15+'Product Info'!ER15+'Product Info'!EU15+'Product Info'!EX15+'Product Info'!FA15+'Product Info'!FD15)","v":0},{"$f":"AI14*('Product Info'!M15)","v":0},{"$f":"AI14*'Product Info'!P15","v":0},{"$f":"AI14*'Product Info'!S15","v":0},{"$f":"AI14*'Product Info'!V15","v":0},{"$f":"AI14*'Product Info'!Y15","v":0},{"$f":"AI14*'Product Info'!AB15","v":0},{"$f":"AI14*'Product Info'!AE15","v":0},{"$f":"AI14*'Product Info'!AH15","v":0},{"$f":"AI14*'Product Info'!AK15","v":0},{"$f":"AI14*'Product Info'!AN15","v":0},{"$f":"AI14*'Product Info'!AQ15","v":0},{"$f":"AI14*'Product Info'!AT15","v":0},{"$f":"AI14*'Product Info'!AW15","v":0},{"$f":"AI14*'Product Info'!AZ15","v":0},{"$f":"AI14*'Product Info'!BC15","v":0},{"$f":"AI14*'Product Info'!BF15","v":0},{"$f":"AI14*'Product Info'!BI15","v":0},{"$f":"AI14*'Product Info'!BL15","v":0},{"$f":"AI14*'Product Info'!BO15","v":0},{"$f":"AI14*'Product Info'!BR15","v":0},{"$f":"AI14*'Product Info'!BU15","v":0},{"$f":"AI14*'Product Info'!BX15","v":0}]
[{"$f":"'Product Info'!A16","v":0},{"$f":"'Product Info'!B16","v":0},{"$f":"'Product Info'!C16","v":0},null,null,null,null,null,null,null,null,null,null,null,null,null,null,null,null,null,null,null,null,null,null,null,null,null,null,null,null,null,null,null,0,{"$f":"'Product Info'!F16*('Daily Info (March)'!AI15)","v":0},null,null,{"$f":"AI15*('Product Info'!H16)","v":0},{"$f":"AI15*('Product Info'!M16+'Product Info'!P16+'Product Info'!S16+'Product Info'!V16+'Product Info'!Y16+'Product Info'!AB16+'Product Info'!AE16+'Product Info'!AH16+'Product Info'!AK16+'Product Info'!AN16+'Product Info'!AQ16+'Product Info'!AT16+'Product Info'!AW16+'Product Info'!AZ16+'Product Info'!BC16+'Product Info'!BF16+'Product Info'!BI16+'Product Info'!BL16+'Product Info'!BO16+'Product Info'!BR16+'Product Info'!BU16+'Product Info'!BX16+'Product Info'!CA16+'Product Info'!CD16+'Product Info'!CG16+'Product Info'!CJ16+'Product Info'!CM16+'Product Info'!CP16+'Product Info'!CS16+'Product Info'!CV16+'Product Info'!CY16+'Product Info'!DB16+'Product Info'!DE16+'Product Info'!DH16+'Product Info'!DK16+'Product Info'!DN16+'Product Info'!DQ16+'Product Info'!DT16+'Product Info'!DW16+'Product Info'!DZ16+'Product Info'!EC16+'Product Info'!EF16+'Product Info'!EI16+'Product Info'!EL16+'Product Info'!EO16+'Product Info'!ER16+'Product Info'!EU16+'Product Info'!EX16+'Product Info'!FA16+'Product Info'!FD16)","v":0},{"$f":"AI15*('Product Info'!M16)","v":0},{"$f":"AI15*'Product Info'!P16","v":0},{"$f":"AI15*'Product Info'!S16","v":0},{"$f":"AI15*'Product Info'!V16","v":0},{"$f":"AI15*'Product Info'!Y16","v":0},{"$f":"AI15*'Product Info'!AB16","v":0},{"$f":"AI15*'Product Info'!AE16","v":0},{"$f":"AI15*'Product Info'!AH16","v":0},{"$f":"AI15*'Product Info'!AK16","v":0},{"$f":"AI15*'Product Info'!AN16","v":0},{"$f":"AI15*'Product Info'!AQ16","v":0},{"$f":"AI15*'Product Info'!AT16","v":0},{"$f":"AI15*'Product Info'!AW16","v":0},{"$f":"AI15*'Product Info'!AZ16","v":0},{"$f":"AI15*'Product Info'!BC16","v":0},{"$f":"AI15*'Product Info'!BF16","v":0},{"$f":"AI15*'Product Info'!BI16","v":0},{"$f":"AI15*'Product Info'!BL16","v":0},{"$f":"AI15*'Product Info'!BO16","v":0},{"$f":"AI15*'Product Info'!BR16","v":0},{"$f":"AI15*'Product Info'!BU16","v":0},{"$f":"AI15*'Product Info'!BX16","v":0}]
[{"$f":"'Product Info'!A17","v":0},{"$f":"'Product Info'!B17","v":0},{"$f":"'Product Info'!C17","v":0},null,null,null,null,null,null,null,null,null,null,null,null,null,null,null,null,null,null,null,null,null,null,null,null,null,null,null,null,null,null,null,0,{"$f":"'Product Info'!F17*('Daily Info (March)'!AI16)","v":0},null,null,{"$f":"AI16*('Product Info'!H17)","v":0},{"$f":"AI16*('Product Info'!M17+'Product Info'!P17+'Product Info'!S17+'Product Info'!V17+'Product Info'!Y17+'Product Info'!AB17+'Product Info'!AE17+'Product Info'!AH17+'Product Info'!AK17+'Product Info'!AN17+'Product Info'!AQ17+'Product Info'!AT17+'Product Info'!AW17+'Product Info'!AZ17+'Product Info'!BC17+'Product Info'!BF17+'Product Info'!BI17+'Product Info'!BL17+'Product Info'!BO17+'Product Info'!BR17+'Product Info'!BU17+'Product Info'!BX17+'Product Info'!CA17+'Product Info'!CD17+'Product Info'!CG17+'Product Info'!CJ17+'Product Info'!CM17+'Product Info'!CP17+'Product Info'!CS17+'Product Info'!CV17+'Product Info'!CY17+'Product Info'!DB17+'Product Info'!DE17+'Product Info'!DH17+'Product Info'!DK17+'Product Info'!DN17+'Product Info'!DQ17+'Product Info'!DT17+'Product Info'!DW17+'Product Info'!DZ17+'Product Info'!EC17+'Product Info'!EF17+'Product Info'!EI17+'Product Info'!EL17+'Product Info'!EO17+'Product Info'!ER17+'Product Info'!EU17+'Product Info'!EX17+'Product Info'!FA17+'Product Info'!FD17)","v":0},{"$f":"AI16*('Product Info'!M17)","v":0},{"$f":"AI16*'Product Info'!P17","v":0},{"$f":"AI16*'Product Info'!S17","v":0},{"$f":"AI16*'Product Info'!V17","v":0},{"$f":"AI16*'Product Info'!Y17","v":0},{"$f":"AI16*'Product Info'!AB17","v":0},{"$f":"AI16*'Product Info'!AE17","v":0},{"$f":"AI16*'Product Info'!AH17","v":0},{"$f":"AI16*'Product Info'!AK17","v":0},{"$f":"AI16*'Product Info'!AN17","v":0},{"$f":"AI16*'Product Info'!AQ17","v":0},{"$f":"AI16*'Product Info'!AT17","v":0},{"$f":"AI16*'Product Info'!AW17","v":0},{"$f":"AI16*'Product Info'!AZ17","v":0},{"$f":"AI16*'Product Info'!BC17","v":0},{"$f":"AI16*'Product Info'!BF17","v":0},{"$f":"AI16*'Product Info'!BI17","v":0},{"$f":"AI16*'Product Info'!BL17","v":0},{"$f":"AI16*'Product Info'!BO17","v":0},{"$f":"AI16*'Product Info'!BR17","v":0},{"$f":"AI16*'Product Info'!BU17","v":0},{"$f":"AI16*'Product Info'!BX17","v":0}]
[{"$f":"'Product Info'!A18","v":0},{"$f":"'Product Info'!B18","v":0},{"$f":"'Product Info'!C18","v":0},null,null,null,null,null,null,null,null,null,null,null,null,null,null,null,null,null,null,null,null,null,null,null,null,null,null,null,null,null,null,null,0,{"$f":"'Product Info'!F18*('Daily Info (March)'!AI17)","v":0},null,null,{"$f":"AI17*('Product Info'!H18)","v":0},{"$f":"AI17*('Product Info'!M18+'Product Info'!P18+'Product Info'!S18+'Product Info'!V18+'Product Info'!Y18+'Product Info'!AB18+'Product Info'!AE18+'Product Info'!AH18+'Product Info'!AK18+'Product Info'!AN18+'Product Info'!AQ18+'Product Info'!AT18+'Product Info'!AW18+'Product Info'!AZ18+'Product Info'!BC18+'Product Info'!BF18+'Product Info'!BI18+'Product Info'!BL18+'Product Info'!BO18+'Product Info'!BR18+'Product Info'!BU18+'Product Info'!BX18+'Product Info'!CA18+'Product Info'!CD18+'Product Info'!CG18+'Product Info'!CJ18+'Product Info'!CM18+'Product Info'!CP18+'Product Info'!CS18+'Product Info'!CV18+'Product Info'!CY18+'Product Info'!DB18+'Product Info'!DE18+'Product Info'!DH18+'Product Info'!DK18+'Product Info'!DN18+'Product Info'!DQ18+'Product Info'!DT18+'Product Info'!DW18+'Product Info'!DZ18+'Product Info'!EC18+'Product Info'!EF18+'Product Info'!EI18+'Product Info'!EL18+'Product Info'!EO18+'Product Info'!ER18+'Product Info'!EU18+'Product Info'!EX18+'Product Info'!FA18+'Product Info'!FD18)","v":0},{"$f":"AI17*('Product Info'!M18)","v":0},{"$f":"AI17*'Product Info'!P18","v":0},{"$f":"AI17*'Product Info'!S18","v":0},{"$f":"AI17*'Product Info'!V18","v":0},{"$f":"AI17*'Product Info'!Y18","v":0},{"$f":"AI17*'Product Info'!AB18","v":0},{"$f":"AI17*'Product Info'!AE18","v":0},{"$f":"AI17*'Product Info'!AH18","v":0},{"$f":"AI17*'Product Info'!AK18","v":0},{"$f":"AI17*'Product Info'!AN18","v":0},{"$f":"AI17*'Product Info'!AQ18","v":0},{"$f":"AI17*'Product Info'!AT18","v":0},{"$f":"AI17*'Product Info'!AW18","v":0},{"$f":"AI17*'Product Info'!AZ18","v":0},{"$f":"AI17*'Product Info'!BC18","v":0},{"$f":"AI17*'Product Info'!BF18","v":0},{"$f":"AI17*'Product Info'!BI18","v":0},{"$f":"AI17*'Product Info'!BL18","v":0},{"$f":"AI17*'Product Info'!BO18","v":0},{"$f":"AI17*'Product Info'!BR18","v":0},{"$f":"AI17*'Product Info'!BU18","v":0},{"$f":"AI17*'Product Info'!BX18","v":0}]
[{"$f":"'Product Info'!A19","v":0},{"$f":"'Product Info'!B19","v":0},{"$f":"'Product Info'!C19","v":0},null,null,null,null,null,null,null,null,null,null,null,null,null,null,null,null,null,null,null,null,null,null,null,null,null,null,null,null,null,null,null,0,{"$f":"'Product Info'!F19*('Daily Info (March)'!AI18)","v":0},null,null,{"$f":"AI18*('Product Info'!H19)","v":0},{"$f":"AI18*('Product Info'!M19+'Product Info'!P19+'Product Info'!S19+'Product Info'!V19+'Product Info'!Y19+'Product Info'!AB19+'Product Info'!AE19+'Product Info'!AH19+'Product Info'!AK19+'Product Info'!AN19+'Product Info'!AQ19+'Product Info'!AT19+'Product Info'!AW19+'Product Info'!AZ19+'Product Info'!BC19+'Product Info'!BF19+'Product Info'!BI19+'Product Info'!BL19+'Product Info'!BO19+'Product Info'!BR19+'Product Info'!BU19+'Product Info'!BX19+'Product Info'!CA19+'Product Info'!CD19+'Product Info'!CG19+'Product Info'!CJ19+'Product Info'!CM19+'Product Info'!CP19+'Product Info'!CS19+'Product Info'!CV19+'Product Info'!CY19+'Product Info'!DB19+'Product Info'!DE19+'Product Info'!DH19+'Product Info'!DK19+'Product Info'!DN19+'Product Info'!DQ19+'Product Info'!DT19+'Product Info'!DW19+'Product Info'!DZ19+'Product Info'!EC19+'Product Info'!EF19+'Product Info'!EI19+'Product Info'!EL19+'Product Info'!EO19+'Product Info'!ER19+'Product Info'!EU19+'Product Info'!EX19+'Product Info'!FA19+'Product Info'!FD19)","v":0},{"$f":"AI18*('Product Info'!M19)","v":0},{"$f":"AI18*'Product Info'!P19","v":0},{"$f":"AI18*'Product Info'!S19","v":0},{"$f":"AI18*'Product Info'!V19","v":0},{"$f":"AI18*'Product Info'!Y19","v":0},{"$f":"AI18*'Product Info'!AB19","v":0},{"$f":"AI18*'Product Info'!AE19","v":0},{"$f":"AI18*'Product Info'!AH19","v":0},{"$f":"AI18*'Product Info'!AK19","v":0},{"$f":"AI18*'Product Info'!AN19","v":0},{"$f":"AI18*'Product Info'!AQ19","v":0},{"$f":"AR18*'Product Info'!AF19","v":0},{"$f":"AI18*'Product Info'!AW19","v":0},{"$f":"AI18*'Product Info'!AZ19","v":0},{"$f":"AI18*'Product Info'!BC19","v":0},{"$f":"AI18*'Product Info'!BF19","v":0},{"$f":"AI18*'Product Info'!BI19","v":0},{"$f":"AI18*'Product Info'!BL19","v":0},{"$f":"AI18*'Product Info'!BO19","v":0},{"$f":"AI18*'Product Info'!BR19","v":0},{"$f":"AI18*'Product Info'!BU19","v":0},{"$f":"AI18*'Product Info'!BX19","v":0}]
[{"$f":"'Product Info'!A20","v":0},{"$f":"'Product Info'!B20","v":0},{"$f":"'Product Info'!C20","v":0},null,null,null,null,null,null,null,null,null,null,null,null,null,null,null,null,null,null,null,null,null,null,null,null,null,null,null,null,null,null,null,0,{"$f":"'Product Info'!F20*('Daily Info (March)'!AI19)","v":0},null,null,{"$f":"AI19*('Product Info'!H20)","v":0},{"$f":"AI19*('Product Info'!M20+'Product Info'!P20+'Product Info'!S20+'Product Info'!V20+'Product Info'!Y20+'Product Info'!AB20+'Product Info'!AE20+'Product Info'!AH20+'Product Info'!AK20+'Product Info'!AN20+'Product Info'!AQ20+'Product Info'!AT20+'Product Info'!AW20+'Product Info'!AZ20+'Product Info'!BC20+'Product Info'!BF20+'Product Info'!BI20+'Product Info'!BL20+'Product Info'!BO20+'Product Info'!BR20+'Product Info'!BU20+'Product Info'!BX20+'Product Info'!CA20+'Product Info'!CD20+'Product Info'!CG20+'Product Info'!CJ20+'Product Info'!CM20+'Product Info'!CP20+'Product Info'!CS20+'Product Info'!CV20+'Product Info'!CY20+'Product Info'!DB20+'Product Info'!DE20+'Product Info'!DH20+'Product Info'!DK20+'Product Info'!DN20+'Product Info'!DQ20+'Product Info'!DT20+'Product Info'!DW20+'Product Info'!DZ20+'Product Info'!EC20+'Product Info'!EF20+'Product Info'!EI20+'Product Info'!EL20+'Product Info'!EO20+'Product Info'!ER20+'Product Info'!EU20+'Product Info'!EX20+'Product Info'!FA20+'Product Info'!FD20)","v":0},{"$f":"AI19*('Product Info'!M20)","v":0},{"$f":"AI19*'Product Info'!P20","v":0},{"$f":"AI19*'Product Info'!S20","v":0},{"$f":"AI19*'Product Info'!V20","v":0},{"$f":"AI19*'Product Info'!Y20","v":0},{"$f":"AI19*'Product Info'!AB20","v":0},{"$f":"AI19*'Product Info'!AE20","v":0},{"$f":"AI19*'Product Info'!AH20","v":0},{"$f":"AI19*'Product Info'!AK20","v":0},{"$f":"AI19*'Product Info'!AN20","v":0},{"$f":"AI19*'Product Info'!AQ20","v":0},{"$f":"AR19*'Product Info'!AF20","v":0},{"$f":"AI19*'Product Info'!AW20","v":0},{"$f":"AI19*'Product Info'!AZ20","v":0},{"$f":"AI19*'Product Info'!BC20","v":0},{"$f":"AI19*'Product Info'!BF20","v":0},{"$f":"AI19*'Product Info'!BI20","v":0},{"$f":"AI19*'Product Info'!BL20","v":0},{"$f":"AI19*'Product Info'!BO20","v":0},{"$f":"AI19*'Product Info'!BR20","v":0},{"$f":"AI19*'Product Info'!BU20","v":0},{"$f":"AI19*'Product Info'!BX20","v":0}]
[{"$f":"'Product Info'!A21","v":0},{"$f":"'Product Info'!B21","v":0},{"$f":"'Product Info'!C21","v":0},null,null,null,null,null,null,null,null,null,null,null,null,null,null,null,null,null,null,null,null,null,null,null,null,null,null,null,null,null,null,null,0,{"$f":"'Product Info'!F21*('Daily Info (March)'!AI20)","v":0},null,null,{"$f":"AI20*('Product Info'!H21)","v":0},{"$f":"AI20*('Product Info'!M21+'Product Info'!P21+'Product Info'!S21+'Product Info'!V21+'Product Info'!Y21+'Product Info'!AB21+'Product Info'!AE21+'Product Info'!AH21+'Product Info'!AK21+'Product Info'!AN21+'Product Info'!AQ21+'Product Info'!AT21+'Product Info'!AW21+'Product Info'!AZ21+'Product Info'!BC21+'Product Info'!BF21+'Product Info'!BI21+'Product Info'!BL21+'Product Info'!BO21+'Product Info'!BR21+'Product Info'!BU21+'Product Info'!BX21+'Product Info'!CA21+'Product Info'!CD21+'Product Info'!CG21+'Product Info'!CJ21+'Product Info'!CM21+'Product Info'!CP21+'Product Info'!CS21+'Product Info'!CV21+'Product Info'!CY21+'Product Info'!DB21+'Product Info'!DE21+'Product Info'!DH21+'Product Info'!DK21+'Product Info'!DN21+'Product Info'!DQ21+'Product Info'!DT21+'Product Info'!DW21+'Product Info'!DZ21+'Product Info'!EC21+'Product Info'!EF21+'Product Info'!EI21+'Product Info'!EL21+'Product Info'!EO21+'Product Info'!ER21+'Product Info'!EU21+'Product Info'!EX21+'Product Info'!FA21+'Product Info'!FD21)","v":0},{"$f":"AI20*('Product Info'!M21)","v":0},{"$f":"AI20*'Product Info'!P21","v":0},{"$f":"AI20*'Product Info'!S21","v":0},{"$f":"AI20*'Product Info'!V21","v":0},{"$f":"AI20*'Product Info'!Y21","v":0},{"$f":"AI20*'Product Info'!AB21","v":0},{"$f":"AI20*'Product Info'!AE21","v":0},{"$f":"AI20*'Product Info'!AH21","v":0},{"$f":"AI20*'Product Info'!AK21","v":0},{"$f":"AI20*'Product Info'!AN21","v":0},{"$f":"AI20*'Product Info'!AQ21","v":0},{"$f":"AI20*'Product Info'!AT21","v":0},{"$f":"AI20*'Product Info'!AW21","v":0},{"$f":"AI20*'Product Info'!AZ21","v":0},{"$f":"AI20*'Product Info'!BC21","v":0},{"$f":"AI20*'Product Info'!BF21","v":0},{"$f":"AI20*'Product Info'!BI21","v":0},{"$f":"AI20*'Product Info'!BL21","v":0},{"$f":"AI20*'Product Info'!BO21","v":0},{"$f":"AI20*'Product Info'!BR21","v":0},{"$f":"AI20*'Product Info'!BU21","v":0},{"$f":"AI20*'Product Info'!BX21","v":0}]
[{"$f":"'Product Info'!A22","v":0},{"$f":"'Product Info'!B22","v":0},{"$f":"'Product Info'!C22","v":0},null,null,null,null,null,null,null,null,null,null,null,null,null,null,null,null,null,null,null,null,null,null,null,null,null,null,null,null,null,null,null,0,{"$f":"'Product Info'!F22*('Daily Info (March)'!AI21)","v":0},null,null,{"$f":"AI21*('Product Info'!H22)","v":0},{"$f":"AI21*('Product Info'!M22+'Product Info'!P22+'Product Info'!S22+'Product Info'!V22+'Product Info'!Y22+'Product Info'!AB22+'Product Info'!AE22+'Product Info'!AH22+'Product Info'!AK22+'Product Info'!AN22+'Product Info'!AQ22+'Product Info'!AT22+'Product Info'!AW22+'Product Info'!AZ22+'Product Info'!BC22+'Product Info'!BF22+'Product Info'!BI22+'Product Info'!BL22+'Product Info'!BO22+'Product Info'!BR22+'Product Info'!BU22+'Product Info'!BX22+'Product Info'!CA22+'Product Info'!CD22+'Product Info'!CG22+'Product Info'!CJ22+'Product Info'!CM22+'Product Info'!CP22+'Product Info'!CS22+'Product Info'!CV22+'Product Info'!CY22+'Product Info'!DB22+'Product Info'!DE22+'Product Info'!DH22+'Product Info'!DK22+'Product Info'!DN22+'Product Info'!DQ22+'Product Info'!DT22+'Product Info'!DW22+'Product Info'!DZ22+'Product Info'!EC22+'Product Info'!EF22+'Product Info'!EI22+'Product Info'!EL22+'Product Info'!EO22+'Product Info'!ER22+'Product Info'!EU22+'Product Info'!EX22+'Product Info'!FA22+'Product Info'!FD22)","v":0},{"$f":"AI21*('Product Info'!M22)","v":0},{"$f":"AI21*'Product Info'!P22","v":0},{"$f":"AI21*'Product Info'!S22","v":0},{"$f":"AI21*'Product Info'!V22","v":0},{"$f":"AI21*'Product Info'!Y22","v":0},{"$f":"AI21*'Product Info'!AB22","v":0},{"$f":"AI21*'Product Info'!AE22","v":0},{"$f":"AI21*'Product Info'!AH22","v":0},{"$f":"AI21*'Product Info'!AK22","v":0},{"$f":"AI21*'Product Info'!AN22","v":0},{"$f":"AI21*'Product Info'!AQ22","v":0},{"$f":"AI21*'Product Info'!AT22","v":0},{"$f":"AI21*'Product Info'!AW22","v":0},{"$f":"AI21*'Product Info'!AZ22","v":0},{"$f":"AI21*'Product Info'!BC22","v":0},{"$f":"AI21*'Product Info'!BF22","v":0},{"$f":"AI21*'Product Info'!BI22","v":0},{"$f":"AI21*'Product Info'!BL22","v":0},{"$f":"AI21*'Product Info'!BO22","v":0},{"$f":"AI21*'Product Info'!BR22","v":0},{"$f":"AI21*'Product Info'!BU22","v":0},{"$f":"AI21*'Product Info'!BX22","v":0}]
[{"$f":"'Product Info'!A23","v":0},{"$f":"'Product Info'!B23","v":0},{"$f":"'Product Info'!C23","v":0},null,null,null,null,null,null,null,null,null,null,null,null,null,null,null,null,null,null,null,null,null,null,null,null,null,null,null,null,null,null,null,0,{"$f":"'Product Info'!F23*('Daily Info (March)'!AI22)","v":0},null,null,{"$f":"AI22*('Product Info'!H23)","v":0},{"$f":"AI22*('Product Info'!M23+'Product Info'!P23+'Product Info'!S23+'Product Info'!V23+'Product Info'!Y23+'Product Info'!AB23+'Product Info'!AE23+'Product Info'!AH23+'Product Info'!AK23+'Product Info'!AN23+'Product Info'!AQ23+'Product Info'!AT23+'Product Info'!AW23+'Product Info'!AZ23+'Product Info'!BC23+'Product Info'!BF23+'Product Info'!BI23+'Product Info'!BL23+'Product Info'!BO23+'Product Info'!BR23+'Product Info'!BU23+'Product Info'!BX23+'Product Info'!CA23+'Product Info'!CD23+'Product Info'!CG23+'Product Info'!CJ23+'Product Info'!CM23+'Product Info'!CP23+'Product Info'!CS23+'Product Info'!CV23+'Product Info'!CY23+'Product Info'!DB23+'Product Info'!DE23+'Product Info'!DH23+'Product Info'!DK23+'Product Info'!DN23+'Product Info'!DQ23+'Product Info'!DT23+'Product Info'!DW23+'Product Info'!DZ23+'Product Info'!EC23+'Product Info'!EF23+'Product Info'!EI23+'Product Info'!EL23+'Product Info'!EO23+'Product Info'!ER23+'Product Info'!EU23+'Product Info'!EX23+'Product Info'!FA23+'Product Info'!FD23)","v":0},{"$f":"AI22*('Product Info'!M23)","v":0},{"$f":"AI22*'Product Info'!P23","v":0},{"$f":"AI22*'Product Info'!S23","v":0},{"$f":"AI22*'Product Info'!V23","v":0},{"$f":"AI22*'Product Info'!Y23","v":0},{"$f":"AI22*'Product Info'!AB23","v":0},{"$f":"AI22*'Product Info'!AE23","v":0},{"$f":"AI22*'Product Info'!AH23","v":0},{"$f":"AI22*'Product Info'!AK23","v":0},{"$f":"AI22*'Product Info'!AN23","v":0},{"$f":"AI22*'Product Info'!AQ23","v":0},{"$f":"AI22*'Product Info'!AT23","v":0},{"$f":"AI22*'Product Info'!AW23","v":0},{"$f":"AI22*'Product Info'!AZ23","v":0},{"$f":"AI22*'Product Info'!BC23","v":0},{"$f":"AI22*'Product Info'!BF23","v":0},{"$f":"AI22*'Product Info'!BI23","v":0},{"$f":"AI22*'Product Info'!BL23","v":0},{"$f":"AI22*'Product Info'!BO23","v":0},{"$f":"AI22*'Product Info'!BR23","v":0},{"$f":"AI22*'Product Info'!BU23","v":0},{"$f":"AI22*'Product Info'!BX23","v":0}]
[{"$f":"'Product Info'!A24","v":0},{"$f":"'Product Info'!B24","v":0},{"$f":"'Product Info'!C24","v":0},null,null,null,null,null,null,null,null,null,null,null,null,null,null,null,null,null,null,null,null,null,null,null,null,null,null,null,null,null,null,null,0,{"$f":"'Product Info'!F24*('Daily Info (March)'!AI23)","v":0},null,null,{"$f":"AI23*('Product Info'!H24)","v":0},{"$f":"AI23*('Product Info'!M24+'Product Info'!P24+'Product Info'!S24+'Product Info'!V24+'Product Info'!Y24+'Product Info'!AB24+'Product Info'!AE24+'Product Info'!AH24+'Product Info'!AK24+'Product Info'!AN24+'Product Info'!AQ24+'Product Info'!AT24+'Product Info'!AW24+'Product Info'!AZ24+'Product Info'!BC24+'Product Info'!BF24+'Product Info'!BI24+'Product Info'!BL24+'Product Info'!BO24+'Product Info'!BR24+'Product Info'!BU24+'Product Info'!BX24+'Product Info'!CA24+'Product Info'!CD24+'Product Info'!CG24+'Product Info'!CJ24+'Product Info'!CM24+'Product Info'!CP24+'Product Info'!CS24+'Product Info'!CV24+'Product Info'!CY24+'Product Info'!DB24+'Product Info'!DE24+'Product Info'!DH24+'Product Info'!DK24+'Product Info'!DN24+'Product Info'!DQ24+'Product Info'!DT24+'Product Info'!DW24+'Product Info'!DZ24+'Product Info'!EC24+'Product Info'!EF24+'Product Info'!EI24+'Product Info'!EL24+'Product Info'!EO24+'Product Info'!ER24+'Product Info'!EU24+'Product Info'!EX24+'Product Info'!FA24+'Product Info'!FD24)","v":0},{"$f":"AI23*('Product Info'!M24)","v":0},{"$f":"AI23*'Product Info'!P24","v":0},{"$f":"AI23*'Product Info'!S24","v":0},{"$f":"AI23*'Product Info'!V24","v":0},{"$f":"AI23*'Product Info'!Y24","v":0},{"$f":"AI23*'Product Info'!AB24","v":0},{"$f":"AI23*'Product Info'!AE24","v":0},{"$f":"AI23*'Product Info'!AH24","v":0},{"$f":"AI23*'Product Info'!AK24","v":0},{"$f":"AI23*'Product Info'!AN24","v":0},{"$f":"AI23*'Product Info'!AQ24","v":0},{"$f":"AI23*'Product Info'!AT24","v":0},{"$f":"AI23*'Product Info'!AW24","v":0},{"$f":"AI23*'Product Info'!AZ24","v":0},{"$f":"AI23*'Product Info'!BC24","v":0},{"$f":"AI23*'Product Info'!BF24","v":0},{"$f":"AI23*'Product Info'!BI24","v":0},{"$f":"AI23*'Product Info'!BL24","v":0},{"$f":"AI23*'Product Info'!BO24","v":0},{"$f":"AI23*'Product Info'!BR24","v":0},{"$f":"AI23*'Product Info'!BU24","v":0},{"$f":"AI23*'Product Info'!BX24","v":0}]
[{"$f":"'Product Info'!A25","v":0},{"$f":"'Product Info'!B25","v":0},{"$f":"'Product Info'!C25","v":0},null,null,null,null,null,null,null,null,null,null,null,null,null,null,null,null,null,null,null,null,null,null,null,null,null,null,null,null,null,null,null,0,{"$f":"'Product Info'!F25*('Daily Info (March)'!AI24)","v":0},null,null,{"$f":"AI24*('Product Info'!H25)","v":0},{"$f":"AI24*('Product Info'!M25+'Product Info'!P25+'Product Info'!S25+'Product Info'!V25+'Product Info'!Y25+'Product Info'!AB25+'Product Info'!AE25+'Product Info'!AH25+'Product Info'!AK25+'Product Info'!AN25+'Product Info'!AQ25+'Product Info'!AT25+'Product Info'!AW25+'Product Info'!AZ25+'Product Info'!BC25+'Product Info'!BF25+'Product Info'!BI25+'Product Info'!BL25+'Product Info'!BO25+'Product Info'!BR25+'Product Info'!BU25+'Product Info'!BX25+'Product Info'!CA25+'Product Info'!CD25+'Product Info'!CG25+'Product Info'!CJ25+'Product Info'!CM25+'Product Info'!CP25+'Product Info'!CS25+'Product Info'!CV25+'Product Info'!CY25+'Product Info'!DB25+'Product Info'!DE25+'Product Info'!DH25+'Product Info'!DK25+'Product Info'!DN25+'Product Info'!DQ25+'Product Info'!DT25+'Product Info'!DW25+'Product Info'!DZ25+'Product Info'!EC25+'Product Info'!EF25+'Product Info'!EI25+'Product Info'!EL25+'Product Info'!EO25+'Product Info'!ER25+'Product Info'!EU25+'Product Info'!EX25+'Product Info'!FA25+'Product Info'!FD25)","v":0},{"$f":"AI24*('Product Info'!M25)","v":0},{"$f":"AI24*'Product Info'!P25","v":0},{"$f":"AI24*'Product Info'!S25","v":0},{"$f":"AI24*'Product Info'!V25","v":0},{"$f":"AI24*'Product Info'!Y25","v":0},{"$f":"AI24*'Product Info'!AB25","v":0},{"$f":"AI24*'Product Info'!AE25","v":0},{"$f":"AI24*'Product Info'!AH25","v":0},{"$f":"AI24*'Product Info'!AK25","v":0},{"$f":"AI24*'Product Info'!AN25","v":0},{"$f":"AI24*'Product Info'!AQ25","v":0},{"$f":"AI24*'Product Info'!AT25","v":0},{"$f":"AI24*'Product Info'!AW25","v":0},{"$f":"AI24*'Product Info'!AZ25","v":0},{"$f":"AI24*'Product Info'!BC25","v":0},{"$f":"AI24*'Product Info'!BF25","v":0},{"$f":"AI24*'Product Info'!BI25","v":0},{"$f":"AI24*'Product Info'!BL25","v":0},{"$f":"AI24*'Product Info'!BO25","v":0},{"$f":"AI24*'Product Info'!BR25","v":0},{"$f":"AI24*'Product Info'!BU25","v":0},{"$f":"AI24*'Product Info'!BX25","v":0}]
[{"$f":"'Product Info'!A26","v":0},{"$f":"'Product Info'!B26","v":0},{"$f":"'Product Info'!C26","v":0},null,null,null,null,null,null,null,null,null,null,null,null,null,null,null,null,null,null,null,null,null,null,null,null,null,null,null,null,null,null,null,0,{"$f":"'Product Info'!F26*('Daily Info (March)'!AI25)","v":0},null,null,{"$f":"AI25*('Product Info'!H26)","v":0},{"$f":"AI25*('Product Info'!M26+'Product Info'!P26+'Product Info'!S26+'Product Info'!V26+'Product Info'!Y26+'Product Info'!AB26+'Product Info'!AE26+'Product Info'!AH26+'Product Info'!AK26+'Product Info'!AN26+'Product Info'!AQ26+'Product Info'!AT26+'Product Info'!AW26+'Product Info'!AZ26+'Product Info'!BC26+'Product Info'!BF26+'Product Info'!BI26+'Product Info'!BL26+'Product Info'!BO26+'Product Info'!BR26+'Product Info'!BU26+'Product Info'!BX26+'Product Info'!CA26+'Product Info'!CD26+'Product Info'!CG26+'Product Info'!CJ26+'Product Info'!CM26+'Product Info'!CP26+'Product Info'!CS26+'Product Info'!CV26+'Product Info'!CY26+'Product Info'!DB26+'Product Info'!DE26+'Product Info'!DH26+'Product Info'!DK26+'Product Info'!DN26+'Product Info'!DQ26+'Product Info'!DT26+'Product Info'!DW26+'Product Info'!DZ26+'Product Info'!EC26+'Product Info'!EF26+'Product Info'!EI26+'Product Info'!EL26+'Product Info'!EO26+'Product Info'!ER26+'Product Info'!EU26+'Product Info'!EX26+'Product Info'!FA26+'Product Info'!FD26)","v":0},{"$f":"AI25*('Product Info'!M26)","v":0},{"$f":"AI25*'Product Info'!P26","v":0},{"$f":"AI25*'Product Info'!S26","v":0},{"$f":"AI25*'Product Info'!V26","v":0},{"$f":"AI25*'Product Info'!Y26","v":0},{"$f":"AI25*'Product Info'!AB26","v":0},{"$f":"AI25*'Product Info'!AE26","v":0},{"$f":"AI25*'Product Info'!AH26","v":0},{"$f":"AI25*'Product Info'!AK26","v":0},{"$f":"AI25*'Product Info'!AN26","v":0},{"$f":"AI25*'Product Info'!AQ26","v":0},{"$f":"AI25*'Product Info'!AT26","v":0},{"$f":"AI25*'Product Info'!AW26","v":0},{"$f":"AI25*'Product Info'!AZ26","v":0},{"$f":"AI25*'Product Info'!BC26","v":0},{"$f":"AI25*'Product Info'!BF26","v":0},{"$f":"AI25*'Product Info'!BI26","v":0},{"$f":"AI25*'Product Info'!BL26","v":0},{"$f":"AI25*'Product Info'!BO26","v":0},{"$f":"AI25*'Product Info'!BR26","v":0},{"$f":"AI25*'Product Info'!BU26","v":0},{"$f":"AI25*'Product Info'!BX26","v":0}]
[{"$f":"'Product Info'!A27","v":0},{"$f":"'Product Info'!B27","v":0},{"$f":"'Product Info'!C27","v":0},null,null,null,null,null,null,null,null,null,null,null,null,null,null,null,null,null,null,null,null,null,null,null,null,null,null,null,null,null,null,null,0,{"$f":"'Product Info'!F27*('Daily Info (March)'!AI26)","v":0},null,null,{"$f":"AI26*('Product Info'!H27)","v":0},{"$f":"AI26*('Product Info'!M27+'Product Info'!P27+'Product Info'!S27+'Product Info'!V27+'Product Info'!Y27+'Product Info'!AB27+'Product Info'!AE27+'Product Info'!AH27+'Product Info'!AK27+'Product Info'!AN27+'Product Info'!AQ27+'Product Info'!AT27+'Product Info'!AW27+'Product Info'!AZ27+'Product Info'!BC27+'Product Info'!BF27+'Product Info'!BI27+'Product Info'!BL27+'Product Info'!BO27+'Product Info'!BR27+'Product Info'!BU27+'Product Info'!BX27+'Product Info'!CA27+'Product Info'!CD27+'Product Info'!CG27+'Product Info'!CJ27+'Product Info'!CM27+'Product Info'!CP27+'Product Info'!CS27+'Product Info'!CV27+'Product Info'!CY27+'Product Info'!DB27+'Product Info'!DE27+'Product Info'!DH27+'Product Info'!DK27+'Product Info'!DN27+'Product Info'!DQ27+'Product Info'!DT27+'Product Info'!DW27+'Product Info'!DZ27+'Product Info'!EC27+'Product Info'!EF27+'Product Info'!EI27+'Product Info'!EL27+'Product Info'!EO27+'Product Info'!ER27+'Product Info'!EU27+'Product Info'!EX27+'Product Info'!FA27+'Product Info'!FD27)","v":0},{"$f":"AI26*('Product Info'!M27)","v":0},{"$f":"AI26*'Product Info'!P27","v":0},{"$f":"AI26*'Product Info'!S27","v":0},{"$f":"AI26*'Product Info'!V27","v":0},{"$f":"AI26*'Product Info'!Y27","v":0},{"$f":"AI26*'Product Info'!AB27","v":0},{"$f":"AI26*'Product Info'!AE27","v":0},{"$f":"AI26*'Product Info'!AH27","v":0},{"$f":"AI26*'Product Info'!AK27","v":0},{"$f":"AI26*'Product Info'!AN27","v":0},{"$f":"AI26*'Product Info'!AQ27","v":0},{"$f":"AI26*'Product Info'!AT27","v":0},{"$f":"AI26*'Product Info'!AW27","v":0},{"$f":"AI26*'Product Info'!AZ27","v":0},{"$f":"AI26*'Product Info'!BC27","v":0},{"$f":"AI26*'Product Info'!BF27","v":0},{"$f":"AI26*'Product Info'!BI27","v":0},{"$f":"AI26*'Product Info'!BL27","v":0},{"$f":"AI26*'Product Info'!BO27","v":0},{"$f":"AI26*'Product Info'!BR27","v":0},{"$f":"AI26*'Product Info'!BU27","v":0},{"$f":"AI26*'Product Info'!BX27","v":0}]
[{"$f":"'Product Info'!A28","v":0},{"$f":"'Product Info'!B28","v":0},{"$f":"'Product Info'!C28","v":0},null,null,null,null,null,null,null,null,null,null,null,null,null,null,null,null,null,null,null,null,null,null,null,null,null,null,null,null,null,null,null,0,{"$f":"'Product Info'!F28*('Daily Info (March)'!AI27)","v":0},null,null,{"$f":"AI27*('Product Info'!H28)","v":0},{"$f":"AI27*('Product Info'!M28+'Product Info'!P28+'Product Info'!S28+'Product Info'!V28+'Product Info'!Y28+'Product Info'!AB28+'Product Info'!AE28+'Product Info'!AH28+'Product Info'!AK28+'Product Info'!AN28+'Product Info'!AQ28+'Product Info'!AT28+'Product Info'!AW28+'Product Info'!AZ28+'Product Info'!BC28+'Product Info'!BF28+'Product Info'!BI28+'Product Info'!BL28+'Product Info'!BO28+'Product Info'!BR28+'Product Info'!BU28+'Product Info'!BX28+'Product Info'!CA28+'Product Info'!CD28+'Product Info'!CG28+'Product Info'!CJ28+'Product Info'!CM28+'Product Info'!CP28+'Product Info'!CS28+'Product Info'!CV28+'Product Info'!CY28+'Product Info'!DB28+'Product Info'!DE28+'Product Info'!DH28+'Product Info'!DK28+'Product Info'!DN28+'Product Info'!DQ28+'Product Info'!DT28+'Product Info'!DW28+'Product Info'!DZ28+'Product Info'!EC28+'Product Info'!EF28+'Product Info'!EI28+'Product Info'!EL28+'Product Info'!EO28+'Product Info'!ER28+'Product Info'!EU28+'Product Info'!EX28+'Product Info'!FA28+'Product Info'!FD28)","v":0},{"$f":"AI27*('Product Info'!M28)","v":0},{"$f":"AI27*'Product Info'!P28","v":0},{"$f":"AI27*'Product Info'!S28","v":0},{"$f":"AI27*'Product Info'!V28","v":0},{"$f":"AI27*'Product Info'!Y28","v":0},{"$f":"AI27*'Product Info'!AB28","v":0},{"$f":"AI27*'Product Info'!AE28","v":0},{"$f":"AI27*'Product Info'!AH28","v":0},{"$f":"AI27*'Product Info'!AK28","v":0},{"$f":"AI27*'Product Info'!AN28","v":0},{"$f":"AI27*'Product Info'!AQ28","v":0},{"$f":"AI27*'Product Info'!AT28","v":0},{"$f":"AI27*'Product Info'!AW28","v":0},{"$f":"AI27*'Product Info'!AZ28","v":0},{"$f":"AI27*'Product Info'!BC28","v":0},{"$f":"AI27*'Product Info'!BF28","v":0},{"$f":"AI27*'Product Info'!BI28","v":0},{"$f":"AI27*'Product Info'!BL28","v":0},{"$f":"AI27*'Product Info'!BO28","v":0},{"$f":"AI27*'Product Info'!BR28","v":0},{"$f":"AI27*'Product Info'!BU28","v":0},{"$f":"AI27*'Product Info'!BX28","v":0}]
[{"$f":"'Product Info'!A29","v":0},{"$f":"'Product Info'!B29","v":0},{"$f":"'Product Info'!C29","v":0},null,null,null,null,null,null,null,null,null,null,null,null,null,null,null,null,null,null,null,null,null,null,null,null,null,null,null,null,null,null,null,0,{"$f":"'Product Info'!F29*('Daily Info (March)'!AI28)","v":0},null,null,{"$f":"AI28*('Product Info'!H29)","v":0},{"$f":"AI28*('Product Info'!M29+'Product Info'!P29+'Product Info'!S29+'Product Info'!V29+'Product Info'!Y29+'Product Info'!AB29+'Product Info'!AE29+'Product Info'!AH29+'Product Info'!AK29+'Product Info'!AN29+'Product Info'!AQ29+'Product Info'!AT29+'Product Info'!AW29+'Product Info'!AZ29+'Product Info'!BC29+'Product Info'!BF29+'Product Info'!BI29+'Product Info'!BL29+'Product Info'!BO29+'Product Info'!BR29+'Product Info'!BU29+'Product Info'!BX29+'Product Info'!CA29+'Product Info'!CD29+'Product Info'!CG29+'Product Info'!CJ29+'Product Info'!CM29+'Product Info'!CP29+'Product Info'!CS29+'Product Info'!CV29+'Product Info'!CY29+'Product Info'!DB29+'Product Info'!DE29+'Product Info'!DH29+'Product Info'!DK29+'Product Info'!DN29+'Product Info'!DQ29+'Product Info'!DT29+'Product Info'!DW29+'Product Info'!DZ29+'Product Info'!EC29+'Product Info'!EF29+'Product Info'!EI29+'Product Info'!EL29+'Product Info'!EO29+'Product Info'!ER29+'Product Info'!EU29+'Product Info'!EX29+'Product Info'!FA29+'Product Info'!FD29)","v":0},{"$f":"AI28*('Product Info'!M29)","v":0},{"$f":"AI28*'Product Info'!P29","v":0},{"$f":"AI28*'Product Info'!S29","v":0},{"$f":"AI28*'Product Info'!V29","v":0},{"$f":"AI28*'Product Info'!Y29","v":0},{"$f":"AI28*'Product Info'!AB29","v":0},{"$f":"AI28*'Product Info'!AE29","v":0},{"$f":"AI28*'Product Info'!AH29","v":0},{"$f":"AI28*'Product Info'!AK29","v":0},{"$f":"AI28*'Product Info'!AN29","v":0},{"$f":"AI28*'Product Info'!AQ29","v":0},{"$f":"AI28*'Product Info'!AT29","v":0},{"$f":"AI28*'Product Info'!AW29","v":0},{"$f":"AI28*'Product Info'!AZ29","v":0},{"$f":"AI28*'Product Info'!BC29","v":0},{"$f":"AI28*'Product Info'!BF29","v":0},{"$f":"AI28*'Product Info'!BI29","v":0},{"$f":"AI28*'Product Info'!BL29","v":0},{"$f":"AI28*'Product Info'!BO29","v":0},{"$f":"AI28*'Product Info'!BR29","v":0},{"$f":"AI28*'Product Info'!BU29","v":0},{"$f":"AI28*'Product Info'!BX29","v":0}]
[{"$f":"'Product Info'!A30","v":0},{"$f":"'Product Info'!B30","v":0},{"$f":"'Product Info'!C30","v":0},null,null,null,null,null,null,null,null,null,null,null,null,null,null,null,null,null,null,null,null,null,null,null,null,null,null,null,null,null,null,null,0,{"$f":"'Product Info'!F30*('Daily Info (March)'!AI29)","v":0},null,null,{"$f":"AI29*('Product Info'!H30)","v":0},{"$f":"AI29*('Product Info'!M30+'Product Info'!P30+'Product Info'!S30+'Product Info'!V30+'Product Info'!Y30+'Product Info'!AB30+'Product Info'!AE30+'Product Info'!AH30+'Product Info'!AK30+'Product Info'!AN30+'Product Info'!AQ30+'Product Info'!AT30+'Product Info'!AW30+'Product Info'!AZ30+'Product Info'!BC30+'Product Info'!BF30+'Product Info'!BI30+'Product Info'!BL30+'Product Info'!BO30+'Product Info'!BR30+'Product Info'!BU30+'Product Info'!BX30+'Product Info'!CA30+'Product Info'!CD30+'Product Info'!CG30+'Product Info'!CJ30+'Product Info'!CM30+'Product Info'!CP30+'Product Info'!CS30+'Product Info'!CV30+'Product Info'!CY30+'Product Info'!DB30+'Product Info'!DE30+'Product Info'!DH30+'Product Info'!DK30+'Product Info'!DN30+'Product Info'!DQ30+'Product Info'!DT30+'Product Info'!DW30+'Product Info'!DZ30+'Product Info'!EC30+'Product Info'!EF30+'Product Info'!EI30+'Product Info'!EL30+'Product Info'!EO30+'Product Info'!ER30+'Product Info'!EU30+'Product Info'!EX30+'Product Info'!FA30+'Product Info'!FD30)","v":0},{"$f":"AI29*('Product Info'!M30)","v":0},{"$f":"AI29*'Product Info'!P30","v":0},{"$f":"AI29*'Product Info'!S30","v":0},{"$f":"AI29*'Product Info'!V30","v":0},{"$f":"AI29*'Product Info'!Y30","v":0},{"$f":"AI29*'Product Info'!AB30","v":0},{"$f":"AI29*'Product Info'!AE30","v":0},{"$f":"AI29*'Product Info'!AH30","v":0},{"$f":"AI29*'Product Info'!AK30","v":0},{"$f":"AI29*'Product Info'!AN30","v":0},{"$f":"AI29*'Product Info'!AQ30","v":0},{"$f":"AI29*'Product Info'!AT30","v":0},{"$f":"AI29*'Product Info'!AW30","v":0},{"$f":"AI29*'Product Info'!AZ30","v":0},{"$f":"AI29*'Product Info'!BC30","v":0},{"$f":"AI29*'Product Info'!BF30","v":0},{"$f":"AI29*'Product Info'!BI30","v":0},{"$f":"AI29*'Product Info'!BL30","v":0},{"$f":"AI29*'Product Info'!BO30","v":0},{"$f":"AI29*'Product Info'!BR30","v":0},{"$f":"AI29*'Product Info'!BU30","v":0},{"$f":"AI29*'Product Info'!BX30","v":0}]
[{"$f":"'Product Info'!A31","v":0},{"$f":"'Product Info'!B31","v":0},{"$f":"'Product Info'!C31","v":0},null,null,null,null,null,null,null,null,null,null,null,null,null,null,null,null,null,null,null,null,null,null,null,null,null,null,null,null,null,null,null,0,{"$f":"'Product Info'!F31*('Daily Info (March)'!AI30)","v":0},null,null,{"$f":"AI30*('Product Info'!H31)","v":0},{"$f":"AI30*('Product Info'!M31+'Product Info'!P31+'Product Info'!S31+'Product Info'!V31+'Product Info'!Y31+'Product Info'!AB31+'Product Info'!AE31+'Product Info'!AH31+'Product Info'!AK31+'Product Info'!AN31+'Product Info'!AQ31+'Product Info'!AT31+'Product Info'!AW31+'Product Info'!AZ31+'Product Info'!BC31+'Product Info'!BF31+'Product Info'!BI31+'Product Info'!BL31+'Product Info'!BO31+'Product Info'!BR31+'Product Info'!BU31+'Product Info'!BX31+'Product Info'!CA31+'Product Info'!CD31+'Product Info'!CG31+'Product Info'!CJ31+'Product Info'!CM31+'Product Info'!CP31+'Product Info'!CS31+'Product Info'!CV31+'Product Info'!CY31+'Product Info'!DB31+'Product Info'!DE31+'Product Info'!DH31+'Product Info'!DK31+'Product Info'!DN31+'Product Info'!DQ31+'Product Info'!DT31+'Product Info'!DW31+'Product Info'!DZ31+'Product Info'!EC31+'Product Info'!EF31+'Product Info'!EI31+'Product Info'!EL31+'Product Info'!EO31+'Product Info'!ER31+'Product Info'!EU31+'Product Info'!EX31+'Product Info'!FA31+'Product Info'!FD31)","v":0},{"$f":"AI30*('Product Info'!M31)","v":0},{"$f":"AI30*'Product Info'!P31","v":0},{"$f":"AI30*'Product Info'!S31","v":0},{"$f":"AI30*'Product Info'!V31","v":0},{"$f":"AI30*'Product Info'!Y31","v":0},{"$f":"AI30*'Product Info'!AB31","v":0},{"$f":"AI30*'Product Info'!AE31","v":0},{"$f":"AI30*'Product Info'!AH31","v":0},{"$f":"AI30*'Product Info'!AK31","v":0},{"$f":"AI30*'Product Info'!AN31","v":0},{"$f":"AI30*'Product Info'!AQ31","v":0},{"$f":"AI30*'Product Info'!AT31","v":0},{"$f":"AI30*'Product Info'!AW31","v":0},{"$f":"AI30*'Product Info'!AZ31","v":0},{"$f":"AI30*'Product Info'!BC31","v":0},{"$f":"AI30*'Product Info'!BF31","v":0},{"$f":"AI30*'Product Info'!BI31","v":0},{"$f":"AI30*'Product Info'!BL31","v":0},{"$f":"AI30*'Product Info'!BO31","v":0},{"$f":"AI30*'Product Info'!BR31","v":0},{"$f":"AI30*'Product Info'!BU31","v":0},{"$f":"AI30*'Product Info'!BX31","v":0}]
[{"$f":"'Product Info'!A32","v":0},{"$f":"'Product Info'!B32","v":0},{"$f":"'Product Info'!C32","v":0},null,null,null,null,null,null,null,null,null,null,null,null,null,null,null,null,null,null,null,null,null,null,null,null,null,null,null,null,null,null,null,0,{"$f":"'Product Info'!F32*('Daily Info (March)'!AI31)","v":0},null,null,{"$f":"AI31*('Product Info'!H32)","v":0},{"$f":"AI31*('Product Info'!M32+'Product Info'!P32+'Product Info'!S32+'Product Info'!V32+'Product Info'!Y32+'Product Info'!AB32+'Product Info'!AE32+'Product Info'!AH32+'Product Info'!AK32+'Product Info'!AN32+'Product Info'!AQ32+'Product Info'!AT32+'Product Info'!AW32+'Product Info'!AZ32+'Product Info'!BC32+'Product Info'!BF32+'Product Info'!BI32+'Product Info'!BL32+'Product Info'!BO32+'Product Info'!BR32+'Product Info'!BU32+'Product Info'!BX32+'Product Info'!CA32+'Product Info'!CD32+'Product Info'!CG32+'Product Info'!CJ32+'Product Info'!CM32+'Product Info'!CP32+'Product Info'!CS32+'Product Info'!CV32+'Product Info'!CY32+'Product Info'!DB32+'Product Info'!DE32+'Product Info'!DH32+'Product Info'!DK32+'Product Info'!DN32+'Product Info'!DQ32+'Product Info'!DT32+'Product Info'!DW32+'Product Info'!DZ32+'Product Info'!EC32+'Product Info'!EF32+'Product Info'!EI32+'Product Info'!EL32+'Product Info'!EO32+'Product Info'!ER32+'Product Info'!EU32+'Product Info'!EX32+'Product Info'!FA32+'Product Info'!FD32)","v":0},{"$f":"AI31*('Product Info'!M32)","v":0},{"$f":"AI31*'Product Info'!P32","v":0},{"$f":"AI31*'Product Info'!S32","v":0},{"$f":"AI31*'Product Info'!V32","v":0},{"$f":"AI31*'Product Info'!Y32","v":0},{"$f":"AI31*'Product Info'!AB32","v":0},{"$f":"AI31*'Product Info'!AE32","v":0},{"$f":"AI31*'Product Info'!AH32","v":0},{"$f":"AI31*'Product Info'!AK32","v":0},{"$f":"AI31*'Product Info'!AN32","v":0},{"$f":"AI31*'Product Info'!AQ32","v":0},{"$f":"AI31*'Product Info'!AT32","v":0},{"$f":"AI31*'Product Info'!AW32","v":0},{"$f":"AI31*'Product Info'!AZ32","v":0},{"$f":"AI31*'Product Info'!BC32","v":0},{"$f":"AI31*'Product Info'!BF32","v":0},{"$f":"AI31*'Product Info'!BI32","v":0},{"$f":"AI31*'Product Info'!BL32","v":0},{"$f":"AI31*'Product Info'!BO32","v":0},{"$f":"AI31*'Product Info'!BR32","v":0},{"$f":"AI31*'Product Info'!BU32","v":0},{"$f":"AI31*'Product Info'!BX32","v":0}]
[{"$f":"'Product Info'!A33","v":0},{"$f":"'Product Info'!B33","v":0},{"$f":"'Product Info'!C33","v":0},null,null,null,null,null,null,null,null,null,null,null,null,null,null,null,null,null,null,null,null,null,null,null,null,null,null,null,null,null,null,null,0,{"$f":"'Product Info'!F33*('Daily Info (March)'!AI32)","v":0},null,null,{"$f":"AI32*('Product Info'!H33)","v":0},{"$f":"AI32*('Product Info'!M33+'Product Info'!P33+'Product Info'!S33+'Product Info'!V33+'Product Info'!Y33+'Product Info'!AB33+'Product Info'!AE33+'Product Info'!AH33+'Product Info'!AK33+'Product Info'!AN33+'Product Info'!AQ33+'Product Info'!AT33+'Product Info'!AW33+'Product Info'!AZ33+'Product Info'!BC33+'Product Info'!BF33+'Product Info'!BI33+'Product Info'!BL33+'Product Info'!BO33+'Product Info'!BR33+'Product Info'!BU33+'Product Info'!BX33+'Product Info'!CA33+'Product Info'!CD33+'Product Info'!CG33+'Product Info'!CJ33+'Product Info'!CM33+'Product Info'!CP33+'Product Info'!CS33+'Product Info'!CV33+'Product Info'!CY33+'Product Info'!DB33+'Product Info'!DE33+'Product Info'!DH33+'Product Info'!DK33+'Product Info'!DN33+'Product Info'!DQ33+'Product Info'!DT33+'Product Info'!DW33+'Product Info'!DZ33+'Product Info'!EC33+'Product Info'!EF33+'Product Info'!EI33+'Product Info'!EL33+'Product Info'!EO33+'Product Info'!ER33+'Product Info'!EU33+'Product Info'!EX33+'Product Info'!FA33+'Product Info'!FD33)","v":0},{"$f":"AI32*('Product Info'!M33)","v":0},{"$f":"AI32*'Product Info'!P33","v":0},{"$f":"AI32*'Product Info'!S33","v":0},{"$f":"AI32*'Product Info'!V33","v":0},{"$f":"AI32*'Product Info'!Y33","v":0},{"$f":"AI32*'Product Info'!AB33","v":0},{"$f":"AI32*'Product Info'!AE33","v":0},{"$f":"AI32*'Product Info'!AH33","v":0},{"$f":"AI32*'Product Info'!AK33","v":0},{"$f":"AI32*'Product Info'!AN33","v":0},{"$f":"AI32*'Product Info'!AQ33","v":0},{"$f":"AI32*'Product Info'!AT33","v":0},{"$f":"AI32*'Product Info'!AW33","v":0},{"$f":"AI32*'Product Info'!AZ33","v":0},{"$f":"AI32*'Product Info'!BC33","v":0},{"$f":"AI32*'Product Info'!BF33","v":0},{"$f":"AI32*'Product Info'!BI33","v":0},{"$f":"AI32*'Product Info'!BL33","v":0},{"$f":"AI32*'Product Info'!BO33","v":0},{"$f":"AI32*'Product Info'!BR33","v":0},{"$f":"AI32*'Product Info'!BU33","v":0},{"$f":"AI32*'Product Info'!BX33","v":0}]
[{"$f":"'Product Info'!A34","v":0},{"$f":"'Product Info'!B34","v":0},{"$f":"'Product Info'!C34","v":0},null,null,null,null,null,null,null,null,null,null,null,null,null,null,null,null,null,null,null,null,null,null,null,null,null,null,null,null,null,null,null,0,{"$f":"'Product Info'!F34*('Daily Info (March)'!AI33)","v":0},null,null,{"$f":"AI33*('Product Info'!H34)","v":0},{"$f":"AI33*('Product Info'!M34+'Product Info'!P34+'Product Info'!S34+'Product Info'!V34+'Product Info'!Y34+'Product Info'!AB34+'Product Info'!AE34+'Product Info'!AH34+'Product Info'!AK34+'Product Info'!AN34+'Product Info'!AQ34+'Product Info'!AT34+'Product Info'!AW34+'Product Info'!AZ34+'Product Info'!BC34+'Product Info'!BF34+'Product Info'!BI34+'Product Info'!BL34+'Product Info'!BO34+'Product Info'!BR34+'Product Info'!BU34+'Product Info'!BX34+'Product Info'!CA34+'Product Info'!CD34+'Product Info'!CG34+'Product Info'!CJ34+'Product Info'!CM34+'Product Info'!CP34+'Product Info'!CS34+'Product Info'!CV34+'Product Info'!CY34+'Product Info'!DB34+'Product Info'!DE34+'Product Info'!DH34+'Product Info'!DK34+'Product Info'!DN34+'Product Info'!DQ34+'Product Info'!DT34+'Product Info'!DW34+'Product Info'!DZ34+'Product Info'!EC34+'Product Info'!EF34+'Product Info'!EI34+'Product Info'!EL34+'Product Info'!EO34+'Product Info'!ER34+'Product Info'!EU34+'Product Info'!EX34+'Product Info'!FA34+'Product Info'!FD34)","v":0},{"$f":"AI33*('Product Info'!M34)","v":0},{"$f":"AI33*'Product Info'!P34","v":0},{"$f":"AI33*'Product Info'!S34","v":0},{"$f":"AI33*'Product Info'!V34","v":0},{"$f":"AI33*'Product Info'!Y34","v":0},{"$f":"AI33*'Product Info'!AB34","v":0},{"$f":"AI33*'Product Info'!AE34","v":0},{"$f":"AI33*'Product Info'!AH34","v":0},{"$f":"AI33*'Product Info'!AK34","v":0},{"$f":"AI33*'Product Info'!AN34","v":0},{"$f":"AI33*'Product Info'!AQ34","v":0},{"$f":"AR33*'Product Info'!AF34","v":0},{"$f":"AI33*'Product Info'!AW34","v":0},{"$f":"AI33*'Product Info'!AZ34","v":0},{"$f":"AI33*'Product Info'!BC34","v":0},{"$f":"AI33*'Product Info'!BF34","v":0},{"$f":"AI33*'Product Info'!BI34","v":0},{"$f":"AI33*'Product Info'!BL34","v":0},{"$f":"AI33*'Product Info'!BO34","v":0},{"$f":"AI33*'Product Info'!BR34","v":0},{"$f":"AI33*'Product Info'!BU34","v":0},{"$f":"AI33*'Product Info'!BX34","v":0}]
[{"$f":"'Product Info'!A35","v":0},{"$f":"'Product Info'!B35","v":0},{"$f":"'Product Info'!C35","v":0},null,null,null,null,null,null,null,null,null,null,null,null,null,null,null,null,null,null,null,null,null,null,null,null,null,null,null,null,null,null,null,0,{"$f":"'Product Info'!F35*('Daily Info (March)'!AI34)","v":0},null,null,{"$f":"AI34*('Product Info'!H35)","v":0},{"$f":"AI34*('Product Info'!M35+'Product Info'!P35+'Product Info'!S35+'Product Info'!V35+'Product Info'!Y35+'Product Info'!AB35+'Product Info'!AE35+'Product Info'!AH35+'Product Info'!AK35+'Product Info'!AN35+'Product Info'!AQ35+'Product Info'!AT35+'Product Info'!AW35+'Product Info'!AZ35+'Product Info'!BC35+'Product Info'!BF35+'Product Info'!BI35+'Product Info'!BL35+'Product Info'!BO35+'Product Info'!BR35+'Product Info'!BU35+'Product Info'!BX35+'Product Info'!CA35+'Product Info'!CD35+'Product Info'!CG35+'Product Info'!CJ35+'Product Info'!CM35+'Product Info'!CP35+'Product Info'!CS35+'Product Info'!CV35+'Product Info'!CY35+'Product Info'!DB35+'Product Info'!DE35+'Product Info'!DH35+'Product Info'!DK35+'Product Info'!DN35+'Product Info'!DQ35+'Product Info'!DT35+'Product Info'!DW35+'Product Info'!DZ35+'Product Info'!EC35+'Product Info'!EF35+'Product Info'!EI35+'Product Info'!EL35+'Product Info'!EO35+'Product Info'!ER35+'Product Info'!EU35+'Product Info'!EX35+'Product Info'!FA35+'Product Info'!FD35)","v":0},{"$f":"AI34*('Product Info'!M35)","v":0},{"$f":"AI34*'Product Info'!P35","v":0},{"$f":"AI34*'Product Info'!S35","v":0},{"$f":"AI34*'Product Info'!V35","v":0},{"$f":"AI34*'Product Info'!Y35","v":0},{"$f":"AI34*'Product Info'!AB35","v":0},{"$f":"AI34*'Product Info'!AE35","v":0},{"$f":"AI34*'Product Info'!AH35","v":0},{"$f":"AI34*'Product Info'!AK35","v":0},{"$f":"AI34*'Product Info'!AN35","v":0},{"$f":"AI34*'Product Info'!AQ35","v":0},{"$f":"AI34*'Product Info'!AT35","v":0},{"$f":"AI34*'Product Info'!AW35","v":0},{"$f":"AI34*'Product Info'!AZ35","v":0},{"$f":"AI34*'Product Info'!BC35","v":0},{"$f":"AI34*'Product Info'!BF35","v":0},{"$f":"AI34*'Product Info'!BI35","v":0},{"$f":"AI34*'Product Info'!BL35","v":0},{"$f":"AI34*'Product Info'!BO35","v":0},{"$f":"AI34*'Product Info'!BR35","v":0},{"$f":"AI34*'Product Info'!BU35","v":0},{"$f":"AI34*'Product Info'!BX35","v":0}]
[{"$f":"'Product Info'!A36","v":0},{"$f":"'Product Info'!B36","v":0},{"$f":"'Product Info'!C36","v":0},null,null,null,null,null,null,null,null,null,null,null,null,null,null,null,null,null,null,null,null,null,null,null,null,null,null,null,null,null,null,null,0,{"$f":"'Product Info'!F36*('Daily Info (March)'!AI35)","v":0},null,null,{"$f":"AI35*('Product Info'!H36)","v":0},{"$f":"AI35*('Product Info'!M36+'Product Info'!P36+'Product Info'!S36+'Product Info'!V36+'Product Info'!Y36+'Product Info'!AB36+'Product Info'!AE36+'Product Info'!AH36+'Product Info'!AK36+'Product Info'!AN36+'Product Info'!AQ36+'Product Info'!AT36+'Product Info'!AW36+'Product Info'!AZ36+'Product Info'!BC36+'Product Info'!BF36+'Product Info'!BI36+'Product Info'!BL36+'Product Info'!BO36+'Product Info'!BR36+'Product Info'!BU36+'Product Info'!BX36+'Product Info'!CA36+'Product Info'!CD36+'Product Info'!CG36+'Product Info'!CJ36+'Product Info'!CM36+'Product Info'!CP36+'Product Info'!CS36+'Product Info'!CV36+'Product Info'!CY36+'Product Info'!DB36+'Product Info'!DE36+'Product Info'!DH36+'Product Info'!DK36+'Product Info'!DN36+'Product Info'!DQ36+'Product Info'!DT36+'Product Info'!DW36+'Product Info'!DZ36+'Product Info'!EC36+'Product Info'!EF36+'Product Info'!EI36+'Product Info'!EL36+'Product Info'!EO36+'Product Info'!ER36+'Product Info'!EU36+'Product Info'!EX36+'Product Info'!FA36+'Product Info'!FD36)","v":0},{"$f":"AI35*('Product Info'!M36)","v":0},{"$f":"AI35*'Product Info'!P36","v":0},{"$f":"AI35*'Product Info'!S36","v":0},{"$f":"AI35*'Product Info'!V36","v":0},{"$f":"AI35*'Product Info'!Y36","v":0},{"$f":"AI35*'Product Info'!AB36","v":0},{"$f":"AI35*'Product Info'!AE36","v":0},{"$f":"AI35*'Product Info'!AH36","v":0},{"$f":"AI35*'Product Info'!AK36","v":0},{"$f":"AI35*'Product Info'!AN36","v":0},{"$f":"AI35*'Product Info'!AQ36","v":0},{"$f":"AI35*'Product Info'!AT36","v":0},{"$f":"AI35*'Product Info'!AW36","v":0},{"$f":"AI35*'Product Info'!AZ36","v":0},{"$f":"AI35*'Product Info'!BC36","v":0},{"$f":"AI35*'Product Info'!BF36","v":0},{"$f":"AI35*'Product Info'!BI36","v":0},{"$f":"AI35*'Product Info'!BL36","v":0},{"$f":"AI35*'Product Info'!BO36","v":0},{"$f":"AI35*'Product Info'!BR36","v":0},{"$f":"AI35*'Product Info'!BU36","v":0},{"$f":"AI35*'Product Info'!BX36","v":0}]
[{"$f":"'Product Info'!A37","v":0},{"$f":"'Product Info'!B37","v":0},{"$f":"'Product Info'!C37","v":0},null,null,null,null,null,null,null,null,null,null,null,null,null,null,null,null,null,null,null,null,null,null,null,null,null,null,null,null,null,null,null,{"$f":"SUM(D36:AH36)","v":0},{"$f":"'Product Info'!F37*('Daily Info (March)'!AI36)","v":0},null,null,{"$f":"AI36*('Product Info'!H37)","v":0},{"$f":"AI36*('Product Info'!M37+'Product Info'!P37+'Product Info'!S37+'Product Info'!V37+'Product Info'!Y37+'Product Info'!AB37+'Product Info'!AE37+'Product Info'!AH37+'Product Info'!AK37+'Product Info'!AN37+'Product Info'!AQ37+'Product Info'!AT37+'Product Info'!AW37+'Product Info'!AZ37+'Product Info'!BC37+'Product Info'!BF37+'Product Info'!BI37+'Product Info'!BL37+'Product Info'!BO37+'Product Info'!BR37+'Product Info'!BU37+'Product Info'!BX37+'Product Info'!CA37+'Product Info'!CD37+'Product Info'!CG37+'Product Info'!CJ37+'Product Info'!CM37+'Product Info'!CP37+'Product Info'!CS37+'Product Info'!CV37+'Product Info'!CY37+'Product Info'!DB37+'Product Info'!DE37+'Product Info'!DH37+'Product Info'!DK37+'Product Info'!DN37+'Product Info'!DQ37+'Product Info'!DT37+'Product Info'!DW37+'Product Info'!DZ37+'Product Info'!EC37+'Product Info'!EF37+'Product Info'!EI37+'Product Info'!EL37+'Product Info'!EO37+'Product Info'!ER37+'Product Info'!EU37+'Product Info'!EX37+'Product Info'!FA37+'Product Info'!FD37)","v":0},{"$f":"AI36*('Product Info'!M37)","v":0},{"$f":"AI36*'Product Info'!P37","v":0},{"$f":"AI36*'Product Info'!S37","v":0},{"$f":"AI36*'Product Info'!V37","v":0},{"$f":"AI36*'Product Info'!Y37","v":0},{"$f":"AI36*'Product Info'!AB37","v":0},{"$f":"AI36*'Product Info'!AE37","v":0},{"$f":"AI36*'Product Info'!AH37","v":0},{"$f":"AI36*'Product Info'!AK37","v":0},{"$f":"AI36*'Product Info'!AN37","v":0},{"$f":"AI36*'Product Info'!AQ37","v":0},{"$f":"AI36*'Product Info'!AT37","v":0},{"$f":"AI36*'Product Info'!AW37","v":0},{"$f":"AI36*'Product Info'!AZ37","v":0},{"$f":"AI36*'Product Info'!BC37","v":0},{"$f":"AI36*'Product Info'!BF37","v":0},{"$f":"AI36*'Product Info'!BI37","v":0},{"$f":"AI36*'Product Info'!BL37","v":0},{"$f":"AI36*'Product Info'!BO37","v":0},{"$f":"AI36*'Product Info'!BR37","v":0},{"$f":"AI36*'Product Info'!BU37","v":0},{"$f":"AI36*'Product Info'!BX37","v":0}]
[{"$f":"'Product Info'!A38","v":0},{"$f":"'Product Info'!B38","v":0},{"$f":"'Product Info'!C38","v":0},null,null,null,null,null,null,null,null,null,null,null,null,null,null,null,null,null,null,null,null,null,null,null,null,null,null,null,null,null,null,null,0,{"$f":"'Product Info'!F38*('Daily Info (March)'!AI37)","v":0},null,null,{"$f":"AI37*('Product Info'!H38)","v":0},{"$f":"AI37*('Product Info'!M38+'Product Info'!P38+'Product Info'!S38+'Product Info'!V38+'Product Info'!Y38+'Product Info'!AB38+'Product Info'!AE38+'Product Info'!AH38+'Product Info'!AK38+'Product Info'!AN38+'Product Info'!AQ38+'Product Info'!AT38+'Product Info'!AW38+'Product Info'!AZ38+'Product Info'!BC38+'Product Info'!BF38+'Product Info'!BI38+'Product Info'!BL38+'Product Info'!BO38+'Product Info'!BR38+'Product Info'!BU38+'Product Info'!BX38+'Product Info'!CA38+'Product Info'!CD38+'Product Info'!CG38+'Product Info'!CJ38+'Product Info'!CM38+'Product Info'!CP38+'Product Info'!CS38+'Product Info'!CV38+'Product Info'!CY38+'Product Info'!DB38+'Product Info'!DE38+'Product Info'!DH38+'Product Info'!DK38+'Product Info'!DN38+'Product Info'!DQ38+'Product Info'!DT38+'Product Info'!DW38+'Product Info'!DZ38+'Product Info'!EC38+'Product Info'!EF38+'Product Info'!EI38+'Product Info'!EL38+'Product Info'!EO38+'Product Info'!ER38+'Product Info'!EU38+'Product Info'!EX38+'Product Info'!FA38+'Product Info'!FD38)","v":0},{"$f":"AI37*('Product Info'!M38)","v":0},{"$f":"AI37*'Product Info'!P38","v":0},{"$f":"AI37*'Product Info'!S38","v":0},{"$f":"AI37*'Product Info'!V38","v":0},{"$f":"AI37*'Product Info'!Y38","v":0},{"$f":"AI37*'Product Info'!AB38","v":0},{"$f":"AI37*'Product Info'!AE38","v":0},{"$f":"AI37*'Product Info'!AH38","v":0},{"$f":"AI37*'Product Info'!AK38","v":0},{"$f":"AI37*'Product Info'!AN38","v":0},{"$f":"AI37*'Product Info'!AQ38","v":0},{"$f":"AI37*'Product Info'!AT38","v":0},{"$f":"AI37*'Product Info'!AW38","v":0},{"$f":"AI37*'Product Info'!AZ38","v":0},{"$f":"AI37*'Product Info'!BC38","v":0},{"$f":"AI37*'Product Info'!BF38","v":0},{"$f":"AI37*'Product Info'!BI38","v":0},{"$f":"AI37*'Product Info'!BL38","v":0},{"$f":"AI37*'Product Info'!BO38","v":0},{"$f":"AI37*'Product Info'!BR38","v":0},{"$f":"AI37*'Product Info'!BU38","v":0},{"$f":"AI37*'Product Info'!BX38","v":0}]
[{"$f":"'Product Info'!A39","v":0},{"$f":"'Product Info'!B39","v":0},{"$f":"'Product Info'!C39","v":0},null,null,null,null,null,null,null,null,null,null,null,null,null,null,null,null,null,null,null,null,null,null,null,null,null,null,null,null,null,null,null,0,{"$f":"'Product Info'!F39*('Daily Info (March)'!AI38)","v":0},null,null,{"$f":"AI38*('Product Info'!H39)","v":0},{"$f":"AI38*('Product Info'!M39+'Product Info'!P39+'Product Info'!S39+'Product Info'!V39+'Product Info'!Y39+'Product Info'!AB39+'Product Info'!AE39+'Product Info'!AH39+'Product Info'!AK39+'Product Info'!AN39+'Product Info'!AQ39+'Product Info'!AT39+'Product Info'!AW39+'Product Info'!AZ39+'Product Info'!BC39+'Product Info'!BF39+'Product Info'!BI39+'Product Info'!BL39+'Product Info'!BO39+'Product Info'!BR39+'Product Info'!BU39+'Product Info'!BX39+'Product Info'!CA39+'Product Info'!CD39+'Product Info'!CG39+'Product Info'!CJ39+'Product Info'!CM39+'Product Info'!CP39+'Product Info'!CS39+'Product Info'!CV39+'Product Info'!CY39+'Product Info'!DB39+'Product Info'!DE39+'Product Info'!DH39+'Product Info'!DK39+'Product Info'!DN39+'Product Info'!DQ39+'Product Info'!DT39+'Product Info'!DW39+'Product Info'!DZ39+'Product Info'!EC39+'Product Info'!EF39+'Product Info'!EI39+'Product Info'!EL39+'Product Info'!EO39+'Product Info'!ER39+'Product Info'!EU39+'Product Info'!EX39+'Product Info'!FA39+'Product Info'!FD39)","v":0},{"$f":"AI38*('Product Info'!M39)","v":0},{"$f":"AI38*'Product Info'!P39","v":0},{"$f":"AI38*'Product Info'!S39","v":0},{"$f":"AI38*'Product Info'!V39","v":0},{"$f":"AI38*'Product Info'!Y39","v":0},{"$f":"AI38*'Product Info'!AB39","v":0},{"$f":"AI38*'Product Info'!AE39","v":0},{"$f":"AI38*'Product Info'!AH39","v":0},{"$f":"AI38*'Product Info'!AK39","v":0},{"$f":"AI38*'Product Info'!AN39","v":0},{"$f":"AI38*'Product Info'!AQ39","v":0},{"$f":"AI38*'Product Info'!AT39","v":0},{"$f":"AI38*'Product Info'!AW39","v":0},{"$f":"AI38*'Product Info'!AZ39","v":0},{"$f":"AI38*'Product Info'!BC39","v":0},{"$f":"AI38*'Product Info'!BF39","v":0},{"$f":"AI38*'Product Info'!BI39","v":0},{"$f":"AI38*'Product Info'!BL39","v":0},{"$f":"AI38*'Product Info'!BO39","v":0},{"$f":"AI38*'Product Info'!BR39","v":0},{"$f":"AI38*'Product Info'!BU39","v":0},{"$f":"AI38*'Product Info'!BX39","v":0}]
[{"$f":"'Product Info'!A40","v":0},{"$f":"'Product Info'!B40","v":0},{"$f":"'Product Info'!C40","v":0},null,null,null,null,null,null,null,null,null,null,null,null,null,null,null,null,null,null,null,null,null,null,null,null,null,null,null,null,null,null,null,0,{"$f":"'Product Info'!F40*('Daily Info (March)'!AI39)","v":0},null,null,{"$f":"AI39*('Product Info'!H40)","v":0},{"$f":"AI39*('Product Info'!M40+'Product Info'!P40+'Product Info'!S40+'Product Info'!V40+'Product Info'!Y40+'Product Info'!AB40+'Product Info'!AE40+'Product Info'!AH40+'Product Info'!AK40+'Product Info'!AN40+'Product Info'!AQ40+'Product Info'!AT40+'Product Info'!AW40+'Product Info'!AZ40+'Product Info'!BC40+'Product Info'!BF40+'Product Info'!BI40+'Product Info'!BL40+'Product Info'!BO40+'Product Info'!BR40+'Product Info'!BU40+'Product Info'!BX40+'Product Info'!CA40+'Product Info'!CD40+'Product Info'!CG40+'Product Info'!CJ40+'Product Info'!CM40+'Product Info'!CP40+'Product Info'!CS40+'Product Info'!CV40+'Product Info'!CY40+'Product Info'!DB40+'Product Info'!DE40+'Product Info'!DH40+'Product Info'!DK40+'Product Info'!DN40+'Product Info'!DQ40+'Product Info'!DT40+'Product Info'!DW40+'Product Info'!DZ40+'Product Info'!EC40+'Product Info'!EF40+'Product Info'!EI40+'Product Info'!EL40+'Product Info'!EO40+'Product Info'!ER40+'Product Info'!EU40+'Product Info'!EX40+'Product Info'!FA40+'Product Info'!FD40)","v":0},{"$f":"AI39*('Product Info'!M40)","v":0},{"$f":"AI39*'Product Info'!P40","v":0},{"$f":"AI39*'Product Info'!S40","v":0},{"$f":"AI39*'Product Info'!V40","v":0},{"$f":"AI39*'Product Info'!Y40","v":0},{"$f":"AI39*'Product Info'!AB40","v":0},{"$f":"AI39*'Product Info'!AE40","v":0},{"$f":"AI39*'Product Info'!AH40","v":0},{"$f":"AI39*'Product Info'!AK40","v":0},{"$f":"AI39*'Product Info'!AN40","v":0},{"$f":"AI39*'Product Info'!AQ40","v":0},{"$f":"AI39*'Product Info'!AT40","v":0},{"$f":"AI39*'Product Info'!AW40","v":0},{"$f":"AI39*'Product Info'!AZ40","v":0},{"$f":"AI39*'Product Info'!BC40","v":0},{"$f":"AI39*'Product Info'!BF40","v":0},{"$f":"AI39*'Product Info'!BI40","v":0},{"$f":"AI39*'Product Info'!BL40","v":0},{"$f":"AI39*'Product Info'!BO40","v":0},{"$f":"AI39*'Product Info'!BR40","v":0},{"$f":"AI39*'Product Info'!BU40","v":0},{"$f":"AI39*'Product Info'!BX40","v":0}]
[{"$f":"'Product Info'!A41","v":0},{"$f":"'Product Info'!B41","v":0},{"$f":"'Product Info'!C41","v":0},null,null,null,null,null,null,null,null,null,null,null,null,null,null,null,null,null,null,null,null,null,null,null,null,null,null,null,null,null,null,null,0,{"$f":"'Product Info'!F41*('Daily Info (March)'!AI40)","v":0},null,null,{"$f":"AI40*('Product Info'!H41)","v":0},{"$f":"AI40*('Product Info'!M41+'Product Info'!P41+'Product Info'!S41+'Product Info'!V41+'Product Info'!Y41+'Product Info'!AB41+'Product Info'!AE41+'Product Info'!AH41+'Product Info'!AK41+'Product Info'!AN41+'Product Info'!AQ41+'Product Info'!AT41+'Product Info'!AW41+'Product Info'!AZ41+'Product Info'!BC41+'Product Info'!BF41+'Product Info'!BI41+'Product Info'!BL41+'Product Info'!BO41+'Product Info'!BR41+'Product Info'!BU41+'Product Info'!BX41+'Product Info'!CA41+'Product Info'!CD41+'Product Info'!CG41+'Product Info'!CJ41+'Product Info'!CM41+'Product Info'!CP41+'Product Info'!CS41+'Product Info'!CV41+'Product Info'!CY41+'Product Info'!DB41+'Product Info'!DE41+'Product Info'!DH41+'Product Info'!DK41+'Product Info'!DN41+'Product Info'!DQ41+'Product Info'!DT41+'Product Info'!DW41+'Product Info'!DZ41+'Product Info'!EC41+'Product Info'!EF41+'Product Info'!EI41+'Product Info'!EL41+'Product Info'!EO41+'Product Info'!ER41+'Product Info'!EU41+'Product Info'!EX41+'Product Info'!FA41+'Product Info'!FD41)","v":0},{"$f":"AI40*('Product Info'!M41)","v":0},{"$f":"AI40*'Product Info'!P41","v":0},{"$f":"AI40*'Product Info'!S41","v":0},{"$f":"AI40*'Product Info'!V41","v":0},{"$f":"AI40*'Product Info'!Y41","v":0},{"$f":"AI40*'Product Info'!AB41","v":0},{"$f":"AI40*'Product Info'!AE41","v":0},{"$f":"AI40*'Product Info'!AH41","v":0},{"$f":"AI40*'Product Info'!AK41","v":0},{"$f":"AI40*'Product Info'!AN41","v":0},{"$f":"AI40*'Product Info'!AQ41","v":0},{"$f":"AI40*'Product Info'!AT41","v":0},{"$f":"AI40*'Product Info'!AW41","v":0},{"$f":"AI40*'Product Info'!AZ41","v":0},{"$f":"AI40*'Product Info'!BC41","v":0},{"$f":"AI40*'Product Info'!BF41","v":0},{"$f":"AI40*'Product Info'!BI41","v":0},{"$f":"AI40*'Product Info'!BL41","v":0},{"$f":"AI40*'Product Info'!BO41","v":0},{"$f":"AI40*'Product Info'!BR41","v":0},{"$f":"AI40*'Product Info'!BU41","v":0},{"$f":"AI40*'Product Info'!BX41","v":0}]
[{"$f":"'Product Info'!A42","v":0},{"$f":"'Product Info'!B42","v":0},{"$f":"'Product Info'!C42","v":0},null,null,null,null,null,null,null,null,null,null,null,null,null,null,null,null,null,null,null,null,null,null,null,null,null,null,null,null,null,null,null,0,{"$f":"'Product Info'!F42*('Daily Info (March)'!AI41)","v":0},null,null,{"$f":"AI41*('Product Info'!H42)","v":0},{"$f":"AI41*('Product Info'!M42+'Product Info'!P42+'Product Info'!S42+'Product Info'!V42+'Product Info'!Y42+'Product Info'!AB42+'Product Info'!AE42+'Product Info'!AH42+'Product Info'!AK42+'Product Info'!AN42+'Product Info'!AQ42+'Product Info'!AT42+'Product Info'!AW42+'Product Info'!AZ42+'Product Info'!BC42+'Product Info'!BF42+'Product Info'!BI42+'Product Info'!BL42+'Product Info'!BO42+'Product Info'!BR42+'Product Info'!BU42+'Product Info'!BX42+'Product Info'!CA42+'Product Info'!CD42+'Product Info'!CG42+'Product Info'!CJ42+'Product Info'!CM42+'Product Info'!CP42+'Product Info'!CS42+'Product Info'!CV42+'Product Info'!CY42+'Product Info'!DB42+'Product Info'!DE42+'Product Info'!DH42+'Product Info'!DK42+'Product Info'!DN42+'Product Info'!DQ42+'Product Info'!DT42+'Product Info'!DW42+'Product Info'!DZ42+'Product Info'!EC42+'Product Info'!EF42+'Product Info'!EI42+'Product Info'!EL42+'Product Info'!EO42+'Product Info'!ER42+'Product Info'!EU42+'Product Info'!EX42+'Product Info'!FA42+'Product Info'!FD42)","v":0},{"$f":"AI41*('Product Info'!M42)","v":0},{"$f":"AI41*'Product Info'!P42","v":0},{"$f":"AI41*'Product Info'!S42","v":0},{"$f":"AI41*'Product Info'!V42","v":0},{"$f":"AI41*'Product Info'!Y42","v":0},{"$f":"AI41*'Product Info'!AB42","v":0},{"$f":"AI41*'Product Info'!AE42","v":0},{"$f":"AI41*'Product Info'!AH42","v":0},{"$f":"AI41*'Product Info'!AK42","v":0},{"$f":"AI41*'Product Info'!AN42","v":0},{"$f":"AI41*'Product Info'!AQ42","v":0},{"$f":"AI41*'Product Info'!AT42","v":0},{"$f":"AI41*'Product Info'!AW42","v":0},{"$f":"AI41*'Product Info'!AZ42","v":0},{"$f":"AI41*'Product Info'!BC42","v":0},{"$f":"AI41*'Product Info'!BF42","v":0},{"$f":"AI41*'Product Info'!BI42","v":0},{"$f":"AI41*'Product Info'!BL42","v":0},{"$f":"AI41*'Product Info'!BO42","v":0},{"$f":"AI41*'Product Info'!BR42","v":0},{"$f":"AI41*'Product Info'!BU42","v":0},{"$f":"AI41*'Product Info'!BX42","v":0}]
[{"$f":"'Product Info'!A43","v":0},{"$f":"'Product Info'!B43","v":0},{"$f":"'Product Info'!C43","v":0},null,null,null,null,null,null,null,null,null,null,null,null,null,null,null,null,null,null,null,null,null,null,null,null,null,null,null,null,null,null,null,0,{"$f":"'Product Info'!F43*('Daily Info (March)'!AI42)","v":0},null,null,{"$f":"AI42*('Product Info'!H43)","v":0},{"$f":"AI42*('Product Info'!M43+'Product Info'!P43+'Product Info'!S43+'Product Info'!V43+'Product Info'!Y43+'Product Info'!AB43+'Product Info'!AE43+'Product Info'!AH43+'Product Info'!AK43+'Product Info'!AN43+'Product Info'!AQ43+'Product Info'!AT43+'Product Info'!AW43+'Product Info'!AZ43+'Product Info'!BC43+'Product Info'!BF43+'Product Info'!BI43+'Product Info'!BL43+'Product Info'!BO43+'Product Info'!BR43+'Product Info'!BU43+'Product Info'!BX43+'Product Info'!CA43+'Product Info'!CD43+'Product Info'!CG43+'Product Info'!CJ43+'Product Info'!CM43+'Product Info'!CP43+'Product Info'!CS43+'Product Info'!CV43+'Product Info'!CY43+'Product Info'!DB43+'Product Info'!DE43+'Product Info'!DH43+'Product Info'!DK43+'Product Info'!DN43+'Product Info'!DQ43+'Product Info'!DT43+'Product Info'!DW43+'Product Info'!DZ43+'Product Info'!EC43+'Product Info'!EF43+'Product Info'!EI43+'Product Info'!EL43+'Product Info'!EO43+'Product Info'!ER43+'Product Info'!EU43+'Product Info'!EX43+'Product Info'!FA43+'Product Info'!FD43)","v":0},{"$f":"AI42*('Product Info'!M43)","v":0},{"$f":"AI42*'Product Info'!P43","v":0},{"$f":"AI42*'Product Info'!S43","v":0},{"$f":"AI42*'Product Info'!V43","v":0},{"$f":"AI42*'Product Info'!Y43","v":0},{"$f":"AI42*'Product Info'!AB43","v":0},{"$f":"AI42*'Product Info'!AE43","v":0},{"$f":"AI42*'Product Info'!AH43","v":0},{"$f":"AI42*'Product Info'!AK43","v":0},{"$f":"AI42*'Product Info'!AN43","v":0},{"$f":"AI42*'Product Info'!AQ43","v":0},{"$f":"AI42*'Product Info'!AT43","v":0},{"$f":"AI42*'Product Info'!AW43","v":0},{"$f":"AI42*'Product Info'!AZ43","v":0},{"$f":"AI42*'Product Info'!BC43","v":0},{"$f":"AI42*'Product Info'!BF43","v":0},{"$f":"AI42*'Product Info'!BI43","v":0},{"$f":"AI42*'Product Info'!BL43","v":0},{"$f":"AI42*'Product Info'!BO43","v":0},{"$f":"AI42*'Product Info'!BR43","v":0},{"$f":"AI42*'Product Info'!BU43","v":0},{"$f":"AI42*'Product Info'!BX43","v":0}]
[{"$f":"'Product Info'!A44","v":0},{"$f":"'Product Info'!B44","v":0},{"$f":"'Product Info'!C44","v":0},null,null,null,null,null,null,null,null,null,null,null,null,null,null,null,null,null,null,null,null,null,null,null,null,null,null,null,null,null,null,null,0,{"$f":"'Product Info'!F44*('Daily Info (March)'!AI43)","v":0},null,null,{"$f":"AI43*('Product Info'!H44)","v":0},{"$f":"AI43*('Product Info'!M44+'Product Info'!P44+'Product Info'!S44+'Product Info'!V44+'Product Info'!Y44+'Product Info'!AB44+'Product Info'!AE44+'Product Info'!AH44+'Product Info'!AK44+'Product Info'!AN44+'Product Info'!AQ44+'Product Info'!AT44+'Product Info'!AW44+'Product Info'!AZ44+'Product Info'!BC44+'Product Info'!BF44+'Product Info'!BI44+'Product Info'!BL44+'Product Info'!BO44+'Product Info'!BR44+'Product Info'!BU44+'Product Info'!BX44+'Product Info'!CA44+'Product Info'!CD44+'Product Info'!CG44+'Product Info'!CJ44+'Product Info'!CM44+'Product Info'!CP44+'Product Info'!CS44+'Product Info'!CV44+'Product Info'!CY44+'Product Info'!DB44+'Product Info'!DE44+'Product Info'!DH44+'Product Info'!DK44+'Product Info'!DN44+'Product Info'!DQ44+'Product Info'!DT44+'Product Info'!DW44+'Product Info'!DZ44+'Product Info'!EC44+'Product Info'!EF44+'Product Info'!EI44+'Product Info'!EL44+'Product Info'!EO44+'Product Info'!ER44+'Product Info'!EU44+'Product Info'!EX44+'Product Info'!FA44+'Product Info'!FD44)","v":0},{"$f":"AI43*('Product Info'!M44)","v":0},{"$f":"AI43*'Product Info'!P44","v":0},{"$f":"AI43*'Product Info'!S44","v":0},{"$f":"AI43*'Product Info'!V44","v":0},{"$f":"AI43*'Product Info'!Y44","v":0},{"$f":"AI43*'Product Info'!AB44","v":0},{"$f":"AI43*'Product Info'!AE44","v":0},{"$f":"AI43*'Product Info'!AH44","v":0},{"$f":"AI43*'Product Info'!AK44","v":0},{"$f":"AI43*'Product Info'!AN44","v":0},{"$f":"AI43*'Product Info'!AQ44","v":0},{"$f":"AI43*'Product Info'!AT44","v":0},{"$f":"AI43*'Product Info'!AW44","v":0},{"$f":"AI43*'Product Info'!AZ44","v":0},{"$f":"AI43*'Product Info'!BC44","v":0},{"$f":"AI43*'Product Info'!BF44","v":0},{"$f":"AI43*'Product Info'!BI44","v":0},{"$f":"AI43*'Product Info'!BL44","v":0},{"$f":"AI43*'Product Info'!BO44","v":0},{"$f":"AI43*'Product Info'!BR44","v":0},{"$f":"AI43*'Product Info'!BU44","v":0},{"$f":"AI43*'Product Info'!BX44","v":0}]
[{"$f":"'Product Info'!A45","v":0},{"$f":"'Product Info'!B45","v":0},{"$f":"'Product Info'!C45","v":0},null,null,null,null,null,null,null,null,null,null,null,null,null,null,null,null,null,null,null,null,null,null,null,null,null,null,null,null,null,null,null,0,{"$f":"'Product Info'!F45*('Daily Info (March)'!AI44)","v":0},null,null,{"$f":"AI44*('Product Info'!H45)","v":0},{"$f":"AI44*('Product Info'!M45+'Product Info'!P45+'Product Info'!S45+'Product Info'!V45+'Product Info'!Y45+'Product Info'!AB45+'Product Info'!AE45+'Product Info'!AH45+'Product Info'!AK45+'Product Info'!AN45+'Product Info'!AQ45+'Product Info'!AT45+'Product Info'!AW45+'Product Info'!AZ45+'Product Info'!BC45+'Product Info'!BF45+'Product Info'!BI45+'Product Info'!BL45+'Product Info'!BO45+'Product Info'!BR45+'Product Info'!BU45+'Product Info'!BX45+'Product Info'!CA45+'Product Info'!CD45+'Product Info'!CG45+'Product Info'!CJ45+'Product Info'!CM45+'Product Info'!CP45+'Product Info'!CS45+'Product Info'!CV45+'Product Info'!CY45+'Product Info'!DB45+'Product Info'!DE45+'Product Info'!DH45+'Product Info'!DK45+'Product Info'!DN45+'Product Info'!DQ45+'Product Info'!DT45+'Product Info'!DW45+'Product Info'!DZ45+'Product Info'!EC45+'Product Info'!EF45+'Product Info'!EI45+'Product Info'!EL45+'Product Info'!EO45+'Product Info'!ER45+'Product Info'!EU45+'Product Info'!EX45+'Product Info'!FA45+'Product Info'!FD45)","v":0},{"$f":"AI44*('Product Info'!M45)","v":0},{"$f":"AI44*'Product Info'!P45","v":0},{"$f":"AI44*'Product Info'!S45","v":0},{"$f":"AI44*'Product Info'!V45","v":0},{"$f":"AI44*'Product Info'!Y45","v":0},{"$f":"AI44*'Product Info'!AB45","v":0},{"$f":"AI44*'Product Info'!AE45","v":0},{"$f":"AI44*'Product Info'!AH45","v":0},{"$f":"AI44*'Product Info'!AK45","v":0},{"$f":"AI44*'Product Info'!AN45","v":0},{"$f":"AI44*'Product Info'!AQ45","v":0},{"$f":"AI44*'Product Info'!AT45","v":0},{"$f":"AI44*'Product Info'!AW45","v":0},{"$f":"AI44*'Product Info'!AZ45","v":0},{"$f":"AI44*'Product Info'!BC45","v":0},{"$f":"AI44*'Product Info'!BF45","v":0},{"$f":"AI44*'Product Info'!BI45","v":0},{"$f":"AI44*'Product Info'!BL45","v":0},{"$f":"AI44*'Product Info'!BO45","v":0},{"$f":"AI44*'Product Info'!BR45","v":0},{"$f":"AI44*'Product Info'!BU45","v":0},{"$f":"AI44*'Product Info'!BX45","v":0}]
[{"$f":"'Product Info'!A46","v":0},{"$f":"'Product Info'!B46","v":0},{"$f":"'Product Info'!C46","v":0},null,null,null,null,null,null,null,null,null,null,null,null,null,null,null,null,null,null,null,null,null,null,null,null,null,null,null,null,null,null,null,0,{"$f":"'Product Info'!F46*('Daily Info (March)'!AI45)","v":0},null,null,{"$f":"AI45*('Product Info'!H46)","v":0},{"$f":"AI45*('Product Info'!M46+'Product Info'!P46+'Product Info'!S46+'Product Info'!V46+'Product Info'!Y46+'Product Info'!AB46+'Product Info'!AE46+'Product Info'!AH46+'Product Info'!AK46+'Product Info'!AN46+'Product Info'!AQ46+'Product Info'!AT46+'Product Info'!AW46+'Product Info'!AZ46+'Product Info'!BC46+'Product Info'!BF46+'Product Info'!BI46+'Product Info'!BL46+'Product Info'!BO46+'Product Info'!BR46+'Product Info'!BU46+'Product Info'!BX46+'Product Info'!CA46+'Product Info'!CD46+'Product Info'!CG46+'Product Info'!CJ46+'Product Info'!CM46+'Product Info'!CP46+'Product Info'!CS46+'Product Info'!CV46+'Product Info'!CY46+'Product Info'!DB46+'Product Info'!DE46+'Product Info'!DH46+'Product Info'!DK46+'Product Info'!DN46+'Product Info'!DQ46+'Product Info'!DT46+'Product Info'!DW46+'Product Info'!DZ46+'Product Info'!EC46+'Product Info'!EF46+'Product Info'!EI46+'Product Info'!EL46+'Product Info'!EO46+'Product Info'!ER46+'Product Info'!EU46+'Product Info'!EX46+'Product Info'!FA46+'Product Info'!FD46)","v":0},{"$f":"AI45*('Product Info'!M46)","v":0},{"$f":"AI45*'Product Info'!P46","v":0},{"$f":"AI45*'Product Info'!S46","v":0},{"$f":"AI45*'Product Info'!V46","v":0},{"$f":"AI45*'Product Info'!Y46","v":0},{"$f":"AI45*'Product Info'!AB46","v":0},{"$f":"AI45*'Product Info'!AE46","v":0},{"$f":"AI45*'Product Info'!AH46","v":0},{"$f":"AI45*'Product Info'!AK46","v":0},{"$f":"AI45*'Product Info'!AN46","v":0},{"$f":"AI45*'Product Info'!AQ46","v":0},{"$f":"AI45*'Product Info'!AT46","v":0},{"$f":"AI45*'Product Info'!AW46","v":0},{"$f":"AI45*'Product Info'!AZ46","v":0},{"$f":"AI45*'Product Info'!BC46","v":0},{"$f":"AI45*'Product Info'!BF46","v":0},{"$f":"AI45*'Product Info'!BI46","v":0},{"$f":"AI45*'Product Info'!BL46","v":0},{"$f":"AI45*'Product Info'!BO46","v":0},{"$f":"AI45*'Product Info'!BR46","v":0},{"$f":"AI45*'Product Info'!BU46","v":0},{"$f":"AI45*'Product Info'!BX46","v":0}]
[{"$f":"'Product Info'!A47","v":0},{"$f":"'Product Info'!B47","v":0},{"$f":"'Product Info'!C47","v":0},null,null,null,null,null,null,null,null,null,null,null,null,null,null,null,null,null,null,null,null,null,null,null,null,null,null,null,null,null,null,null,0,{"$f":"'Product Info'!F47*('Daily Info (March)'!AI46)","v":0},null,null,{"$f":"AI46*('Product Info'!H47)","v":0},{"$f":"AI46*('Product Info'!M47+'Product Info'!P47+'Product Info'!S47+'Product Info'!V47+'Product Info'!Y47+'Product Info'!AB47+'Product Info'!AE47+'Product Info'!AH47+'Product Info'!AK47+'Product Info'!AN47+'Product Info'!AQ47+'Product Info'!AT47+'Product Info'!AW47+'Product Info'!AZ47+'Product Info'!BC47+'Product Info'!BF47+'Product Info'!BI47+'Product Info'!BL47+'Product Info'!BO47+'Product Info'!BR47+'Product Info'!BU47+'Product Info'!BX47+'Product Info'!CA47+'Product Info'!CD47+'Product Info'!CG47+'Product Info'!CJ47+'Product Info'!CM47+'Product Info'!CP47+'Product Info'!CS47+'Product Info'!CV47+'Product Info'!CY47+'Product Info'!DB47+'Product Info'!DE47+'Product Info'!DH47+'Product Info'!DK47+'Product Info'!DN47+'Product Info'!DQ47+'Product Info'!DT47+'Product Info'!DW47+'Product Info'!DZ47+'Product Info'!EC47+'Product Info'!EF47+'Product Info'!EI47+'Product Info'!EL47+'Product Info'!EO47+'Product Info'!ER47+'Product Info'!EU47+'Product Info'!EX47+'Product Info'!FA47+'Product Info'!FD47)","v":0},{"$f":"AI46*('Product Info'!M47)","v":0},{"$f":"AI46*'Product Info'!P47","v":0},{"$f":"AI46*'Product Info'!S47","v":0},{"$f":"AI46*'Product Info'!V47","v":0},{"$f":"AI46*'Product Info'!Y47","v":0},{"$f":"AI46*'Product Info'!AB47","v":0},{"$f":"AI46*'Product Info'!AE47","v":0},{"$f":"AI46*'Product Info'!AH47","v":0},{"$f":"AI46*'Product Info'!AK47","v":0},{"$f":"AI46*'Product Info'!AN47","v":0},{"$f":"AI46*'Product Info'!AQ47","v":0},{"$f":"AI46*'Product Info'!AT47","v":0},{"$f":"AI46*'Product Info'!AW47","v":0},{"$f":"AI46*'Product Info'!AZ47","v":0},{"$f":"AI46*'Product Info'!BC47","v":0},{"$f":"AI46*'Product Info'!BF47","v":0},{"$f":"AI46*'Product Info'!BI47","v":0},{"$f":"AI46*'Product Info'!BL47","v":0},{"$f":"AI46*'Product Info'!BO47","v":0},{"$f":"AI46*'Product Info'!BR47","v":0},{"$f":"AI46*'Product Info'!BU47","v":0},{"$f":"AI46*'Product Info'!BX47","v":0}]
[{"$f":"'Product Info'!A48","v":0},{"$f":"'Product Info'!B48","v":0},{"$f":"'Product Info'!C48","v":0},null,null,null,null,null,null,null,null,null,null,null,null,null,null,null,null,null,null,null,null,null,null,null,null,null,null,null,null,null,null,null,0,{"$f":"'Product Info'!F48*('Daily Info (March)'!AI47)","v":0},null,null,{"$f":"AI47*('Product Info'!H48)","v":0},{"$f":"AI47*('Product Info'!M48+'Product Info'!P48+'Product Info'!S48+'Product Info'!V48+'Product Info'!Y48+'Product Info'!AB48+'Product Info'!AE48+'Product Info'!AH48+'Product Info'!AK48+'Product Info'!AN48+'Product Info'!AQ48+'Product Info'!AT48+'Product Info'!AW48+'Product Info'!AZ48+'Product Info'!BC48+'Product Info'!BF48+'Product Info'!BI48+'Product Info'!BL48+'Product Info'!BO48+'Product Info'!BR48+'Product Info'!BU48+'Product Info'!BX48+'Product Info'!CA48+'Product Info'!CD48+'Product Info'!CG48+'Product Info'!CJ48+'Product Info'!CM48+'Product Info'!CP48+'Product Info'!CS48+'Product Info'!CV48+'Product Info'!CY48+'Product Info'!DB48+'Product Info'!DE48+'Product Info'!DH48+'Product Info'!DK48+'Product Info'!DN48+'Product Info'!DQ48+'Product Info'!DT48+'Product Info'!DW48+'Product Info'!DZ48+'Product Info'!EC48+'Product Info'!EF48+'Product Info'!EI48+'Product Info'!EL48+'Product Info'!EO48+'Product Info'!ER48+'Product Info'!EU48+'Product Info'!EX48+'Product Info'!FA48+'Product Info'!FD48)","v":0},{"$f":"AI47*('Product Info'!M48)","v":0},{"$f":"AI47*'Product Info'!P48","v":0},{"$f":"AI47*'Product Info'!S48","v":0},{"$f":"AI47*'Product Info'!V48","v":0},{"$f":"AI47*'Product Info'!Y48","v":0},{"$f":"AI47*'Product Info'!AB48","v":0},{"$f":"AI47*'Product Info'!AE48","v":0},{"$f":"AI47*'Product Info'!AH48","v":0},{"$f":"AI47*'Product Info'!AK48","v":0},{"$f":"AI47*'Product Info'!AN48","v":0},{"$f":"AI47*'Product Info'!AQ48","v":0},{"$f":"AR47*'Product Info'!AF48","v":0},{"$f":"AI47*'Product Info'!AW48","v":0},{"$f":"AI47*'Product Info'!AZ48","v":0},{"$f":"AI47*'Product Info'!BC48","v":0},{"$f":"AI47*'Product Info'!BF48","v":0},{"$f":"AI47*'Product Info'!BI48","v":0},{"$f":"AI47*'Product Info'!BL48","v":0},{"$f":"AI47*'Product Info'!BO48","v":0},{"$f":"AI47*'Product Info'!BR48","v":0},{"$f":"AI47*'Product Info'!BU48","v":0},{"$f":"AI47*'Product Info'!BX48","v":0}]
[{"$f":"'Product Info'!A49","v":0},{"$f":"'Product Info'!B49","v":0},{"$f":"'Product Info'!C49","v":0},null,null,null,null,null,null,null,null,null,null,null,null,null,null,null,null,null,null,null,null,null,null,null,null,null,null,null,null,null,null,null,0,{"$f":"'Product Info'!F49*('Daily Info (March)'!AI48)","v":0},null,null,{"$f":"AI48*('Product Info'!H49)","v":0},{"$f":"AI48*('Product Info'!M49+'Product Info'!P49+'Product Info'!S49+'Product Info'!V49+'Product Info'!Y49+'Product Info'!AB49+'Product Info'!AE49+'Product Info'!AH49+'Product Info'!AK49+'Product Info'!AN49+'Product Info'!AQ49+'Product Info'!AT49+'Product Info'!AW49+'Product Info'!AZ49+'Product Info'!BC49+'Product Info'!BF49+'Product Info'!BI49+'Product Info'!BL49+'Product Info'!BO49+'Product Info'!BR49+'Product Info'!BU49+'Product Info'!BX49+'Product Info'!CA49+'Product Info'!CD49+'Product Info'!CG49+'Product Info'!CJ49+'Product Info'!CM49+'Product Info'!CP49+'Product Info'!CS49+'Product Info'!CV49+'Product Info'!CY49+'Product Info'!DB49+'Product Info'!DE49+'Product Info'!DH49+'Product Info'!DK49+'Product Info'!DN49+'Product Info'!DQ49+'Product Info'!DT49+'Product Info'!DW49+'Product Info'!DZ49+'Product Info'!EC49+'Product Info'!EF49+'Product Info'!EI49+'Product Info'!EL49+'Product Info'!EO49+'Product Info'!ER49+'Product Info'!EU49+'Product Info'!EX49+'Product Info'!FA49+'Product Info'!FD49)","v":0},{"$f":"AI48*('Product Info'!M49)","v":0},{"$f":"AI48*'Product Info'!P49","v":0},{"$f":"AI48*'Product Info'!S49","v":0},{"$f":"AI48*'Product Info'!V49","v":0},{"$f":"AI48*'Product Info'!Y49","v":0},{"$f":"AI48*'Product Info'!AB49","v":0},{"$f":"AI48*'Product Info'!AE49","v":0},{"$f":"AI48*'Product Info'!AH49","v":0},{"$f":"AI48*'Product Info'!AK49","v":0},{"$f":"AI48*'Product Info'!AN49","v":0},{"$f":"AI48*'Product Info'!AQ49","v":0},{"$f":"AR48*'Product Info'!AF49","v":0},{"$f":"AI48*'Product Info'!AW49","v":0},{"$f":"AI48*'Product Info'!AZ49","v":0},{"$f":"AI48*'Product Info'!BC49","v":0},{"$f":"AI48*'Product Info'!BF49","v":0},{"$f":"AI48*'Product Info'!BI49","v":0},{"$f":"AI48*'Product Info'!BL49","v":0},{"$f":"AI48*'Product Info'!BO49","v":0},{"$f":"AI48*'Product Info'!BR49","v":0},{"$f":"AI48*'Product Info'!BU49","v":0},{"$f":"AI48*'Product Info'!BX49","v":0}]
[{"$f":"'Product Info'!A50","v":0},{"$f":"'Product Info'!B50","v":0},{"$f":"'Product Info'!C50","v":0},null,null,null,null,null,null,null,null,null,null,null,null,null,null,null,null,null,null,null,null,null,null,null,null,null,null,null,null,null,null,null,0,{"$f":"'Product Info'!F50*('Daily Info (March)'!AI49)","v":0},null,null,{"$f":"AI49*('Product Info'!H50)","v":0},{"$f":"AI49*('Product Info'!M50+'Product Info'!P50+'Product Info'!S50+'Product Info'!V50+'Product Info'!Y50+'Product Info'!AB50+'Product Info'!AE50+'Product Info'!AH50+'Product Info'!AK50+'Product Info'!AN50+'Product Info'!AQ50+'Product Info'!AT50+'Product Info'!AW50+'Product Info'!AZ50+'Product Info'!BC50+'Product Info'!BF50+'Product Info'!BI50+'Product Info'!BL50+'Product Info'!BO50+'Product Info'!BR50+'Product Info'!BU50+'Product Info'!BX50+'Product Info'!CA50+'Product Info'!CD50+'Product Info'!CG50+'Product Info'!CJ50+'Product Info'!CM50+'Product Info'!CP50+'Product Info'!CS50+'Product Info'!CV50+'Product Info'!CY50+'Product Info'!DB50+'Product Info'!DE50+'Product Info'!DH50+'Product Info'!DK50+'Product Info'!DN50+'Product Info'!DQ50+'Product Info'!DT50+'Product Info'!DW50+'Product Info'!DZ50+'Product Info'!EC50+'Product Info'!EF50+'Product Info'!EI50+'Product Info'!EL50+'Product Info'!EO50+'Product Info'!ER50+'Product Info'!EU50+'Product Info'!EX50+'Product Info'!FA50+'Product Info'!FD50)","v":0},{"$f":"AI49*('Product Info'!M50)","v":0},{"$f":"AI49*'Product Info'!P50","v":0},{"$f":"AI49*'Product Info'!S50","v":0},{"$f":"AI49*'Product Info'!V50","v":0},{"$f":"AI49*'Product Info'!Y50","v":0},{"$f":"AI49*'Product Info'!AB50","v":0},{"$f":"AI49*'Product Info'!AE50","v":0},{"$f":"AI49*'Product Info'!AH50","v":0},{"$f":"AI49*'Product Info'!AK50","v":0},{"$f":"AI49*'Product Info'!AN50","v":0},{"$f":"AI49*'Product Info'!AQ50","v":0},{"$f":"AI49*'Product Info'!AT50","v":0},{"$f":"AI49*'Product Info'!AW50","v":0},{"$f":"AI49*'Product Info'!AZ50","v":0},{"$f":"AI49*'Product Info'!BC50","v":0},{"$f":"AI49*'Product Info'!BF50","v":0},{"$f":"AI49*'Product Info'!BI50","v":0},{"$f":"AI49*'Product Info'!BL50","v":0},{"$f":"AI49*'Product Info'!BO50","v":0},{"$f":"AI49*'Product Info'!BR50","v":0},{"$f":"AI49*'Product Info'!BU50","v":0},{"$f":"AI49*'Product Info'!BX50","v":0}]
[{"$f":"'Product Info'!A51","v":0},{"$f":"'Product Info'!B51","v":0},{"$f":"'Product Info'!C51","v":0},null,null,null,null,null,null,null,null,null,null,null,null,null,null,null,null,null,null,null,null,null,null,null,null,null,null,null,null,null,null,null,0,{"$f":"'Product Info'!F51*('Daily Info (March)'!AI50)","v":0},null,null,{"$f":"AI50*('Product Info'!H51)","v":0},{"$f":"AI50*('Product Info'!M51+'Product Info'!P51+'Product Info'!S51+'Product Info'!V51+'Product Info'!Y51+'Product Info'!AB51+'Product Info'!AE51+'Product Info'!AH51+'Product Info'!AK51+'Product Info'!AN51+'Product Info'!AQ51+'Product Info'!AT51+'Product Info'!AW51+'Product Info'!AZ51+'Product Info'!BC51+'Product Info'!BF51+'Product Info'!BI51+'Product Info'!BL51+'Product Info'!BO51+'Product Info'!BR51+'Product Info'!BU51+'Product Info'!BX51+'Product Info'!CA51+'Product Info'!CD51+'Product Info'!CG51+'Product Info'!CJ51+'Product Info'!CM51+'Product Info'!CP51+'Product Info'!CS51+'Product Info'!CV51+'Product Info'!CY51+'Product Info'!DB51+'Product Info'!DE51+'Product Info'!DH51+'Product Info'!DK51+'Product Info'!DN51+'Product Info'!DQ51+'Product Info'!DT51+'Product Info'!DW51+'Product Info'!DZ51+'Product Info'!EC51+'Product Info'!EF51+'Product Info'!EI51+'Product Info'!EL51+'Product Info'!EO51+'Product Info'!ER51+'Product Info'!EU51+'Product Info'!EX51+'Product Info'!FA51+'Product Info'!FD51)","v":0},{"$f":"AI50*('Product Info'!M51)","v":0},{"$f":"AI50*'Product Info'!P51","v":0},{"$f":"AI50*'Product Info'!S51","v":0},{"$f":"AI50*'Product Info'!V51","v":0},{"$f":"AI50*'Product Info'!Y51","v":0},{"$f":"AI50*'Product Info'!AB51","v":0},{"$f":"AI50*'Product Info'!AE51","v":0},{"$f":"AI50*'Product Info'!AH51","v":0},{"$f":"AI50*'Product Info'!AK51","v":0},{"$f":"AI50*'Product Info'!AN51","v":0},{"$f":"AI50*'Product Info'!AQ51","v":0},{"$f":"AI50*'Product Info'!AT51","v":0},{"$f":"AI50*'Product Info'!AW51","v":0},{"$f":"AI50*'Product Info'!AZ51","v":0},{"$f":"AI50*'Product Info'!BC51","v":0},{"$f":"AI50*'Product Info'!BF51","v":0},{"$f":"AI50*'Product Info'!BI51","v":0},{"$f":"AI50*'Product Info'!BL51","v":0},{"$f":"AI50*'Product Info'!BO51","v":0},{"$f":"AI50*'Product Info'!BR51","v":0},{"$f":"AI50*'Product Info'!BU51","v":0},{"$f":"AI50*'Product Info'!BX51","v":0}]
[{"$f":"'Product Info'!A52","v":0},{"$f":"'Product Info'!B52","v":0},{"$f":"'Product Info'!C52","v":0},null,null,null,null,null,null,null,null,null,null,null,null,null,null,null,null,null,null,null,null,null,null,null,null,null,null,null,null,null,null,null,0,{"$f":"'Product Info'!F52*('Daily Info (March)'!AI51)","v":0},null,null,{"$f":"AI51*('Product Info'!H52)","v":0},{"$f":"AI51*('Product Info'!M52+'Product Info'!P52+'Product Info'!S52+'Product Info'!V52+'Product Info'!Y52+'Product Info'!AB52+'Product Info'!AE52+'Product Info'!AH52+'Product Info'!AK52+'Product Info'!AN52+'Product Info'!AQ52+'Product Info'!AT52+'Product Info'!AW52+'Product Info'!AZ52+'Product Info'!BC52+'Product Info'!BF52+'Product Info'!BI52+'Product Info'!BL52+'Product Info'!BO52+'Product Info'!BR52+'Product Info'!BU52+'Product Info'!BX52+'Product Info'!CA52+'Product Info'!CD52+'Product Info'!CG52+'Product Info'!CJ52+'Product Info'!CM52+'Product Info'!CP52+'Product Info'!CS52+'Product Info'!CV52+'Product Info'!CY52+'Product Info'!DB52+'Product Info'!DE52+'Product Info'!DH52+'Product Info'!DK52+'Product Info'!DN52+'Product Info'!DQ52+'Product Info'!DT52+'Product Info'!DW52+'Product Info'!DZ52+'Product Info'!EC52+'Product Info'!EF52+'Product Info'!EI52+'Product Info'!EL52+'Product Info'!EO52+'Product Info'!ER52+'Product Info'!EU52+'Product Info'!EX52+'Product Info'!FA52+'Product Info'!FD52)","v":0},{"$f":"AI51*('Product Info'!M52)","v":0},{"$f":"AI51*'Product Info'!P52","v":0},{"$f":"AI51*'Product Info'!S52","v":0},{"$f":"AI51*'Product Info'!V52","v":0},{"$f":"AI51*'Product Info'!Y52","v":0},{"$f":"AI51*'Product Info'!AB52","v":0},{"$f":"AI51*'Product Info'!AE52","v":0},{"$f":"AI51*'Product Info'!AH52","v":0},{"$f":"AI51*'Product Info'!AK52","v":0},{"$f":"AI51*'Product Info'!AN52","v":0},{"$f":"AI51*'Product Info'!AQ52","v":0},{"$f":"AI51*'Product Info'!AT52","v":0},{"$f":"AI51*'Product Info'!AW52","v":0},{"$f":"AI51*'Product Info'!AZ52","v":0},{"$f":"AI51*'Product Info'!BC52","v":0},{"$f":"AI51*'Product Info'!BF52","v":0},{"$f":"AI51*'Product Info'!BI52","v":0},{"$f":"AI51*'Product Info'!BL52","v":0},{"$f":"AI51*'Product Info'!BO52","v":0},{"$f":"AI51*'Product Info'!BR52","v":0},{"$f":"AI51*'Product Info'!BU52","v":0},{"$f":"AI51*'Product Info'!BX52","v":0}]
[{"$f":"'Product Info'!A53","v":0},{"$f":"'Product Info'!B53","v":0},{"$f":"'Product Info'!C53","v":0},null,null,null,null,null,null,null,null,null,null,null,null,null,null,null,null,null,null,null,null,null,null,null,null,null,null,null,null,null,null,null,0,{"$f":"'Product Info'!F53*('Daily Info (March)'!AI52)","v":0},null,null,{"$f":"AI52*('Product Info'!H53)","v":0},{"$f":"AI52*('Product Info'!M53+'Product Info'!P53+'Product Info'!S53+'Product Info'!V53+'Product Info'!Y53+'Product Info'!AB53+'Product Info'!AE53+'Product Info'!AH53+'Product Info'!AK53+'Product Info'!AN53+'Product Info'!AQ53+'Product Info'!AT53+'Product Info'!AW53+'Product Info'!AZ53+'Product Info'!BC53+'Product Info'!BF53+'Product Info'!BI53+'Product Info'!BL53+'Product Info'!BO53+'Product Info'!BR53+'Product Info'!BU53+'Product Info'!BX53+'Product Info'!CA53+'Product Info'!CD53+'Product Info'!CG53+'Product Info'!CJ53+'Product Info'!CM53+'Product Info'!CP53+'Product Info'!CS53+'Product Info'!CV53+'Product Info'!CY53+'Product Info'!DB53+'Product Info'!DE53+'Product Info'!DH53+'Product Info'!DK53+'Product Info'!DN53+'Product Info'!DQ53+'Product Info'!DT53+'Product Info'!DW53+'Product Info'!DZ53+'Product Info'!EC53+'Product Info'!EF53+'Product Info'!EI53+'Product Info'!EL53+'Product Info'!EO53+'Product Info'!ER53+'Product Info'!EU53+'Product Info'!EX53+'Product Info'!FA53+'Product Info'!FD53)","v":0},{"$f":"AI52*('Product Info'!M53)","v":0},{"$f":"AI52*'Product Info'!P53","v":0},{"$f":"AI52*'Product Info'!S53","v":0},{"$f":"AI52*'Product Info'!V53","v":0},{"$f":"AI52*'Product Info'!Y53","v":0},{"$f":"AI52*'Product Info'!AB53","v":0},{"$f":"AI52*'Product Info'!AE53","v":0},{"$f":"AI52*'Product Info'!AH53","v":0},{"$f":"AI52*'Product Info'!AK53","v":0},{"$f":"AI52*'Product Info'!AN53","v":0},{"$f":"AI52*'Product Info'!AQ53","v":0},{"$f":"AI52*'Product Info'!AT53","v":0},{"$f":"AI52*'Product Info'!AW53","v":0},{"$f":"AI52*'Product Info'!AZ53","v":0},{"$f":"AI52*'Product Info'!BC53","v":0},{"$f":"AI52*'Product Info'!BF53","v":0},{"$f":"AI52*'Product Info'!BI53","v":0},{"$f":"AI52*'Product Info'!BL53","v":0},{"$f":"AI52*'Product Info'!BO53","v":0},{"$f":"AI52*'Product Info'!BR53","v":0},{"$f":"AI52*'Product Info'!BU53","v":0},{"$f":"AI52*'Product Info'!BX53","v":0}]
[{"$f":"'Product Info'!A54","v":0},{"$f":"'Product Info'!B54","v":0},{"$f":"'Product Info'!C54","v":0},null,null,null,null,null,null,null,null,null,null,null,null,null,null,null,null,null,null,null,null,null,null,null,null,null,null,null,null,null,null,null,0,{"$f":"'Product Info'!F54*('Daily Info (March)'!AI53)","v":0},null,null,{"$f":"AI53*('Product Info'!H54)","v":0},{"$f":"AI53*('Product Info'!M54+'Product Info'!P54+'Product Info'!S54+'Product Info'!V54+'Product Info'!Y54+'Product Info'!AB54+'Product Info'!AE54+'Product Info'!AH54+'Product Info'!AK54+'Product Info'!AN54+'Product Info'!AQ54+'Product Info'!AT54+'Product Info'!AW54+'Product Info'!AZ54+'Product Info'!BC54+'Product Info'!BF54+'Product Info'!BI54+'Product Info'!BL54+'Product Info'!BO54+'Product Info'!BR54+'Product Info'!BU54+'Product Info'!BX54+'Product Info'!CA54+'Product Info'!CD54+'Product Info'!CG54+'Product Info'!CJ54+'Product Info'!CM54+'Product Info'!CP54+'Product Info'!CS54+'Product Info'!CV54+'Product Info'!CY54+'Product Info'!DB54+'Product Info'!DE54+'Product Info'!DH54+'Product Info'!DK54+'Product Info'!DN54+'Product Info'!DQ54+'Product Info'!DT54+'Product Info'!DW54+'Product Info'!DZ54+'Product Info'!EC54+'Product Info'!EF54+'Product Info'!EI54+'Product Info'!EL54+'Product Info'!EO54+'Product Info'!ER54+'Product Info'!EU54+'Product Info'!EX54+'Product Info'!FA54+'Product Info'!FD54)","v":0},{"$f":"AI53*('Product Info'!M54)","v":0},{"$f":"AI53*'Product Info'!P54","v":0},{"$f":"AI53*'Product Info'!S54","v":0},{"$f":"AI53*'Product Info'!V54","v":0},{"$f":"AI53*'Product Info'!Y54","v":0},{"$f":"AI53*'Product Info'!AB54","v":0},{"$f":"AI53*'Product Info'!AE54","v":0},{"$f":"AI53*'Product Info'!AH54","v":0},{"$f":"AI53*'Product Info'!AK54","v":0},{"$f":"AI53*'Product Info'!AN54","v":0},{"$f":"AI53*'Product Info'!AQ54","v":0},{"$f":"AI53*'Product Info'!AT54","v":0},{"$f":"AI53*'Product Info'!AW54","v":0},{"$f":"AI53*'Product Info'!AZ54","v":0},{"$f":"AI53*'Product Info'!BC54","v":0},{"$f":"AI53*'Product Info'!BF54","v":0},{"$f":"AI53*'Product Info'!BI54","v":0},{"$f":"AI53*'Product Info'!BL54","v":0},{"$f":"AI53*'Product Info'!BO54","v":0},{"$f":"AI53*'Product Info'!BR54","v":0},{"$f":"AI53*'Product Info'!BU54","v":0},{"$f":"AI53*'Product Info'!BX54","v":0}]
[{"$f":"'Product Info'!A55","v":0},{"$f":"'Product Info'!B55","v":0},{"$f":"'Product Info'!C55","v":0},null,null,null,null,null,null,null,null,null,null,null,null,null,null,null,null,null,null,null,null,null,null,null,null,null,null,null,null,null,null,null,0,{"$f":"'Product Info'!F55*('Daily Info (March)'!AI54)","v":0},null,null,{"$f":"AI54*('Product Info'!H55)","v":0},{"$f":"AI54*('Product Info'!M55+'Product Info'!P55+'Product Info'!S55+'Product Info'!V55+'Product Info'!Y55+'Product Info'!AB55+'Product Info'!AE55+'Product Info'!AH55+'Product Info'!AK55+'Product Info'!AN55+'Product Info'!AQ55+'Product Info'!AT55+'Product Info'!AW55+'Product Info'!AZ55+'Product Info'!BC55+'Product Info'!BF55+'Product Info'!BI55+'Product Info'!BL55+'Product Info'!BO55+'Product Info'!BR55+'Product Info'!BU55+'Product Info'!BX55+'Product Info'!CA55+'Product Info'!CD55+'Product Info'!CG55+'Product Info'!CJ55+'Product Info'!CM55+'Product Info'!CP55+'Product Info'!CS55+'Product Info'!CV55+'Product Info'!CY55+'Product Info'!DB55+'Product Info'!DE55+'Product Info'!DH55+'Product Info'!DK55+'Product Info'!DN55+'Product Info'!DQ55+'Product Info'!DT55+'Product Info'!DW55+'Product Info'!DZ55+'Product Info'!EC55+'Product Info'!EF55+'Product Info'!EI55+'Product Info'!EL55+'Product Info'!EO55+'Product Info'!ER55+'Product Info'!EU55+'Product Info'!EX55+'Product Info'!FA55+'Product Info'!FD55)","v":0},{"$f":"AI54*('Product Info'!M55)","v":0},{"$f":"AI54*'Product Info'!P55","v":0},{"$f":"AI54*'Product Info'!S55","v":0},{"$f":"AI54*'Product Info'!V55","v":0},{"$f":"AI54*'Product Info'!Y55","v":0},{"$f":"AI54*'Product Info'!AB55","v":0},{"$f":"AI54*'Product Info'!AE55","v":0},{"$f":"AI54*'Product Info'!AH55","v":0},{"$f":"AI54*'Product Info'!AK55","v":0},{"$f":"AI54*'Product Info'!AN55","v":0},{"$f":"AI54*'Product Info'!AQ55","v":0},{"$f":"AI54*'Product Info'!AT55","v":0},{"$f":"AI54*'Product Info'!AW55","v":0},{"$f":"AI54*'Product Info'!AZ55","v":0},{"$f":"AI54*'Product Info'!BC55","v":0},{"$f":"AI54*'Product Info'!BF55","v":0},{"$f":"AI54*'Product Info'!BI55","v":0},{"$f":"AI54*'Product Info'!BL55","v":0},{"$f":"AI54*'Product Info'!BO55","v":0},{"$f":"AI54*'Product Info'!BR55","v":0},{"$f":"AI54*'Product Info'!BU55","v":0},{"$f":"AI54*'Product Info'!BX55","v":0}]
[{"$f":"'Product Info'!A56","v":0},{"$f":"'Product Info'!B56","v":0},{"$f":"'Product Info'!C56","v":0},null,null,null,null,null,null,null,null,null,null,null,null,null,null,null,null,null,null,null,null,null,null,null,null,null,null,null,null,null,null,null,0,{"$f":"'Product Info'!F56*('Daily Info (March)'!AI55)","v":0},null,null,{"$f":"AI55*('Product Info'!H56)","v":0},{"$f":"AI55*('Product Info'!M56+'Product Info'!P56+'Product Info'!S56+'Product Info'!V56+'Product Info'!Y56+'Product Info'!AB56+'Product Info'!AE56+'Product Info'!AH56+'Product Info'!AK56+'Product Info'!AN56+'Product Info'!AQ56+'Product Info'!AT56+'Product Info'!AW56+'Product Info'!AZ56+'Product Info'!BC56+'Product Info'!BF56+'Product Info'!BI56+'Product Info'!BL56+'Product Info'!BO56+'Product Info'!BR56+'Product Info'!BU56+'Product Info'!BX56+'Product Info'!CA56+'Product Info'!CD56+'Product Info'!CG56+'Product Info'!CJ56+'Product Info'!CM56+'Product Info'!CP56+'Product Info'!CS56+'Product Info'!CV56+'Product Info'!CY56+'Product Info'!DB56+'Product Info'!DE56+'Product Info'!DH56+'Product Info'!DK56+'Product Info'!DN56+'Product Info'!DQ56+'Product Info'!DT56+'Product Info'!DW56+'Product Info'!DZ56+'Product Info'!EC56+'Product Info'!EF56+'Product Info'!EI56+'Product Info'!EL56+'Product Info'!EO56+'Product Info'!ER56+'Product Info'!EU56+'Product Info'!EX56+'Product Info'!FA56+'Product Info'!FD56)","v":0},{"$f":"AI55*('Product Info'!M56)","v":0},{"$f":"AI55*'Product Info'!P56","v":0},{"$f":"AI55*'Product Info'!S56","v":0},{"$f":"AI55*'Product Info'!V56","v":0},{"$f":"AI55*'Product Info'!Y56","v":0},{"$f":"AI55*'Product Info'!AB56","v":0},{"$f":"AI55*'Product Info'!AE56","v":0},{"$f":"AI55*'Product Info'!AH56","v":0},{"$f":"AI55*'Product Info'!AK56","v":0},{"$f":"AI55*'Product Info'!AN56","v":0},{"$f":"AI55*'Product Info'!AQ56","v":0},{"$f":"AI55*'Product Info'!AT56","v":0},{"$f":"AI55*'Product Info'!AW56","v":0},{"$f":"AI55*'Product Info'!AZ56","v":0},{"$f":"AI55*'Product Info'!BC56","v":0},{"$f":"AI55*'Product Info'!BF56","v":0},{"$f":"AI55*'Product Info'!BI56","v":0},{"$f":"AI55*'Product Info'!BL56","v":0},{"$f":"AI55*'Product Info'!BO56","v":0},{"$f":"AI55*'Product Info'!BR56","v":0},{"$f":"AI55*'Product Info'!BU56","v":0},{"$f":"AI55*'Product Info'!BX56","v":0}]
[{"$f":"'Product Info'!A57","v":0},{"$f":"'Product Info'!B57","v":0},{"$f":"'Product Info'!C57","v":0},null,null,null,null,null,null,null,null,null,null,null,null,null,null,null,null,null,null,null,null,null,null,null,null,null,null,null,null,null,null,null,0,{"$f":"'Product Info'!F57*('Daily Info (March)'!AI56)","v":0},null,null,{"$f":"AI56*('Product Info'!H57)","v":0},{"$f":"AI56*('Product Info'!M57+'Product Info'!P57+'Product Info'!S57+'Product Info'!V57+'Product Info'!Y57+'Product Info'!AB57+'Product Info'!AE57+'Product Info'!AH57+'Product Info'!AK57+'Product Info'!AN57+'Product Info'!AQ57+'Product Info'!AT57+'Product Info'!AW57+'Product Info'!AZ57+'Product Info'!BC57+'Product Info'!BF57+'Product Info'!BI57+'Product Info'!BL57+'Product Info'!BO57+'Product Info'!BR57+'Product Info'!BU57+'Product Info'!BX57+'Product Info'!CA57+'Product Info'!CD57+'Product Info'!CG57+'Product Info'!CJ57+'Product Info'!CM57+'Product Info'!CP57+'Product Info'!CS57+'Product Info'!CV57+'Product Info'!CY57+'Product Info'!DB57+'Product Info'!DE57+'Product Info'!DH57+'Product Info'!DK57+'Product Info'!DN57+'Product Info'!DQ57+'Product Info'!DT57+'Product Info'!DW57+'Product Info'!DZ57+'Product Info'!EC57+'Product Info'!EF57+'Product Info'!EI57+'Product Info'!EL57+'Product Info'!EO57+'Product Info'!ER57+'Product Info'!EU57+'Product Info'!EX57+'Product Info'!FA57+'Product Info'!FD57)","v":0},{"$f":"AI56*('Product Info'!M57)","v":0},{"$f":"AI56*'Product Info'!P57","v":0},{"$f":"AI56*'Product Info'!S57","v":0},{"$f":"AI56*'Product Info'!V57","v":0},{"$f":"AI56*'Product Info'!Y57","v":0},{"$f":"AI56*'Product Info'!AB57","v":0},{"$f":"AI56*'Product Info'!AE57","v":0},{"$f":"AI56*'Product Info'!AH57","v":0},{"$f":"AI56*'Product Info'!AK57","v":0},{"$f":"AI56*'Product Info'!AN57","v":0},{"$f":"AI56*'Product Info'!AQ57","v":0},{"$f":"AI56*'Product Info'!AT57","v":0},{"$f":"AI56*'Product Info'!AW57","v":0},{"$f":"AI56*'Product Info'!AZ57","v":0},{"$f":"AI56*'Product Info'!BC57","v":0},{"$f":"AI56*'Product Info'!BF57","v":0},{"$f":"AI56*'Product Info'!BI57","v":0},{"$f":"AI56*'Product Info'!BL57","v":0},{"$f":"AI56*'Product Info'!BO57","v":0},{"$f":"AI56*'Product Info'!BR57","v":0},{"$f":"AI56*'Product Info'!BU57","v":0},{"$f":"AI56*'Product Info'!BX57","v":0}]
[{"$f":"'Product Info'!A58","v":0},{"$f":"'Product Info'!B58","v":0},{"$f":"'Product Info'!C58","v":0},null,null,null,null,null,null,null,null,null,null,null,null,null,null,null,null,null,null,null,null,null,null,null,null,null,null,null,null,null,null,null,0,{"$f":"'Product Info'!F58*('Daily Info (March)'!AI57)","v":0},null,null,{"$f":"AI57*('Product Info'!H58)","v":0},{"$f":"AI57*('Product Info'!M58+'Product Info'!P58+'Product Info'!S58+'Product Info'!V58+'Product Info'!Y58+'Product Info'!AB58+'Product Info'!AE58+'Product Info'!AH58+'Product Info'!AK58+'Product Info'!AN58+'Product Info'!AQ58+'Product Info'!AT58+'Product Info'!AW58+'Product Info'!AZ58+'Product Info'!BC58+'Product Info'!BF58+'Product Info'!BI58+'Product Info'!BL58+'Product Info'!BO58+'Product Info'!BR58+'Product Info'!BU58+'Product Info'!BX58+'Product Info'!CA58+'Product Info'!CD58+'Product Info'!CG58+'Product Info'!CJ58+'Product Info'!CM58+'Product Info'!CP58+'Product Info'!CS58+'Product Info'!CV58+'Product Info'!CY58+'Product Info'!DB58+'Product Info'!DE58+'Product Info'!DH58+'Product Info'!DK58+'Product Info'!DN58+'Product Info'!DQ58+'Product Info'!DT58+'Product Info'!DW58+'Product Info'!DZ58+'Product Info'!EC58+'Product Info'!EF58+'Product Info'!EI58+'Product Info'!EL58+'Product Info'!EO58+'Product Info'!ER58+'Product Info'!EU58+'Product Info'!EX58+'Product Info'!FA58+'Product Info'!FD58)","v":0},{"$f":"AI57*('Product Info'!M58)","v":0},{"$f":"AI57*'Product Info'!P58","v":0},{"$f":"AI57*'Product Info'!S58","v":0},{"$f":"AI57*'Product Info'!V58","v":0},{"$f":"AI57*'Product Info'!Y58","v":0},{"$f":"AI57*'Product Info'!AB58","v":0},{"$f":"AI57*'Product Info'!AE58","v":0},{"$f":"AI57*'Product Info'!AH58","v":0},{"$f":"AI57*'Product Info'!AK58","v":0},{"$f":"AI57*'Product Info'!AN58","v":0},{"$f":"AI57*'Product Info'!AQ58","v":0},{"$f":"AI57*'Product Info'!AT58","v":0},{"$f":"AI57*'Product Info'!AW58","v":0},{"$f":"AI57*'Product Info'!AZ58","v":0},{"$f":"AI57*'Product Info'!BC58","v":0},{"$f":"AI57*'Product Info'!BF58","v":0},{"$f":"AI57*'Product Info'!BI58","v":0},{"$f":"AI57*'Product Info'!BL58","v":0},{"$f":"AI57*'Product Info'!BO58","v":0},{"$f":"AI57*'Product Info'!BR58","v":0},{"$f":"AI57*'Product Info'!BU58","v":0},{"$f":"AI57*'Product Info'!BX58","v":0}]
[{"$f":"'Product Info'!A59","v":0},{"$f":"'Product Info'!B59","v":0},{"$f":"'Product Info'!C59","v":0},null,null,null,null,null,null,null,null,null,null,null,null,null,null,null,null,null,null,null,null,null,null,null,null,null,null,null,null,null,null,null,0,{"$f":"'Product Info'!F59*('Daily Info (March)'!AI58)","v":0},null,null,{"$f":"AI58*('Product Info'!H59)","v":0},{"$f":"AI58*('Product Info'!M59+'Product Info'!P59+'Product Info'!S59+'Product Info'!V59+'Product Info'!Y59+'Product Info'!AB59+'Product Info'!AE59+'Product Info'!AH59+'Product Info'!AK59+'Product Info'!AN59+'Product Info'!AQ59+'Product Info'!AT59+'Product Info'!AW59+'Product Info'!AZ59+'Product Info'!BC59+'Product Info'!BF59+'Product Info'!BI59+'Product Info'!BL59+'Product Info'!BO59+'Product Info'!BR59+'Product Info'!BU59+'Product Info'!BX59+'Product Info'!CA59+'Product Info'!CD59+'Product Info'!CG59+'Product Info'!CJ59+'Product Info'!CM59+'Product Info'!CP59+'Product Info'!CS59+'Product Info'!CV59+'Product Info'!CY59+'Product Info'!DB59+'Product Info'!DE59+'Product Info'!DH59+'Product Info'!DK59+'Product Info'!DN59+'Product Info'!DQ59+'Product Info'!DT59+'Product Info'!DW59+'Product Info'!DZ59+'Product Info'!EC59+'Product Info'!EF59+'Product Info'!EI59+'Product Info'!EL59+'Product Info'!EO59+'Product Info'!ER59+'Product Info'!EU59+'Product Info'!EX59+'Product Info'!FA59+'Product Info'!FD59)","v":0},{"$f":"AI58*('Product Info'!M59)","v":0},{"$f":"AI58*'Product Info'!P59","v":0},{"$f":"AI58*'Product Info'!S59","v":0},{"$f":"AI58*'Product Info'!V59","v":0},{"$f":"AI58*'Product Info'!Y59","v":0},{"$f":"AI58*'Product Info'!AB59","v":0},{"$f":"AI58*'Product Info'!AE59","v":0},{"$f":"AI58*'Product Info'!AH59","v":0},{"$f":"AI58*'Product Info'!AK59","v":0},{"$f":"AI58*'Product Info'!AN59","v":0},{"$f":"AI58*'Product Info'!AQ59","v":0},{"$f":"AI58*'Product Info'!AT59","v":0},{"$f":"AI58*'Product Info'!AW59","v":0},{"$f":"AI58*'Product Info'!AZ59","v":0},{"$f":"AI58*'Product Info'!BC59","v":0},{"$f":"AI58*'Product Info'!BF59","v":0},{"$f":"AI58*'Product Info'!BI59","v":0},{"$f":"AI58*'Product Info'!BL59","v":0},{"$f":"AI58*'Product Info'!BO59","v":0},{"$f":"AI58*'Product Info'!BR59","v":0},{"$f":"AI58*'Product Info'!BU59","v":0},{"$f":"AI58*'Product Info'!BX59","v":0}]
[{"$f":"'Product Info'!A60","v":0},{"$f":"'Product Info'!B60","v":0},{"$f":"'Product Info'!C60","v":0},null,null,null,null,null,null,null,null,null,null,null,null,null,null,null,null,null,null,null,null,null,null,null,null,null,null,null,null,null,null,null,0,{"$f":"'Product Info'!F60*('Daily Info (March)'!AI59)","v":0},null,null,{"$f":"AI59*('Product Info'!H60)","v":0},{"$f":"AI59*('Product Info'!M60+'Product Info'!P60+'Product Info'!S60+'Product Info'!V60+'Product Info'!Y60+'Product Info'!AB60+'Product Info'!AE60+'Product Info'!AH60+'Product Info'!AK60+'Product Info'!AN60+'Product Info'!AQ60+'Product Info'!AT60+'Product Info'!AW60+'Product Info'!AZ60+'Product Info'!BC60+'Product Info'!BF60+'Product Info'!BI60+'Product Info'!BL60+'Product Info'!BO60+'Product Info'!BR60+'Product Info'!BU60+'Product Info'!BX60+'Product Info'!CA60+'Product Info'!CD60+'Product Info'!CG60+'Product Info'!CJ60+'Product Info'!CM60+'Product Info'!CP60+'Product Info'!CS60+'Product Info'!CV60+'Product Info'!CY60+'Product Info'!DB60+'Product Info'!DE60+'Product Info'!DH60+'Product Info'!DK60+'Product Info'!DN60+'Product Info'!DQ60+'Product Info'!DT60+'Product Info'!DW60+'Product Info'!DZ60+'Product Info'!EC60+'Product Info'!EF60+'Product Info'!EI60+'Product Info'!EL60+'Product Info'!EO60+'Product Info'!ER60+'Product Info'!EU60+'Product Info'!EX60+'Product Info'!FA60+'Product Info'!FD60)","v":0},{"$f":"AI59*('Product Info'!M60)","v":0},{"$f":"AI59*'Product Info'!P60","v":0},{"$f":"AI59*'Product Info'!S60","v":0},{"$f":"AI59*'Product Info'!V60","v":0},{"$f":"AI59*'Product Info'!Y60","v":0},{"$f":"AI59*'Product Info'!AB60","v":0},{"$f":"AI59*'Product Info'!AE60","v":0},{"$f":"AI59*'Product Info'!AH60","v":0},{"$f":"AI59*'Product Info'!AK60","v":0},{"$f":"AI59*'Product Info'!AN60","v":0},{"$f":"AI59*'Product Info'!AQ60","v":0},{"$f":"AI59*'Product Info'!AT60","v":0},{"$f":"AI59*'Product Info'!AW60","v":0},{"$f":"AI59*'Product Info'!AZ60","v":0},{"$f":"AI59*'Product Info'!BC60","v":0},{"$f":"AI59*'Product Info'!BF60","v":0},{"$f":"AI59*'Product Info'!BI60","v":0},{"$f":"AI59*'Product Info'!BL60","v":0},{"$f":"AI59*'Product Info'!BO60","v":0},{"$f":"AI59*'Product Info'!BR60","v":0},{"$f":"AI59*'Product Info'!BU60","v":0},{"$f":"AI59*'Product Info'!BX60","v":0}]
[{"$f":"'Product Info'!A61","v":0},{"$f":"'Product Info'!B61","v":0},{"$f":"'Product Info'!C61","v":0},null,null,null,null,null,null,null,null,null,null,null,null,null,null,null,null,null,null,null,null,null,null,null,null,null,null,null,null,null,null,null,0,{"$f":"'Product Info'!F61*('Daily Info (March)'!AI60)","v":0},null,null,{"$f":"AI60*('Product Info'!H61)","v":0},{"$f":"AI60*('Product Info'!M61+'Product Info'!P61+'Product Info'!S61+'Product Info'!V61+'Product Info'!Y61+'Product Info'!AB61+'Product Info'!AE61+'Product Info'!AH61+'Product Info'!AK61+'Product Info'!AN61+'Product Info'!AQ61+'Product Info'!AT61+'Product Info'!AW61+'Product Info'!AZ61+'Product Info'!BC61+'Product Info'!BF61+'Product Info'!BI61+'Product Info'!BL61+'Product Info'!BO61+'Product Info'!BR61+'Product Info'!BU61+'Product Info'!BX61+'Product Info'!CA61+'Product Info'!CD61+'Product Info'!CG61+'Product Info'!CJ61+'Product Info'!CM61+'Product Info'!CP61+'Product Info'!CS61+'Product Info'!CV61+'Product Info'!CY61+'Product Info'!DB61+'Product Info'!DE61+'Product Info'!DH61+'Product Info'!DK61+'Product Info'!DN61+'Product Info'!DQ61+'Product Info'!DT61+'Product Info'!DW61+'Product Info'!DZ61+'Product Info'!EC61+'Product Info'!EF61+'Product Info'!EI61+'Product Info'!EL61+'Product Info'!EO61+'Product Info'!ER61+'Product Info'!EU61+'Product Info'!EX61+'Product Info'!FA61+'Product Info'!FD61)","v":0},{"$f":"AI60*('Product Info'!M61)","v":0},{"$f":"AI60*'Product Info'!P61","v":0},{"$f":"AI60*'Product Info'!S61","v":0},{"$f":"AI60*'Product Info'!V61","v":0},{"$f":"AI60*'Product Info'!Y61","v":0},{"$f":"AI60*'Product Info'!AB61","v":0},{"$f":"AI60*'Product Info'!AE61","v":0},{"$f":"AI60*'Product Info'!AH61","v":0},{"$f":"AI60*'Product Info'!AK61","v":0},{"$f":"AI60*'Product Info'!AN61","v":0},{"$f":"AI60*'Product Info'!AQ61","v":0},{"$f":"AI60*'Product Info'!AT61","v":0},{"$f":"AI60*'Product Info'!AW61","v":0},{"$f":"AI60*'Product Info'!AZ61","v":0},{"$f":"AI60*'Product Info'!BC61","v":0},{"$f":"AI60*'Product Info'!BF61","v":0},{"$f":"AI60*'Product Info'!BI61","v":0},{"$f":"AI60*'Product Info'!BL61","v":0},{"$f":"AI60*'Product Info'!BO61","v":0},{"$f":"AI60*'Product Info'!BR61","v":0},{"$f":"AI60*'Product Info'!BU61","v":0},{"$f":"AI60*'Product Info'!BX61","v":0}]
[{"$f":"'Product Info'!A62","v":0},{"$f":"'Product Info'!B62","v":0},{"$f":"'Product Info'!C62","v":0},null,null,null,null,null,null,null,null,null,null,null,null,null,null,null,null,null,null,null,null,null,null,null,null,null,null,null,null,null,null,null,0,{"$f":"'Product Info'!F62*('Daily Info (March)'!AI61)","v":0},null,null,{"$f":"AI61*('Product Info'!H62)","v":0},{"$f":"AI61*('Product Info'!M62+'Product Info'!P62+'Product Info'!S62+'Product Info'!V62+'Product Info'!Y62+'Product Info'!AB62+'Product Info'!AE62+'Product Info'!AH62+'Product Info'!AK62+'Product Info'!AN62+'Product Info'!AQ62+'Product Info'!AT62+'Product Info'!AW62+'Product Info'!AZ62+'Product Info'!BC62+'Product Info'!BF62+'Product Info'!BI62+'Product Info'!BL62+'Product Info'!BO62+'Product Info'!BR62+'Product Info'!BU62+'Product Info'!BX62+'Product Info'!CA62+'Product Info'!CD62+'Product Info'!CG62+'Product Info'!CJ62+'Product Info'!CM62+'Product Info'!CP62+'Product Info'!CS62+'Product Info'!CV62+'Product Info'!CY62+'Product Info'!DB62+'Product Info'!DE62+'Product Info'!DH62+'Product Info'!DK62+'Product Info'!DN62+'Product Info'!DQ62+'Product Info'!DT62+'Product Info'!DW62+'Product Info'!DZ62+'Product Info'!EC62+'Product Info'!EF62+'Product Info'!EI62+'Product Info'!EL62+'Product Info'!EO62+'Product Info'!ER62+'Product Info'!EU62+'Product Info'!EX62+'Product Info'!FA62+'Product Info'!FD62)","v":0},{"$f":"AI61*('Product Info'!M62)","v":0},{"$f":"AI61*'Product Info'!P62","v":0},{"$f":"AI61*'Product Info'!S62","v":0},{"$f":"AI61*'Product Info'!V62","v":0},{"$f":"AI61*'Product Info'!Y62","v":0},{"$f":"AI61*'Product Info'!AB62","v":0},{"$f":"AI61*'Product Info'!AE62","v":0},{"$f":"AI61*'Product Info'!AH62","v":0},{"$f":"AI61*'Product Info'!AK62","v":0},{"$f":"AI61*'Product Info'!AN62","v":0},{"$f":"AI61*'Product Info'!AQ62","v":0},{"$f":"AI61*'Product Info'!AT62","v":0},{"$f":"AI61*'Product Info'!AW62","v":0},{"$f":"AI61*'Product Info'!AZ62","v":0},{"$f":"AI61*'Product Info'!BC62","v":0},{"$f":"AI61*'Product Info'!BF62","v":0},{"$f":"AI61*'Product Info'!BI62","v":0},{"$f":"AI61*'Product Info'!BL62","v":0},{"$f":"AI61*'Product Info'!BO62","v":0},{"$f":"AI61*'Product Info'!BR62","v":0},{"$f":"AI61*'Product Info'!BU62","v":0},{"$f":"AI61*'Product Info'!BX62","v":0}]
["TOTALS for March",null,null,null,null,null,null,null,null,null,null,null,null,null,null,null,null,null,null,null,null,null,null,null,null,null,null,null,null,null,null,null,null,null,{"$f":"SUM(AI4:AI18)","v":0},{"$f":"SUM(AJ4:AJ18)","v":0},null,null,{"$f":"SUM(AM4:AM18)","v":0},{"$f":"SUM(AN4:AN18)","v":0},0,0,0,0,0,0,0,0,0,0,0,0,0,0,0,0,0,0,0,0,0,0]

{"sheet":"Daily Info (April)","index":5,"n_rows":62,"n_cols":61,"rows_kept":62,"cut":false,"hidden":false,"merged":[[0,3,0,12],[0,37,0,38],[61,0,61,1],[61,3,61,32],[1,34,1,35],[3,34,3,35],[4,34,4,35],[5,34,5,35],[6,34,6,35],[7,34,7,35],[19,34,19,35],[8,34,8,35],[9,34,9,35],[10,34,10,35],[11,34,11,35],[12,34,12,35],[13,34,13,35],[14,34,14,35],[15,34,15,35],[16,34,16,35],[17,34,17,35],[18,34,18,35],[31,34,31,35],[20,34,20,35],[21,34,21,35],[22,34,22,35],[23,34,23,35],[24,34,24,35],[25,34,25,35],[26,34,26,35],[27,34,27,35],[28,34,28,35],[29,34,29,35],[30,34,30,35],[43,34,43,35],[32,34,32,35],[33,34,33,35],[34,34,34,35],[35,34,35,35],[36,34,36,35],[37,34,37,35],[38,34,38,35],[39,34,39,35],[40,34,40,35],[41,34,41,35],[42,34,42,35],[55,34,55,35],[44,34,44,35],[45,34,45,35],[46,34,46,35],[47,34,47,35],[48,34,48,35],[49,34,49,35],[50,34,50,35],[51,34,51,35],[52,34,52,35],[53,34,53,35],[54,34,54,35],[60,34,60,35],[61,34,61,35],[56,34,56,35],[57,34,57,35],[58,34,58,35],[59,34,59,35]]}
["Main Menu","VOC Product Information",null,"Daily Usage (gal)",null,null,null,null,null,null,null,null,null,null,null,null,null,null,null,null,null,null,null,null,null,"Daily Usage (gal)",null,null,null,null,null,null,null,null,null,null,null,"Emissions"]
["Product Number","Product Name ","Product Type","2006-04-01","2006-04-02","2006-04-03","2006-04-04","2006-04-05","2006-04-06","2006-04-07","2006-04-08","2006-04-09","2006-04-10","2006-04-11","2006-04-12","2006-04-13","2006-04-14","2006-04-15","2006-04-16","2006-04-17","2006-04-18","2006-04-19","2006-04-20","2006-04-21","2006-04-22","2006-04-23","2006-04-24","2006-04-25","2006-04-26","2006-04-27","2006-04-28","2006-04-29","2006-04-30","Total Usage (gal)","Total Usage (lbs)",null,null,"Pounds VOCs Emitted","Pounds Total HAPs Emitted",{"$f":"'Product Info'!K3","v":0},{"$f":"'Product Info'!N3","v":0},{"$f":"'Product Info'!Q3","v":0},{"$f":"'Product Info'!T3","v":0},{"$f":"'Product Info'!W3","v":0},{"$f":"'Product Info'!Z3","v":0},{"$f":"'Product Info'!AC3","v":0},{"$f":"'Product Info'!AF3","v":0},{"$f":"'Product Info'!AI3","v":0},{"$f":"'Product Info'!AL3","v":0},{"$f":"'Product Info'!AO3","v":0},{"$f":"'Product Info'!AR3","v":0},{"$f":"'Product Info'!AU3","v":0},{"$f":"'Product Info'!AX3","v":0},{"$f":"'Product Info'!BA3","v":0},{"$f":"'Product Info'!BD3","v":0},{"$f":"'Product Info'!BG3","v":0},{"$f":"'Product Info'!BJ3","v":0},{"$f":"'Product Info'!BM3","v":0},{"$f":"'Product Info'!BP3","v":0},{"$f":"'Product Info'!BS3","v":0},{"$f":"'Product Info'!BV3","v":0}]
[]
[{"$f":"'Product Info'!A5","v":0},{"$f":"'Product Info'!B5","v":0},{"$f":"'Product Info'!C5","v":0},null,null,null,null,null,null,null,null,null,null,null,null,null,null,null,null,null,null,null,null,null,null,null,null,null,null,null,null,null,null,{"$f":"SUM(D4:AG4)","v":0},{"$f":"'Product Info'!F5*('Daily Info (April)'!AH4)","v":0},null,null,{"$f":"AH4*('Product Info'!H5)","v":0},{"$f":"AH4*('Product Info'!M5+'Product Info'!P5+'Product Info'!S5+'Product Info'!V5+'Product Info'!Y5+'Product Info'!AB5+'Product Info'!AE5+'Product Info'!AH5+'Product Info'!AK5+'Product Info'!AN5+'Product Info'!AQ5+'Product Info'!AT5+'Product Info'!AW5+'Product Info'!AZ5+'Product Info'!BC5+'Product Info'!BF5+'Product Info'!BI5+'Product Info'!BL5+'Product Info'!BO5+'Product Info'!BR5+'Product Info'!BU5+'Product Info'!BX5+'Product Info'!CA5+'Product Info'!CD5+'Product Info'!CG5+'Product Info'!CJ5+'Product Info'!CM5+'Product Info'!CP5+'Product Info'!CS5+'Product Info'!CV5+'Product Info'!CY5+'Product Info'!DB5+'Product Info'!DE5+'Product Info'!DH5+'Product Info'!DK5+'Product Info'!DN5+'Product Info'!DQ5+'Product Info'!DT5+'Product Info'!DW5+'Product Info'!DZ5+'Product Info'!EC5+'Product Info'!EF5+'Product Info'!EI5+'Product Info'!EL5+'Product Info'!EO5+'Product Info'!ER5+'Product Info'!EU5+'Product Info'!EX5+'Product Info'!FA5+'Product Info'!FD5)","v":0},{"$f":"AH4*('Product Info'!M5)","v":0},{"$f":"AH4*'Product Info'!P5","v":0},{"$f":"AH4*'Product Info'!S5","v":0},{"$f":"AH4*'Product Info'!V5","v":0},{"$f":"AH4*'Product Info'!Y5","v":0},{"$f":"AH4*'Product Info'!AB5","v":0},{"$f":"AH4*'Product Info'!AE5","v":0},{"$f":"AH4*'Product Info'!AH5","v":0},{"$f":"AH4*'Product Info'!AK5","v":0},{"$f":"AH4*'Product Info'!AN5","v":0},{"$f":"AH4*'Product Info'!AQ5","v":0},{"$f":"AH4*'Product Info'!AT5","v":0},{"$f":"AH4*'Product Info'!AW5","v":0},{"$f":"AH4*'Product Info'!AZ5","v":0},{"$f":"AH4*'Product Info'!BC5","v":0},{"$f":"AH4*'Product Info'!BF5","v":0},{"$f":"AH4*'Product Info'!BI5","v":0},{"$f":"AH4*'Product Info'!BL5","v":0},{"$f":"AH4*'Product Info'!BO5","v":0},{"$f":"AH4*'Product Info'!BR5","v":0},{"$f":"AH4*'Product Info'!BU5","v":0},{"$f":"AH4*'Product Info'!BX5","v":0}]
[{"$f":"'Product Info'!A6","v":0},{"$f":"'Product Info'!B6","v":0},{"$f":"'Product Info'!C6","v":0},null,null,null,null,null,null,null,null,null,null,null,null,null,null,null,null,null,null,null,null,null,null,null,null,null,null,null,null,null,null,0,{"$f":"'Product Info'!F6*('Daily Info (April)'!AH5)","v":0},null,null,{"$f":"AH5*('Product Info'!H6)","v":0},{"$f":"AH5*('Product Info'!M6+'Product Info'!P6+'Product Info'!S6+'Product Info'!V6+'Product Info'!Y6+'Product Info'!AB6+'Product Info'!AE6+'Product Info'!AH6+'Product Info'!AK6+'Product Info'!AN6+'Product Info'!AQ6+'Product Info'!AT6+'Product Info'!AW6+'Product Info'!AZ6+'Product Info'!BC6+'Product Info'!BF6+'Product Info'!BI6+'Product Info'!BL6+'Product Info'!BO6+'Product Info'!BR6+'Product Info'!BU6+'Product Info'!BX6+'Product Info'!CA6+'Product Info'!CD6+'Product Info'!CG6+'Product Info'!CJ6+'Product Info'!CM6+'Product Info'!CP6+'Product Info'!CS6+'Product Info'!CV6+'Product Info'!CY6+'Product Info'!DB6+'Product Info'!DE6+'Product Info'!DH6+'Product Info'!DK6+'Product Info'!DN6+'Product Info'!DQ6+'Product Info'!DT6+'Product Info'!DW6+'Product Info'!DZ6+'Product Info'!EC6+'Product Info'!EF6+'Product Info'!EI6+'Product Info'!EL6+'Product Info'!EO6+'Product Info'!ER6+'Product Info'!EU6+'Product Info'!EX6+'Product Info'!FA6+'Product Info'!FD6)","v":0},{"$f":"AH5*('Product Info'!M6)","v":0},{"$f":"AH5*'Product Info'!P6","v":0},{"$f":"AH5*'Product Info'!S6","v":0},{"$f":"AH5*'Product Info'!V6","v":0},{"$f":"AH5*'Product Info'!Y6","v":0},{"$f":"AH5*'Product Info'!AB6","v":0},{"$f":"AH5*'Product Info'!AE6","v":0},{"$f":"AH5*'Product Info'!AH6","v":0},{"$f":"AH5*'Product Info'!AK6","v":0},{"$f":"AH5*'Product Info'!AN6","v":0},{"$f":"AH5*'Product Info'!AQ6","v":0},{"$f":"AH5*'Product Info'!AT6","v":0},{"$f":"AH5*'Product Info'!AW6","v":0},{"$f":"AH5*'Product Info'!AZ6","v":0},{"$f":"AH5*'Product Info'!BC6","v":0},{"$f":"AH5*'Product Info'!BF6","v":0},{"$f":"AH5*'Product Info'!BI6","v":0},{"$f":"AH5*'Product Info'!BL6","v":0},{"$f":"AH5*'Product Info'!BO6","v":0},{"$f":"AH5*'Product Info'!BR6","v":0},{"$f":"AH5*'Product Info'!BU6","v":0},{"$f":"AH5*'Product Info'!BX6","v":0}]
[{"$f":"'Product Info'!A7","v":0},{"$f":"'Product Info'!B7","v":0},{"$f":"'Product Info'!C7","v":0},null,null,null,null,null,null,null,null,null,null,null,null,null,null,null,null,null,null,null,null,null,null,null,null,null,null,null,null,null,null,0,{"$f":"'Product Info'!F7*('Daily Info (April)'!AH6)","v":0},null,null,{"$f":"AH6*('Product Info'!H7)","v":0},{"$f":"AH6*('Product Info'!M7+'Product Info'!P7+'Product Info'!S7+'Product Info'!V7+'Product Info'!Y7+'Product Info'!AB7+'Product Info'!AE7+'Product Info'!AH7+'Product Info'!AK7+'Product Info'!AN7+'Product Info'!AQ7+'Product Info'!AT7+'Product Info'!AW7+'Product Info'!AZ7+'Product Info'!BC7+'Product Info'!BF7+'Product Info'!BI7+'Product Info'!BL7+'Product Info'!BO7+'Product Info'!BR7+'Product Info'!BU7+'Product Info'!BX7+'Product Info'!CA7+'Product Info'!CD7+'Product Info'!CG7+'Product Info'!CJ7+'Product Info'!CM7+'Product Info'!CP7+'Product Info'!CS7+'Product Info'!CV7+'Product Info'!CY7+'Product Info'!DB7+'Product Info'!DE7+'Product Info'!DH7+'Product Info'!DK7+'Product Info'!DN7+'Product Info'!DQ7+'Product Info'!DT7+'Product Info'!DW7+'Product Info'!DZ7+'Product Info'!EC7+'Product Info'!EF7+'Product Info'!EI7+'Product Info'!EL7+'Product Info'!EO7+'Product Info'!ER7+'Product Info'!EU7+'Product Info'!EX7+'Product Info'!FA7+'Product Info'!FD7)","v":0},{"$f":"AH6*('Product Info'!M7)","v":0},{"$f":"AH6*'Product Info'!P7","v":0},{"$f":"AH6*'Product Info'!S7","v":0},{"$f":"AH6*'Product Info'!V7","v":0},{"$f":"AH6*'Product Info'!Y7","v":0},{"$f":"AH6*'Product Info'!AB7","v":0},{"$f":"AH6*'Product Info'!AE7","v":0},{"$f":"AH6*'Product Info'!AH7","v":0},{"$f":"AH6*'Product Info'!AK7","v":0},{"$f":"AH6*'Product Info'!AN7","v":0},{"$f":"AH6*'Product Info'!AQ7","v":0},{"$f":"AH6*'Product Info'!AT7","v":0},{"$f":"AH6*'Product Info'!AW7","v":0},{"$f":"AH6*'Product Info'!AZ7","v":0},{"$f":"AH6*'Product Info'!BC7","v":0},{"$f":"AH6*'Product Info'!BF7","v":0},{"$f":"AH6*'Product Info'!BI7","v":0},{"$f":"AH6*'Product Info'!BL7","v":0},{"$f":"AH6*'Product Info'!BO7","v":0},{"$f":"AH6*'Product Info'!BR7","v":0},{"$f":"AH6*'Product Info'!BU7","v":0},{"$f":"AH6*'Product Info'!BX7","v":0}]
[{"$f":"'Product Info'!A8","v":0},{"$f":"'Product Info'!B8","v":0},{"$f":"'Product Info'!C8","v":0},null,null,null,null,null,null,null,null,null,null,null,null,null,null,null,null,null,null,null,null,null,null,null,null,null,null,null,null,null,null,0,{"$f":"'Product Info'!F8*('Daily Info (April)'!AH7)","v":0},null,null,{"$f":"AH7*('Product Info'!H8)","v":0},{"$f":"AH7*('Product Info'!M8+'Product Info'!P8+'Product Info'!S8+'Product Info'!V8+'Product Info'!Y8+'Product Info'!AB8+'Product Info'!AE8+'Product Info'!AH8+'Product Info'!AK8+'Product Info'!AN8+'Product Info'!AQ8+'Product Info'!AT8+'Product Info'!AW8+'Product Info'!AZ8+'Product Info'!BC8+'Product Info'!BF8+'Product Info'!BI8+'Product Info'!BL8+'Product Info'!BO8+'Product Info'!BR8+'Product Info'!BU8+'Product Info'!BX8+'Product Info'!CA8+'Product Info'!CD8+'Product Info'!CG8+'Product Info'!CJ8+'Product Info'!CM8+'Product Info'!CP8+'Product Info'!CS8+'Product Info'!CV8+'Product Info'!CY8+'Product Info'!DB8+'Product Info'!DE8+'Product Info'!DH8+'Product Info'!DK8+'Product Info'!DN8+'Product Info'!DQ8+'Product Info'!DT8+'Product Info'!DW8+'Product Info'!DZ8+'Product Info'!EC8+'Product Info'!EF8+'Product Info'!EI8+'Product Info'!EL8+'Product Info'!EO8+'Product Info'!ER8+'Product Info'!EU8+'Product Info'!EX8+'Product Info'!FA8+'Product Info'!FD8)","v":0},{"$f":"AH7*('Product Info'!M8)","v":0},{"$f":"AH7*'Product Info'!P8","v":0},{"$f":"AH7*'Product Info'!S8","v":0},{"$f":"AH7*'Product Info'!V8","v":0},{"$f":"AH7*'Product Info'!Y8","v":0},{"$f":"AH7*'Product Info'!AB8","v":0},{"$f":"AH7*'Product Info'!AE8","v":0},{"$f":"AH7*'Product Info'!AH8","v":0},{"$f":"AH7*'Product Info'!AK8","v":0},{"$f":"AH7*'Product Info'!AN8","v":0},{"$f":"AH7*'Product Info'!AQ8","v":0},{"$f":"AH7*'Product Info'!AT8","v":0},{"$f":"AH7*'Product Info'!AW8","v":0},{"$f":"AH7*'Product Info'!AZ8","v":0},{"$f":"AH7*'Product Info'!BC8","v":0},{"$f":"AH7*'Product Info'!BF8","v":0},{"$f":"AH7*'Product Info'!BI8","v":0},{"$f":"AH7*'Product Info'!BL8","v":0},{"$f":"AH7*'Product Info'!BO8","v":0},{"$f":"AH7*'Product Info'!BR8","v":0},{"$f":"AH7*'Product Info'!BU8","v":0},{"$f":"AH7*'Product Info'!BX8","v":0}]
[{"$f":"'Product Info'!A9","v":0},{"$f":"'Product Info'!B9","v":0},{"$f":"'Product Info'!C9","v":0},null,null,null,null,null,null,null,null,null,null,null,null,null,null,null,null,null,null,null,null,null,null,null,null,null,null,null,null,null,null,0,{"$f":"'Product Info'!F9*('Daily Info (April)'!AH8)","v":0},null,null,{"$f":"AH8*('Product Info'!H9)","v":0},{"$f":"AH8*('Product Info'!M9+'Product Info'!P9+'Product Info'!S9+'Product Info'!V9+'Product Info'!Y9+'Product Info'!AB9+'Product Info'!AE9+'Product Info'!AH9+'Product Info'!AK9+'Product Info'!AN9+'Product Info'!AQ9+'Product Info'!AT9+'Product Info'!AW9+'Product Info'!AZ9+'Product Info'!BC9+'Product Info'!BF9+'Product Info'!BI9+'Product Info'!BL9+'Product Info'!BO9+'Product Info'!BR9+'Product Info'!BU9+'Product Info'!BX9+'Product Info'!CA9+'Product Info'!CD9+'Product Info'!CG9+'Product Info'!CJ9+'Product Info'!CM9+'Product Info'!CP9+'Product Info'!CS9+'Product Info'!CV9+'Product Info'!CY9+'Product Info'!DB9+'Product Info'!DE9+'Product Info'!DH9+'Product Info'!DK9+'Product Info'!DN9+'Product Info'!DQ9+'Product Info'!DT9+'Product Info'!DW9+'Product Info'!DZ9+'Product Info'!EC9+'Product Info'!EF9+'Product Info'!EI9+'Product Info'!EL9+'Product Info'!EO9+'Product Info'!ER9+'Product Info'!EU9+'Product Info'!EX9+'Product Info'!FA9+'Product Info'!FD9)","v":0},{"$f":"AH8*('Product Info'!M9)","v":0},{"$f":"AH8*'Product Info'!P9","v":0},{"$f":"AH8*'Product Info'!S9","v":0},{"$f":"AH8*'Product Info'!V9","v":0},{"$f":"AH8*'Product Info'!Y9","v":0},{"$f":"AH8*'Product Info'!AB9","v":0},{"$f":"AH8*'Product Info'!AE9","v":0},{"$f":"AH8*'Product Info'!AH9","v":0},{"$f":"AH8*'Product Info'!AK9","v":0},{"$f":"AH8*'Product Info'!AN9","v":0},{"$f":"AH8*'Product Info'!AQ9","v":0},{"$f":"AH8*'Product Info'!AT9","v":0},{"$f":"AH8*'Product Info'!AW9","v":0},{"$f":"AH8*'Product Info'!AZ9","v":0},{"$f":"AH8*'Product Info'!BC9","v":0},{"$f":"AH8*'Product Info'!BF9","v":0},{"$f":"AH8*'Product Info'!BI9","v":0},{"$f":"AH8*'Product Info'!BL9","v":0},{"$f":"AH8*'Product Info'!BO9","v":0},{"$f":"AH8*'Product Info'!BR9","v":0},{"$f":"AH8*'Product Info'!BU9","v":0},{"$f":"AH8*'Product Info'!BX9","v":0}]
[{"$f":"'Product Info'!A10","v":0},{"$f":"'Product Info'!B10","v":0},{"$f":"'Product Info'!C10","v":0},null,null,null,null,null,null,null,null,null,null,null,null,null,null,null,null,null,null,null,null,null,null,null,null,null,null,null,null,null,null,0,{"$f":"'Product Info'!F10*('Daily Info (April)'!AH9)","v":0},null,null,{"$f":"AH9*('Product Info'!H10)","v":0},{"$f":"AH9*('Product Info'!M10+'Product Info'!P10+'Product Info'!S10+'Product Info'!V10+'Product Info'!Y10+'Product Info'!AB10+'Product Info'!AE10+'Product Info'!AH10+'Product Info'!AK10+'Product Info'!AN10+'Product Info'!AQ10+'Product Info'!AT10+'Product Info'!AW10+'Product Info'!AZ10+'Product Info'!BC10+'Product Info'!BF10+'Product Info'!BI10+'Product Info'!BL10+'Product Info'!BO10+'Product Info'!BR10+'Product Info'!BU10+'Product Info'!BX10+'Product Info'!CA10+'Product Info'!CD10+'Product Info'!CG10+'Product Info'!CJ10+'Product Info'!CM10+'Product Info'!CP10+'Product Info'!CS10+'Product Info'!CV10+'Product Info'!CY10+'Product Info'!DB10+'Product Info'!DE10+'Product Info'!DH10+'Product Info'!DK10+'Product Info'!DN10+'Product Info'!DQ10+'Product Info'!DT10+'Product Info'!DW10+'Product Info'!DZ10+'Product Info'!EC10+'Product Info'!EF10+'Product Info'!EI10+'Product Info'!EL10+'Product Info'!EO10+'Product Info'!ER10+'Product Info'!EU10+'Product Info'!EX10+'Product Info'!FA10+'Product Info'!FD10)","v":0},{"$f":"AH9*('Product Info'!M10)","v":0},{"$f":"AH9*'Product Info'!P10","v":0},{"$f":"AH9*'Product Info'!S10","v":0},{"$f":"AH9*'Product Info'!V10","v":0},{"$f":"AH9*'Product Info'!Y10","v":0},{"$f":"AH9*'Product Info'!AB10","v":0},{"$f":"AH9*'Product Info'!AE10","v":0},{"$f":"AH9*'Product Info'!AH10","v":0},{"$f":"AH9*'Product Info'!AK10","v":0},{"$f":"AH9*'Product Info'!AN10","v":0},{"$f":"AH9*'Product Info'!AQ10","v":0},{"$f":"AH9*'Product Info'!AT10","v":0},{"$f":"AH9*'Product Info'!AW10","v":0},{"$f":"AH9*'Product Info'!AZ10","v":0},{"$f":"AH9*'Product Info'!BC10","v":0},{"$f":"AH9*'Product Info'!BF10","v":0},{"$f":"AH9*'Product Info'!BI10","v":0},{"$f":"AH9*'Product Info'!BL10","v":0},{"$f":"AH9*'Product Info'!BO10","v":0},{"$f":"AH9*'Product Info'!BR10","v":0},{"$f":"AH9*'Product Info'!BU10","v":0},{"$f":"AH9*'Product Info'!BX10","v":0}]
[{"$f":"'Product Info'!A11","v":0},{"$f":"'Product Info'!B11","v":0},{"$f":"'Product Info'!C11","v":0},null,null,null,null,null,null,null,null,null,null,null,null,null,null,null,null,null,null,null,null,null,null,null,null,null,null,null,null,null,null,0,{"$f":"'Product Info'!F11*('Daily Info (April)'!AH10)","v":0},null,null,{"$f":"AH10*('Product Info'!H11)","v":0},{"$f":"AH10*('Product Info'!M11+'Product Info'!P11+'Product Info'!S11+'Product Info'!V11+'Product Info'!Y11+'Product Info'!AB11+'Product Info'!AE11+'Product Info'!AH11+'Product Info'!AK11+'Product Info'!AN11+'Product Info'!AQ11+'Product Info'!AT11+'Product Info'!AW11+'Product Info'!AZ11+'Product Info'!BC11+'Product Info'!BF11+'Product Info'!BI11+'Product Info'!BL11+'Product Info'!BO11+'Product Info'!BR11+'Product Info'!BU11+'Product Info'!BX11+'Product Info'!CA11+'Product Info'!CD11+'Product Info'!CG11+'Product Info'!CJ11+'Product Info'!CM11+'Product Info'!CP11+'Product Info'!CS11+'Product Info'!CV11+'Product Info'!CY11+'Product Info'!DB11+'Product Info'!DE11+'Product Info'!DH11+'Product Info'!DK11+'Product Info'!DN11+'Product Info'!DQ11+'Product Info'!DT11+'Product Info'!DW11+'Product Info'!DZ11+'Product Info'!EC11+'Product Info'!EF11+'Product Info'!EI11+'Product Info'!EL11+'Product Info'!EO11+'Product Info'!ER11+'Product Info'!EU11+'Product Info'!EX11+'Product Info'!FA11+'Product Info'!FD11)","v":0},{"$f":"AH10*('Product Info'!M11)","v":0},{"$f":"AH10*'Product Info'!P11","v":0},{"$f":"AH10*'Product Info'!S11","v":0},{"$f":"AH10*'Product Info'!V11","v":0},{"$f":"AH10*'Product Info'!Y11","v":0},{"$f":"AH10*'Product Info'!AB11","v":0},{"$f":"AH10*'Product Info'!AE11","v":0},{"$f":"AH10*'Product Info'!AH11","v":0},{"$f":"AH10*'Product Info'!AK11","v":0},{"$f":"AH10*'Product Info'!AN11","v":0},{"$f":"AH10*'Product Info'!AQ11","v":0},{"$f":"AH10*'Product Info'!AT11","v":0},{"$f":"AH10*'Product Info'!AW11","v":0},{"$f":"AH10*'Product Info'!AZ11","v":0},{"$f":"AH10*'Product Info'!BC11","v":0},{"$f":"AH10*'Product Info'!BF11","v":0},{"$f":"AH10*'Product Info'!BI11","v":0},{"$f":"AH10*'Product Info'!BL11","v":0},{"$f":"AH10*'Product Info'!BO11","v":0},{"$f":"AH10*'Product Info'!BR11","v":0},{"$f":"AH10*'Product Info'!BU11","v":0},{"$f":"AH10*'Product Info'!BX11","v":0}]
[{"$f":"'Product Info'!A12","v":0},{"$f":"'Product Info'!B12","v":0},{"$f":"'Product Info'!C12","v":0},null,null,null,null,null,null,null,null,null,null,null,null,null,null,null,null,null,null,null,null,null,null,null,null,null,null,null,null,null,null,0,{"$f":"'Product Info'!F12*('Daily Info (April)'!AH11)","v":0},null,null,{"$f":"AH11*('Product Info'!H12)","v":0},{"$f":"AH11*('Product Info'!M12+'Product Info'!P12+'Product Info'!S12+'Product Info'!V12+'Product Info'!Y12+'Product Info'!AB12+'Product Info'!AE12+'Product Info'!AH12+'Product Info'!AK12+'Product Info'!AN12+'Product Info'!AQ12+'Product Info'!AT12+'Product Info'!AW12+'Product Info'!AZ12+'Product Info'!BC12+'Product Info'!BF12+'Product Info'!BI12+'Product Info'!BL12+'Product Info'!BO12+'Product Info'!BR12+'Product Info'!BU12+'Product Info'!BX12+'Product Info'!CA12+'Product Info'!CD12+'Product Info'!CG12+'Product Info'!CJ12+'Product Info'!CM12+'Product Info'!CP12+'Product Info'!CS12+'Product Info'!CV12+'Product Info'!CY12+'Product Info'!DB12+'Product Info'!DE12+'Product Info'!DH12+'Product Info'!DK12+'Product Info'!DN12+'Product Info'!DQ12+'Product Info'!DT12+'Product Info'!DW12+'Product Info'!DZ12+'Product Info'!EC12+'Product Info'!EF12+'Product Info'!EI12+'Product Info'!EL12+'Product Info'!EO12+'Product Info'!ER12+'Product Info'!EU12+'Product Info'!EX12+'Product Info'!FA12+'Product Info'!FD12)","v":0},{"$f":"AH11*('Product Info'!M12)","v":0},{"$f":"AH11*'Product Info'!P12","v":0},{"$f":"AH11*'Product Info'!S12","v":0},{"$f":"AH11*'Product Info'!V12","v":0},{"$f":"AH11*'Product Info'!Y12","v":0},{"$f":"AH11*'Product Info'!AB12","v":0},{"$f":"AH11*'Product Info'!AE12","v":0},{"$f":"AH11*'Product Info'!AH12","v":0},{"$f":"AH11*'Product Info'!AK12","v":0},{"$f":"AH11*'Product Info'!AN12","v":0},{"$f":"AH11*'Product Info'!AQ12","v":0},{"$f":"AH11*'Product Info'!AT12","v":0},{"$f":"AH11*'Product Info'!AW12","v":0},{"$f":"AH11*'Product Info'!AZ12","v":0},{"$f":"AH11*'Product Info'!BC12","v":0},{"$f":"AH11*'Product Info'!BF12","v":0},{"$f":"AH11*'Product Info'!BI12","v":0},{"$f":"AH11*'Product Info'!BL12","v":0},{"$f":"AH11*'Product Info'!BO12","v":0},{"$f":"AH11*'Product Info'!BR12","v":0},{"$f":"AH11*'Product Info'!BU12","v":0},{"$f":"AH11*'Product Info'!BX12","v":0}]
[{"$f":"'Product Info'!A13","v":0},{"$f":"'Product Info'!B13","v":0},{"$f":"'Product Info'!C13","v":0},null,null,null,null,null,null,null,null,null,null,null,null,null,null,null,null,null,null,null,null,null,null,null,null,null,null,null,null,null,null,0,{"$f":"'Product Info'!F13*('Daily Info (April)'!AH12)","v":0},null,null,{"$f":"AH12*('Product Info'!H13)","v":0},{"$f":"AH12*('Product Info'!M13+'Product Info'!P13+'Product Info'!S13+'Product Info'!V13+'Product Info'!Y13+'Product Info'!AB13+'Product Info'!AE13+'Product Info'!AH13+'Product Info'!AK13+'Product Info'!AN13+'Product Info'!AQ13+'Product Info'!AT13+'Product Info'!AW13+'Product Info'!AZ13+'Product Info'!BC13+'Product Info'!BF13+'Product Info'!BI13+'Product Info'!BL13+'Product Info'!BO13+'Product Info'!BR13+'Product Info'!BU13+'Product Info'!BX13+'Product Info'!CA13+'Product Info'!CD13+'Product Info'!CG13+'Product Info'!CJ13+'Product Info'!CM13+'Product Info'!CP13+'Product Info'!CS13+'Product Info'!CV13+'Product Info'!CY13+'Product Info'!DB13+'Product Info'!DE13+'Product Info'!DH13+'Product Info'!DK13+'Product Info'!DN13+'Product Info'!DQ13+'Product Info'!DT13+'Product Info'!DW13+'Product Info'!DZ13+'Product Info'!EC13+'Product Info'!EF13+'Product Info'!EI13+'Product Info'!EL13+'Product Info'!EO13+'Product Info'!ER13+'Product Info'!EU13+'Product Info'!EX13+'Product Info'!FA13+'Product Info'!FD13)","v":0},{"$f":"AH12*('Product Info'!M13)","v":0},{"$f":"AH12*'Product Info'!P13","v":0},{"$f":"AH12*'Product Info'!S13","v":0},{"$f":"AH12*'Product Info'!V13","v":0},{"$f":"AH12*'Product Info'!Y13","v":0},{"$f":"AH12*'Product Info'!AB13","v":0},{"$f":"AH12*'Product Info'!AE13","v":0},{"$f":"AH12*'Product Info'!AH13","v":0},{"$f":"AH12*'Product Info'!AK13","v":0},{"$f":"AH12*'Product Info'!AN13","v":0},{"$f":"AH12*'Product Info'!AQ13","v":0},{"$f":"AH12*'Product Info'!AT13","v":0},{"$f":"AH12*'Product Info'!AW13","v":0},{"$f":"AH12*'Product Info'!AZ13","v":0},{"$f":"AH12*'Product Info'!BC13","v":0},{"$f":"AH12*'Product Info'!BF13","v":0},{"$f":"AH12*'Product Info'!BI13","v":0},{"$f":"AH12*'Product Info'!BL13","v":0},{"$f":"AH12*'Product Info'!BO13","v":0},{"$f":"AH12*'Product Info'!BR13","v":0},{"$f":"AH12*'Product Info'!BU13","v":0},{"$f":"AH12*'Product Info'!BX13","v":0}]
[{"$f":"'Product Info'!A14","v":0},{"$f":"'Product Info'!B14","v":0},{"$f":"'Product Info'!C14","v":0},null,null,null,null,null,null,null,null,null,null,null,null,null,null,null,null,null,null,null,null,null,null,null,null,null,null,null,null,null,null,0,{"$f":"'Product Info'!F14*('Daily Info (April)'!AH13)","v":0},null,null,{"$f":"AH13*('Product Info'!H14)","v":0},{"$f":"AH13*('Product Info'!M14+'Product Info'!P14+'Product Info'!S14+'Product Info'!V14+'Product Info'!Y14+'Product Info'!AB14+'Product Info'!AE14+'Product Info'!AH14+'Product Info'!AK14+'Product Info'!AN14+'Product Info'!AQ14+'Product Info'!AT14+'Product Info'!AW14+'Product Info'!AZ14+'Product Info'!BC14+'Product Info'!BF14+'Product Info'!BI14+'Product Info'!BL14+'Product Info'!BO14+'Product Info'!BR14+'Product Info'!BU14+'Product Info'!BX14+'Product Info'!CA14+'Product Info'!CD14+'Product Info'!CG14+'Product Info'!CJ14+'Product Info'!CM14+'Product Info'!CP14+'Product Info'!CS14+'Product Info'!CV14+'Product Info'!CY14+'Product Info'!DB14+'Product Info'!DE14+'Product Info'!DH14+'Product Info'!DK14+'Product Info'!DN14+'Product Info'!DQ14+'Product Info'!DT14+'Product Info'!DW14+'Product Info'!DZ14+'Product Info'!EC14+'Product Info'!EF14+'Product Info'!EI14+'Product Info'!EL14+'Product Info'!EO14+'Product Info'!ER14+'Product Info'!EU14+'Product Info'!EX14+'Product Info'!FA14+'Product Info'!FD14)","v":0},{"$f":"AH13*('Product Info'!M14)","v":0},{"$f":"AH13*'Product Info'!P14","v":0},{"$f":"AH13*'Product Info'!S14","v":0},{"$f":"AH13*'Product Info'!V14","v":0},{"$f":"AH13*'Product Info'!Y14","v":0},{"$f":"AH13*'Product Info'!AB14","v":0},{"$f":"AH13*'Product Info'!AE14","v":0},{"$f":"AH13*'Product Info'!AH14","v":0},{"$f":"AH13*'Product Info'!AK14","v":0},{"$f":"AH13*'Product Info'!AN14","v":0},{"$f":"AH13*'Product Info'!AQ14","v":0},{"$f":"AH13*'Product Info'!AT14","v":0},{"$f":"AH13*'Product Info'!AW14","v":0},{"$f":"AH13*'Product Info'!AZ14","v":0},{"$f":"AH13*'Product Info'!BC14","v":0},{"$f":"AH13*'Product Info'!BF14","v":0},{"$f":"AH13*'Product Info'!BI14","v":0},{"$f":"AH13*'Product Info'!BL14","v":0},{"$f":"AH13*'Product Info'!BO14","v":0},{"$f":"AH13*'Product Info'!BR14","v":0},{"$f":"AH13*'Product Info'!BU14","v":0},{"$f":"AH13*'Product Info'!BX14","v":0}]
[{"$f":"'Product Info'!A15","v":0},{"$f":"'Product Info'!B15","v":0},{"$f":"'Product Info'!C15","v":0},null,null,null,null,null,null,null,null,null,null,null,null,null,null,null,null,null,null,null,null,null,null,null,null,null,null,null,null,null,null,0,{"$f":"'Product Info'!F15*('Daily Info (April)'!AH14)","v":0},null,null,{"$f":"AH14*('Product Info'!H15)","v":0},{"$f":"AH14*('Product Info'!M15+'Product Info'!P15+'Product Info'!S15+'Product Info'!V15+'Product Info'!Y15+'Product Info'!AB15+'Product Info'!AE15+'Product Info'!AH15+'Product Info'!AK15+'Product Info'!AN15+'Product Info'!AQ15+'Product Info'!AT15+'Product Info'!AW15+'Product Info'!AZ15+'Product Info'!BC15+'Product Info'!BF15+'Product Info'!BI15+'Product Info'!BL15+'Product Info'!BO15+'Product Info'!BR15+'Product Info'!BU15+'Product Info'!BX15+'Product Info'!CA15+'Product Info'!CD15+'Product Info'!CG15+'Product Info'!CJ15+'Product Info'!CM15+'Product Info'!CP15+'Product Info'!CS15+'Product Info'!CV15+'Product Info'!CY15+'Product Info'!DB15+'Product Info'!DE15+'Product Info'!DH15+'Product Info'!DK15+'Product Info'!DN15+'Product Info'!DQ15+'Product Info'!DT15+'Product Info'!DW15+'Product Info'!DZ15+'Product Info'!EC15+'Product Info'!EF15+'Product Info'!EI15+'Product Info'!EL15+'Product Info'!EO15+'Product Info'!ER15+'Product Info'!EU15+'Product Info'!EX15+'Product Info'!FA15+'Product Info'!FD15)","v":0},{"$f":"AH14*('Product Info'!M15)","v":0},{"$f":"AH14*'Product Info'!P15","v":0},{"$f":"AH14*'Product Info'!S15","v":0},{"$f":"AH14*'Product Info'!V15","v":0},{"$f":"AH14*'Product Info'!Y15","v":0},{"$f":"AH14*'Product Info'!AB15","v":0},{"$f":"AH14*'Product Info'!AE15","v":0},{"$f":"AH14*'Product Info'!AH15","v":0},{"$f":"AH14*'Product Info'!AK15","v":0},{"$f":"AH14*'Product Info'!AN15","v":0},{"$f":"AH14*'Product Info'!AQ15","v":0},{"$f":"AH14*'Product Info'!AT15","v":0},{"$f":"AH14*'Product Info'!AW15","v":0},{"$f":"AH14*'Product Info'!AZ15","v":0},{"$f":"AH14*'Product Info'!BC15","v":0},{"$f":"AH14*'Product Info'!BF15","v":0},{"$f":"AH14*'Product Info'!BI15","v":0},{"$f":"AH14*'Product Info'!BL15","v":0},{"$f":"AH14*'Product Info'!BO15","v":0},{"$f":"AH14*'Product Info'!BR15","v":0},{"$f":"AH14*'Product Info'!BU15","v":0},{"$f":"AH14*'Product Info'!BX15","v":0}]
[{"$f":"'Product Info'!A16","v":0},{"$f":"'Product Info'!B16","v":0},{"$f":"'Product Info'!C16","v":0},null,null,null,null,null,null,null,null,null,null,null,null,null,null,null,null,null,null,null,null,null,null,null,null,null,null,null,null,null,null,0,{"$f":"'Product Info'!F16*('Daily Info (April)'!AH15)","v":0},null,null,{"$f":"AH15*('Product Info'!H16)","v":0},{"$f":"AH15*('Product Info'!M16+'Product Info'!P16+'Product Info'!S16+'Product Info'!V16+'Product Info'!Y16+'Product Info'!AB16+'Product Info'!AE16+'Product Info'!AH16+'Product Info'!AK16+'Product Info'!AN16+'Product Info'!AQ16+'Product Info'!AT16+'Product Info'!AW16+'Product Info'!AZ16+'Product Info'!BC16+'Product Info'!BF16+'Product Info'!BI16+'Product Info'!BL16+'Product Info'!BO16+'Product Info'!BR16+'Product Info'!BU16+'Product Info'!BX16+'Product Info'!CA16+'Product Info'!CD16+'Product Info'!CG16+'Product Info'!CJ16+'Product Info'!CM16+'Product Info'!CP16+'Product Info'!CS16+'Product Info'!CV16+'Product Info'!CY16+'Product Info'!DB16+'Product Info'!DE16+'Product Info'!DH16+'Product Info'!DK16+'Product Info'!DN16+'Product Info'!DQ16+'Product Info'!DT16+'Product Info'!DW16+'Product Info'!DZ16+'Product Info'!EC16+'Product Info'!EF16+'Product Info'!EI16+'Product Info'!EL16+'Product Info'!EO16+'Product Info'!ER16+'Product Info'!EU16+'Product Info'!EX16+'Product Info'!FA16+'Product Info'!FD16)","v":0},{"$f":"AH15*('Product Info'!M16)","v":0},{"$f":"AH15*'Product Info'!P16","v":0},{"$f":"AH15*'Product Info'!S16","v":0},{"$f":"AH15*'Product Info'!V16","v":0},{"$f":"AH15*'Product Info'!Y16","v":0},{"$f":"AH15*'Product Info'!AB16","v":0},{"$f":"AH15*'Product Info'!AE16","v":0},{"$f":"AH15*'Product Info'!AH16","v":0},{"$f":"AH15*'Product Info'!AK16","v":0},{"$f":"AH15*'Product Info'!AN16","v":0},{"$f":"AH15*'Product Info'!AQ16","v":0},{"$f":"AH15*'Product Info'!AT16","v":0},{"$f":"AH15*'Product Info'!AW16","v":0},{"$f":"AH15*'Product Info'!AZ16","v":0},{"$f":"AH15*'Product Info'!BC16","v":0},{"$f":"AH15*'Product Info'!BF16","v":0},{"$f":"AH15*'Product Info'!BI16","v":0},{"$f":"AH15*'Product Info'!BL16","v":0},{"$f":"AH15*'Product Info'!BO16","v":0},{"$f":"AH15*'Product Info'!BR16","v":0},{"$f":"AH15*'Product Info'!BU16","v":0},{"$f":"AH15*'Product Info'!BX16","v":0}]
[{"$f":"'Product Info'!A17","v":0},{"$f":"'Product Info'!B17","v":0},{"$f":"'Product Info'!C17","v":0},null,null,null,null,null,null,null,null,null,null,null,null,null,null,null,null,null,null,null,null,null,null,null,null,null,null,null,null,null,null,0,{"$f":"'Product Info'!F17*('Daily Info (April)'!AH16)","v":0},null,null,{"$f":"AH16*('Product Info'!H17)","v":0},{"$f":"AH16*('Product Info'!M17+'Product Info'!P17+'Product Info'!S17+'Product Info'!V17+'Product Info'!Y17+'Product Info'!AB17+'Product Info'!AE17+'Product Info'!AH17+'Product Info'!AK17+'Product Info'!AN17+'Product Info'!AQ17+'Product Info'!AT17+'Product Info'!AW17+'Product Info'!AZ17+'Product Info'!BC17+'Product Info'!BF17+'Product Info'!BI17+'Product Info'!BL17+'Product Info'!BO17+'Product Info'!BR17+'Product Info'!BU17+'Product Info'!BX17+'Product Info'!CA17+'Product Info'!CD17+'Product Info'!CG17+'Product Info'!CJ17+'Product Info'!CM17+'Product Info'!CP17+'Product Info'!CS17+'Product Info'!CV17+'Product Info'!CY17+'Product Info'!DB17+'Product Info'!DE17+'Product Info'!DH17+'Product Info'!DK17+'Product Info'!DN17+'Product Info'!DQ17+'Product Info'!DT17+'Product Info'!DW17+'Product Info'!DZ17+'Product Info'!EC17+'Product Info'!EF17+'Product Info'!EI17+'Product Info'!EL17+'Product Info'!EO17+'Product Info'!ER17+'Product Info'!EU17+'Product Info'!EX17+'Product Info'!FA17+'Product Info'!FD17)","v":0},{"$f":"AH16*('Product Info'!M17)","v":0},{"$f":"AH16*'Product Info'!P17","v":0},{"$f":"AH16*'Product Info'!S17","v":0},{"$f":"AH16*'Product Info'!V17","v":0},{"$f":"AH16*'Product Info'!Y17","v":0},{"$f":"AH16*'Product Info'!AB17","v":0},{"$f":"AH16*'Product Info'!AE17","v":0},{"$f":"AH16*'Product Info'!AH17","v":0},{"$f":"AH16*'Product Info'!AK17","v":0},{"$f":"AH16*'Product Info'!AN17","v":0},{"$f":"AH16*'Product Info'!AQ17","v":0},{"$f":"AH16*'Product Info'!AT17","v":0},{"$f":"AH16*'Product Info'!AW17","v":0},{"$f":"AH16*'Product Info'!AZ17","v":0},{"$f":"AH16*'Product Info'!BC17","v":0},{"$f":"AH16*'Product Info'!BF17","v":0},{"$f":"AH16*'Product Info'!BI17","v":0},{"$f":"AH16*'Product Info'!BL17","v":0},{"$f":"AH16*'Product Info'!BO17","v":0},{"$f":"AH16*'Product Info'!BR17","v":0},{"$f":"AH16*'Product Info'!BU17","v":0},{"$f":"AH16*'Product Info'!BX17","v":0}]
[{"$f":"'Product Info'!A18","v":0},{"$f":"'Product Info'!B18","v":0},{"$f":"'Product Info'!C18","v":0},null,null,null,null,null,null,null,null,null,null,null,null,null,null,null,null,null,null,null,null,null,null,null,null,null,null,null,null,null,null,0,{"$f":"'Product Info'!F18*('Daily Info (April)'!AH17)","v":0},null,null,{"$f":"AH17*('Product Info'!H18)","v":0},{"$f":"AH17*('Product Info'!M18+'Product Info'!P18+'Product Info'!S18+'Product Info'!V18+'Product Info'!Y18+'Product Info'!AB18+'Product Info'!AE18+'Product Info'!AH18+'Product Info'!AK18+'Product Info'!AN18+'Product Info'!AQ18+'Product Info'!AT18+'Product Info'!AW18+'Product Info'!AZ18+'Product Info'!BC18+'Product Info'!BF18+'Product Info'!BI18+'Product Info'!BL18+'Product Info'!BO18+'Product Info'!BR18+'Product Info'!BU18+'Product Info'!BX18+'Product Info'!CA18+'Product Info'!CD18+'Product Info'!CG18+'Product Info'!CJ18+'Product Info'!CM18+'Product Info'!CP18+'Product Info'!CS18+'Product Info'!CV18+'Product Info'!CY18+'Product Info'!DB18+'Product Info'!DE18+'Product Info'!DH18+'Product Info'!DK18+'Product Info'!DN18+'Product Info'!DQ18+'Product Info'!DT18+'Product Info'!DW18+'Product Info'!DZ18+'Product Info'!EC18+'Product Info'!EF18+'Product Info'!EI18+'Product Info'!EL18+'Product Info'!EO18+'Product Info'!ER18+'Product Info'!EU18+'Product Info'!EX18+'Product Info'!FA18+'Product Info'!FD18)","v":0},{"$f":"AH17*('Product Info'!M18)","v":0},{"$f":"AH17*'Product Info'!P18","v":0},{"$f":"AH17*'Product Info'!S18","v":0},{"$f":"AH17*'Product Info'!V18","v":0},{"$f":"AH17*'Product Info'!Y18","v":0},{"$f":"AH17*'Product Info'!AB18","v":0},{"$f":"AH17*'Product Info'!AE18","v":0},{"$f":"AH17*'Product Info'!AH18","v":0},{"$f":"AH17*'Product Info'!AK18","v":0},{"$f":"AH17*'Product Info'!AN18","v":0},{"$f":"AH17*'Product Info'!AQ18","v":0},{"$f":"AH17*'Product Info'!AT18","v":0},{"$f":"AH17*'Product Info'!AW18","v":0},{"$f":"AH17*'Product Info'!AZ18","v":0},{"$f":"AH17*'Product Info'!BC18","v":0},{"$f":"AH17*'Product Info'!BF18","v":0},{"$f":"AH17*'Product Info'!BI18","v":0},{"$f":"AH17*'Product Info'!BL18","v":0},{"$f":"AH17*'Product Info'!BO18","v":0},{"$f":"AH17*'Product Info'!BR18","v":0},{"$f":"AH17*'Product Info'!BU18","v":0},{"$f":"AH17*'Product Info'!BX18","v":0}]
[{"$f":"'Product Info'!A19","v":0},{"$f":"'Product Info'!B19","v":0},{"$f":"'Product Info'!C19","v":0},null,null,null,null,null,null,null,null,null,null,null,null,null,null,null,null,null,null,null,null,null,null,null,null,null,null,null,null,null,null,0,{"$f":"'Product Info'!F19*('Daily Info (April)'!AH18)","v":0},null,null,{"$f":"AH18*('Product Info'!H19)","v":0},{"$f":"AH18*('Product Info'!M19+'Product Info'!P19+'Product Info'!S19+'Product Info'!V19+'Product Info'!Y19+'Product Info'!AB19+'Product Info'!AE19+'Product Info'!AH19+'Product Info'!AK19+'Product Info'!AN19+'Product Info'!AQ19+'Product Info'!AT19+'Product Info'!AW19+'Product Info'!AZ19+'Product Info'!BC19+'Product Info'!BF19+'Product Info'!BI19+'Product Info'!BL19+'Product Info'!BO19+'Product Info'!BR19+'Product Info'!BU19+'Product Info'!BX19+'Product Info'!CA19+'Product Info'!CD19+'Product Info'!CG19+'Product Info'!CJ19+'Product Info'!CM19+'Product Info'!CP19+'Product Info'!CS19+'Product Info'!CV19+'Product Info'!CY19+'Product Info'!DB19+'Product Info'!DE19+'Product Info'!DH19+'Product Info'!DK19+'Product Info'!DN19+'Product Info'!DQ19+'Product Info'!DT19+'Product Info'!DW19+'Product Info'!DZ19+'Product Info'!EC19+'Product Info'!EF19+'Product Info'!EI19+'Product Info'!EL19+'Product Info'!EO19+'Product Info'!ER19+'Product Info'!EU19+'Product Info'!EX19+'Product Info'!FA19+'Product Info'!FD19)","v":0},{"$f":"AH18*('Product Info'!M19)","v":0},{"$f":"AH18*'Product Info'!P19","v":0},{"$f":"AH18*'Product Info'!S19","v":0},{"$f":"AH18*'Product Info'!V19","v":0},{"$f":"AH18*'Product Info'!Y19","v":0},{"$f":"AH18*'Product Info'!AB19","v":0},{"$f":"AH18*'Product Info'!AE19","v":0},{"$f":"AH18*'Product Info'!AH19","v":0},{"$f":"AH18*'Product Info'!AK19","v":0},{"$f":"AH18*'Product Info'!AN19","v":0},{"$f":"AH18*'Product Info'!AQ19","v":0},{"$f":"AQ18*'Product Info'!AF19","v":0},{"$f":"AH18*'Product Info'!AW19","v":0},{"$f":"AH18*'Product Info'!AZ19","v":0},{"$f":"AH18*'Product Info'!BC19","v":0},{"$f":"AH18*'Product Info'!BF19","v":0},{"$f":"AH18*'Product Info'!BI19","v":0},{"$f":"AH18*'Product Info'!BL19","v":0},{"$f":"AH18*'Product Info'!BO19","v":0},{"$f":"AH18*'Product Info'!BR19","v":0},{"$f":"AH18*'Product Info'!BU19","v":0},{"$f":"AH18*'Product Info'!BX19","v":0}]
[{"$f":"'Product Info'!A20","v":0},{"$f":"'Product Info'!B20","v":0},{"$f":"'Product Info'!C20","v":0},null,null,null,null,null,null,null,null,null,null,null,null,null,null,null,null,null,null,null,null,null,null,null,null,null,null,null,null,null,null,0,{"$f":"'Product Info'!F20*('Daily Info (April)'!AH19)","v":0},null,null,{"$f":"AH19*('Product Info'!H20)","v":0},{"$f":"AH19*('Product Info'!M20+'Product Info'!P20+'Product Info'!S20+'Product Info'!V20+'Product Info'!Y20+'Product Info'!AB20+'Product Info'!AE20+'Product Info'!AH20+'Product Info'!AK20+'Product Info'!AN20+'Product Info'!AQ20+'Product Info'!AT20+'Product Info'!AW20+'Product Info'!AZ20+'Product Info'!BC20+'Product Info'!BF20+'Product Info'!BI20+'Product Info'!BL20+'Product Info'!BO20+'Product Info'!BR20+'Product Info'!BU20+'Product Info'!BX20+'Product Info'!CA20+'Product Info'!CD20+'Product Info'!CG20+'Product Info'!CJ20+'Product Info'!CM20+'Product Info'!CP20+'Product Info'!CS20+'Product Info'!CV20+'Product Info'!CY20+'Product Info'!DB20+'Product Info'!DE20+'Product Info'!DH20+'Product Info'!DK20+'Product Info'!DN20+'Product Info'!DQ20+'Product Info'!DT20+'Product Info'!DW20+'Product Info'!DZ20+'Product Info'!EC20+'Product Info'!EF20+'Product Info'!EI20+'Product Info'!EL20+'Product Info'!EO20+'Product Info'!ER20+'Product Info'!EU20+'Product Info'!EX20+'Product Info'!FA20+'Product Info'!FD20)","v":0},{"$f":"AH19*('Product Info'!M20)","v":0},{"$f":"AH19*'Product Info'!P20","v":0},{"$f":"AH19*'Product Info'!S20","v":0},{"$f":"AH19*'Product Info'!V20","v":0},{"$f":"AH19*'Product Info'!Y20","v":0},{"$f":"AH19*'Product Info'!AB20","v":0},{"$f":"AH19*'Product Info'!AE20","v":0},{"$f":"AH19*'Product Info'!AH20","v":0},{"$f":"AH19*'Product Info'!AK20","v":0},{"$f":"AH19*'Product Info'!AN20","v":0},{"$f":"AH19*'Product Info'!AQ20","v":0},{"$f":"AQ19*'Product Info'!AF20","v":0},{"$f":"AH19*'Product Info'!AW20","v":0},{"$f":"AH19*'Product Info'!AZ20","v":0},{"$f":"AH19*'Product Info'!BC20","v":0},{"$f":"AH19*'Product Info'!BF20","v":0},{"$f":"AH19*'Product Info'!BI20","v":0},{"$f":"AH19*'Product Info'!BL20","v":0},{"$f":"AH19*'Product Info'!BO20","v":0},{"$f":"AH19*'Product Info'!BR20","v":0},{"$f":"AH19*'Product Info'!BU20","v":0},{"$f":"AH19*'Product Info'!BX20","v":0}]
[{"$f":"'Product Info'!A21","v":0},{"$f":"'Product Info'!B21","v":0},{"$f":"'Product Info'!C21","v":0},null,null,null,null,null,null,null,null,null,null,null,null,null,null,null,null,null,null,null,null,null,null,null,null,null,null,null,null,null,null,0,{"$f":"'Product Info'!F21*('Daily Info (April)'!AH20)","v":0},null,null,{"$f":"AH20*('Product Info'!H21)","v":0},{"$f":"AH20*('Product Info'!M21+'Product Info'!P21+'Product Info'!S21+'Product Info'!V21+'Product Info'!Y21+'Product Info'!AB21+'Product Info'!AE21+'Product Info'!AH21+'Product Info'!AK21+'Product Info'!AN21+'Product Info'!AQ21+'Product Info'!AT21+'Product Info'!AW21+'Product Info'!AZ21+'Product Info'!BC21+'Product Info'!BF21+'Product Info'!BI21+'Product Info'!BL21+'Product Info'!BO21+'Product Info'!BR21+'Product Info'!BU21+'Product Info'!BX21+'Product Info'!CA21+'Product Info'!CD21+'Product Info'!CG21+'Product Info'!CJ21+'Product Info'!CM21+'Product Info'!CP21+'Product Info'!CS21+'Product Info'!CV21+'Product Info'!CY21+'Product Info'!DB21+'Product Info'!DE21+'Product Info'!DH21+'Product Info'!DK21+'Product Info'!DN21+'Product Info'!DQ21+'Product Info'!DT21+'Product Info'!DW21+'Product Info'!DZ21+'Product Info'!EC21+'Product Info'!EF21+'Product Info'!EI21+'Product Info'!EL21+'Product Info'!EO21+'Product Info'!ER21+'Product Info'!EU21+'Product Info'!EX21+'Product Info'!FA21+'Product Info'!FD21)","v":0},{"$f":"AH20*('Product Info'!M21)","v":0},{"$f":"AH20*'Product Info'!P21","v":0},{"$f":"AH20*'Product Info'!S21","v":0},{"$f":"AH20*'Product Info'!V21","v":0},{"$f":"AH20*'Product Info'!Y21","v":0},{"$f":"AH20*'Product Info'!AB21","v":0},{"$f":"AH20*'Product Info'!AE21","v":0},{"$f":"AH20*'Product Info'!AH21","v":0},{"$f":"AH20*'Product Info'!AK21","v":0},{"$f":"AH20*'Product Info'!AN21","v":0},{"$f":"AH20*'Product Info'!AQ21","v":0},{"$f":"AH20*'Product Info'!AT21","v":0},{"$f":"AH20*'Product Info'!AW21","v":0},{"$f":"AH20*'Product Info'!AZ21","v":0},{"$f":"AH20*'Product Info'!BC21","v":0},{"$f":"AH20*'Product Info'!BF21","v":0},{"$f":"AH20*'Product Info'!BI21","v":0},{"$f":"AH20*'Product Info'!BL21","v":0},{"$f":"AH20*'Product Info'!BO21","v":0},{"$f":"AH20*'Product Info'!BR21","v":0},{"$f":"AH20*'Product Info'!BU21","v":0},{"$f":"AH20*'Product Info'!BX21","v":0}]
[{"$f":"'Product Info'!A22","v":0},{"$f":"'Product Info'!B22","v":0},{"$f":"'Product Info'!C22","v":0},null,null,null,null,null,null,null,null,null,null,null,null,null,null,null,null,null,null,null,null,null,null,null,null,null,null,null,null,null,null,0,{"$f":"'Product Info'!F22*('Daily Info (April)'!AH21)","v":0},null,null,{"$f":"AH21*('Product Info'!H22)","v":0},{"$f":"AH21*('Product Info'!M22+'Product Info'!P22+'Product Info'!S22+'Product Info'!V22+'Product Info'!Y22+'Product Info'!AB22+'Product Info'!AE22+'Product Info'!AH22+'Product Info'!AK22+'Product Info'!AN22+'Product Info'!AQ22+'Product Info'!AT22+'Product Info'!AW22+'Product Info'!AZ22+'Product Info'!BC22+'Product Info'!BF22+'Product Info'!BI22+'Product Info'!BL22+'Product Info'!BO22+'Product Info'!BR22+'Product Info'!BU22+'Product Info'!BX22+'Product Info'!CA22+'Product Info'!CD22+'Product Info'!CG22+'Product Info'!CJ22+'Product Info'!CM22+'Product Info'!CP22+'Product Info'!CS22+'Product Info'!CV22+'Product Info'!CY22+'Product Info'!DB22+'Product Info'!DE22+'Product Info'!DH22+'Product Info'!DK22+'Product Info'!DN22+'Product Info'!DQ22+'Product Info'!DT22+'Product Info'!DW22+'Product Info'!DZ22+'Product Info'!EC22+'Product Info'!EF22+'Product Info'!EI22+'Product Info'!EL22+'Product Info'!EO22+'Product Info'!ER22+'Product Info'!EU22+'Product Info'!EX22+'Product Info'!FA22+'Product Info'!FD22)","v":0},{"$f":"AH21*('Product Info'!M22)","v":0},{"$f":"AH21*'Product Info'!P22","v":0},{"$f":"AH21*'Product Info'!S22","v":0},{"$f":"AH21*'Product Info'!V22","v":0},{"$f":"AH21*'Product Info'!Y22","v":0},{"$f":"AH21*'Product Info'!AB22","v":0},{"$f":"AH21*'Product Info'!AE22","v":0},{"$f":"AH21*'Product Info'!AH22","v":0},{"$f":"AH21*'Product Info'!AK22","v":0},{"$f":"AH21*'Product Info'!AN22","v":0},{"$f":"AH21*'Product Info'!AQ22","v":0},{"$f":"AH21*'Product Info'!AT22","v":0},{"$f":"AH21*'Product Info'!AW22","v":0},{"$f":"AH21*'Product Info'!AZ22","v":0},{"$f":"AH21*'Product Info'!BC22","v":0},{"$f":"AH21*'Product Info'!BF22","v":0},{"$f":"AH21*'Product Info'!BI22","v":0},{"$f":"AH21*'Product Info'!BL22","v":0},{"$f":"AH21*'Product Info'!BO22","v":0},{"$f":"AH21*'Product Info'!BR22","v":0},{"$f":"AH21*'Product Info'!BU22","v":0},{"$f":"AH21*'Product Info'!BX22","v":0}]
[{"$f":"'Product Info'!A23","v":0},{"$f":"'Product Info'!B23","v":0},{"$f":"'Product Info'!C23","v":0},null,null,null,null,null,null,null,null,null,null,null,null,null,null,null,null,null,null,null,null,null,null,null,null,null,null,null,null,null,null,0,{"$f":"'Product Info'!F23*('Daily Info (April)'!AH22)","v":0},null,null,{"$f":"AH22*('Product Info'!H23)","v":0},{"$f":"AH22*('Product Info'!M23+'Product Info'!P23+'Product Info'!S23+'Product Info'!V23+'Product Info'!Y23+'Product Info'!AB23+'Product Info'!AE23+'Product Info'!AH23+'Product Info'!AK23+'Product Info'!AN23+'Product Info'!AQ23+'Product Info'!AT23+'Product Info'!AW23+'Product Info'!AZ23+'Product Info'!BC23+'Product Info'!BF23+'Product Info'!BI23+'Product Info'!BL23+'Product Info'!BO23+'Product Info'!BR23+'Product Info'!BU23+'Product Info'!BX23+'Product Info'!CA23+'Product Info'!CD23+'Product Info'!CG23+'Product Info'!CJ23+'Product Info'!CM23+'Product Info'!CP23+'Product Info'!CS23+'Product Info'!CV23+'Product Info'!CY23+'Product Info'!DB23+'Product Info'!DE23+'Product Info'!DH23+'Product Info'!DK23+'Product Info'!DN23+'Product Info'!DQ23+'Product Info'!DT23+'Product Info'!DW23+'Product Info'!DZ23+'Product Info'!EC23+'Product Info'!EF23+'Product Info'!EI23+'Product Info'!EL23+'Product Info'!EO23+'Product Info'!ER23+'Product Info'!EU23+'Product Info'!EX23+'Product Info'!FA23+'Product Info'!FD23)","v":0},{"$f":"AH22*('Product Info'!M23)","v":0},{"$f":"AH22*'Product Info'!P23","v":0},{"$f":"AH22*'Product Info'!S23","v":0},{"$f":"AH22*'Product Info'!V23","v":0},{"$f":"AH22*'Product Info'!Y23","v":0},{"$f":"AH22*'Product Info'!AB23","v":0},{"$f":"AH22*'Product Info'!AE23","v":0},{"$f":"AH22*'Product Info'!AH23","v":0},{"$f":"AH22*'Product Info'!AK23","v":0},{"$f":"AH22*'Product Info'!AN23","v":0},{"$f":"AH22*'Product Info'!AQ23","v":0},{"$f":"AH22*'Product Info'!AT23","v":0},{"$f":"AH22*'Product Info'!AW23","v":0},{"$f":"AH22*'Product Info'!AZ23","v":0},{"$f":"AH22*'Product Info'!BC23","v":0},{"$f":"AH22*'Product Info'!BF23","v":0},{"$f":"AH22*'Product Info'!BI23","v":0},{"$f":"AH22*'Product Info'!BL23","v":0},{"$f":"AH22*'Product Info'!BO23","v":0},{"$f":"AH22*'Product Info'!BR23","v":0},{"$f":"AH22*'Product Info'!BU23","v":0},{"$f":"AH22*'Product Info'!BX23","v":0}]
[{"$f":"'Product Info'!A24","v":0},{"$f":"'Product Info'!B24","v":0},{"$f":"'Product Info'!C24","v":0},null,null,null,null,null,null,null,null,null,null,null,null,null,null,null,null,null,null,null,null,null,null,null,null,null,null,null,null,null,null,0,{"$f":"'Product Info'!F24*('Daily Info (April)'!AH23)","v":0},null,null,{"$f":"AH23*('Product Info'!H24)","v":0},{"$f":"AH23*('Product Info'!M24+'Product Info'!P24+'Product Info'!S24+'Product Info'!V24+'Product Info'!Y24+'Product Info'!AB24+'Product Info'!AE24+'Product Info'!AH24+'Product Info'!AK24+'Product Info'!AN24+'Product Info'!AQ24+'Product Info'!AT24+'Product Info'!AW24+'Product Info'!AZ24+'Product Info'!BC24+'Product Info'!BF24+'Product Info'!BI24+'Product Info'!BL24+'Product Info'!BO24+'Product Info'!BR24+'Product Info'!BU24+'Product Info'!BX24+'Product Info'!CA24+'Product Info'!CD24+'Product Info'!CG24+'Product Info'!CJ24+'Product Info'!CM24+'Product Info'!CP24+'Product Info'!CS24+'Product Info'!CV24+'Product Info'!CY24+'Product Info'!DB24+'Product Info'!DE24+'Product Info'!DH24+'Product Info'!DK24+'Product Info'!DN24+'Product Info'!DQ24+'Product Info'!DT24+'Product Info'!DW24+'Product Info'!DZ24+'Product Info'!EC24+'Product Info'!EF24+'Product Info'!EI24+'Product Info'!EL24+'Product Info'!EO24+'Product Info'!ER24+'Product Info'!EU24+'Product Info'!EX24+'Product Info'!FA24+'Product Info'!FD24)","v":0},{"$f":"AH23*('Product Info'!M24)","v":0},{"$f":"AH23*'Product Info'!P24","v":0},{"$f":"AH23*'Product Info'!S24","v":0},{"$f":"AH23*'Product Info'!V24","v":0},{"$f":"AH23*'Product Info'!Y24","v":0},{"$f":"AH23*'Product Info'!AB24","v":0},{"$f":"AH23*'Product Info'!AE24","v":0},{"$f":"AH23*'Product Info'!AH24","v":0},{"$f":"AH23*'Product Info'!AK24","v":0},{"$f":"AH23*'Product Info'!AN24","v":0},{"$f":"AH23*'Product Info'!AQ24","v":0},{"$f":"AH23*'Product Info'!AT24","v":0},{"$f":"AH23*'Product Info'!AW24","v":0},{"$f":"AH23*'Product Info'!AZ24","v":0},{"$f":"AH23*'Product Info'!BC24","v":0},{"$f":"AH23*'Product Info'!BF24","v":0},{"$f":"AH23*'Product Info'!BI24","v":0},{"$f":"AH23*'Product Info'!BL24","v":0},{"$f":"AH23*'Product Info'!BO24","v":0},{"$f":"AH23*'Product Info'!BR24","v":0},{"$f":"AH23*'Product Info'!BU24","v":0},{"$f":"AH23*'Product Info'!BX24","v":0}]
[{"$f":"'Product Info'!A25","v":0},{"$f":"'Product Info'!B25","v":0},{"$f":"'Product Info'!C25","v":0},null,null,null,null,null,null,null,null,null,null,null,null,null,null,null,null,null,null,null,null,null,null,null,null,null,null,null,null,null,null,0,{"$f":"'Product Info'!F25*('Daily Info (April)'!AH24)","v":0},null,null,{"$f":"AH24*('Product Info'!H25)","v":0},{"$f":"AH24*('Product Info'!M25+'Product Info'!P25+'Product Info'!S25+'Product Info'!V25+'Product Info'!Y25+'Product Info'!AB25+'Product Info'!AE25+'Product Info'!AH25+'Product Info'!AK25+'Product Info'!AN25+'Product Info'!AQ25+'Product Info'!AT25+'Product Info'!AW25+'Product Info'!AZ25+'Product Info'!BC25+'Product Info'!BF25+'Product Info'!BI25+'Product Info'!BL25+'Product Info'!BO25+'Product Info'!BR25+'Product Info'!BU25+'Product Info'!BX25+'Product Info'!CA25+'Product Info'!CD25+'Product Info'!CG25+'Product Info'!CJ25+'Product Info'!CM25+'Product Info'!CP25+'Product Info'!CS25+'Product Info'!CV25+'Product Info'!CY25+'Product Info'!DB25+'Product Info'!DE25+'Product Info'!DH25+'Product Info'!DK25+'Product Info'!DN25+'Product Info'!DQ25+'Product Info'!DT25+'Product Info'!DW25+'Product Info'!DZ25+'Product Info'!EC25+'Product Info'!EF25+'Product Info'!EI25+'Product Info'!EL25+'Product Info'!EO25+'Product Info'!ER25+'Product Info'!EU25+'Product Info'!EX25+'Product Info'!FA25+'Product Info'!FD25)","v":0},{"$f":"AH24*('Product Info'!M25)","v":0},{"$f":"AH24*'Product Info'!P25","v":0},{"$f":"AH24*'Product Info'!S25","v":0},{"$f":"AH24*'Product Info'!V25","v":0},{"$f":"AH24*'Product Info'!Y25","v":0},{"$f":"AH24*'Product Info'!AB25","v":0},{"$f":"AH24*'Product Info'!AE25","v":0},{"$f":"AH24*'Product Info'!AH25","v":0},{"$f":"AH24*'Product Info'!AK25","v":0},{"$f":"AH24*'Product Info'!AN25","v":0},{"$f":"AH24*'Product Info'!AQ25","v":0},{"$f":"AH24*'Product Info'!AT25","v":0},{"$f":"AH24*'Product Info'!AW25","v":0},{"$f":"AH24*'Product Info'!AZ25","v":0},{"$f":"AH24*'Product Info'!BC25","v":0},{"$f":"AH24*'Product Info'!BF25","v":0},{"$f":"AH24*'Product Info'!BI25","v":0},{"$f":"AH24*'Product Info'!BL25","v":0},{"$f":"AH24*'Product Info'!BO25","v":0},{"$f":"AH24*'Product Info'!BR25","v":0},{"$f":"AH24*'Product Info'!BU25","v":0},{"$f":"AH24*'Product Info'!BX25","v":0}]
[{"$f":"'Product Info'!A26","v":0},{"$f":"'Product Info'!B26","v":0},{"$f":"'Product Info'!C26","v":0},null,null,null,null,null,null,null,null,null,null,null,null,null,null,null,null,null,null,null,null,null,null,null,null,null,null,null,null,null,null,0,{"$f":"'Product Info'!F26*('Daily Info (April)'!AH25)","v":0},null,null,{"$f":"AH25*('Product Info'!H26)","v":0},{"$f":"AH25*('Product Info'!M26+'Product Info'!P26+'Product Info'!S26+'Product Info'!V26+'Product Info'!Y26+'Product Info'!AB26+'Product Info'!AE26+'Product Info'!AH26+'Product Info'!AK26+'Product Info'!AN26+'Product Info'!AQ26+'Product Info'!AT26+'Product Info'!AW26+'Product Info'!AZ26+'Product Info'!BC26+'Product Info'!BF26+'Product Info'!BI26+'Product Info'!BL26+'Product Info'!BO26+'Product Info'!BR26+'Product Info'!BU26+'Product Info'!BX26+'Product Info'!CA26+'Product Info'!CD26+'Product Info'!CG26+'Product Info'!CJ26+'Product Info'!CM26+'Product Info'!CP26+'Product Info'!CS26+'Product Info'!CV26+'Product Info'!CY26+'Product Info'!DB26+'Product Info'!DE26+'Product Info'!DH26+'Product Info'!DK26+'Product Info'!DN26+'Product Info'!DQ26+'Product Info'!DT26+'Product Info'!DW26+'Product Info'!DZ26+'Product Info'!EC26+'Product Info'!EF26+'Product Info'!EI26+'Product Info'!EL26+'Product Info'!EO26+'Product Info'!ER26+'Product Info'!EU26+'Product Info'!EX26+'Product Info'!FA26+'Product Info'!FD26)","v":0},{"$f":"AH25*('Product Info'!M26)","v":0},{"$f":"AH25*'Product Info'!P26","v":0},{"$f":"AH25*'Product Info'!S26","v":0},{"$f":"AH25*'Product Info'!V26","v":0},{"$f":"AH25*'Product Info'!Y26","v":0},{"$f":"AH25*'Product Info'!AB26","v":0},{"$f":"AH25*'Product Info'!AE26","v":0},{"$f":"AH25*'Product Info'!AH26","v":0},{"$f":"AH25*'Product Info'!AK26","v":0},{"$f":"AH25*'Product Info'!AN26","v":0},{"$f":"AH25*'Product Info'!AQ26","v":0},{"$f":"AH25*'Product Info'!AT26","v":0},{"$f":"AH25*'Product Info'!AW26","v":0},{"$f":"AH25*'Product Info'!AZ26","v":0},{"$f":"AH25*'Product Info'!BC26","v":0},{"$f":"AH25*'Product Info'!BF26","v":0},{"$f":"AH25*'Product Info'!BI26","v":0},{"$f":"AH25*'Product Info'!BL26","v":0},{"$f":"AH25*'Product Info'!BO26","v":0},{"$f":"AH25*'Product Info'!BR26","v":0},{"$f":"AH25*'Product Info'!BU26","v":0},{"$f":"AH25*'Product Info'!BX26","v":0}]
[{"$f":"'Product Info'!A27","v":0},{"$f":"'Product Info'!B27","v":0},{"$f":"'Product Info'!C27","v":0},null,null,null,null,null,null,null,null,null,null,null,null,null,null,null,null,null,null,null,null,null,null,null,null,null,null,null,null,null,null,0,{"$f":"'Product Info'!F27*('Daily Info (April)'!AH26)","v":0},null,null,{"$f":"AH26*('Product Info'!H27)","v":0},{"$f":"AH26*('Product Info'!M27+'Product Info'!P27+'Product Info'!S27+'Product Info'!V27+'Product Info'!Y27+'Product Info'!AB27+'Product Info'!AE27+'Product Info'!AH27+'Product Info'!AK27+'Product Info'!AN27+'Product Info'!AQ27+'Product Info'!AT27+'Product Info'!AW27+'Product Info'!AZ27+'Product Info'!BC27+'Product Info'!BF27+'Product Info'!BI27+'Product Info'!BL27+'Product Info'!BO27+'Product Info'!BR27+'Product Info'!BU27+'Product Info'!BX27+'Product Info'!CA27+'Product Info'!CD27+'Product Info'!CG27+'Product Info'!CJ27+'Product Info'!CM27+'Product Info'!CP27+'Product Info'!CS27+'Product Info'!CV27+'Product Info'!CY27+'Product Info'!DB27+'Product Info'!DE27+'Product Info'!DH27+'Product Info'!DK27+'Product Info'!DN27+'Product Info'!DQ27+'Product Info'!DT27+'Product Info'!DW27+'Product Info'!DZ27+'Product Info'!EC27+'Product Info'!EF27+'Product Info'!EI27+'Product Info'!EL27+'Product Info'!EO27+'Product Info'!ER27+'Product Info'!EU27+'Product Info'!EX27+'Product Info'!FA27+'Product Info'!FD27)","v":0},{"$f":"AH26*('Product Info'!M27)","v":0},{"$f":"AH26*'Product Info'!P27","v":0},{"$f":"AH26*'Product Info'!S27","v":0},{"$f":"AH26*'Product Info'!V27","v":0},{"$f":"AH26*'Product Info'!Y27","v":0},{"$f":"AH26*'Product Info'!AB27","v":0},{"$f":"AH26*'Product Info'!AE27","v":0},{"$f":"AH26*'Product Info'!AH27","v":0},{"$f":"AH26*'Product Info'!AK27","v":0},{"$f":"AH26*'Product Info'!AN27","v":0},{"$f":"AH26*'Product Info'!AQ27","v":0},{"$f":"AH26*'Product Info'!AT27","v":0},{"$f":"AH26*'Product Info'!AW27","v":0},{"$f":"AH26*'Product Info'!AZ27","v":0},{"$f":"AH26*'Product Info'!BC27","v":0},{"$f":"AH26*'Product Info'!BF27","v":0},{"$f":"AH26*'Product Info'!BI27","v":0},{"$f":"AH26*'Product Info'!BL27","v":0},{"$f":"AH26*'Product Info'!BO27","v":0},{"$f":"AH26*'Product Info'!BR27","v":0},{"$f":"AH26*'Product Info'!BU27","v":0},{"$f":"AH26*'Product Info'!BX27","v":0}]
[{"$f":"'Product Info'!A28","v":0},{"$f":"'Product Info'!B28","v":0},{"$f":"'Product Info'!C28","v":0},null,null,null,null,null,null,null,null,null,null,null,null,null,null,null,null,null,null,null,null,null,null,null,null,null,null,null,null,null,null,0,{"$f":"'Product Info'!F28*('Daily Info (April)'!AH27)","v":0},null,null,{"$f":"AH27*('Product Info'!H28)","v":0},{"$f":"AH27*('Product Info'!M28+'Product Info'!P28+'Product Info'!S28+'Product Info'!V28+'Product Info'!Y28+'Product Info'!AB28+'Product Info'!AE28+'Product Info'!AH28+'Product Info'!AK28+'Product Info'!AN28+'Product Info'!AQ28+'Product Info'!AT28+'Product Info'!AW28+'Product Info'!AZ28+'Product Info'!BC28+'Product Info'!BF28+'Product Info'!BI28+'Product Info'!BL28+'Product Info'!BO28+'Product Info'!BR28+'Product Info'!BU28+'Product Info'!BX28+'Product Info'!CA28+'Product Info'!CD28+'Product Info'!CG28+'Product Info'!CJ28+'Product Info'!CM28+'Product Info'!CP28+'Product Info'!CS28+'Product Info'!CV28+'Product Info'!CY28+'Product Info'!DB28+'Product Info'!DE28+'Product Info'!DH28+'Product Info'!DK28+'Product Info'!DN28+'Product Info'!DQ28+'Product Info'!DT28+'Product Info'!DW28+'Product Info'!DZ28+'Product Info'!EC28+'Product Info'!EF28+'Product Info'!EI28+'Product Info'!EL28+'Product Info'!EO28+'Product Info'!ER28+'Product Info'!EU28+'Product Info'!EX28+'Product Info'!FA28+'Product Info'!FD28)","v":0},{"$f":"AH27*('Product Info'!M28)","v":0},{"$f":"AH27*'Product Info'!P28","v":0},{"$f":"AH27*'Product Info'!S28","v":0},{"$f":"AH27*'Product Info'!V28","v":0},{"$f":"AH27*'Product Info'!Y28","v":0},{"$f":"AH27*'Product Info'!AB28","v":0},{"$f":"AH27*'Product Info'!AE28","v":0},{"$f":"AH27*'Product Info'!AH28","v":0},{"$f":"AH27*'Product Info'!AK28","v":0},{"$f":"AH27*'Product Info'!AN28","v":0},{"$f":"AH27*'Product Info'!AQ28","v":0},{"$f":"AH27*'Product Info'!AT28","v":0},{"$f":"AH27*'Product Info'!AW28","v":0},{"$f":"AH27*'Product Info'!AZ28","v":0},{"$f":"AH27*'Product Info'!BC28","v":0},{"$f":"AH27*'Product Info'!BF28","v":0},{"$f":"AH27*'Product Info'!BI28","v":0},{"$f":"AH27*'Product Info'!BL28","v":0},{"$f":"AH27*'Product Info'!BO28","v":0},{"$f":"AH27*'Product Info'!BR28","v":0},{"$f":"AH27*'Product Info'!BU28","v":0},{"$f":"AH27*'Product Info'!BX28","v":0}]
[{"$f":"'Product Info'!A29","v":0},{"$f":"'Product Info'!B29","v":0},{"$f":"'Product Info'!C29","v":0},null,null,null,null,null,null,null,null,null,null,null,null,null,null,null,null,null,null,null,null,null,null,null,null,null,null,null,null,null,null,0,{"$f":"'Product Info'!F29*('Daily Info (April)'!AH28)","v":0},null,null,{"$f":"AH28*('Product Info'!H29)","v":0},{"$f":"AH28*('Product Info'!M29+'Product Info'!P29+'Product Info'!S29+'Product Info'!V29+'Product Info'!Y29+'Product Info'!AB29+'Product Info'!AE29+'Product Info'!AH29+'Product Info'!AK29+'Product Info'!AN29+'Product Info'!AQ29+'Product Info'!AT29+'Product Info'!AW29+'Product Info'!AZ29+'Product Info'!BC29+'Product Info'!BF29+'Product Info'!BI29+'Product Info'!BL29+'Product Info'!BO29+'Product Info'!BR29+'Product Info'!BU29+'Product Info'!BX29+'Product Info'!CA29+'Product Info'!CD29+'Product Info'!CG29+'Product Info'!CJ29+'Product Info'!CM29+'Product Info'!CP29+'Product Info'!CS29+'Product Info'!CV29+'Product Info'!CY29+'Product Info'!DB29+'Product Info'!DE29+'Product Info'!DH29+'Product Info'!DK29+'Product Info'!DN29+'Product Info'!DQ29+'Product Info'!DT29+'Product Info'!DW29+'Product Info'!DZ29+'Product Info'!EC29+'Product Info'!EF29+'Product Info'!EI29+'Product Info'!EL29+'Product Info'!EO29+'Product Info'!ER29+'Product Info'!EU29+'Product Info'!EX29+'Product Info'!FA29+'Product Info'!FD29)","v":0},{"$f":"AH28*('Product Info'!M29)","v":0},{"$f":"AH28*'Product Info'!P29","v":0},{"$f":"AH28*'Product Info'!S29","v":0},{"$f":"AH28*'Product Info'!V29","v":0},{"$f":"AH28*'Product Info'!Y29","v":0},{"$f":"AH28*'Product Info'!AB29","v":0},{"$f":"AH28*'Product Info'!AE29","v":0},{"$f":"AH28*'Product Info'!AH29","v":0},{"$f":"AH28*'Product Info'!AK29","v":0},{"$f":"AH28*'Product Info'!AN29","v":0},{"$f":"AH28*'Product Info'!AQ29","v":0},{"$f":"AH28*'Product Info'!AT29","v":0},{"$f":"AH28*'Product Info'!AW29","v":0},{"$f":"AH28*'Product Info'!AZ29","v":0},{"$f":"AH28*'Product Info'!BC29","v":0},{"$f":"AH28*'Product Info'!BF29","v":0},{"$f":"AH28*'Product Info'!BI29","v":0},{"$f":"AH28*'Product Info'!BL29","v":0},{"$f":"AH28*'Product Info'!BO29","v":0},{"$f":"AH28*'Product Info'!BR29","v":0},{"$f":"AH28*'Product Info'!BU29","v":0},{"$f":"AH28*'Product Info'!BX29","v":0}]
[{"$f":"'Product Info'!A30","v":0},{"$f":"'Product Info'!B30","v":0},{"$f":"'Product Info'!C30","v":0},null,null,null,null,null,null,null,null,null,null,null,null,null,null,null,null,null,null,null,null,null,null,null,null,null,null,null,null,null,null,0,{"$f":"'Product Info'!F30*('Daily Info (April)'!AH29)","v":0},null,null,{"$f":"AH29*('Product Info'!H30)","v":0},{"$f":"AH29*('Product Info'!M30+'Product Info'!P30+'Product Info'!S30+'Product Info'!V30+'Product Info'!Y30+'Product Info'!AB30+'Product Info'!AE30+'Product Info'!AH30+'Product Info'!AK30+'Product Info'!AN30+'Product Info'!AQ30+'Product Info'!AT30+'Product Info'!AW30+'Product Info'!AZ30+'Product Info'!BC30+'Product Info'!BF30+'Product Info'!BI30+'Product Info'!BL30+'Product Info'!BO30+'Product Info'!BR30+'Product Info'!BU30+'Product Info'!BX30+'Product Info'!CA30+'Product Info'!CD30+'Product Info'!CG30+'Product Info'!CJ30+'Product Info'!CM30+'Product Info'!CP30+'Product Info'!CS30+'Product Info'!CV30+'Product Info'!CY30+'Product Info'!DB30+'Product Info'!DE30+'Product Info'!DH30+'Product Info'!DK30+'Product Info'!DN30+'Product Info'!DQ30+'Product Info'!DT30+'Product Info'!DW30+'Product Info'!DZ30+'Product Info'!EC30+'Product Info'!EF30+'Product Info'!EI30+'Product Info'!EL30+'Product Info'!EO30+'Product Info'!ER30+'Product Info'!EU30+'Product Info'!EX30+'Product Info'!FA30+'Product Info'!FD30)","v":0},{"$f":"AH29*('Product Info'!M30)","v":0},{"$f":"AH29*'Product Info'!P30","v":0},{"$f":"AH29*'Product Info'!S30","v":0},{"$f":"AH29*'Product Info'!V30","v":0},{"$f":"AH29*'Product Info'!Y30","v":0},{"$f":"AH29*'Product Info'!AB30","v":0},{"$f":"AH29*'Product Info'!AE30","v":0},{"$f":"AH29*'Product Info'!AH30","v":0},{"$f":"AH29*'Product Info'!AK30","v":0},{"$f":"AH29*'Product Info'!AN30","v":0},{"$f":"AH29*'Product Info'!AQ30","v":0},{"$f":"AH29*'Product Info'!AT30","v":0},{"$f":"AH29*'Product Info'!AW30","v":0},{"$f":"AH29*'Product Info'!AZ30","v":0},{"$f":"AH29*'Product Info'!BC30","v":0},{"$f":"AH29*'Product Info'!BF30","v":0},{"$f":"AH29*'Product Info'!BI30","v":0},{"$f":"AH29*'Product Info'!BL30","v":0},{"$f":"AH29*'Product Info'!BO30","v":0},{"$f":"AH29*'Product Info'!BR30","v":0},{"$f":"AH29*'Product Info'!BU30","v":0},{"$f":"AH29*'Product Info'!BX30","v":0}]
[{"$f":"'Product Info'!A31","v":0},{"$f":"'Product Info'!B31","v":0},{"$f":"'Product Info'!C31","v":0},null,null,null,null,null,null,null,null,null,null,null,null,null,null,null,null,null,null,null,null,null,null,null,null,null,null,null,null,null,null,0,{"$f":"'Product Info'!F31*('Daily Info (April)'!AH30)","v":0},null,null,{"$f":"AH30*('Product Info'!H31)","v":0},{"$f":"AH30*('Product Info'!M31+'Product Info'!P31+'Product Info'!S31+'Product Info'!V31+'Product Info'!Y31+'Product Info'!AB31+'Product Info'!AE31+'Product Info'!AH31+'Product Info'!AK31+'Product Info'!AN31+'Product Info'!AQ31+'Product Info'!AT31+'Product Info'!AW31+'Product Info'!AZ31+'Product Info'!BC31+'Product Info'!BF31+'Product Info'!BI31+'Product Info'!BL31+'Product Info'!BO31+'Product Info'!BR31+'Product Info'!BU31+'Product Info'!BX31+'Product Info'!CA31+'Product Info'!CD31+'Product Info'!CG31+'Product Info'!CJ31+'Product Info'!CM31+'Product Info'!CP31+'Product Info'!CS31+'Product Info'!CV31+'Product Info'!CY31+'Product Info'!DB31+'Product Info'!DE31+'Product Info'!DH31+'Product Info'!DK31+'Product Info'!DN31+'Product Info'!DQ31+'Product Info'!DT31+'Product Info'!DW31+'Product Info'!DZ31+'Product Info'!EC31+'Product Info'!EF31+'Product Info'!EI31+'Product Info'!EL31+'Product Info'!EO31+'Product Info'!ER31+'Product Info'!EU31+'Product Info'!EX31+'Product Info'!FA31+'Product Info'!FD31)","v":0},{"$f":"AH30*('Product Info'!M31)","v":0},{"$f":"AH30*'Product Info'!P31","v":0},{"$f":"AH30*'Product Info'!S31","v":0},{"$f":"AH30*'Product Info'!V31","v":0},{"$f":"AH30*'Product Info'!Y31","v":0},{"$f":"AH30*'Product Info'!AB31","v":0},{"$f":"AH30*'Product Info'!AE31","v":0},{"$f":"AH30*'Product Info'!AH31","v":0},{"$f":"AH30*'Product Info'!AK31","v":0},{"$f":"AH30*'Product Info'!AN31","v":0},{"$f":"AH30*'Product Info'!AQ31","v":0},{"$f":"AH30*'Product Info'!AT31","v":0},{"$f":"AH30*'Product Info'!AW31","v":0},{"$f":"AH30*'Product Info'!AZ31","v":0},{"$f":"AH30*'Product Info'!BC31","v":0},{"$f":"AH30*'Product Info'!BF31","v":0},{"$f":"AH30*'Product Info'!BI31","v":0},{"$f":"AH30*'Product Info'!BL31","v":0},{"$f":"AH30*'Product Info'!BO31","v":0},{"$f":"AH30*'Product Info'!BR31","v":0},{"$f":"AH30*'Product Info'!BU31","v":0},{"$f":"AH30*'Product Info'!BX31","v":0}]
[{"$f":"'Product Info'!A32","v":0},{"$f":"'Product Info'!B32","v":0},{"$f":"'Product Info'!C32","v":0},null,null,null,null,null,null,null,null,null,null,null,null,null,null,null,null,null,null,null,null,null,null,null,null,null,null,null,null,null,null,0,{"$f":"'Product Info'!F32*('Daily Info (April)'!AH31)","v":0},null,null,{"$f":"AH31*('Product Info'!H32)","v":0},{"$f":"AH31*('Product Info'!M32+'Product Info'!P32+'Product Info'!S32+'Product Info'!V32+'Product Info'!Y32+'Product Info'!AB32+'Product Info'!AE32+'Product Info'!AH32+'Product Info'!AK32+'Product Info'!AN32+'Product Info'!AQ32+'Product Info'!AT32+'Product Info'!AW32+'Product Info'!AZ32+'Product Info'!BC32+'Product Info'!BF32+'Product Info'!BI32+'Product Info'!BL32+'Product Info'!BO32+'Product Info'!BR32+'Product Info'!BU32+'Product Info'!BX32+'Product Info'!CA32+'Product Info'!CD32+'Product Info'!CG32+'Product Info'!CJ32+'Product Info'!CM32+'Product Info'!CP32+'Product Info'!CS32+'Product Info'!CV32+'Product Info'!CY32+'Product Info'!DB32+'Product Info'!DE32+'Product Info'!DH32+'Product Info'!DK32+'Product Info'!DN32+'Product Info'!DQ32+'Product Info'!DT32+'Product Info'!DW32+'Product Info'!DZ32+'Product Info'!EC32+'Product Info'!EF32+'Product Info'!EI32+'Product Info'!EL32+'Product Info'!EO32+'Product Info'!ER32+'Product Info'!EU32+'Product Info'!EX32+'Product Info'!FA32+'Product Info'!FD32)","v":0},{"$f":"AH31*('Product Info'!M32)","v":0},{"$f":"AH31*'Product Info'!P32","v":0},{"$f":"AH31*'Product Info'!S32","v":0},{"$f":"AH31*'Product Info'!V32","v":0},{"$f":"AH31*'Product Info'!Y32","v":0},{"$f":"AH31*'Product Info'!AB32","v":0},{"$f":"AH31*'Product Info'!AE32","v":0},{"$f":"AH31*'Product Info'!AH32","v":0},{"$f":"AH31*'Product Info'!AK32","v":0},{"$f":"AH31*'Product Info'!AN32","v":0},{"$f":"AH31*'Product Info'!AQ32","v":0},{"$f":"AH31*'Product Info'!AT32","v":0},{"$f":"AH31*'Product Info'!AW32","v":0},{"$f":"AH31*'Product Info'!AZ32","v":0},{"$f":"AH31*'Product Info'!BC32","v":0},{"$f":"AH31*'Product Info'!BF32","v":0},{"$f":"AH31*'Product Info'!BI32","v":0},{"$f":"AH31*'Product Info'!BL32","v":0},{"$f":"AH31*'Product Info'!BO32","v":0},{"$f":"AH31*'Product Info'!BR32","v":0},{"$f":"AH31*'Product Info'!BU32","v":0},{"$f":"AH31*'Product Info'!BX32","v":0}]
[{"$f":"'Product Info'!A33","v":0},{"$f":"'Product Info'!B33","v":0},{"$f":"'Product Info'!C33","v":0},null,null,null,null,null,null,null,null,null,null,null,null,null,null,null,null,null,null,null,null,null,null,null,null,null,null,null,null,null,null,0,{"$f":"'Product Info'!F33*('Daily Info (April)'!AH32)","v":0},null,null,{"$f":"AH32*('Product Info'!H33)","v":0},{"$f":"AH32*('Product Info'!M33+'Product Info'!P33+'Product Info'!S33+'Product Info'!V33+'Product Info'!Y33+'Product Info'!AB33+'Product Info'!AE33+'Product Info'!AH33+'Product Info'!AK33+'Product Info'!AN33+'Product Info'!AQ33+'Product Info'!AT33+'Product Info'!AW33+'Product Info'!AZ33+'Product Info'!BC33+'Product Info'!BF33+'Product Info'!BI33+'Product Info'!BL33+'Product Info'!BO33+'Product Info'!BR33+'Product Info'!BU33+'Product Info'!BX33+'Product Info'!CA33+'Product Info'!CD33+'Product Info'!CG33+'Product Info'!CJ33+'Product Info'!CM33+'Product Info'!CP33+'Product Info'!CS33+'Product Info'!CV33+'Product Info'!CY33+'Product Info'!DB33+'Product Info'!DE33+'Product Info'!DH33+'Product Info'!DK33+'Product Info'!DN33+'Product Info'!DQ33+'Product Info'!DT33+'Product Info'!DW33+'Product Info'!DZ33+'Product Info'!EC33+'Product Info'!EF33+'Product Info'!EI33+'Product Info'!EL33+'Product Info'!EO33+'Product Info'!ER33+'Product Info'!EU33+'Product Info'!EX33+'Product Info'!FA33+'Product Info'!FD33)","v":0},{"$f":"AH32*('Product Info'!M33)","v":0},{"$f":"AH32*'Product Info'!P33","v":0},{"$f":"AH32*'Product Info'!S33","v":0},{"$f":"AH32*'Product Info'!V33","v":0},{"$f":"AH32*'Product Info'!Y33","v":0},{"$f":"AH32*'Product Info'!AB33","v":0},{"$f":"AH32*'Product Info'!AE33","v":0},{"$f":"AH32*'Product Info'!AH33","v":0},{"$f":"AH32*'Product Info'!AK33","v":0},{"$f":"AH32*'Product Info'!AN33","v":0},{"$f":"AH32*'Product Info'!AQ33","v":0},{"$f":"AH32*'Product Info'!AT33","v":0},{"$f":"AH32*'Product Info'!AW33","v":0},{"$f":"AH32*'Product Info'!AZ33","v":0},{"$f":"AH32*'Product Info'!BC33","v":0},{"$f":"AH32*'Product Info'!BF33","v":0},{"$f":"AH32*'Product Info'!BI33","v":0},{"$f":"AH32*'Product Info'!BL33","v":0},{"$f":"AH32*'Product Info'!BO33","v":0},{"$f":"AH32*'Product Info'!BR33","v":0},{"$f":"AH32*'Product Info'!BU33","v":0},{"$f":"AH32*'Product Info'!BX33","v":0}]
[{"$f":"'Product Info'!A34","v":0},{"$f":"'Product Info'!B34","v":0},{"$f":"'Product Info'!C34","v":0},null,null,null,null,null,null,null,null,null,null,null,null,null,null,null,null,null,null,null,null,null,null,null,null,null,null,null,null,null,null,0,{"$f":"'Product Info'!F34*('Daily Info (April)'!AH33)","v":0},null,null,{"$f":"AH33*('Product Info'!H34)","v":0},{"$f":"AH33*('Product Info'!M34+'Product Info'!P34+'Product Info'!S34+'Product Info'!V34+'Product Info'!Y34+'Product Info'!AB34+'Product Info'!AE34+'Product Info'!AH34+'Product Info'!AK34+'Product Info'!AN34+'Product Info'!AQ34+'Product Info'!AT34+'Product Info'!AW34+'Product Info'!AZ34+'Product Info'!BC34+'Product Info'!BF34+'Product Info'!BI34+'Product Info'!BL34+'Product Info'!BO34+'Product Info'!BR34+'Product Info'!BU34+'Product Info'!BX34+'Product Info'!CA34+'Product Info'!CD34+'Product Info'!CG34+'Product Info'!CJ34+'Product Info'!CM34+'Product Info'!CP34+'Product Info'!CS34+'Product Info'!CV34+'Product Info'!CY34+'Product Info'!DB34+'Product Info'!DE34+'Product Info'!DH34+'Product Info'!DK34+'Product Info'!DN34+'Product Info'!DQ34+'Product Info'!DT34+'Product Info'!DW34+'Product Info'!DZ34+'Product Info'!EC34+'Product Info'!EF34+'Product Info'!EI34+'Product Info'!EL34+'Product Info'!EO34+'Product Info'!ER34+'Product Info'!EU34+'Product Info'!EX34+'Product Info'!FA34+'Product Info'!FD34)","v":0},{"$f":"AH33*('Product Info'!M34)","v":0},{"$f":"AH33*'Product Info'!P34","v":0},{"$f":"AH33*'Product Info'!S34","v":0},{"$f":"AH33*'Product Info'!V34","v":0},{"$f":"AH33*'Product Info'!Y34","v":0},{"$f":"AH33*'Product Info'!AB34","v":0},{"$f":"AH33*'Product Info'!AE34","v":0},{"$f":"AH33*'Product Info'!AH34","v":0},{"$f":"AH33*'Product Info'!AK34","v":0},{"$f":"AH33*'Product Info'!AN34","v":0},{"$f":"AH33*'Product Info'!AQ34","v":0},{"$f":"AQ33*'Product Info'!AF34","v":0},{"$f":"AH33*'Product Info'!AW34","v":0},{"$f":"AH33*'Product Info'!AZ34","v":0},{"$f":"AH33*'Product Info'!BC34","v":0},{"$f":"AH33*'Product Info'!BF34","v":0},{"$f":"AH33*'Product Info'!BI34","v":0},{"$f":"AH33*'Product Info'!BL34","v":0},{"$f":"AH33*'Product Info'!BO34","v":0},{"$f":"AH33*'Product Info'!BR34","v":0},{"$f":"AH33*'Product Info'!BU34","v":0},{"$f":"AH33*'Product Info'!BX34","v":0}]
[{"$f":"'Product Info'!A35","v":0},{"$f":"'Product Info'!B35","v":0},{"$f":"'Product Info'!C35","v":0},null,null,null,null,null,null,null,null,null,null,null,null,null,null,null,null,null,null,null,null,null,null,null,null,null,null,null,null,null,null,0,{"$f":"'Product Info'!F35*('Daily Info (April)'!AH34)","v":0},null,null,{"$f":"AH34*('Product Info'!H35)","v":0},{"$f":"AH34*('Product Info'!M35+'Product Info'!P35+'Product Info'!S35+'Product Info'!V35+'Product Info'!Y35+'Product Info'!AB35+'Product Info'!AE35+'Product Info'!AH35+'Product Info'!AK35+'Product Info'!AN35+'Product Info'!AQ35+'Product Info'!AT35+'Product Info'!AW35+'Product Info'!AZ35+'Product Info'!BC35+'Product Info'!BF35+'Product Info'!BI35+'Product Info'!BL35+'Product Info'!BO35+'Product Info'!BR35+'Product Info'!BU35+'Product Info'!BX35+'Product Info'!CA35+'Product Info'!CD35+'Product Info'!CG35+'Product Info'!CJ35+'Product Info'!CM35+'Product Info'!CP35+'Product Info'!CS35+'Product Info'!CV35+'Product Info'!CY35+'Product Info'!DB35+'Product Info'!DE35+'Product Info'!DH35+'Product Info'!DK35+'Product Info'!DN35+'Product Info'!DQ35+'Product Info'!DT35+'Product Info'!DW35+'Product Info'!DZ35+'Product Info'!EC35+'Product Info'!EF35+'Product Info'!EI35+'Product Info'!EL35+'Product Info'!EO35+'Product Info'!ER35+'Product Info'!EU35+'Product Info'!EX35+'Product Info'!FA35+'Product Info'!FD35)","v":0},{"$f":"AH34*('Product Info'!M35)","v":0},{"$f":"AH34*'Product Info'!P35","v":0},{"$f":"AH34*'Product Info'!S35","v":0},{"$f":"AH34*'Product Info'!V35","v":0},{"$f":"AH34*'Product Info'!Y35","v":0},{"$f":"AH34*'Product Info'!AB35","v":0},{"$f":"AH34*'Product Info'!AE35","v":0},{"$f":"AH34*'Product Info'!AH35","v":0},{"$f":"AH34*'Product Info'!AK35","v":0},{"$f":"AH34*'Product Info'!AN35","v":0},{"$f":"AH34*'Product Info'!AQ35","v":0},{"$f":"AH34*'Product Info'!AT35","v":0},{"$f":"AH34*'Product Info'!AW35","v":0},{"$f":"AH34*'Product Info'!AZ35","v":0},{"$f":"AH34*'Product Info'!BC35","v":0},{"$f":"AH34*'Product Info'!BF35","v":0},{"$f":"AH34*'Product Info'!BI35","v":0},{"$f":"AH34*'Product Info'!BL35","v":0},{"$f":"AH34*'Product Info'!BO35","v":0},{"$f":"AH34*'Product Info'!BR35","v":0},{"$f":"AH34*'Product Info'!BU35","v":0},{"$f":"AH34*'Product Info'!BX35","v":0}]
[{"$f":"'Product Info'!A36","v":0},{"$f":"'Product Info'!B36","v":0},{"$f":"'Product Info'!C36","v":0},null,null,null,null,null,null,null,null,null,null,null,null,null,null,null,null,null,null,null,null,null,null,null,null,null,null,null,null,null,null,0,{"$f":"'Product Info'!F36*('Daily Info (April)'!AH35)","v":0},null,null,{"$f":"AH35*('Product Info'!H36)","v":0},{"$f":"AH35*('Product Info'!M36+'Product Info'!P36+'Product Info'!S36+'Product Info'!V36+'Product Info'!Y36+'Product Info'!AB36+'Product Info'!AE36+'Product Info'!AH36+'Product Info'!AK36+'Product Info'!AN36+'Product Info'!AQ36+'Product Info'!AT36+'Product Info'!AW36+'Product Info'!AZ36+'Product Info'!BC36+'Product Info'!BF36+'Product Info'!BI36+'Product Info'!BL36+'Product Info'!BO36+'Product Info'!BR36+'Product Info'!BU36+'Product Info'!BX36+'Product Info'!CA36+'Product Info'!CD36+'Product Info'!CG36+'Product Info'!CJ36+'Product Info'!CM36+'Product Info'!CP36+'Product Info'!CS36+'Product Info'!CV36+'Product Info'!CY36+'Product Info'!DB36+'Product Info'!DE36+'Product Info'!DH36+'Product Info'!DK36+'Product Info'!DN36+'Product Info'!DQ36+'Product Info'!DT36+'Product Info'!DW36+'Product Info'!DZ36+'Product Info'!EC36+'Product Info'!EF36+'Product Info'!EI36+'Product Info'!EL36+'Product Info'!EO36+'Product Info'!ER36+'Product Info'!EU36+'Product Info'!EX36+'Product Info'!FA36+'Product Info'!FD36)","v":0},{"$f":"AH35*('Product Info'!M36)","v":0},{"$f":"AH35*'Product Info'!P36","v":0},{"$f":"AH35*'Product Info'!S36","v":0},{"$f":"AH35*'Product Info'!V36","v":0},{"$f":"AH35*'Product Info'!Y36","v":0},{"$f":"AH35*'Product Info'!AB36","v":0},{"$f":"AH35*'Product Info'!AE36","v":0},{"$f":"AH35*'Product Info'!AH36","v":0},{"$f":"AH35*'Product Info'!AK36","v":0},{"$f":"AH35*'Product Info'!AN36","v":0},{"$f":"AH35*'Product Info'!AQ36","v":0},{"$f":"AH35*'Product Info'!AT36","v":0},{"$f":"AH35*'Product Info'!AW36","v":0},{"$f":"AH35*'Product Info'!AZ36","v":0},{"$f":"AH35*'Product Info'!BC36","v":0},{"$f":"AH35*'Product Info'!BF36","v":0},{"$f":"AH35*'Product Info'!BI36","v":0},{"$f":"AH35*'Product Info'!BL36","v":0},{"$f":"AH35*'Product Info'!BO36","v":0},{"$f":"AH35*'Product Info'!BR36","v":0},{"$f":"AH35*'Product Info'!BU36","v":0},{"$f":"AH35*'Product Info'!BX36","v":0}]
[{"$f":"'Product Info'!A37","v":0},{"$f":"'Product Info'!B37","v":0},{"$f":"'Product Info'!C37","v":0},null,null,null,null,null,null,null,null,null,null,null,null,null,null,null,null,null,null,null,null,null,null,null,null,null,null,null,null,null,null,{"$f":"SUM(D36:AG36)","v":0},{"$f":"'Product Info'!F37*('Daily Info (April)'!AH36)","v":0},null,null,{"$f":"AH36*('Product Info'!H37)","v":0},{"$f":"AH36*('Product Info'!M37+'Product Info'!P37+'Product Info'!S37+'Product Info'!V37+'Product Info'!Y37+'Product Info'!AB37+'Product Info'!AE37+'Product Info'!AH37+'Product Info'!AK37+'Product Info'!AN37+'Product Info'!AQ37+'Product Info'!AT37+'Product Info'!AW37+'Product Info'!AZ37+'Product Info'!BC37+'Product Info'!BF37+'Product Info'!BI37+'Product Info'!BL37+'Product Info'!BO37+'Product Info'!BR37+'Product Info'!BU37+'Product Info'!BX37+'Product Info'!CA37+'Product Info'!CD37+'Product Info'!CG37+'Product Info'!CJ37+'Product Info'!CM37+'Product Info'!CP37+'Product Info'!CS37+'Product Info'!CV37+'Product Info'!CY37+'Product Info'!DB37+'Product Info'!DE37+'Product Info'!DH37+'Product Info'!DK37+'Product Info'!DN37+'Product Info'!DQ37+'Product Info'!DT37+'Product Info'!DW37+'Product Info'!DZ37+'Product Info'!EC37+'Product Info'!EF37+'Product Info'!EI37+'Product Info'!EL37+'Product Info'!EO37+'Product Info'!ER37+'Product Info'!EU37+'Product Info'!EX37+'Product Info'!FA37+'Product Info'!FD37)","v":0},{"$f":"AH36*('Product Info'!M37)","v":0},{"$f":"AH36*'Product Info'!P37","v":0},{"$f":"AH36*'Product Info'!S37","v":0},{"$f":"AH36*'Product Info'!V37","v":0},{"$f":"AH36*'Product Info'!Y37","v":0},{"$f":"AH36*'Product Info'!AB37","v":0},{"$f":"AH36*'Product Info'!AE37","v":0},{"$f":"AH36*'Product Info'!AH37","v":0},{"$f":"AH36*'Product Info'!AK37","v":0},{"$f":"AH36*'Product Info'!AN37","v":0},{"$f":"AH36*'Product Info'!AQ37","v":0},{"$f":"AH36*'Product Info'!AT37","v":0},{"$f":"AH36*'Product Info'!AW37","v":0},{"$f":"AH36*'Product Info'!AZ37","v":0},{"$f":"AH36*'Product Info'!BC37","v":0},{"$f":"AH36*'Product Info'!BF37","v":0},{"$f":"AH36*'Product Info'!BI37","v":0},{"$f":"AH36*'Product Info'!BL37","v":0},{"$f":"AH36*'Product Info'!BO37","v":0},{"$f":"AH36*'Product Info'!BR37","v":0},{"$f":"AH36*'Product Info'!BU37","v":0},{"$f":"AH36*'Product Info'!BX37","v":0}]
[{"$f":"'Product Info'!A38","v":0},{"$f":"'Product Info'!B38","v":0},{"$f":"'Product Info'!C38","v":0},null,null,null,null,null,null,null,null,null,null,null,null,null,null,null,null,null,null,null,null,null,null,null,null,null,null,null,null,null,null,0,{"$f":"'Product Info'!F38*('Daily Info (April)'!AH37)","v":0},null,null,{"$f":"AH37*('Product Info'!H38)","v":0},{"$f":"AH37*('Product Info'!M38+'Product Info'!P38+'Product Info'!S38+'Product Info'!V38+'Product Info'!Y38+'Product Info'!AB38+'Product Info'!AE38+'Product Info'!AH38+'Product Info'!AK38+'Product Info'!AN38+'Product Info'!AQ38+'Product Info'!AT38+'Product Info'!AW38+'Product Info'!AZ38+'Product Info'!BC38+'Product Info'!BF38+'Product Info'!BI38+'Product Info'!BL38+'Product Info'!BO38+'Product Info'!BR38+'Product Info'!BU38+'Product Info'!BX38+'Product Info'!CA38+'Product Info'!CD38+'Product Info'!CG38+'Product Info'!CJ38+'Product Info'!CM38+'Product Info'!CP38+'Product Info'!CS38+'Product Info'!CV38+'Product Info'!CY38+'Product Info'!DB38+'Product Info'!DE38+'Product Info'!DH38+'Product Info'!DK38+'Product Info'!DN38+'Product Info'!DQ38+'Product Info'!DT38+'Product Info'!DW38+'Product Info'!DZ38+'Product Info'!EC38+'Product Info'!EF38+'Product Info'!EI38+'Product Info'!EL38+'Product Info'!EO38+'Product Info'!ER38+'Product Info'!EU38+'Product Info'!EX38+'Product Info'!FA38+'Product Info'!FD38)","v":0},{"$f":"AH37*('Product Info'!M38)","v":0},{"$f":"AH37*'Product Info'!P38","v":0},{"$f":"AH37*'Product Info'!S38","v":0},{"$f":"AH37*'Product Info'!V38","v":0},{"$f":"AH37*'Product Info'!Y38","v":0},{"$f":"AH37*'Product Info'!AB38","v":0},{"$f":"AH37*'Product Info'!AE38","v":0},{"$f":"AH37*'Product Info'!AH38","v":0},{"$f":"AH37*'Product Info'!AK38","v":0},{"$f":"AH37*'Product Info'!AN38","v":0},{"$f":"AH37*'Product Info'!AQ38","v":0},{"$f":"AH37*'Product Info'!AT38","v":0},{"$f":"AH37*'Product Info'!AW38","v":0},{"$f":"AH37*'Product Info'!AZ38","v":0},{"$f":"AH37*'Product Info'!BC38","v":0},{"$f":"AH37*'Product Info'!BF38","v":0},{"$f":"AH37*'Product Info'!BI38","v":0},{"$f":"AH37*'Product Info'!BL38","v":0},{"$f":"AH37*'Product Info'!BO38","v":0},{"$f":"AH37*'Product Info'!BR38","v":0},{"$f":"AH37*'Product Info'!BU38","v":0},{"$f":"AH37*'Product Info'!BX38","v":0}]
[{"$f":"'Product Info'!A39","v":0},{"$f":"'Product Info'!B39","v":0},{"$f":"'Product Info'!C39","v":0},null,null,null,null,null,null,null,null,null,null,null,null,null,null,null,null,null,null,null,null,null,null,null,null,null,null,null,null,null,null,0,{"$f":"'Product Info'!F39*('Daily Info (April)'!AH38)","v":0},null,null,{"$f":"AH38*('Product Info'!H39)","v":0},{"$f":"AH38*('Product Info'!M39+'Product Info'!P39+'Product Info'!S39+'Product Info'!V39+'Product Info'!Y39+'Product Info'!AB39+'Product Info'!AE39+'Product Info'!AH39+'Product Info'!AK39+'Product Info'!AN39+'Product Info'!AQ39+'Product Info'!AT39+'Product Info'!AW39+'Product Info'!AZ39+'Product Info'!BC39+'Product Info'!BF39+'Product Info'!BI39+'Product Info'!BL39+'Product Info'!BO39+'Product Info'!BR39+'Product Info'!BU39+'Product Info'!BX39+'Product Info'!CA39+'Product Info'!CD39+'Product Info'!CG39+'Product Info'!CJ39+'Product Info'!CM39+'Product Info'!CP39+'Product Info'!CS39+'Product Info'!CV39+'Product Info'!CY39+'Product Info'!DB39+'Product Info'!DE39+'Product Info'!DH39+'Product Info'!DK39+'Product Info'!DN39+'Product Info'!DQ39+'Product Info'!DT39+'Product Info'!DW39+'Product Info'!DZ39+'Product Info'!EC39+'Product Info'!EF39+'Product Info'!EI39+'Product Info'!EL39+'Product Info'!EO39+'Product Info'!ER39+'Product Info'!EU39+'Product Info'!EX39+'Product Info'!FA39+'Product Info'!FD39)","v":0},{"$f":"AH38*('Product Info'!M39)","v":0},{"$f":"AH38*'Product Info'!P39","v":0},{"$f":"AH38*'Product Info'!S39","v":0},{"$f":"AH38*'Product Info'!V39","v":0},{"$f":"AH38*'Product Info'!Y39","v":0},{"$f":"AH38*'Product Info'!AB39","v":0},{"$f":"AH38*'Product Info'!AE39","v":0},{"$f":"AH38*'Product Info'!AH39","v":0},{"$f":"AH38*'Product Info'!AK39","v":0},{"$f":"AH38*'Product Info'!AN39","v":0},{"$f":"AH38*'Product Info'!AQ39","v":0},{"$f":"AH38*'Product Info'!AT39","v":0},{"$f":"AH38*'Product Info'!AW39","v":0},{"$f":"AH38*'Product Info'!AZ39","v":0},{"$f":"AH38*'Product Info'!BC39","v":0},{"$f":"AH38*'Product Info'!BF39","v":0},{"$f":"AH38*'Product Info'!BI39","v":0},{"$f":"AH38*'Product Info'!BL39","v":0},{"$f":"AH38*'Product Info'!BO39","v":0},{"$f":"AH38*'Product Info'!BR39","v":0},{"$f":"AH38*'Product Info'!BU39","v":0},{"$f":"AH38*'Product Info'!BX39","v":0}]
[{"$f":"'Product Info'!A40","v":0},{"$f":"'Product Info'!B40","v":0},{"$f":"'Product Info'!C40","v":0},null,null,null,null,null,null,null,null,null,null,null,null,null,null,null,null,null,null,null,null,null,null,null,null,null,null,null,null,null,null,0,{"$f":"'Product Info'!F40*('Daily Info (April)'!AH39)","v":0},null,null,{"$f":"AH39*('Product Info'!H40)","v":0},{"$f":"AH39*('Product Info'!M40+'Product Info'!P40+'Product Info'!S40+'Product Info'!V40+'Product Info'!Y40+'Product Info'!AB40+'Product Info'!AE40+'Product Info'!AH40+'Product Info'!AK40+'Product Info'!AN40+'Product Info'!AQ40+'Product Info'!AT40+'Product Info'!AW40+'Product Info'!AZ40+'Product Info'!BC40+'Product Info'!BF40+'Product Info'!BI40+'Product Info'!BL40+'Product Info'!BO40+'Product Info'!BR40+'Product Info'!BU40+'Product Info'!BX40+'Product Info'!CA40+'Product Info'!CD40+'Product Info'!CG40+'Product Info'!CJ40+'Product Info'!CM40+'Product Info'!CP40+'Product Info'!CS40+'Product Info'!CV40+'Product Info'!CY40+'Product Info'!DB40+'Product Info'!DE40+'Product Info'!DH40+'Product Info'!DK40+'Product Info'!DN40+'Product Info'!DQ40+'Product Info'!DT40+'Product Info'!DW40+'Product Info'!DZ40+'Product Info'!EC40+'Product Info'!EF40+'Product Info'!EI40+'Product Info'!EL40+'Product Info'!EO40+'Product Info'!ER40+'Product Info'!EU40+'Product Info'!EX40+'Product Info'!FA40+'Product Info'!FD40)","v":0},{"$f":"AH39*('Product Info'!M40)","v":0},{"$f":"AH39*'Product Info'!P40","v":0},{"$f":"AH39*'Product Info'!S40","v":0},{"$f":"AH39*'Product Info'!V40","v":0},{"$f":"AH39*'Product Info'!Y40","v":0},{"$f":"AH39*'Product Info'!AB40","v":0},{"$f":"AH39*'Product Info'!AE40","v":0},{"$f":"AH39*'Product Info'!AH40","v":0},{"$f":"AH39*'Product Info'!AK40","v":0},{"$f":"AH39*'Product Info'!AN40","v":0},{"$f":"AH39*'Product Info'!AQ40","v":0},{"$f":"AH39*'Product Info'!AT40","v":0},{"$f":"AH39*'Product Info'!AW40","v":0},{"$f":"AH39*'Product Info'!AZ40","v":0},{"$f":"AH39*'Product Info'!BC40","v":0},{"$f":"AH39*'Product Info'!BF40","v":0},{"$f":"AH39*'Product Info'!BI40","v":0},{"$f":"AH39*'Product Info'!BL40","v":0},{"$f":"AH39*'Product Info'!BO40","v":0},{"$f":"AH39*'Product Info'!BR40","v":0},{"$f":"AH39*'Product Info'!BU40","v":0},{"$f":"AH39*'Product Info'!BX40","v":0}]
[{"$f":"'Product Info'!A41","v":0},{"$f":"'Product Info'!B41","v":0},{"$f":"'Product Info'!C41","v":0},null,null,null,null,null,null,null,null,null,null,null,null,null,null,null,null,null,null,null,null,null,null,null,null,null,null,null,null,null,null,0,{"$f":"'Product Info'!F41*('Daily Info (April)'!AH40)","v":0},null,null,{"$f":"AH40*('Product Info'!H41)","v":0},{"$f":"AH40*('Product Info'!M41+'Product Info'!P41+'Product Info'!S41+'Product Info'!V41+'Product Info'!Y41+'Product Info'!AB41+'Product Info'!AE41+'Product Info'!AH41+'Product Info'!AK41+'Product Info'!AN41+'Product Info'!AQ41+'Product Info'!AT41+'Product Info'!AW41+'Product Info'!AZ41+'Product Info'!BC41+'Product Info'!BF41+'Product Info'!BI41+'Product Info'!BL41+'Product Info'!BO41+'Product Info'!BR41+'Product Info'!BU41+'Product Info'!BX41+'Product Info'!CA41+'Product Info'!CD41+'Product Info'!CG41+'Product Info'!CJ41+'Product Info'!CM41+'Product Info'!CP41+'Product Info'!CS41+'Product Info'!CV41+'Product Info'!CY41+'Product Info'!DB41+'Product Info'!DE41+'Product Info'!DH41+'Product Info'!DK41+'Product Info'!DN41+'Product Info'!DQ41+'Product Info'!DT41+'Product Info'!DW41+'Product Info'!DZ41+'Product Info'!EC41+'Product Info'!EF41+'Product Info'!EI41+'Product Info'!EL41+'Product Info'!EO41+'Product Info'!ER41+'Product Info'!EU41+'Product Info'!EX41+'Product Info'!FA41+'Product Info'!FD41)","v":0},{"$f":"AH40*('Product Info'!M41)","v":0},{"$f":"AH40*'Product Info'!P41","v":0},{"$f":"AH40*'Product Info'!S41","v":0},{"$f":"AH40*'Product Info'!V41","v":0},{"$f":"AH40*'Product Info'!Y41","v":0},{"$f":"AH40*'Product Info'!AB41","v":0},{"$f":"AH40*'Product Info'!AE41","v":0},{"$f":"AH40*'Product Info'!AH41","v":0},{"$f":"AH40*'Product Info'!AK41","v":0},{"$f":"AH40*'Product Info'!AN41","v":0},{"$f":"AH40*'Product Info'!AQ41","v":0},{"$f":"AH40*'Product Info'!AT41","v":0},{"$f":"AH40*'Product Info'!AW41","v":0},{"$f":"AH40*'Product Info'!AZ41","v":0},{"$f":"AH40*'Product Info'!BC41","v":0},{"$f":"AH40*'Product Info'!BF41","v":0},{"$f":"AH40*'Product Info'!BI41","v":0},{"$f":"AH40*'Product Info'!BL41","v":0},{"$f":"AH40*'Product Info'!BO41","v":0},{"$f":"AH40*'Product Info'!BR41","v":0},{"$f":"AH40*'Product Info'!BU41","v":0},{"$f":"AH40*'Product Info'!BX41","v":0}]
[{"$f":"'Product Info'!A42","v":0},{"$f":"'Product Info'!B42","v":0},{"$f":"'Product Info'!C42","v":0},null,null,null,null,null,null,null,null,null,null,null,null,null,null,null,null,null,null,null,null,null,null,null,null,null,null,null,null,null,null,0,{"$f":"'Product Info'!F42*('Daily Info (April)'!AH41)","v":0},null,null,{"$f":"AH41*('Product Info'!H42)","v":0},{"$f":"AH41*('Product Info'!M42+'Product Info'!P42+'Product Info'!S42+'Product Info'!V42+'Product Info'!Y42+'Product Info'!AB42+'Product Info'!AE42+'Product Info'!AH42+'Product Info'!AK42+'Product Info'!AN42+'Product Info'!AQ42+'Product Info'!AT42+'Product Info'!AW42+'Product Info'!AZ42+'Product Info'!BC42+'Product Info'!BF42+'Product Info'!BI42+'Product Info'!BL42+'Product Info'!BO42+'Product Info'!BR42+'Product Info'!BU42+'Product Info'!BX42+'Product Info'!CA42+'Product Info'!CD42+'Product Info'!CG42+'Product Info'!CJ42+'Product Info'!CM42+'Product Info'!CP42+'Product Info'!CS42+'Product Info'!CV42+'Product Info'!CY42+'Product Info'!DB42+'Product Info'!DE42+'Product Info'!DH42+'Product Info'!DK42+'Product Info'!DN42+'Product Info'!DQ42+'Product Info'!DT42+'Product Info'!DW42+'Product Info'!DZ42+'Product Info'!EC42+'Product Info'!EF42+'Product Info'!EI42+'Product Info'!EL42+'Product Info'!EO42+'Product Info'!ER42+'Product Info'!EU42+'Product Info'!EX42+'Product Info'!FA42+'Product Info'!FD42)","v":0},{"$f":"AH41*('Product Info'!M42)","v":0},{"$f":"AH41*'Product Info'!P42","v":0},{"$f":"AH41*'Product Info'!S42","v":0},{"$f":"AH41*'Product Info'!V42","v":0},{"$f":"AH41*'Product Info'!Y42","v":0},{"$f":"AH41*'Product Info'!AB42","v":0},{"$f":"AH41*'Product Info'!AE42","v":0},{"$f":"AH41*'Product Info'!AH42","v":0},{"$f":"AH41*'Product Info'!AK42","v":0},{"$f":"AH41*'Product Info'!AN42","v":0},{"$f":"AH41*'Product Info'!AQ42","v":0},{"$f":"AH41*'Product Info'!AT42","v":0},{"$f":"AH41*'Product Info'!AW42","v":0},{"$f":"AH41*'Product Info'!AZ42","v":0},{"$f":"AH41*'Product Info'!BC42","v":0},{"$f":"AH41*'Product Info'!BF42","v":0},{"$f":"AH41*'Product Info'!BI42","v":0},{"$f":"AH41*'Product Info'!BL42","v":0},{"$f":"AH41*'Product Info'!BO42","v":0},{"$f":"AH41*'Product Info'!BR42","v":0},{"$f":"AH41*'Product Info'!BU42","v":0},{"$f":"AH41*'Product Info'!BX42","v":0}]
[{"$f":"'Product Info'!A43","v":0},{"$f":"'Product Info'!B43","v":0},{"$f":"'Product Info'!C43","v":0},null,null,null,null,null,null,null,null,null,null,null,null,null,null,null,null,null,null,null,null,null,null,null,null,null,null,null,null,null,null,0,{"$f":"'Product Info'!F43*('Daily Info (April)'!AH42)","v":0},null,null,{"$f":"AH42*('Product Info'!H43)","v":0},{"$f":"AH42*('Product Info'!M43+'Product Info'!P43+'Product Info'!S43+'Product Info'!V43+'Product Info'!Y43+'Product Info'!AB43+'Product Info'!AE43+'Product Info'!AH43+'Product Info'!AK43+'Product Info'!AN43+'Product Info'!AQ43+'Product Info'!AT43+'Product Info'!AW43+'Product Info'!AZ43+'Product Info'!BC43+'Product Info'!BF43+'Product Info'!BI43+'Product Info'!BL43+'Product Info'!BO43+'Product Info'!BR43+'Product Info'!BU43+'Product Info'!BX43+'Product Info'!CA43+'Product Info'!CD43+'Product Info'!CG43+'Product Info'!CJ43+'Product Info'!CM43+'Product Info'!CP43+'Product Info'!CS43+'Product Info'!CV43+'Product Info'!CY43+'Product Info'!DB43+'Product Info'!DE43+'Product Info'!DH43+'Product Info'!DK43+'Product Info'!DN43+'Product Info'!DQ43+'Product Info'!DT43+'Product Info'!DW43+'Product Info'!DZ43+'Product Info'!EC43+'Product Info'!EF43+'Product Info'!EI43+'Product Info'!EL43+'Product Info'!EO43+'Product Info'!ER43+'Product Info'!EU43+'Product Info'!EX43+'Product Info'!FA43+'Product Info'!FD43)","v":0},{"$f":"AH42*('Product Info'!M43)","v":0},{"$f":"AH42*'Product Info'!P43","v":0},{"$f":"AH42*'Product Info'!S43","v":0},{"$f":"AH42*'Product Info'!V43","v":0},{"$f":"AH42*'Product Info'!Y43","v":0},{"$f":"AH42*'Product Info'!AB43","v":0},{"$f":"AH42*'Product Info'!AE43","v":0},{"$f":"AH42*'Product Info'!AH43","v":0},{"$f":"AH42*'Product Info'!AK43","v":0},{"$f":"AH42*'Product Info'!AN43","v":0},{"$f":"AH42*'Product Info'!AQ43","v":0},{"$f":"AH42*'Product Info'!AT43","v":0},{"$f":"AH42*'Product Info'!AW43","v":0},{"$f":"AH42*'Product Info'!AZ43","v":0},{"$f":"AH42*'Product Info'!BC43","v":0},{"$f":"AH42*'Product Info'!BF43","v":0},{"$f":"AH42*'Product Info'!BI43","v":0},{"$f":"AH42*'Product Info'!BL43","v":0},{"$f":"AH42*'Product Info'!BO43","v":0},{"$f":"AH42*'Product Info'!BR43","v":0},{"$f":"AH42*'Product Info'!BU43","v":0},{"$f":"AH42*'Product Info'!BX43","v":0}]
[{"$f":"'Product Info'!A44","v":0},{"$f":"'Product Info'!B44","v":0},{"$f":"'Product Info'!C44","v":0},null,null,null,null,null,null,null,null,null,null,null,null,null,null,null,null,null,null,null,null,null,null,null,null,null,null,null,null,null,null,0,{"$f":"'Product Info'!F44*('Daily Info (April)'!AH43)","v":0},null,null,{"$f":"AH43*('Product Info'!H44)","v":0},{"$f":"AH43*('Product Info'!M44+'Product Info'!P44+'Product Info'!S44+'Product Info'!V44+'Product Info'!Y44+'Product Info'!AB44+'Product Info'!AE44+'Product Info'!AH44+'Product Info'!AK44+'Product Info'!AN44+'Product Info'!AQ44+'Product Info'!AT44+'Product Info'!AW44+'Product Info'!AZ44+'Product Info'!BC44+'Product Info'!BF44+'Product Info'!BI44+'Product Info'!BL44+'Product Info'!BO44+'Product Info'!BR44+'Product Info'!BU44+'Product Info'!BX44+'Product Info'!CA44+'Product Info'!CD44+'Product Info'!CG44+'Product Info'!CJ44+'Product Info'!CM44+'Product Info'!CP44+'Product Info'!CS44+'Product Info'!CV44+'Product Info'!CY44+'Product Info'!DB44+'Product Info'!DE44+'Product Info'!DH44+'Product Info'!DK44+'Product Info'!DN44+'Product Info'!DQ44+'Product Info'!DT44+'Product Info'!DW44+'Product Info'!DZ44+'Product Info'!EC44+'Product Info'!EF44+'Product Info'!EI44+'Product Info'!EL44+'Product Info'!EO44+'Product Info'!ER44+'Product Info'!EU44+'Product Info'!EX44+'Product Info'!FA44+'Product Info'!FD44)","v":0},{"$f":"AH43*('Product Info'!M44)","v":0},{"$f":"AH43*'Product Info'!P44","v":0},{"$f":"AH43*'Product Info'!S44","v":0},{"$f":"AH43*'Product Info'!V44","v":0},{"$f":"AH43*'Product Info'!Y44","v":0},{"$f":"AH43*'Product Info'!AB44","v":0},{"$f":"AH43*'Product Info'!AE44","v":0},{"$f":"AH43*'Product Info'!AH44","v":0},{"$f":"AH43*'Product Info'!AK44","v":0},{"$f":"AH43*'Product Info'!AN44","v":0},{"$f":"AH43*'Product Info'!AQ44","v":0},{"$f":"AH43*'Product Info'!AT44","v":0},{"$f":"AH43*'Product Info'!AW44","v":0},{"$f":"AH43*'Product Info'!AZ44","v":0},{"$f":"AH43*'Product Info'!BC44","v":0},{"$f":"AH43*'Product Info'!BF44","v":0},{"$f":"AH43*'Product Info'!BI44","v":0},{"$f":"AH43*'Product Info'!BL44","v":0},{"$f":"AH43*'Product Info'!BO44","v":0},{"$f":"AH43*'Product Info'!BR44","v":0},{"$f":"AH43*'Product Info'!BU44","v":0},{"$f":"AH43*'Product Info'!BX44","v":0}]
[{"$f":"'Product Info'!A45","v":0},{"$f":"'Product Info'!B45","v":0},{"$f":"'Product Info'!C45","v":0},null,null,null,null,null,null,null,null,null,null,null,null,null,null,null,null,null,null,null,null,null,null,null,null,null,null,null,null,null,null,0,{"$f":"'Product Info'!F45*('Daily Info (April)'!AH44)","v":0},null,null,{"$f":"AH44*('Product Info'!H45)","v":0},{"$f":"AH44*('Product Info'!M45+'Product Info'!P45+'Product Info'!S45+'Product Info'!V45+'Product Info'!Y45+'Product Info'!AB45+'Product Info'!AE45+'Product Info'!AH45+'Product Info'!AK45+'Product Info'!AN45+'Product Info'!AQ45+'Product Info'!AT45+'Product Info'!AW45+'Product Info'!AZ45+'Product Info'!BC45+'Product Info'!BF45+'Product Info'!BI45+'Product Info'!BL45+'Product Info'!BO45+'Product Info'!BR45+'Product Info'!BU45+'Product Info'!BX45+'Product Info'!CA45+'Product Info'!CD45+'Product Info'!CG45+'Product Info'!CJ45+'Product Info'!CM45+'Product Info'!CP45+'Product Info'!CS45+'Product Info'!CV45+'Product Info'!CY45+'Product Info'!DB45+'Product Info'!DE45+'Product Info'!DH45+'Product Info'!DK45+'Product Info'!DN45+'Product Info'!DQ45+'Product Info'!DT45+'Product Info'!DW45+'Product Info'!DZ45+'Product Info'!EC45+'Product Info'!EF45+'Product Info'!EI45+'Product Info'!EL45+'Product Info'!EO45+'Product Info'!ER45+'Product Info'!EU45+'Product Info'!EX45+'Product Info'!FA45+'Product Info'!FD45)","v":0},{"$f":"AH44*('Product Info'!M45)","v":0},{"$f":"AH44*'Product Info'!P45","v":0},{"$f":"AH44*'Product Info'!S45","v":0},{"$f":"AH44*'Product Info'!V45","v":0},{"$f":"AH44*'Product Info'!Y45","v":0},{"$f":"AH44*'Product Info'!AB45","v":0},{"$f":"AH44*'Product Info'!AE45","v":0},{"$f":"AH44*'Product Info'!AH45","v":0},{"$f":"AH44*'Product Info'!AK45","v":0},{"$f":"AH44*'Product Info'!AN45","v":0},{"$f":"AH44*'Product Info'!AQ45","v":0},{"$f":"AH44*'Product Info'!AT45","v":0},{"$f":"AH44*'Product Info'!AW45","v":0},{"$f":"AH44*'Product Info'!AZ45","v":0},{"$f":"AH44*'Product Info'!BC45","v":0},{"$f":"AH44*'Product Info'!BF45","v":0},{"$f":"AH44*'Product Info'!BI45","v":0},{"$f":"AH44*'Product Info'!BL45","v":0},{"$f":"AH44*'Product Info'!BO45","v":0},{"$f":"AH44*'Product Info'!BR45","v":0},{"$f":"AH44*'Product Info'!BU45","v":0},{"$f":"AH44*'Product Info'!BX45","v":0}]
[{"$f":"'Product Info'!A46","v":0},{"$f":"'Product Info'!B46","v":0},{"$f":"'Product Info'!C46","v":0},null,null,null,null,null,null,null,null,null,null,null,null,null,null,null,null,null,null,null,null,null,null,null,null,null,null,null,null,null,null,0,{"$f":"'Product Info'!F46*('Daily Info (April)'!AH45)","v":0},null,null,{"$f":"AH45*('Product Info'!H46)","v":0},{"$f":"AH45*('Product Info'!M46+'Product Info'!P46+'Product Info'!S46+'Product Info'!V46+'Product Info'!Y46+'Product Info'!AB46+'Product Info'!AE46+'Product Info'!AH46+'Product Info'!AK46+'Product Info'!AN46+'Product Info'!AQ46+'Product Info'!AT46+'Product Info'!AW46+'Product Info'!AZ46+'Product Info'!BC46+'Product Info'!BF46+'Product Info'!BI46+'Product Info'!BL46+'Product Info'!BO46+'Product Info'!BR46+'Product Info'!BU46+'Product Info'!BX46+'Product Info'!CA46+'Product Info'!CD46+'Product Info'!CG46+'Product Info'!CJ46+'Product Info'!CM46+'Product Info'!CP46+'Product Info'!CS46+'Product Info'!CV46+'Product Info'!CY46+'Product Info'!DB46+'Product Info'!DE46+'Product Info'!DH46+'Product Info'!DK46+'Product Info'!DN46+'Product Info'!DQ46+'Product Info'!DT46+'Product Info'!DW46+'Product Info'!DZ46+'Product Info'!EC46+'Product Info'!EF46+'Product Info'!EI46+'Product Info'!EL46+'Product Info'!EO46+'Product Info'!ER46+'Product Info'!EU46+'Product Info'!EX46+'Product Info'!FA46+'Product Info'!FD46)","v":0},{"$f":"AH45*('Product Info'!M46)","v":0},{"$f":"AH45*'Product Info'!P46","v":0},{"$f":"AH45*'Product Info'!S46","v":0},{"$f":"AH45*'Product Info'!V46","v":0},{"$f":"AH45*'Product Info'!Y46","v":0},{"$f":"AH45*'Product Info'!AB46","v":0},{"$f":"AH45*'Product Info'!AE46","v":0},{"$f":"AH45*'Product Info'!AH46","v":0},{"$f":"AH45*'Product Info'!AK46","v":0},{"$f":"AH45*'Product Info'!AN46","v":0},{"$f":"AH45*'Product Info'!AQ46","v":0},{"$f":"AH45*'Product Info'!AT46","v":0},{"$f":"AH45*'Product Info'!AW46","v":0},{"$f":"AH45*'Product Info'!AZ46","v":0},{"$f":"AH45*'Product Info'!BC46","v":0},{"$f":"AH45*'Product Info'!BF46","v":0},{"$f":"AH45*'Product Info'!BI46","v":0},{"$f":"AH45*'Product Info'!BL46","v":0},{"$f":"AH45*'Product Info'!BO46","v":0},{"$f":"AH45*'Product Info'!BR46","v":0},{"$f":"AH45*'Product Info'!BU46","v":0},{"$f":"AH45*'Product Info'!BX46","v":0}]
[{"$f":"'Product Info'!A47","v":0},{"$f":"'Product Info'!B47","v":0},{"$f":"'Product Info'!C47","v":0},null,null,null,null,null,null,null,null,null,null,null,null,null,null,null,null,null,null,null,null,null,null,null,null,null,null,null,null,null,null,0,{"$f":"'Product Info'!F47*('Daily Info (April)'!AH46)","v":0},null,null,{"$f":"AH46*('Product Info'!H47)","v":0},{"$f":"AH46*('Product Info'!M47+'Product Info'!P47+'Product Info'!S47+'Product Info'!V47+'Product Info'!Y47+'Product Info'!AB47+'Product Info'!AE47+'Product Info'!AH47+'Product Info'!AK47+'Product Info'!AN47+'Product Info'!AQ47+'Product Info'!AT47+'Product Info'!AW47+'Product Info'!AZ47+'Product Info'!BC47+'Product Info'!BF47+'Product Info'!BI47+'Product Info'!BL47+'Product Info'!BO47+'Product Info'!BR47+'Product Info'!BU47+'Product Info'!BX47+'Product Info'!CA47+'Product Info'!CD47+'Product Info'!CG47+'Product Info'!CJ47+'Product Info'!CM47+'Product Info'!CP47+'Product Info'!CS47+'Product Info'!CV47+'Product Info'!CY47+'Product Info'!DB47+'Product Info'!DE47+'Product Info'!DH47+'Product Info'!DK47+'Product Info'!DN47+'Product Info'!DQ47+'Product Info'!DT47+'Product Info'!DW47+'Product Info'!DZ47+'Product Info'!EC47+'Product Info'!EF47+'Product Info'!EI47+'Product Info'!EL47+'Product Info'!EO47+'Product Info'!ER47+'Product Info'!EU47+'Product Info'!EX47+'Product Info'!FA47+'Product Info'!FD47)","v":0},{"$f":"AH46*('Product Info'!M47)","v":0},{"$f":"AH46*'Product Info'!P47","v":0},{"$f":"AH46*'Product Info'!S47","v":0},{"$f":"AH46*'Product Info'!V47","v":0},{"$f":"AH46*'Product Info'!Y47","v":0},{"$f":"AH46*'Product Info'!AB47","v":0},{"$f":"AH46*'Product Info'!AE47","v":0},{"$f":"AH46*'Product Info'!AH47","v":0},{"$f":"AH46*'Product Info'!AK47","v":0},{"$f":"AH46*'Product Info'!AN47","v":0},{"$f":"AH46*'Product Info'!AQ47","v":0},{"$f":"AH46*'Product Info'!AT47","v":0},{"$f":"AH46*'Product Info'!AW47","v":0},{"$f":"AH46*'Product Info'!AZ47","v":0},{"$f":"AH46*'Product Info'!BC47","v":0},{"$f":"AH46*'Product Info'!BF47","v":0},{"$f":"AH46*'Product Info'!BI47","v":0},{"$f":"AH46*'Product Info'!BL47","v":0},{"$f":"AH46*'Product Info'!BO47","v":0},{"$f":"AH46*'Product Info'!BR47","v":0},{"$f":"AH46*'Product Info'!BU47","v":0},{"$f":"AH46*'Product Info'!BX47","v":0}]
[{"$f":"'Product Info'!A48","v":0},{"$f":"'Product Info'!B48","v":0},{"$f":"'Product Info'!C48","v":0},null,null,null,null,null,null,null,null,null,null,null,null,null,null,null,null,null,null,null,null,null,null,null,null,null,null,null,null,null,null,0,{"$f":"'Product Info'!F48*('Daily Info (April)'!AH47)","v":0},null,null,{"$f":"AH47*('Product Info'!H48)","v":0},{"$f":"AH47*('Product Info'!M48+'Product Info'!P48+'Product Info'!S48+'Product Info'!V48+'Product Info'!Y48+'Product Info'!AB48+'Product Info'!AE48+'Product Info'!AH48+'Product Info'!AK48+'Product Info'!AN48+'Product Info'!AQ48+'Product Info'!AT48+'Product Info'!AW48+'Product Info'!AZ48+'Product Info'!BC48+'Product Info'!BF48+'Product Info'!BI48+'Product Info'!BL48+'Product Info'!BO48+'Product Info'!BR48+'Product Info'!BU48+'Product Info'!BX48+'Product Info'!CA48+'Product Info'!CD48+'Product Info'!CG48+'Product Info'!CJ48+'Product Info'!CM48+'Product Info'!CP48+'Product Info'!CS48+'Product Info'!CV48+'Product Info'!CY48+'Product Info'!DB48+'Product Info'!DE48+'Product Info'!DH48+'Product Info'!DK48+'Product Info'!DN48+'Product Info'!DQ48+'Product Info'!DT48+'Product Info'!DW48+'Product Info'!DZ48+'Product Info'!EC48+'Product Info'!EF48+'Product Info'!EI48+'Product Info'!EL48+'Product Info'!EO48+'Product Info'!ER48+'Product Info'!EU48+'Product Info'!EX48+'Product Info'!FA48+'Product Info'!FD48)","v":0},{"$f":"AH47*('Product Info'!M48)","v":0},{"$f":"AH47*'Product Info'!P48","v":0},{"$f":"AH47*'Product Info'!S48","v":0},{"$f":"AH47*'Product Info'!V48","v":0},{"$f":"AH47*'Product Info'!Y48","v":0},{"$f":"AH47*'Product Info'!AB48","v":0},{"$f":"AH47*'Product Info'!AE48","v":0},{"$f":"AH47*'Product Info'!AH48","v":0},{"$f":"AH47*'Product Info'!AK48","v":0},{"$f":"AH47*'Product Info'!AN48","v":0},{"$f":"AH47*'Product Info'!AQ48","v":0},{"$f":"AQ47*'Product Info'!AF48","v":0},{"$f":"AH47*'Product Info'!AW48","v":0},{"$f":"AH47*'Product Info'!AZ48","v":0},{"$f":"AH47*'Product Info'!BC48","v":0},{"$f":"AH47*'Product Info'!BF48","v":0},{"$f":"AH47*'Product Info'!BI48","v":0},{"$f":"AH47*'Product Info'!BL48","v":0},{"$f":"AH47*'Product Info'!BO48","v":0},{"$f":"AH47*'Product Info'!BR48","v":0},{"$f":"AH47*'Product Info'!BU48","v":0},{"$f":"AH47*'Product Info'!BX48","v":0}]
[{"$f":"'Product Info'!A49","v":0},{"$f":"'Product Info'!B49","v":0},{"$f":"'Product Info'!C49","v":0},null,null,null,null,null,null,null,null,null,null,null,null,null,null,null,null,null,null,null,null,null,null,null,null,null,null,null,null,null,null,0,{"$f":"'Product Info'!F49*('Daily Info (April)'!AH48)","v":0},null,null,{"$f":"AH48*('Product Info'!H49)","v":0},{"$f":"AH48*('Product Info'!M49+'Product Info'!P49+'Product Info'!S49+'Product Info'!V49+'Product Info'!Y49+'Product Info'!AB49+'Product Info'!AE49+'Product Info'!AH49+'Product Info'!AK49+'Product Info'!AN49+'Product Info'!AQ49+'Product Info'!AT49+'Product Info'!AW49+'Product Info'!AZ49+'Product Info'!BC49+'Product Info'!BF49+'Product Info'!BI49+'Product Info'!BL49+'Product Info'!BO49+'Product Info'!BR49+'Product Info'!BU49+'Product Info'!BX49+'Product Info'!CA49+'Product Info'!CD49+'Product Info'!CG49+'Product Info'!CJ49+'Product Info'!CM49+'Product Info'!CP49+'Product Info'!CS49+'Product Info'!CV49+'Product Info'!CY49+'Product Info'!DB49+'Product Info'!DE49+'Product Info'!DH49+'Product Info'!DK49+'Product Info'!DN49+'Product Info'!DQ49+'Product Info'!DT49+'Product Info'!DW49+'Product Info'!DZ49+'Product Info'!EC49+'Product Info'!EF49+'Product Info'!EI49+'Product Info'!EL49+'Product Info'!EO49+'Product Info'!ER49+'Product Info'!EU49+'Product Info'!EX49+'Product Info'!FA49+'Product Info'!FD49)","v":0},{"$f":"AH48*('Product Info'!M49)","v":0},{"$f":"AH48*'Product Info'!P49","v":0},{"$f":"AH48*'Product Info'!S49","v":0},{"$f":"AH48*'Product Info'!V49","v":0},{"$f":"AH48*'Product Info'!Y49","v":0},{"$f":"AH48*'Product Info'!AB49","v":0},{"$f":"AH48*'Product Info'!AE49","v":0},{"$f":"AH48*'Product Info'!AH49","v":0},{"$f":"AH48*'Product Info'!AK49","v":0},{"$f":"AH48*'Product Info'!AN49","v":0},{"$f":"AH48*'Product Info'!AQ49","v":0},{"$f":"AQ48*'Product Info'!AF49","v":0},{"$f":"AH48*'Product Info'!AW49","v":0},{"$f":"AH48*'Product Info'!AZ49","v":0},{"$f":"AH48*'Product Info'!BC49","v":0},{"$f":"AH48*'Product Info'!BF49","v":0},{"$f":"AH48*'Product Info'!BI49","v":0},{"$f":"AH48*'Product Info'!BL49","v":0},{"$f":"AH48*'Product Info'!BO49","v":0},{"$f":"AH48*'Product Info'!BR49","v":0},{"$f":"AH48*'Product Info'!BU49","v":0},{"$f":"AH48*'Product Info'!BX49","v":0}]
[{"$f":"'Product Info'!A50","v":0},{"$f":"'Product Info'!B50","v":0},{"$f":"'Product Info'!C50","v":0},null,null,null,null,null,null,null,null,null,null,null,null,null,null,null,null,null,null,null,null,null,null,null,null,null,null,null,null,null,null,0,{"$f":"'Product Info'!F50*('Daily Info (April)'!AH49)","v":0},null,null,{"$f":"AH49*('Product Info'!H50)","v":0},{"$f":"AH49*('Product Info'!M50+'Product Info'!P50+'Product Info'!S50+'Product Info'!V50+'Product Info'!Y50+'Product Info'!AB50+'Product Info'!AE50+'Product Info'!AH50+'Product Info'!AK50+'Product Info'!AN50+'Product Info'!AQ50+'Product Info'!AT50+'Product Info'!AW50+'Product Info'!AZ50+'Product Info'!BC50+'Product Info'!BF50+'Product Info'!BI50+'Product Info'!BL50+'Product Info'!BO50+'Product Info'!BR50+'Product Info'!BU50+'Product Info'!BX50+'Product Info'!CA50+'Product Info'!CD50+'Product Info'!CG50+'Product Info'!CJ50+'Product Info'!CM50+'Product Info'!CP50+'Product Info'!CS50+'Product Info'!CV50+'Product Info'!CY50+'Product Info'!DB50+'Product Info'!DE50+'Product Info'!DH50+'Product Info'!DK50+'Product Info'!DN50+'Product Info'!DQ50+'Product Info'!DT50+'Product Info'!DW50+'Product Info'!DZ50+'Product Info'!EC50+'Product Info'!EF50+'Product Info'!EI50+'Product Info'!EL50+'Product Info'!EO50+'Product Info'!ER50+'Product Info'!EU50+'Product Info'!EX50+'Product Info'!FA50+'Product Info'!FD50)","v":0},{"$f":"AH49*('Product Info'!M50)","v":0},{"$f":"AH49*'Product Info'!P50","v":0},{"$f":"AH49*'Product Info'!S50","v":0},{"$f":"AH49*'Product Info'!V50","v":0},{"$f":"AH49*'Product Info'!Y50","v":0},{"$f":"AH49*'Product Info'!AB50","v":0},{"$f":"AH49*'Product Info'!AE50","v":0},{"$f":"AH49*'Product Info'!AH50","v":0},{"$f":"AH49*'Product Info'!AK50","v":0},{"$f":"AH49*'Product Info'!AN50","v":0},{"$f":"AH49*'Product Info'!AQ50","v":0},{"$f":"AH49*'Product Info'!AT50","v":0},{"$f":"AH49*'Product Info'!AW50","v":0},{"$f":"AH49*'Product Info'!AZ50","v":0},{"$f":"AH49*'Product Info'!BC50","v":0},{"$f":"AH49*'Product Info'!BF50","v":0},{"$f":"AH49*'Product Info'!BI50","v":0},{"$f":"AH49*'Product Info'!BL50","v":0},{"$f":"AH49*'Product Info'!BO50","v":0},{"$f":"AH49*'Product Info'!BR50","v":0},{"$f":"AH49*'Product Info'!BU50","v":0},{"$f":"AH49*'Product Info'!BX50","v":0}]
[{"$f":"'Product Info'!A51","v":0},{"$f":"'Product Info'!B51","v":0},{"$f":"'Product Info'!C51","v":0},null,null,null,null,null,null,null,null,null,null,null,null,null,null,null,null,null,null,null,null,null,null,null,null,null,null,null,null,null,null,0,{"$f":"'Product Info'!F51*('Daily Info (April)'!AH50)","v":0},null,null,{"$f":"AH50*('Product Info'!H51)","v":0},{"$f":"AH50*('Product Info'!M51+'Product Info'!P51+'Product Info'!S51+'Product Info'!V51+'Product Info'!Y51+'Product Info'!AB51+'Product Info'!AE51+'Product Info'!AH51+'Product Info'!AK51+'Product Info'!AN51+'Product Info'!AQ51+'Product Info'!AT51+'Product Info'!AW51+'Product Info'!AZ51+'Product Info'!BC51+'Product Info'!BF51+'Product Info'!BI51+'Product Info'!BL51+'Product Info'!BO51+'Product Info'!BR51+'Product Info'!BU51+'Product Info'!BX51+'Product Info'!CA51+'Product Info'!CD51+'Product Info'!CG51+'Product Info'!CJ51+'Product Info'!CM51+'Product Info'!CP51+'Product Info'!CS51+'Product Info'!CV51+'Product Info'!CY51+'Product Info'!DB51+'Product Info'!DE51+'Product Info'!DH51+'Product Info'!DK51+'Product Info'!DN51+'Product Info'!DQ51+'Product Info'!DT51+'Product Info'!DW51+'Product Info'!DZ51+'Product Info'!EC51+'Product Info'!EF51+'Product Info'!EI51+'Product Info'!EL51+'Product Info'!EO51+'Product Info'!ER51+'Product Info'!EU51+'Product Info'!EX51+'Product Info'!FA51+'Product Info'!FD51)","v":0},{"$f":"AH50*('Product Info'!M51)","v":0},{"$f":"AH50*'Product Info'!P51","v":0},{"$f":"AH50*'Product Info'!S51","v":0},{"$f":"AH50*'Product Info'!V51","v":0},{"$f":"AH50*'Product Info'!Y51","v":0},{"$f":"AH50*'Product Info'!AB51","v":0},{"$f":"AH50*'Product Info'!AE51","v":0},{"$f":"AH50*'Product Info'!AH51","v":0},{"$f":"AH50*'Product Info'!AK51","v":0},{"$f":"AH50*'Product Info'!AN51","v":0},{"$f":"AH50*'Product Info'!AQ51","v":0},{"$f":"AH50*'Product Info'!AT51","v":0},{"$f":"AH50*'Product Info'!AW51","v":0},{"$f":"AH50*'Product Info'!AZ51","v":0},{"$f":"AH50*'Product Info'!BC51","v":0},{"$f":"AH50*'Product Info'!BF51","v":0},{"$f":"AH50*'Product Info'!BI51","v":0},{"$f":"AH50*'Product Info'!BL51","v":0},{"$f":"AH50*'Product Info'!BO51","v":0},{"$f":"AH50*'Product Info'!BR51","v":0},{"$f":"AH50*'Product Info'!BU51","v":0},{"$f":"AH50*'Product Info'!BX51","v":0}]
[{"$f":"'Product Info'!A52","v":0},{"$f":"'Product Info'!B52","v":0},{"$f":"'Product Info'!C52","v":0},null,null,null,null,null,null,null,null,null,null,null,null,null,null,null,null,null,null,null,null,null,null,null,null,null,null,null,null,null,null,0,{"$f":"'Product Info'!F52*('Daily Info (April)'!AH51)","v":0},null,null,{"$f":"AH51*('Product Info'!H52)","v":0},{"$f":"AH51*('Product Info'!M52+'Product Info'!P52+'Product Info'!S52+'Product Info'!V52+'Product Info'!Y52+'Product Info'!AB52+'Product Info'!AE52+'Product Info'!AH52+'Product Info'!AK52+'Product Info'!AN52+'Product Info'!AQ52+'Product Info'!AT52+'Product Info'!AW52+'Product Info'!AZ52+'Product Info'!BC52+'Product Info'!BF52+'Product Info'!BI52+'Product Info'!BL52+'Product Info'!BO52+'Product Info'!BR52+'Product Info'!BU52+'Product Info'!BX52+'Product Info'!CA52+'Product Info'!CD52+'Product Info'!CG52+'Product Info'!CJ52+'Product Info'!CM52+'Product Info'!CP52+'Product Info'!CS52+'Product Info'!CV52+'Product Info'!CY52+'Product Info'!DB52+'Product Info'!DE52+'Product Info'!DH52+'Product Info'!DK52+'Product Info'!DN52+'Product Info'!DQ52+'Product Info'!DT52+'Product Info'!DW52+'Product Info'!DZ52+'Product Info'!EC52+'Product Info'!EF52+'Product Info'!EI52+'Product Info'!EL52+'Product Info'!EO52+'Product Info'!ER52+'Product Info'!EU52+'Product Info'!EX52+'Product Info'!FA52+'Product Info'!FD52)","v":0},{"$f":"AH51*('Product Info'!M52)","v":0},{"$f":"AH51*'Product Info'!P52","v":0},{"$f":"AH51*'Product Info'!S52","v":0},{"$f":"AH51*'Product Info'!V52","v":0},{"$f":"AH51*'Product Info'!Y52","v":0},{"$f":"AH51*'Product Info'!AB52","v":0},{"$f":"AH51*'Product Info'!AE52","v":0},{"$f":"AH51*'Product Info'!AH52","v":0},{"$f":"AH51*'Product Info'!AK52","v":0},{"$f":"AH51*'Product Info'!AN52","v":0},{"$f":"AH51*'Product Info'!AQ52","v":0},{"$f":"AH51*'Product Info'!AT52","v":0},{"$f":"AH51*'Product Info'!AW52","v":0},{"$f":"AH51*'Product Info'!AZ52","v":0},{"$f":"AH51*'Product Info'!BC52","v":0},{"$f":"AH51*'Product Info'!BF52","v":0},{"$f":"AH51*'Product Info'!BI52","v":0},{"$f":"AH51*'Product Info'!BL52","v":0},{"$f":"AH51*'Product Info'!BO52","v":0},{"$f":"AH51*'Product Info'!BR52","v":0},{"$f":"AH51*'Product Info'!BU52","v":0},{"$f":"AH51*'Product Info'!BX52","v":0}]
[{"$f":"'Product Info'!A53","v":0},{"$f":"'Product Info'!B53","v":0},{"$f":"'Product Info'!C53","v":0},null,null,null,null,null,null,null,null,null,null,null,null,null,null,null,null,null,null,null,null,null,null,null,null,null,null,null,null,null,null,0,{"$f":"'Product Info'!F53*('Daily Info (April)'!AH52)","v":0},null,null,{"$f":"AH52*('Product Info'!H53)","v":0},{"$f":"AH52*('Product Info'!M53+'Product Info'!P53+'Product Info'!S53+'Product Info'!V53+'Product Info'!Y53+'Product Info'!AB53+'Product Info'!AE53+'Product Info'!AH53+'Product Info'!AK53+'Product Info'!AN53+'Product Info'!AQ53+'Product Info'!AT53+'Product Info'!AW53+'Product Info'!AZ53+'Product Info'!BC53+'Product Info'!BF53+'Product Info'!BI53+'Product Info'!BL53+'Product Info'!BO53+'Product Info'!BR53+'Product Info'!BU53+'Product Info'!BX53+'Product Info'!CA53+'Product Info'!CD53+'Product Info'!CG53+'Product Info'!CJ53+'Product Info'!CM53+'Product Info'!CP53+'Product Info'!CS53+'Product Info'!CV53+'Product Info'!CY53+'Product Info'!DB53+'Product Info'!DE53+'Product Info'!DH53+'Product Info'!DK53+'Product Info'!DN53+'Product Info'!DQ53+'Product Info'!DT53+'Product Info'!DW53+'Product Info'!DZ53+'Product Info'!EC53+'Product Info'!EF53+'Product Info'!EI53+'Product Info'!EL53+'Product Info'!EO53+'Product Info'!ER53+'Product Info'!EU53+'Product Info'!EX53+'Product Info'!FA53+'Product Info'!FD53)","v":0},{"$f":"AH52*('Product Info'!M53)","v":0},{"$f":"AH52*'Product Info'!P53","v":0},{"$f":"AH52*'Product Info'!S53","v":0},{"$f":"AH52*'Product Info'!V53","v":0},{"$f":"AH52*'Product Info'!Y53","v":0},{"$f":"AH52*'Product Info'!AB53","v":0},{"$f":"AH52*'Product Info'!AE53","v":0},{"$f":"AH52*'Product Info'!AH53","v":0},{"$f":"AH52*'Product Info'!AK53","v":0},{"$f":"AH52*'Product Info'!AN53","v":0},{"$f":"AH52*'Product Info'!AQ53","v":0},{"$f":"AH52*'Product Info'!AT53","v":0},{"$f":"AH52*'Product Info'!AW53","v":0},{"$f":"AH52*'Product Info'!AZ53","v":0},{"$f":"AH52*'Product Info'!BC53","v":0},{"$f":"AH52*'Product Info'!BF53","v":0},{"$f":"AH52*'Product Info'!BI53","v":0},{"$f":"AH52*'Product Info'!BL53","v":0},{"$f":"AH52*'Product Info'!BO53","v":0},{"$f":"AH52*'Product Info'!BR53","v":0},{"$f":"AH52*'Product Info'!BU53","v":0},{"$f":"AH52*'Product Info'!BX53","v":0}]
[{"$f":"'Product Info'!A54","v":0},{"$f":"'Product Info'!B54","v":0},{"$f":"'Product Info'!C54","v":0},null,null,null,null,null,null,null,null,null,null,null,null,null,null,null,null,null,null,null,null,null,null,null,null,null,null,null,null,null,null,0,{"$f":"'Product Info'!F54*('Daily Info (April)'!AH53)","v":0},null,null,{"$f":"AH53*('Product Info'!H54)","v":0},{"$f":"AH53*('Product Info'!M54+'Product Info'!P54+'Product Info'!S54+'Product Info'!V54+'Product Info'!Y54+'Product Info'!AB54+'Product Info'!AE54+'Product Info'!AH54+'Product Info'!AK54+'Product Info'!AN54+'Product Info'!AQ54+'Product Info'!AT54+'Product Info'!AW54+'Product Info'!AZ54+'Product Info'!BC54+'Product Info'!BF54+'Product Info'!BI54+'Product Info'!BL54+'Product Info'!BO54+'Product Info'!BR54+'Product Info'!BU54+'Product Info'!BX54+'Product Info'!CA54+'Product Info'!CD54+'Product Info'!CG54+'Product Info'!CJ54+'Product Info'!CM54+'Product Info'!CP54+'Product Info'!CS54+'Product Info'!CV54+'Product Info'!CY54+'Product Info'!DB54+'Product Info'!DE54+'Product Info'!DH54+'Product Info'!DK54+'Product Info'!DN54+'Product Info'!DQ54+'Product Info'!DT54+'Product Info'!DW54+'Product Info'!DZ54+'Product Info'!EC54+'Product Info'!EF54+'Product Info'!EI54+'Product Info'!EL54+'Product Info'!EO54+'Product Info'!ER54+'Product Info'!EU54+'Product Info'!EX54+'Product Info'!FA54+'Product Info'!FD54)","v":0},{"$f":"AH53*('Product Info'!M54)","v":0},{"$f":"AH53*'Product Info'!P54","v":0},{"$f":"AH53*'Product Info'!S54","v":0},{"$f":"AH53*'Product Info'!V54","v":0},{"$f":"AH53*'Product Info'!Y54","v":0},{"$f":"AH53*'Product Info'!AB54","v":0},{"$f":"AH53*'Product Info'!AE54","v":0},{"$f":"AH53*'Product Info'!AH54","v":0},{"$f":"AH53*'Product Info'!AK54","v":0},{"$f":"AH53*'Product Info'!AN54","v":0},{"$f":"AH53*'Product Info'!AQ54","v":0},{"$f":"AH53*'Product Info'!AT54","v":0},{"$f":"AH53*'Product Info'!AW54","v":0},{"$f":"AH53*'Product Info'!AZ54","v":0},{"$f":"AH53*'Product Info'!BC54","v":0},{"$f":"AH53*'Product Info'!BF54","v":0},{"$f":"AH53*'Product Info'!BI54","v":0},{"$f":"AH53*'Product Info'!BL54","v":0},{"$f":"AH53*'Product Info'!BO54","v":0},{"$f":"AH53*'Product Info'!BR54","v":0},{"$f":"AH53*'Product Info'!BU54","v":0},{"$f":"AH53*'Product Info'!BX54","v":0}]
[{"$f":"'Product Info'!A55","v":0},{"$f":"'Product Info'!B55","v":0},{"$f":"'Product Info'!C55","v":0},null,null,null,null,null,null,null,null,null,null,null,null,null,null,null,null,null,null,null,null,null,null,null,null,null,null,null,null,null,null,0,{"$f":"'Product Info'!F55*('Daily Info (April)'!AH54)","v":0},null,null,{"$f":"AH54*('Product Info'!H55)","v":0},{"$f":"AH54*('Product Info'!M55+'Product Info'!P55+'Product Info'!S55+'Product Info'!V55+'Product Info'!Y55+'Product Info'!AB55+'Product Info'!AE55+'Product Info'!AH55+'Product Info'!AK55+'Product Info'!AN55+'Product Info'!AQ55+'Product Info'!AT55+'Product Info'!AW55+'Product Info'!AZ55+'Product Info'!BC55+'Product Info'!BF55+'Product Info'!BI55+'Product Info'!BL55+'Product Info'!BO55+'Product Info'!BR55+'Product Info'!BU55+'Product Info'!BX55+'Product Info'!CA55+'Product Info'!CD55+'Product Info'!CG55+'Product Info'!CJ55+'Product Info'!CM55+'Product Info'!CP55+'Product Info'!CS55+'Product Info'!CV55+'Product Info'!CY55+'Product Info'!DB55+'Product Info'!DE55+'Product Info'!DH55+'Product Info'!DK55+'Product Info'!DN55+'Product Info'!DQ55+'Product Info'!DT55+'Product Info'!DW55+'Product Info'!DZ55+'Product Info'!EC55+'Product Info'!EF55+'Product Info'!EI55+'Product Info'!EL55+'Product Info'!EO55+'Product Info'!ER55+'Product Info'!EU55+'Product Info'!EX55+'Product Info'!FA55+'Product Info'!FD55)","v":0},{"$f":"AH54*('Product Info'!M55)","v":0},{"$f":"AH54*'Product Info'!P55","v":0},{"$f":"AH54*'Product Info'!S55","v":0},{"$f":"AH54*'Product Info'!V55","v":0},{"$f":"AH54*'Product Info'!Y55","v":0},{"$f":"AH54*'Product Info'!AB55","v":0},{"$f":"AH54*'Product Info'!AE55","v":0},{"$f":"AH54*'Product Info'!AH55","v":0},{"$f":"AH54*'Product Info'!AK55","v":0},{"$f":"AH54*'Product Info'!AN55","v":0},{"$f":"AH54*'Product Info'!AQ55","v":0},{"$f":"AH54*'Product Info'!AT55","v":0},{"$f":"AH54*'Product Info'!AW55","v":0},{"$f":"AH54*'Product Info'!AZ55","v":0},{"$f":"AH54*'Product Info'!BC55","v":0},{"$f":"AH54*'Product Info'!BF55","v":0},{"$f":"AH54*'Product Info'!BI55","v":0},{"$f":"AH54*'Product Info'!BL55","v":0},{"$f":"AH54*'Product Info'!BO55","v":0},{"$f":"AH54*'Product Info'!BR55","v":0},{"$f":"AH54*'Product Info'!BU55","v":0},{"$f":"AH54*'Product Info'!BX55","v":0}]
[{"$f":"'Product Info'!A56","v":0},{"$f":"'Product Info'!B56","v":0},{"$f":"'Product Info'!C56","v":0},null,null,null,null,null,null,null,null,null,null,null,null,null,null,null,null,null,null,null,null,null,null,null,null,null,null,null,null,null,null,0,{"$f":"'Product Info'!F56*('Daily Info (April)'!AH55)","v":0},null,null,{"$f":"AH55*('Product Info'!H56)","v":0},{"$f":"AH55*('Product Info'!M56+'Product Info'!P56+'Product Info'!S56+'Product Info'!V56+'Product Info'!Y56+'Product Info'!AB56+'Product Info'!AE56+'Product Info'!AH56+'Product Info'!AK56+'Product Info'!AN56+'Product Info'!AQ56+'Product Info'!AT56+'Product Info'!AW56+'Product Info'!AZ56+'Product Info'!BC56+'Product Info'!BF56+'Product Info'!BI56+'Product Info'!BL56+'Product Info'!BO56+'Product Info'!BR56+'Product Info'!BU56+'Product Info'!BX56+'Product Info'!CA56+'Product Info'!CD56+'Product Info'!CG56+'Product Info'!CJ56+'Product Info'!CM56+'Product Info'!CP56+'Product Info'!CS56+'Product Info'!CV56+'Product Info'!CY56+'Product Info'!DB56+'Product Info'!DE56+'Product Info'!DH56+'Product Info'!DK56+'Product Info'!DN56+'Product Info'!DQ56+'Product Info'!DT56+'Product Info'!DW56+'Product Info'!DZ56+'Product Info'!EC56+'Product Info'!EF56+'Product Info'!EI56+'Product Info'!EL56+'Product Info'!EO56+'Product Info'!ER56+'Product Info'!EU56+'Product Info'!EX56+'Product Info'!FA56+'Product Info'!FD56)","v":0},{"$f":"AH55*('Product Info'!M56)","v":0},{"$f":"AH55*'Product Info'!P56","v":0},{"$f":"AH55*'Product Info'!S56","v":0},{"$f":"AH55*'Product Info'!V56","v":0},{"$f":"AH55*'Product Info'!Y56","v":0},{"$f":"AH55*'Product Info'!AB56","v":0},{"$f":"AH55*'Product Info'!AE56","v":0},{"$f":"AH55*'Product Info'!AH56","v":0},{"$f":"AH55*'Product Info'!AK56","v":0},{"$f":"AH55*'Product Info'!AN56","v":0},{"$f":"AH55*'Product Info'!AQ56","v":0},{"$f":"AH55*'Product Info'!AT56","v":0},{"$f":"AH55*'Product Info'!AW56","v":0},{"$f":"AH55*'Product Info'!AZ56","v":0},{"$f":"AH55*'Product Info'!BC56","v":0},{"$f":"AH55*'Product Info'!BF56","v":0},{"$f":"AH55*'Product Info'!BI56","v":0},{"$f":"AH55*'Product Info'!BL56","v":0},{"$f":"AH55*'Product Info'!BO56","v":0},{"$f":"AH55*'Product Info'!BR56","v":0},{"$f":"AH55*'Product Info'!BU56","v":0},{"$f":"AH55*'Product Info'!BX56","v":0}]
[{"$f":"'Product Info'!A57","v":0},{"$f":"'Product Info'!B57","v":0},{"$f":"'Product Info'!C57","v":0},null,null,null,null,null,null,null,null,null,null,null,null,null,null,null,null,null,null,null,null,null,null,null,null,null,null,null,null,null,null,0,{"$f":"'Product Info'!F57*('Daily Info (April)'!AH56)","v":0},null,null,{"$f":"AH56*('Product Info'!H57)","v":0},{"$f":"AH56*('Product Info'!M57+'Product Info'!P57+'Product Info'!S57+'Product Info'!V57+'Product Info'!Y57+'Product Info'!AB57+'Product Info'!AE57+'Product Info'!AH57+'Product Info'!AK57+'Product Info'!AN57+'Product Info'!AQ57+'Product Info'!AT57+'Product Info'!AW57+'Product Info'!AZ57+'Product Info'!BC57+'Product Info'!BF57+'Product Info'!BI57+'Product Info'!BL57+'Product Info'!BO57+'Product Info'!BR57+'Product Info'!BU57+'Product Info'!BX57+'Product Info'!CA57+'Product Info'!CD57+'Product Info'!CG57+'Product Info'!CJ57+'Product Info'!CM57+'Product Info'!CP57+'Product Info'!CS57+'Product Info'!CV57+'Product Info'!CY57+'Product Info'!DB57+'Product Info'!DE57+'Product Info'!DH57+'Product Info'!DK57+'Product Info'!DN57+'Product Info'!DQ57+'Product Info'!DT57+'Product Info'!DW57+'Product Info'!DZ57+'Product Info'!EC57+'Product Info'!EF57+'Product Info'!EI57+'Product Info'!EL57+'Product Info'!EO57+'Product Info'!ER57+'Product Info'!EU57+'Product Info'!EX57+'Product Info'!FA57+'Product Info'!FD57)","v":0},{"$f":"AH56*('Product Info'!M57)","v":0},{"$f":"AH56*'Product Info'!P57","v":0},{"$f":"AH56*'Product Info'!S57","v":0},{"$f":"AH56*'Product Info'!V57","v":0},{"$f":"AH56*'Product Info'!Y57","v":0},{"$f":"AH56*'Product Info'!AB57","v":0},{"$f":"AH56*'Product Info'!AE57","v":0},{"$f":"AH56*'Product Info'!AH57","v":0},{"$f":"AH56*'Product Info'!AK57","v":0},{"$f":"AH56*'Product Info'!AN57","v":0},{"$f":"AH56*'Product Info'!AQ57","v":0},{"$f":"AH56*'Product Info'!AT57","v":0},{"$f":"AH56*'Product Info'!AW57","v":0},{"$f":"AH56*'Product Info'!AZ57","v":0},{"$f":"AH56*'Product Info'!BC57","v":0},{"$f":"AH56*'Product Info'!BF57","v":0},{"$f":"AH56*'Product Info'!BI57","v":0},{"$f":"AH56*'Product Info'!BL57","v":0},{"$f":"AH56*'Product Info'!BO57","v":0},{"$f":"AH56*'Product Info'!BR57","v":0},{"$f":"AH56*'Product Info'!BU57","v":0},{"$f":"AH56*'Product Info'!BX57","v":0}]
[{"$f":"'Product Info'!A58","v":0},{"$f":"'Product Info'!B58","v":0},{"$f":"'Product Info'!C58","v":0},null,null,null,null,null,null,null,null,null,null,null,null,null,null,null,null,null,null,null,null,null,null,null,null,null,null,null,null,null,null,0,{"$f":"'Product Info'!F58*('Daily Info (April)'!AH57)","v":0},null,null,{"$f":"AH57*('Product Info'!H58)","v":0},{"$f":"AH57*('Product Info'!M58+'Product Info'!P58+'Product Info'!S58+'Product Info'!V58+'Product Info'!Y58+'Product Info'!AB58+'Product Info'!AE58+'Product Info'!AH58+'Product Info'!AK58+'Product Info'!AN58+'Product Info'!AQ58+'Product Info'!AT58+'Product Info'!AW58+'Product Info'!AZ58+'Product Info'!BC58+'Product Info'!BF58+'Product Info'!BI58+'Product Info'!BL58+'Product Info'!BO58+'Product Info'!BR58+'Product Info'!BU58+'Product Info'!BX58+'Product Info'!CA58+'Product Info'!CD58+'Product Info'!CG58+'Product Info'!CJ58+'Product Info'!CM58+'Product Info'!CP58+'Product Info'!CS58+'Product Info'!CV58+'Product Info'!CY58+'Product Info'!DB58+'Product Info'!DE58+'Product Info'!DH58+'Product Info'!DK58+'Product Info'!DN58+'Product Info'!DQ58+'Product Info'!DT58+'Product Info'!DW58+'Product Info'!DZ58+'Product Info'!EC58+'Product Info'!EF58+'Product Info'!EI58+'Product Info'!EL58+'Product Info'!EO58+'Product Info'!ER58+'Product Info'!EU58+'Product Info'!EX58+'Product Info'!FA58+'Product Info'!FD58)","v":0},{"$f":"AH57*('Product Info'!M58)","v":0},{"$f":"AH57*'Product Info'!P58","v":0},{"$f":"AH57*'Product Info'!S58","v":0},{"$f":"AH57*'Product Info'!V58","v":0},{"$f":"AH57*'Product Info'!Y58","v":0},{"$f":"AH57*'Product Info'!AB58","v":0},{"$f":"AH57*'Product Info'!AE58","v":0},{"$f":"AH57*'Product Info'!AH58","v":0},{"$f":"AH57*'Product Info'!AK58","v":0},{"$f":"AH57*'Product Info'!AN58","v":0},{"$f":"AH57*'Product Info'!AQ58","v":0},{"$f":"AH57*'Product Info'!AT58","v":0},{"$f":"AH57*'Product Info'!AW58","v":0},{"$f":"AH57*'Product Info'!AZ58","v":0},{"$f":"AH57*'Product Info'!BC58","v":0},{"$f":"AH57*'Product Info'!BF58","v":0},{"$f":"AH57*'Product Info'!BI58","v":0},{"$f":"AH57*'Product Info'!BL58","v":0},{"$f":"AH57*'Product Info'!BO58","v":0},{"$f":"AH57*'Product Info'!BR58","v":0},{"$f":"AH57*'Product Info'!BU58","v":0},{"$f":"AH57*'Product Info'!BX58","v":0}]
[{"$f":"'Product Info'!A59","v":0},{"$f":"'Product Info'!B59","v":0},{"$f":"'Product Info'!C59","v":0},null,null,null,null,null,null,null,null,null,null,null,null,null,null,null,null,null,null,null,null,null,null,null,null,null,null,null,null,null,null,0,{"$f":"'Product Info'!F59*('Daily Info (April)'!AH58)","v":0},null,null,{"$f":"AH58*('Product Info'!H59)","v":0},{"$f":"AH58*('Product Info'!M59+'Product Info'!P59+'Product Info'!S59+'Product Info'!V59+'Product Info'!Y59+'Product Info'!AB59+'Product Info'!AE59+'Product Info'!AH59+'Product Info'!AK59+'Product Info'!AN59+'Product Info'!AQ59+'Product Info'!AT59+'Product Info'!AW59+'Product Info'!AZ59+'Product Info'!BC59+'Product Info'!BF59+'Product Info'!BI59+'Product Info'!BL59+'Product Info'!BO59+'Product Info'!BR59+'Product Info'!BU59+'Product Info'!BX59+'Product Info'!CA59+'Product Info'!CD59+'Product Info'!CG59+'Product Info'!CJ59+'Product Info'!CM59+'Product Info'!CP59+'Product Info'!CS59+'Product Info'!CV59+'Product Info'!CY59+'Product Info'!DB59+'Product Info'!DE59+'Product Info'!DH59+'Product Info'!DK59+'Product Info'!DN59+'Product Info'!DQ59+'Product Info'!DT59+'Product Info'!DW59+'Product Info'!DZ59+'Product Info'!EC59+'Product Info'!EF59+'Product Info'!EI59+'Product Info'!EL59+'Product Info'!EO59+'Product Info'!ER59+'Product Info'!EU59+'Product Info'!EX59+'Product Info'!FA59+'Product Info'!FD59)","v":0},{"$f":"AH58*('Product Info'!M59)","v":0},{"$f":"AH58*'Product Info'!P59","v":0},{"$f":"AH58*'Product Info'!S59","v":0},{"$f":"AH58*'Product Info'!V59","v":0},{"$f":"AH58*'Product Info'!Y59","v":0},{"$f":"AH58*'Product Info'!AB59","v":0},{"$f":"AH58*'Product Info'!AE59","v":0},{"$f":"AH58*'Product Info'!AH59","v":0},{"$f":"AH58*'Product Info'!AK59","v":0},{"$f":"AH58*'Product Info'!AN59","v":0},{"$f":"AH58*'Product Info'!AQ59","v":0},{"$f":"AH58*'Product Info'!AT59","v":0},{"$f":"AH58*'Product Info'!AW59","v":0},{"$f":"AH58*'Product Info'!AZ59","v":0},{"$f":"AH58*'Product Info'!BC59","v":0},{"$f":"AH58*'Product Info'!BF59","v":0},{"$f":"AH58*'Product Info'!BI59","v":0},{"$f":"AH58*'Product Info'!BL59","v":0},{"$f":"AH58*'Product Info'!BO59","v":0},{"$f":"AH58*'Product Info'!BR59","v":0},{"$f":"AH58*'Product Info'!BU59","v":0},{"$f":"AH58*'Product Info'!BX59","v":0}]
[{"$f":"'Product Info'!A60","v":0},{"$f":"'Product Info'!B60","v":0},{"$f":"'Product Info'!C60","v":0},null,null,null,null,null,null,null,null,null,null,null,null,null,null,null,null,null,null,null,null,null,null,null,null,null,null,null,null,null,null,0,{"$f":"'Product Info'!F60*('Daily Info (April)'!AH59)","v":0},null,null,{"$f":"AH59*('Product Info'!H60)","v":0},{"$f":"AH59*('Product Info'!M60+'Product Info'!P60+'Product Info'!S60+'Product Info'!V60+'Product Info'!Y60+'Product Info'!AB60+'Product Info'!AE60+'Product Info'!AH60+'Product Info'!AK60+'Product Info'!AN60+'Product Info'!AQ60+'Product Info'!AT60+'Product Info'!AW60+'Product Info'!AZ60+'Product Info'!BC60+'Product Info'!BF60+'Product Info'!BI60+'Product Info'!BL60+'Product Info'!BO60+'Product Info'!BR60+'Product Info'!BU60+'Product Info'!BX60+'Product Info'!CA60+'Product Info'!CD60+'Product Info'!CG60+'Product Info'!CJ60+'Product Info'!CM60+'Product Info'!CP60+'Product Info'!CS60+'Product Info'!CV60+'Product Info'!CY60+'Product Info'!DB60+'Product Info'!DE60+'Product Info'!DH60+'Product Info'!DK60+'Product Info'!DN60+'Product Info'!DQ60+'Product Info'!DT60+'Product Info'!DW60+'Product Info'!DZ60+'Product Info'!EC60+'Product Info'!EF60+'Product Info'!EI60+'Product Info'!EL60+'Product Info'!EO60+'Product Info'!ER60+'Product Info'!EU60+'Product Info'!EX60+'Product Info'!FA60+'Product Info'!FD60)","v":0},{"$f":"AH59*('Product Info'!M60)","v":0},{"$f":"AH59*'Product Info'!P60","v":0},{"$f":"AH59*'Product Info'!S60","v":0},{"$f":"AH59*'Product Info'!V60","v":0},{"$f":"AH59*'Product Info'!Y60","v":0},{"$f":"AH59*'Product Info'!AB60","v":0},{"$f":"AH59*'Product Info'!AE60","v":0},{"$f":"AH59*'Product Info'!AH60","v":0},{"$f":"AH59*'Product Info'!AK60","v":0},{"$f":"AH59*'Product Info'!AN60","v":0},{"$f":"AH59*'Product Info'!AQ60","v":0},{"$f":"AH59*'Product Info'!AT60","v":0},{"$f":"AH59*'Product Info'!AW60","v":0},{"$f":"AH59*'Product Info'!AZ60","v":0},{"$f":"AH59*'Product Info'!BC60","v":0},{"$f":"AH59*'Product Info'!BF60","v":0},{"$f":"AH59*'Product Info'!BI60","v":0},{"$f":"AH59*'Product Info'!BL60","v":0},{"$f":"AH59*'Product Info'!BO60","v":0},{"$f":"AH59*'Product Info'!BR60","v":0},{"$f":"AH59*'Product Info'!BU60","v":0},{"$f":"AH59*'Product Info'!BX60","v":0}]
[{"$f":"'Product Info'!A61","v":0},{"$f":"'Product Info'!B61","v":0},{"$f":"'Product Info'!C61","v":0},null,null,null,null,null,null,null,null,null,null,null,null,null,null,null,null,null,null,null,null,null,null,null,null,null,null,null,null,null,null,0,{"$f":"'Product Info'!F61*('Daily Info (April)'!AH60)","v":0},null,null,{"$f":"AH60*('Product Info'!H61)","v":0},{"$f":"AH60*('Product Info'!M61+'Product Info'!P61+'Product Info'!S61+'Product Info'!V61+'Product Info'!Y61+'Product Info'!AB61+'Product Info'!AE61+'Product Info'!AH61+'Product Info'!AK61+'Product Info'!AN61+'Product Info'!AQ61+'Product Info'!AT61+'Product Info'!AW61+'Product Info'!AZ61+'Product Info'!BC61+'Product Info'!BF61+'Product Info'!BI61+'Product Info'!BL61+'Product Info'!BO61+'Product Info'!BR61+'Product Info'!BU61+'Product Info'!BX61+'Product Info'!CA61+'Product Info'!CD61+'Product Info'!CG61+'Product Info'!CJ61+'Product Info'!CM61+'Product Info'!CP61+'Product Info'!CS61+'Product Info'!CV61+'Product Info'!CY61+'Product Info'!DB61+'Product Info'!DE61+'Product Info'!DH61+'Product Info'!DK61+'Product Info'!DN61+'Product Info'!DQ61+'Product Info'!DT61+'Product Info'!DW61+'Product Info'!DZ61+'Product Info'!EC61+'Product Info'!EF61+'Product Info'!EI61+'Product Info'!EL61+'Product Info'!EO61+'Product Info'!ER61+'Product Info'!EU61+'Product Info'!EX61+'Product Info'!FA61+'Product Info'!FD61)","v":0},{"$f":"AH60*('Product Info'!M61)","v":0},{"$f":"AH60*'Product Info'!P61","v":0},{"$f":"AH60*'Product Info'!S61","v":0},{"$f":"AH60*'Product Info'!V61","v":0},{"$f":"AH60*'Product Info'!Y61","v":0},{"$f":"AH60*'Product Info'!AB61","v":0},{"$f":"AH60*'Product Info'!AE61","v":0},{"$f":"AH60*'Product Info'!AH61","v":0},{"$f":"AH60*'Product Info'!AK61","v":0},{"$f":"AH60*'Product Info'!AN61","v":0},{"$f":"AH60*'Product Info'!AQ61","v":0},{"$f":"AH60*'Product Info'!AT61","v":0},{"$f":"AH60*'Product Info'!AW61","v":0},{"$f":"AH60*'Product Info'!AZ61","v":0},{"$f":"AH60*'Product Info'!BC61","v":0},{"$f":"AH60*'Product Info'!BF61","v":0},{"$f":"AH60*'Product Info'!BI61","v":0},{"$f":"AH60*'Product Info'!BL61","v":0},{"$f":"AH60*'Product Info'!BO61","v":0},{"$f":"AH60*'Product Info'!BR61","v":0},{"$f":"AH60*'Product Info'!BU61","v":0},{"$f":"AH60*'Product Info'!BX61","v":0}]
[{"$f":"'Product Info'!A62","v":0},{"$f":"'Product Info'!B62","v":0},{"$f":"'Product Info'!C62","v":0},null,null,null,null,null,null,null,null,null,null,null,null,null,null,null,null,null,null,null,null,null,null,null,null,null,null,null,null,null,null,0,{"$f":"'Product Info'!F62*('Daily Info (April)'!AH61)","v":0},null,null,{"$f":"AH61*('Product Info'!H62)","v":0},{"$f":"AH61*('Product Info'!M62+'Product Info'!P62+'Product Info'!S62+'Product Info'!V62+'Product Info'!Y62+'Product Info'!AB62+'Product Info'!AE62+'Product Info'!AH62+'Product Info'!AK62+'Product Info'!AN62+'Product Info'!AQ62+'Product Info'!AT62+'Product Info'!AW62+'Product Info'!AZ62+'Product Info'!BC62+'Product Info'!BF62+'Product Info'!BI62+'Product Info'!BL62+'Product Info'!BO62+'Product Info'!BR62+'Product Info'!BU62+'Product Info'!BX62+'Product Info'!CA62+'Product Info'!CD62+'Product Info'!CG62+'Product Info'!CJ62+'Product Info'!CM62+'Product Info'!CP62+'Product Info'!CS62+'Product Info'!CV62+'Product Info'!CY62+'Product Info'!DB62+'Product Info'!DE62+'Product Info'!DH62+'Product Info'!DK62+'Product Info'!DN62+'Product Info'!DQ62+'Product Info'!DT62+'Product Info'!DW62+'Product Info'!DZ62+'Product Info'!EC62+'Product Info'!EF62+'Product Info'!EI62+'Product Info'!EL62+'Product Info'!EO62+'Product Info'!ER62+'Product Info'!EU62+'Product Info'!EX62+'Product Info'!FA62+'Product Info'!FD62)","v":0},{"$f":"AH61*('Product Info'!M62)","v":0},{"$f":"AH61*'Product Info'!P62","v":0},{"$f":"AH61*'Product Info'!S62","v":0},{"$f":"AH61*'Product Info'!V62","v":0},{"$f":"AH61*'Product Info'!Y62","v":0},{"$f":"AH61*'Product Info'!AB62","v":0},{"$f":"AH61*'Product Info'!AE62","v":0},{"$f":"AH61*'Product Info'!AH62","v":0},{"$f":"AH61*'Product Info'!AK62","v":0},{"$f":"AH61*'Product Info'!AN62","v":0},{"$f":"AH61*'Product Info'!AQ62","v":0},{"$f":"AH61*'Product Info'!AT62","v":0},{"$f":"AH61*'Product Info'!AW62","v":0},{"$f":"AH61*'Product Info'!AZ62","v":0},{"$f":"AH61*'Product Info'!BC62","v":0},{"$f":"AH61*'Product Info'!BF62","v":0},{"$f":"AH61*'Product Info'!BI62","v":0},{"$f":"AH61*'Product Info'!BL62","v":0},{"$f":"AH61*'Product Info'!BO62","v":0},{"$f":"AH61*'Product Info'!BR62","v":0},{"$f":"AH61*'Product Info'!BU62","v":0},{"$f":"AH61*'Product Info'!BX62","v":0}]
["TOTALS for April",null,null,null,null,null,null,null,null,null,null,null,null,null,null,null,null,null,null,null,null,null,null,null,null,null,null,null,null,null,null,null,null,{"$f":"SUM(AH4:AH18)","v":0},{"$f":"SUM(AI4:AI18)","v":0},null,null,{"$f":"SUM(AL4:AL18)","v":0},{"$f":"SUM(AM4:AM18)","v":0},0,0,0,0,0,0,0,0,0,0,0,0,0,0,0,0,0,0,0,0,0,0]

{"sheet":"Daily Info (May)","index":6,"n_rows":62,"n_cols":62,"rows_kept":62,"cut":false,"hidden":false,"merged":[[0,3,0,12],[0,38,0,39],[61,0,61,1],[61,3,61,33],[1,35,1,36],[3,35,3,36],[4,35,4,36],[5,35,5,36],[6,35,6,36],[7,35,7,36],[19,35,19,36],[8,35,8,36],[9,35,9,36],[10,35,10,36],[11,35,11,36],[12,35,12,36],[13,35,13,36],[14,35,14,36],[15,35,15,36],[16,35,16,36],[17,35,17,36],[18,35,18,36],[31,35,31,36],[20,35,20,36],[21,35,21,36],[22,35,22,36],[23,35,23,36],[24,35,24,36],[25,35,25,36],[26,35,26,36],[27,35,27,36],[28,35,28,36],[29,35,29,36],[30,35,30,36],[43,35,43,36],[32,35,32,36],[33,35,33,36],[34,35,34,36],[35,35,35,36],[36,35,36,36],[37,35,37,36],[38,35,38,36],[39,35,39,36],[40,35,40,36],[41,35,41,36],[42,35,42,36],[55,35,55,36],[44,35,44,36],[45,35,45,36],[46,35,46,36],[47,35,47,36],[48,35,48,36],[49,35,49,36],[50,35,50,36],[51,35,51,36],[52,35,52,36],[53,35,53,36],[54,35,54,36],[60,35,60,36],[61,35,61,36],[56,35,56,36],[57,35,57,36],[58,35,58,36],[59,35,59,36]]}
["Main Menu","VOC Product Information",null,"Daily Usage (gal)",null,null,null,null,null,null,null,null,null,null,null,null,null,null,null,null,null,null,null,null,null,"Daily Usage (gal)",null,null,null,null,null,null,null,null,null,null,null,null,"Emissions"]
["Product Number","Product Name","Product Type","2006-05-01","2006-05-02","2006-05-03","2006-05-04","2006-05-05","2006-05-06","2006-05-07","2006-05-08","2006-05-09","2006-05-10","2006-05-11","2006-05-12","2006-05-13","2006-05-14","2006-05-15","2006-05-16","2006-05-17","2006-05-18","2006-05-19","2006-05-20","2006-05-21","2006-05-22","2006-05-23","2006-05-24","2006-05-25","2006-05-26","2006-05-27","2006-05-28","2006-05-29","2006-05-30","2006-05-31","Total Usage (gal)","Total Usage (lbs)",null,null,"Pounds VOCs Emitted","Pounds Total HAPs Emitted",{"$f":"'Product Info'!K3","v":0},{"$f":"'Product Info'!N3","v":0},{"$f":"'Product Info'!Q3","v":0},{"$f":"'Product Info'!T3","v":0},{"$f":"'Product Info'!W3","v":0},{"$f":"'Product Info'!Z3","v":0},{"$f":"'Product Info'!AC3","v":0},{"$f":"'Product Info'!AF3","v":0},{"$f":"'Product Info'!AI3","v":0},{"$f":"'Product Info'!AL3","v":0},{"$f":"'Product Info'!AO3","v":0},{"$f":"'Product Info'!AR3","v":0},{"$f":"'Product Info'!AU3","v":0},{"$f":"'Product Info'!AX3","v":0},{"$f":"'Product Info'!BA3","v":0},{"$f":"'Product Info'!BD3","v":0},{"$f":"'Product Info'!BG3","v":0},{"$f":"'Product Info'!BJ3","v":0},{"$f":"'Product Info'!BM3","v":0},{"$f":"'Product Info'!BP3","v":0},{"$f":"'Product Info'!BS3","v":0},{"$f":"'Product Info'!BV3","v":0}]
[]
[{"$f":"'Product Info'!A5","v":0},{"$f":"'Product Info'!B5","v":0},{"$f":"'Product Info'!C5","v":0},null,null,null,null,null,null,null,null,null,null,null,null,null,null,null,null,null,null,null,null,null,null,null,null,null,null,null,null,null,null,null,{"$f":"SUM(D4:AH4)","v":0},{"$f":"'Product Info'!F5*('Daily Info (May)'!AI4)","v":0},null,null,{"$f":"AI4*('Product Info'!H5)","v":0},{"$f":"AI4*('Product Info'!M5+'Product Info'!P5+'Product Info'!S5+'Product Info'!V5+'Product Info'!Y5+'Product Info'!AB5+'Product Info'!AE5+'Product Info'!AH5+'Product Info'!AK5+'Product Info'!AN5+'Product Info'!AQ5+'Product Info'!AT5+'Product Info'!AW5+'Product Info'!AZ5+'Product Info'!BC5+'Product Info'!BF5+'Product Info'!BI5+'Product Info'!BL5+'Product Info'!BO5+'Product Info'!BR5+'Product Info'!BU5+'Product Info'!BX5+'Product Info'!CA5+'Product Info'!CD5+'Product Info'!CG5+'Product Info'!CJ5+'Product Info'!CM5+'Product Info'!CP5+'Product Info'!CS5+'Product Info'!CV5+'Product Info'!CY5+'Product Info'!DB5+'Product Info'!DE5+'Product Info'!DH5+'Product Info'!DK5+'Product Info'!DN5+'Product Info'!DQ5+'Product Info'!DT5+'Product Info'!DW5+'Product Info'!DZ5+'Product Info'!EC5+'Product Info'!EF5+'Product Info'!EI5+'Product Info'!EL5+'Product Info'!EO5+'Product Info'!ER5+'Product Info'!EU5+'Product Info'!EX5+'Product Info'!FA5+'Product Info'!FD5)","v":0},{"$f":"AI4*('Product Info'!M5)","v":0},{"$f":"AI4*'Product Info'!P5","v":0},{"$f":"AI4*'Product Info'!S5","v":0},{"$f":"AI4*'Product Info'!V5","v":0},{"$f":"AI4*'Product Info'!Y5","v":0},{"$f":"AI4*'Product Info'!AB5","v":0},{"$f":"AI4*'Product Info'!AE5","v":0},{"$f":"AI4*'Product Info'!AH5","v":0},{"$f":"AI4*'Product Info'!AK5","v":0},{"$f":"AI4*'Product Info'!AN5","v":0},{"$f":"AI4*'Product Info'!AQ5","v":0},{"$f":"AI4*'Product Info'!AT5","v":0},{"$f":"AI4*'Product Info'!AW5","v":0},{"$f":"AI4*'Product Info'!AZ5","v":0},{"$f":"AI4*'Product Info'!BC5","v":0},{"$f":"AI4*'Product Info'!BF5","v":0},{"$f":"AI4*'Product Info'!BI5","v":0},{"$f":"AI4*'Product Info'!BL5","v":0},{"$f":"AI4*'Product Info'!BO5","v":0},{"$f":"AI4*'Product Info'!BR5","v":0},{"$f":"AI4*'Product Info'!BU5","v":0},{"$f":"AI4*'Product Info'!BX5","v":0}]
[{"$f":"'Product Info'!A6","v":0},{"$f":"'Product Info'!B6","v":0},{"$f":"'Product Info'!C6","v":0},null,null,null,null,null,null,null,null,null,null,null,null,null,null,null,null,null,null,null,null,null,null,null,null,null,null,null,null,null,null,null,0,{"$f":"'Product Info'!F6*('Daily Info (May)'!AI5)","v":0},null,null,{"$f":"AI5*('Product Info'!H6)","v":0},{"$f":"AI5*('Product Info'!M6+'Product Info'!P6+'Product Info'!S6+'Product Info'!V6+'Product Info'!Y6+'Product Info'!AB6+'Product Info'!AE6+'Product Info'!AH6+'Product Info'!AK6+'Product Info'!AN6+'Product Info'!AQ6+'Product Info'!AT6+'Product Info'!AW6+'Product Info'!AZ6+'Product Info'!BC6+'Product Info'!BF6+'Product Info'!BI6+'Product Info'!BL6+'Product Info'!BO6+'Product Info'!BR6+'Product Info'!BU6+'Product Info'!BX6+'Product Info'!CA6+'Product Info'!CD6+'Product Info'!CG6+'Product Info'!CJ6+'Product Info'!CM6+'Product Info'!CP6+'Product Info'!CS6+'Product Info'!CV6+'Product Info'!CY6+'Product Info'!DB6+'Product Info'!DE6+'Product Info'!DH6+'Product Info'!DK6+'Product Info'!DN6+'Product Info'!DQ6+'Product Info'!DT6+'Product Info'!DW6+'Product Info'!DZ6+'Product Info'!EC6+'Product Info'!EF6+'Product Info'!EI6+'Product Info'!EL6+'Product Info'!EO6+'Product Info'!ER6+'Product Info'!EU6+'Product Info'!EX6+'Product Info'!FA6+'Product Info'!FD6)","v":0},{"$f":"AI5*('Product Info'!M6)","v":0},{"$f":"AI5*'Product Info'!P6","v":0},{"$f":"AI5*'Product Info'!S6","v":0},{"$f":"AI5*'Product Info'!V6","v":0},{"$f":"AI5*'Product Info'!Y6","v":0},{"$f":"AI5*'Product Info'!AB6","v":0},{"$f":"AI5*'Product Info'!AE6","v":0},{"$f":"AI5*'Product Info'!AH6","v":0},{"$f":"AI5*'Product Info'!AK6","v":0},{"$f":"AI5*'Product Info'!AN6","v":0},{"$f":"AI5*'Product Info'!AQ6","v":0},{"$f":"AI5*'Product Info'!AT6","v":0},{"$f":"AI5*'Product Info'!AW6","v":0},{"$f":"AI5*'Product Info'!AZ6","v":0},{"$f":"AI5*'Product Info'!BC6","v":0},{"$f":"AI5*'Product Info'!BF6","v":0},{"$f":"AI5*'Product Info'!BI6","v":0},{"$f":"AI5*'Product Info'!BL6","v":0},{"$f":"AI5*'Product Info'!BO6","v":0},{"$f":"AI5*'Product Info'!BR6","v":0},{"$f":"AI5*'Product Info'!BU6","v":0},{"$f":"AI5*'Product Info'!BX6","v":0}]
[{"$f":"'Product Info'!A7","v":0},{"$f":"'Product Info'!B7","v":0},{"$f":"'Product Info'!C7","v":0},null,null,null,null,null,null,null,null,null,null,null,null,null,null,null,null,null,null,null,null,null,null,null,null,null,null,null,null,null,null,null,0,{"$f":"'Product Info'!F7*('Daily Info (May)'!AI6)","v":0},null,null,{"$f":"AI6*('Product Info'!H7)","v":0},{"$f":"AI6*('Product Info'!M7+'Product Info'!P7+'Product Info'!S7+'Product Info'!V7+'Product Info'!Y7+'Product Info'!AB7+'Product Info'!AE7+'Product Info'!AH7+'Product Info'!AK7+'Product Info'!AN7+'Product Info'!AQ7+'Product Info'!AT7+'Product Info'!AW7+'Product Info'!AZ7+'Product Info'!BC7+'Product Info'!BF7+'Product Info'!BI7+'Product Info'!BL7+'Product Info'!BO7+'Product Info'!BR7+'Product Info'!BU7+'Product Info'!BX7+'Product Info'!CA7+'Product Info'!CD7+'Product Info'!CG7+'Product Info'!CJ7+'Product Info'!CM7+'Product Info'!CP7+'Product Info'!CS7+'Product Info'!CV7+'Product Info'!CY7+'Product Info'!DB7+'Product Info'!DE7+'Product Info'!DH7+'Product Info'!DK7+'Product Info'!DN7+'Product Info'!DQ7+'Product Info'!DT7+'Product Info'!DW7+'Product Info'!DZ7+'Product Info'!EC7+'Product Info'!EF7+'Product Info'!EI7+'Product Info'!EL7+'Product Info'!EO7+'Product Info'!ER7+'Product Info'!EU7+'Product Info'!EX7+'Product Info'!FA7+'Product Info'!FD7)","v":0},{"$f":"AI6*('Product Info'!M7)","v":0},{"$f":"AI6*'Product Info'!P7","v":0},{"$f":"AI6*'Product Info'!S7","v":0},{"$f":"AI6*'Product Info'!V7","v":0},{"$f":"AI6*'Product Info'!Y7","v":0},{"$f":"AI6*'Product Info'!AB7","v":0},{"$f":"AI6*'Product Info'!AE7","v":0},{"$f":"AI6*'Product Info'!AH7","v":0},{"$f":"AI6*'Product Info'!AK7","v":0},{"$f":"AI6*'Product Info'!AN7","v":0},{"$f":"AI6*'Product Info'!AQ7","v":0},{"$f":"AI6*'Product Info'!AT7","v":0},{"$f":"AI6*'Product Info'!AW7","v":0},{"$f":"AI6*'Product Info'!AZ7","v":0},{"$f":"AI6*'Product Info'!BC7","v":0},{"$f":"AI6*'Product Info'!BF7","v":0},{"$f":"AI6*'Product Info'!BI7","v":0},{"$f":"AI6*'Product Info'!BL7","v":0},{"$f":"AI6*'Product Info'!BO7","v":0},{"$f":"AI6*'Product Info'!BR7","v":0},{"$f":"AI6*'Product Info'!BU7","v":0},{"$f":"AI6*'Product Info'!BX7","v":0}]
[{"$f":"'Product Info'!A8","v":0},{"$f":"'Product Info'!B8","v":0},{"$f":"'Product Info'!C8","v":0},null,null,null,null,null,null,null,null,null,null,null,null,null,null,null,null,null,null,null,null,null,null,null,null,null,null,null,null,null,null,null,0,{"$f":"'Product Info'!F8*('Daily Info (May)'!AI7)","v":0},null,null,{"$f":"AI7*('Product Info'!H8)","v":0},{"$f":"AI7*('Product Info'!M8+'Product Info'!P8+'Product Info'!S8+'Product Info'!V8+'Product Info'!Y8+'Product Info'!AB8+'Product Info'!AE8+'Product Info'!AH8+'Product Info'!AK8+'Product Info'!AN8+'Product Info'!AQ8+'Product Info'!AT8+'Product Info'!AW8+'Product Info'!AZ8+'Product Info'!BC8+'Product Info'!BF8+'Product Info'!BI8+'Product Info'!BL8+'Product Info'!BO8+'Product Info'!BR8+'Product Info'!BU8+'Product Info'!BX8+'Product Info'!CA8+'Product Info'!CD8+'Product Info'!CG8+'Product Info'!CJ8+'Product Info'!CM8+'Product Info'!CP8+'Product Info'!CS8+'Product Info'!CV8+'Product Info'!CY8+'Product Info'!DB8+'Product Info'!DE8+'Product Info'!DH8+'Product Info'!DK8+'Product Info'!DN8+'Product Info'!DQ8+'Product Info'!DT8+'Product Info'!DW8+'Product Info'!DZ8+'Product Info'!EC8+'Product Info'!EF8+'Product Info'!EI8+'Product Info'!EL8+'Product Info'!EO8+'Product Info'!ER8+'Product Info'!EU8+'Product Info'!EX8+'Product Info'!FA8+'Product Info'!FD8)","v":0},{"$f":"AI7*('Product Info'!M8)","v":0},{"$f":"AI7*'Product Info'!P8","v":0},{"$f":"AI7*'Product Info'!S8","v":0},{"$f":"AI7*'Product Info'!V8","v":0},{"$f":"AI7*'Product Info'!Y8","v":0},{"$f":"AI7*'Product Info'!AB8","v":0},{"$f":"AI7*'Product Info'!AE8","v":0},{"$f":"AI7*'Product Info'!AH8","v":0},{"$f":"AI7*'Product Info'!AK8","v":0},{"$f":"AI7*'Product Info'!AN8","v":0},{"$f":"AI7*'Product Info'!AQ8","v":0},{"$f":"AI7*'Product Info'!AT8","v":0},{"$f":"AI7*'Product Info'!AW8","v":0},{"$f":"AI7*'Product Info'!AZ8","v":0},{"$f":"AI7*'Product Info'!BC8","v":0},{"$f":"AI7*'Product Info'!BF8","v":0},{"$f":"AI7*'Product Info'!BI8","v":0},{"$f":"AI7*'Product Info'!BL8","v":0},{"$f":"AI7*'Product Info'!BO8","v":0},{"$f":"AI7*'Product Info'!BR8","v":0},{"$f":"AI7*'Product Info'!BU8","v":0},{"$f":"AI7*'Product Info'!BX8","v":0}]
[{"$f":"'Product Info'!A9","v":0},{"$f":"'Product Info'!B9","v":0},{"$f":"'Product Info'!C9","v":0},null,null,null,null,null,null,null,null,null,null,null,null,null,null,null,null,null,null,null,null,null,null,null,null,null,null,null,null,null,null,null,0,{"$f":"'Product Info'!F9*('Daily Info (May)'!AI8)","v":0},null,null,{"$f":"AI8*('Product Info'!H9)","v":0},{"$f":"AI8*('Product Info'!M9+'Product Info'!P9+'Product Info'!S9+'Product Info'!V9+'Product Info'!Y9+'Product Info'!AB9+'Product Info'!AE9+'Product Info'!AH9+'Product Info'!AK9+'Product Info'!AN9+'Product Info'!AQ9+'Product Info'!AT9+'Product Info'!AW9+'Product Info'!AZ9+'Product Info'!BC9+'Product Info'!BF9+'Product Info'!BI9+'Product Info'!BL9+'Product Info'!BO9+'Product Info'!BR9+'Product Info'!BU9+'Product Info'!BX9+'Product Info'!CA9+'Product Info'!CD9+'Product Info'!CG9+'Product Info'!CJ9+'Product Info'!CM9+'Product Info'!CP9+'Product Info'!CS9+'Product Info'!CV9+'Product Info'!CY9+'Product Info'!DB9+'Product Info'!DE9+'Product Info'!DH9+'Product Info'!DK9+'Product Info'!DN9+'Product Info'!DQ9+'Product Info'!DT9+'Product Info'!DW9+'Product Info'!DZ9+'Product Info'!EC9+'Product Info'!EF9+'Product Info'!EI9+'Product Info'!EL9+'Product Info'!EO9+'Product Info'!ER9+'Product Info'!EU9+'Product Info'!EX9+'Product Info'!FA9+'Product Info'!FD9)","v":0},{"$f":"AI8*('Product Info'!M9)","v":0},{"$f":"AI8*'Product Info'!P9","v":0},{"$f":"AI8*'Product Info'!S9","v":0},{"$f":"AI8*'Product Info'!V9","v":0},{"$f":"AI8*'Product Info'!Y9","v":0},{"$f":"AI8*'Product Info'!AB9","v":0},{"$f":"AI8*'Product Info'!AE9","v":0},{"$f":"AI8*'Product Info'!AH9","v":0},{"$f":"AI8*'Product Info'!AK9","v":0},{"$f":"AI8*'Product Info'!AN9","v":0},{"$f":"AI8*'Product Info'!AQ9","v":0},{"$f":"AI8*'Product Info'!AT9","v":0},{"$f":"AI8*'Product Info'!AW9","v":0},{"$f":"AI8*'Product Info'!AZ9","v":0},{"$f":"AI8*'Product Info'!BC9","v":0},{"$f":"AI8*'Product Info'!BF9","v":0},{"$f":"AI8*'Product Info'!BI9","v":0},{"$f":"AI8*'Product Info'!BL9","v":0},{"$f":"AI8*'Product Info'!BO9","v":0},{"$f":"AI8*'Product Info'!BR9","v":0},{"$f":"AI8*'Product Info'!BU9","v":0},{"$f":"AI8*'Product Info'!BX9","v":0}]
[{"$f":"'Product Info'!A10","v":0},{"$f":"'Product Info'!B10","v":0},{"$f":"'Product Info'!C10","v":0},null,null,null,null,null,null,null,null,null,null,null,null,null,null,null,null,null,null,null,null,null,null,null,null,null,null,null,null,null,null,null,0,{"$f":"'Product Info'!F10*('Daily Info (May)'!AI9)","v":0},null,null,{"$f":"AI9*('Product Info'!H10)","v":0},{"$f":"AI9*('Product Info'!M10+'Product Info'!P10+'Product Info'!S10+'Product Info'!V10+'Product Info'!Y10+'Product Info'!AB10+'Product Info'!AE10+'Product Info'!AH10+'Product Info'!AK10+'Product Info'!AN10+'Product Info'!AQ10+'Product Info'!AT10+'Product Info'!AW10+'Product Info'!AZ10+'Product Info'!BC10+'Product Info'!BF10+'Product Info'!BI10+'Product Info'!BL10+'Product Info'!BO10+'Product Info'!BR10+'Product Info'!BU10+'Product Info'!BX10+'Product Info'!CA10+'Product Info'!CD10+'Product Info'!CG10+'Product Info'!CJ10+'Product Info'!CM10+'Product Info'!CP10+'Product Info'!CS10+'Product Info'!CV10+'Product Info'!CY10+'Product Info'!DB10+'Product Info'!DE10+'Product Info'!DH10+'Product Info'!DK10+'Product Info'!DN10+'Product Info'!DQ10+'Product Info'!DT10+'Product Info'!DW10+'Product Info'!DZ10+'Product Info'!EC10+'Product Info'!EF10+'Product Info'!EI10+'Product Info'!EL10+'Product Info'!EO10+'Product Info'!ER10+'Product Info'!EU10+'Product Info'!EX10+'Product Info'!FA10+'Product Info'!FD10)","v":0},{"$f":"AI9*('Product Info'!M10)","v":0},{"$f":"AI9*'Product Info'!P10","v":0},{"$f":"AI9*'Product Info'!S10","v":0},{"$f":"AI9*'Product Info'!V10","v":0},{"$f":"AI9*'Product Info'!Y10","v":0},{"$f":"AI9*'Product Info'!AB10","v":0},{"$f":"AI9*'Product Info'!AE10","v":0},{"$f":"AI9*'Product Info'!AH10","v":0},{"$f":"AI9*'Product Info'!AK10","v":0},{"$f":"AI9*'Product Info'!AN10","v":0},{"$f":"AI9*'Product Info'!AQ10","v":0},{"$f":"AI9*'Product Info'!AT10","v":0},{"$f":"AI9*'Product Info'!AW10","v":0},{"$f":"AI9*'Product Info'!AZ10","v":0},{"$f":"AI9*'Product Info'!BC10","v":0},{"$f":"AI9*'Product Info'!BF10","v":0},{"$f":"AI9*'Product Info'!BI10","v":0},{"$f":"AI9*'Product Info'!BL10","v":0},{"$f":"AI9*'Product Info'!BO10","v":0},{"$f":"AI9*'Product Info'!BR10","v":0},{"$f":"AI9*'Product Info'!BU10","v":0},{"$f":"AI9*'Product Info'!BX10","v":0}]
[{"$f":"'Product Info'!A11","v":0},{"$f":"'Product Info'!B11","v":0},{"$f":"'Product Info'!C11","v":0},null,null,null,null,null,null,null,null,null,null,null,null,null,null,null,null,null,null,null,null,null,null,null,null,null,null,null,null,null,null,null,0,{"$f":"'Product Info'!F11*('Daily Info (May)'!AI10)","v":0},null,null,{"$f":"AI10*('Product Info'!H11)","v":0},{"$f":"AI10*('Product Info'!M11+'Product Info'!P11+'Product Info'!S11+'Product Info'!V11+'Product Info'!Y11+'Product Info'!AB11+'Product Info'!AE11+'Product Info'!AH11+'Product Info'!AK11+'Product Info'!AN11+'Product Info'!AQ11+'Product Info'!AT11+'Product Info'!AW11+'Product Info'!AZ11+'Product Info'!BC11+'Product Info'!BF11+'Product Info'!BI11+'Product Info'!BL11+'Product Info'!BO11+'Product Info'!BR11+'Product Info'!BU11+'Product Info'!BX11+'Product Info'!CA11+'Product Info'!CD11+'Product Info'!CG11+'Product Info'!CJ11+'Product Info'!CM11+'Product Info'!CP11+'Product Info'!CS11+'Product Info'!CV11+'Product Info'!CY11+'Product Info'!DB11+'Product Info'!DE11+'Product Info'!DH11+'Product Info'!DK11+'Product Info'!DN11+'Product Info'!DQ11+'Product Info'!DT11+'Product Info'!DW11+'Product Info'!DZ11+'Product Info'!EC11+'Product Info'!EF11+'Product Info'!EI11+'Product Info'!EL11+'Product Info'!EO11+'Product Info'!ER11+'Product Info'!EU11+'Product Info'!EX11+'Product Info'!FA11+'Product Info'!FD11)","v":0},{"$f":"AI10*('Product Info'!M11)","v":0},{"$f":"AI10*'Product Info'!P11","v":0},{"$f":"AI10*'Product Info'!S11","v":0},{"$f":"AI10*'Product Info'!V11","v":0},{"$f":"AI10*'Product Info'!Y11","v":0},{"$f":"AI10*'Product Info'!AB11","v":0},{"$f":"AI10*'Product Info'!AE11","v":0},{"$f":"AI10*'Product Info'!AH11","v":0},{"$f":"AI10*'Product Info'!AK11","v":0},{"$f":"AI10*'Product Info'!AN11","v":0},{"$f":"AI10*'Product Info'!AQ11","v":0},{"$f":"AI10*'Product Info'!AT11","v":0},{"$f":"AI10*'Product Info'!AW11","v":0},{"$f":"AI10*'Product Info'!AZ11","v":0},{"$f":"AI10*'Product Info'!BC11","v":0},{"$f":"AI10*'Product Info'!BF11","v":0},{"$f":"AI10*'Product Info'!BI11","v":0},{"$f":"AI10*'Product Info'!BL11","v":0},{"$f":"AI10*'Product Info'!BO11","v":0},{"$f":"AI10*'Product Info'!BR11","v":0},{"$f":"AI10*'Product Info'!BU11","v":0},{"$f":"AI10*'Product Info'!BX11","v":0}]
[{"$f":"'Product Info'!A12","v":0},{"$f":"'Product Info'!B12","v":0},{"$f":"'Product Info'!C12","v":0},null,null,null,null,null,null,null,null,null,null,null,null,null,null,null,null,null,null,null,null,null,null,null,null,null,null,null,null,null,null,null,0,{"$f":"'Product Info'!F12*('Daily Info (May)'!AI11)","v":0},null,null,{"$f":"AI11*('Product Info'!H12)","v":0},{"$f":"AI11*('Product Info'!M12+'Product Info'!P12+'Product Info'!S12+'Product Info'!V12+'Product Info'!Y12+'Product Info'!AB12+'Product Info'!AE12+'Product Info'!AH12+'Product Info'!AK12+'Product Info'!AN12+'Product Info'!AQ12+'Product Info'!AT12+'Product Info'!AW12+'Product Info'!AZ12+'Product Info'!BC12+'Product Info'!BF12+'Product Info'!BI12+'Product Info'!BL12+'Product Info'!BO12+'Product Info'!BR12+'Product Info'!BU12+'Product Info'!BX12+'Product Info'!CA12+'Product Info'!CD12+'Product Info'!CG12+'Product Info'!CJ12+'Product Info'!CM12+'Product Info'!CP12+'Product Info'!CS12+'Product Info'!CV12+'Product Info'!CY12+'Product Info'!DB12+'Product Info'!DE12+'Product Info'!DH12+'Product Info'!DK12+'Product Info'!DN12+'Product Info'!DQ12+'Product Info'!DT12+'Product Info'!DW12+'Product Info'!DZ12+'Product Info'!EC12+'Product Info'!EF12+'Product Info'!EI12+'Product Info'!EL12+'Product Info'!EO12+'Product Info'!ER12+'Product Info'!EU12+'Product Info'!EX12+'Product Info'!FA12+'Product Info'!FD12)","v":0},{"$f":"AI11*('Product Info'!M12)","v":0},{"$f":"AI11*'Product Info'!P12","v":0},{"$f":"AI11*'Product Info'!S12","v":0},{"$f":"AI11*'Product Info'!V12","v":0},{"$f":"AI11*'Product Info'!Y12","v":0},{"$f":"AI11*'Product Info'!AB12","v":0},{"$f":"AI11*'Product Info'!AE12","v":0},{"$f":"AI11*'Product Info'!AH12","v":0},{"$f":"AI11*'Product Info'!AK12","v":0},{"$f":"AI11*'Product Info'!AN12","v":0},{"$f":"AI11*'Product Info'!AQ12","v":0},{"$f":"AI11*'Product Info'!AT12","v":0},{"$f":"AI11*'Product Info'!AW12","v":0},{"$f":"AI11*'Product Info'!AZ12","v":0},{"$f":"AI11*'Product Info'!BC12","v":0},{"$f":"AI11*'Product Info'!BF12","v":0},{"$f":"AI11*'Product Info'!BI12","v":0},{"$f":"AI11*'Product Info'!BL12","v":0},{"$f":"AI11*'Product Info'!BO12","v":0},{"$f":"AI11*'Product Info'!BR12","v":0},{"$f":"AI11*'Product Info'!BU12","v":0},{"$f":"AI11*'Product Info'!BX12","v":0}]
[{"$f":"'Product Info'!A13","v":0},{"$f":"'Product Info'!B13","v":0},{"$f":"'Product Info'!C13","v":0},null,null,null,null,null,null,null,null,null,null,null,null,null,null,null,null,null,null,null,null,null,null,null,null,null,null,null,null,null,null,null,0,{"$f":"'Product Info'!F13*('Daily Info (May)'!AI12)","v":0},null,null,{"$f":"AI12*('Product Info'!H13)","v":0},{"$f":"AI12*('Product Info'!M13+'Product Info'!P13+'Product Info'!S13+'Product Info'!V13+'Product Info'!Y13+'Product Info'!AB13+'Product Info'!AE13+'Product Info'!AH13+'Product Info'!AK13+'Product Info'!AN13+'Product Info'!AQ13+'Product Info'!AT13+'Product Info'!AW13+'Product Info'!AZ13+'Product Info'!BC13+'Product Info'!BF13+'Product Info'!BI13+'Product Info'!BL13+'Product Info'!BO13+'Product Info'!BR13+'Product Info'!BU13+'Product Info'!BX13+'Product Info'!CA13+'Product Info'!CD13+'Product Info'!CG13+'Product Info'!CJ13+'Product Info'!CM13+'Product Info'!CP13+'Product Info'!CS13+'Product Info'!CV13+'Product Info'!CY13+'Product Info'!DB13+'Product Info'!DE13+'Product Info'!DH13+'Product Info'!DK13+'Product Info'!DN13+'Product Info'!DQ13+'Product Info'!DT13+'Product Info'!DW13+'Product Info'!DZ13+'Product Info'!EC13+'Product Info'!EF13+'Product Info'!EI13+'Product Info'!EL13+'Product Info'!EO13+'Product Info'!ER13+'Product Info'!EU13+'Product Info'!EX13+'Product Info'!FA13+'Product Info'!FD13)","v":0},{"$f":"AI12*('Product Info'!M13)","v":0},{"$f":"AI12*'Product Info'!P13","v":0},{"$f":"AI12*'Product Info'!S13","v":0},{"$f":"AI12*'Product Info'!V13","v":0},{"$f":"AI12*'Product Info'!Y13","v":0},{"$f":"AI12*'Product Info'!AB13","v":0},{"$f":"AI12*'Product Info'!AE13","v":0},{"$f":"AI12*'Product Info'!AH13","v":0},{"$f":"AI12*'Product Info'!AK13","v":0},{"$f":"AI12*'Product Info'!AN13","v":0},{"$f":"AI12*'Product Info'!AQ13","v":0},{"$f":"AI12*'Product Info'!AT13","v":0},{"$f":"AI12*'Product Info'!AW13","v":0},{"$f":"AI12*'Product Info'!AZ13","v":0},{"$f":"AI12*'Product Info'!BC13","v":0},{"$f":"AI12*'Product Info'!BF13","v":0},{"$f":"AI12*'Product Info'!BI13","v":0},{"$f":"AI12*'Product Info'!BL13","v":0},{"$f":"AI12*'Product Info'!BO13","v":0},{"$f":"AI12*'Product Info'!BR13","v":0},{"$f":"AI12*'Product Info'!BU13","v":0},{"$f":"AI12*'Product Info'!BX13","v":0}]
[{"$f":"'Product Info'!A14","v":0},{"$f":"'Product Info'!B14","v":0},{"$f":"'Product Info'!C14","v":0},null,null,null,null,null,null,null,null,null,null,null,null,null,null,null,null,null,null,null,null,null,null,null,null,null,null,null,null,null,null,null,0,{"$f":"'Product Info'!F14*('Daily Info (May)'!AI13)","v":0},null,null,{"$f":"AI13*('Product Info'!H14)","v":0},{"$f":"AI13*('Product Info'!M14+'Product Info'!P14+'Product Info'!S14+'Product Info'!V14+'Product Info'!Y14+'Product Info'!AB14+'Product Info'!AE14+'Product Info'!AH14+'Product Info'!AK14+'Product Info'!AN14+'Product Info'!AQ14+'Product Info'!AT14+'Product Info'!AW14+'Product Info'!AZ14+'Product Info'!BC14+'Product Info'!BF14+'Product Info'!BI14+'Product Info'!BL14+'Product Info'!BO14+'Product Info'!BR14+'Product Info'!BU14+'Product Info'!BX14+'Product Info'!CA14+'Product Info'!CD14+'Product Info'!CG14+'Product Info'!CJ14+'Product Info'!CM14+'Product Info'!CP14+'Product Info'!CS14+'Product Info'!CV14+'Product Info'!CY14+'Product Info'!DB14+'Product Info'!DE14+'Product Info'!DH14+'Product Info'!DK14+'Product Info'!DN14+'Product Info'!DQ14+'Product Info'!DT14+'Product Info'!DW14+'Product Info'!DZ14+'Product Info'!EC14+'Product Info'!EF14+'Product Info'!EI14+'Product Info'!EL14+'Product Info'!EO14+'Product Info'!ER14+'Product Info'!EU14+'Product Info'!EX14+'Product Info'!FA14+'Product Info'!FD14)","v":0},{"$f":"AI13*('Product Info'!M14)","v":0},{"$f":"AI13*'Product Info'!P14","v":0},{"$f":"AI13*'Product Info'!S14","v":0},{"$f":"AI13*'Product Info'!V14","v":0},{"$f":"AI13*'Product Info'!Y14","v":0},{"$f":"AI13*'Product Info'!AB14","v":0},{"$f":"AI13*'Product Info'!AE14","v":0},{"$f":"AI13*'Product Info'!AH14","v":0},{"$f":"AI13*'Product Info'!AK14","v":0},{"$f":"AI13*'Product Info'!AN14","v":0},{"$f":"AI13*'Product Info'!AQ14","v":0},{"$f":"AI13*'Product Info'!AT14","v":0},{"$f":"AI13*'Product Info'!AW14","v":0},{"$f":"AI13*'Product Info'!AZ14","v":0},{"$f":"AI13*'Product Info'!BC14","v":0},{"$f":"AI13*'Product Info'!BF14","v":0},{"$f":"AI13*'Product Info'!BI14","v":0},{"$f":"AI13*'Product Info'!BL14","v":0},{"$f":"AI13*'Product Info'!BO14","v":0},{"$f":"AI13*'Product Info'!BR14","v":0},{"$f":"AI13*'Product Info'!BU14","v":0},{"$f":"AI13*'Product Info'!BX14","v":0}]
[{"$f":"'Product Info'!A15","v":0},{"$f":"'Product Info'!B15","v":0},{"$f":"'Product Info'!C15","v":0},null,null,null,null,null,null,null,null,null,null,null,null,null,null,null,null,null,null,null,null,null,null,null,null,null,null,null,null,null,null,null,0,{"$f":"'Product Info'!F15*('Daily Info (May)'!AI14)","v":0},null,null,{"$f":"AI14*('Product Info'!H15)","v":0},{"$f":"AI14*('Product Info'!M15+'Product Info'!P15+'Product Info'!S15+'Product Info'!V15+'Product Info'!Y15+'Product Info'!AB15+'Product Info'!AE15+'Product Info'!AH15+'Product Info'!AK15+'Product Info'!AN15+'Product Info'!AQ15+'Product Info'!AT15+'Product Info'!AW15+'Product Info'!AZ15+'Product Info'!BC15+'Product Info'!BF15+'Product Info'!BI15+'Product Info'!BL15+'Product Info'!BO15+'Product Info'!BR15+'Product Info'!BU15+'Product Info'!BX15+'Product Info'!CA15+'Product Info'!CD15+'Product Info'!CG15+'Product Info'!CJ15+'Product Info'!CM15+'Product Info'!CP15+'Product Info'!CS15+'Product Info'!CV15+'Product Info'!CY15+'Product Info'!DB15+'Product Info'!DE15+'Product Info'!DH15+'Product Info'!DK15+'Product Info'!DN15+'Product Info'!DQ15+'Product Info'!DT15+'Product Info'!DW15+'Product Info'!DZ15+'Product Info'!EC15+'Product Info'!EF15+'Product Info'!EI15+'Product Info'!EL15+'Product Info'!EO15+'Product Info'!ER15+'Product Info'!EU15+'Product Info'!EX15+'Product Info'!FA15+'Product Info'!FD15)","v":0},{"$f":"AI14*('Product Info'!M15)","v":0},{"$f":"AI14*'Product Info'!P15","v":0},{"$f":"AI14*'Product Info'!S15","v":0},{"$f":"AI14*'Product Info'!V15","v":0},{"$f":"AI14*'Product Info'!Y15","v":0},{"$f":"AI14*'Product Info'!AB15","v":0},{"$f":"AI14*'Product Info'!AE15","v":0},{"$f":"AI14*'Product Info'!AH15","v":0},{"$f":"AI14*'Product Info'!AK15","v":0},{"$f":"AI14*'Product Info'!AN15","v":0},{"$f":"AI14*'Product Info'!AQ15","v":0},{"$f":"AI14*'Product Info'!AT15","v":0},{"$f":"AI14*'Product Info'!AW15","v":0},{"$f":"AI14*'Product Info'!AZ15","v":0},{"$f":"AI14*'Product Info'!BC15","v":0},{"$f":"AI14*'Product Info'!BF15","v":0},{"$f":"AI14*'Product Info'!BI15","v":0},{"$f":"AI14*'Product Info'!BL15","v":0},{"$f":"AI14*'Product Info'!BO15","v":0},{"$f":"AI14*'Product Info'!BR15","v":0},{"$f":"AI14*'Product Info'!BU15","v":0},{"$f":"AI14*'Product Info'!BX15","v":0}]
[{"$f":"'Product Info'!A16","v":0},{"$f":"'Product Info'!B16","v":0},{"$f":"'Product Info'!C16","v":0},null,null,null,null,null,null,null,null,null,null,null,null,null,null,null,null,null,null,null,null,null,null,null,null,null,null,null,null,null,null,null,0,{"$f":"'Product Info'!F16*('Daily Info (May)'!AI15)","v":0},null,null,{"$f":"AI15*('Product Info'!H16)","v":0},{"$f":"AI15*('Product Info'!M16+'Product Info'!P16+'Product Info'!S16+'Product Info'!V16+'Product Info'!Y16+'Product Info'!AB16+'Product Info'!AE16+'Product Info'!AH16+'Product Info'!AK16+'Product Info'!AN16+'Product Info'!AQ16+'Product Info'!AT16+'Product Info'!AW16+'Product Info'!AZ16+'Product Info'!BC16+'Product Info'!BF16+'Product Info'!BI16+'Product Info'!BL16+'Product Info'!BO16+'Product Info'!BR16+'Product Info'!BU16+'Product Info'!BX16+'Product Info'!CA16+'Product Info'!CD16+'Product Info'!CG16+'Product Info'!CJ16+'Product Info'!CM16+'Product Info'!CP16+'Product Info'!CS16+'Product Info'!CV16+'Product Info'!CY16+'Product Info'!DB16+'Product Info'!DE16+'Product Info'!DH16+'Product Info'!DK16+'Product Info'!DN16+'Product Info'!DQ16+'Product Info'!DT16+'Product Info'!DW16+'Product Info'!DZ16+'Product Info'!EC16+'Product Info'!EF16+'Product Info'!EI16+'Product Info'!EL16+'Product Info'!EO16+'Product Info'!ER16+'Product Info'!EU16+'Product Info'!EX16+'Product Info'!FA16+'Product Info'!FD16)","v":0},{"$f":"AI15*('Product Info'!M16)","v":0},{"$f":"AI15*'Product Info'!P16","v":0},{"$f":"AI15*'Product Info'!S16","v":0},{"$f":"AI15*'Product Info'!V16","v":0},{"$f":"AI15*'Product Info'!Y16","v":0},{"$f":"AI15*'Product Info'!AB16","v":0},{"$f":"AI15*'Product Info'!AE16","v":0},{"$f":"AI15*'Product Info'!AH16","v":0},{"$f":"AI15*'Product Info'!AK16","v":0},{"$f":"AI15*'Product Info'!AN16","v":0},{"$f":"AI15*'Product Info'!AQ16","v":0},{"$f":"AI15*'Product Info'!AT16","v":0},{"$f":"AI15*'Product Info'!AW16","v":0},{"$f":"AI15*'Product Info'!AZ16","v":0},{"$f":"AI15*'Product Info'!BC16","v":0},{"$f":"AI15*'Product Info'!BF16","v":0},{"$f":"AI15*'Product Info'!BI16","v":0},{"$f":"AI15*'Product Info'!BL16","v":0},{"$f":"AI15*'Product Info'!BO16","v":0},{"$f":"AI15*'Product Info'!BR16","v":0},{"$f":"AI15*'Product Info'!BU16","v":0},{"$f":"AI15*'Product Info'!BX16","v":0}]
[{"$f":"'Product Info'!A17","v":0},{"$f":"'Product Info'!B17","v":0},{"$f":"'Product Info'!C17","v":0},null,null,null,null,null,null,null,null,null,null,null,null,null,null,null,null,null,null,null,null,null,null,null,null,null,null,null,null,null,null,null,0,{"$f":"'Product Info'!F17*('Daily Info (May)'!AI16)","v":0},null,null,{"$f":"AI16*('Product Info'!H17)","v":0},{"$f":"AI16*('Product Info'!M17+'Product Info'!P17+'Product Info'!S17+'Product Info'!V17+'Product Info'!Y17+'Product Info'!AB17+'Product Info'!AE17+'Product Info'!AH17+'Product Info'!AK17+'Product Info'!AN17+'Product Info'!AQ17+'Product Info'!AT17+'Product Info'!AW17+'Product Info'!AZ17+'Product Info'!BC17+'Product Info'!BF17+'Product Info'!BI17+'Product Info'!BL17+'Product Info'!BO17+'Product Info'!BR17+'Product Info'!BU17+'Product Info'!BX17+'Product Info'!CA17+'Product Info'!CD17+'Product Info'!CG17+'Product Info'!CJ17+'Product Info'!CM17+'Product Info'!CP17+'Product Info'!CS17+'Product Info'!CV17+'Product Info'!CY17+'Product Info'!DB17+'Product Info'!DE17+'Product Info'!DH17+'Product Info'!DK17+'Product Info'!DN17+'Product Info'!DQ17+'Product Info'!DT17+'Product Info'!DW17+'Product Info'!DZ17+'Product Info'!EC17+'Product Info'!EF17+'Product Info'!EI17+'Product Info'!EL17+'Product Info'!EO17+'Product Info'!ER17+'Product Info'!EU17+'Product Info'!EX17+'Product Info'!FA17+'Product Info'!FD17)","v":0},{"$f":"AI16*('Product Info'!M17)","v":0},{"$f":"AI16*'Product Info'!P17","v":0},{"$f":"AI16*'Product Info'!S17","v":0},{"$f":"AI16*'Product Info'!V17","v":0},{"$f":"AI16*'Product Info'!Y17","v":0},{"$f":"AI16*'Product Info'!AB17","v":0},{"$f":"AI16*'Product Info'!AE17","v":0},{"$f":"AI16*'Product Info'!AH17","v":0},{"$f":"AI16*'Product Info'!AK17","v":0},{"$f":"AI16*'Product Info'!AN17","v":0},{"$f":"AI16*'Product Info'!AQ17","v":0},{"$f":"AI16*'Product Info'!AT17","v":0},{"$f":"AI16*'Product Info'!AW17","v":0},{"$f":"AI16*'Product Info'!AZ17","v":0},{"$f":"AI16*'Product Info'!BC17","v":0},{"$f":"AI16*'Product Info'!BF17","v":0},{"$f":"AI16*'Product Info'!BI17","v":0},{"$f":"AI16*'Product Info'!BL17","v":0},{"$f":"AI16*'Product Info'!BO17","v":0},{"$f":"AI16*'Product Info'!BR17","v":0},{"$f":"AI16*'Product Info'!BU17","v":0},{"$f":"AI16*'Product Info'!BX17","v":0}]
[{"$f":"'Product Info'!A18","v":0},{"$f":"'Product Info'!B18","v":0},{"$f":"'Product Info'!C18","v":0},null,null,null,null,null,null,null,null,null,null,null,null,null,null,null,null,null,null,null,null,null,null,null,null,null,null,null,null,null,null,null,0,{"$f":"'Product Info'!F18*('Daily Info (May)'!AI17)","v":0},null,null,{"$f":"AI17*('Product Info'!H18)","v":0},{"$f":"AI17*('Product Info'!M18+'Product Info'!P18+'Product Info'!S18+'Product Info'!V18+'Product Info'!Y18+'Product Info'!AB18+'Product Info'!AE18+'Product Info'!AH18+'Product Info'!AK18+'Product Info'!AN18+'Product Info'!AQ18+'Product Info'!AT18+'Product Info'!AW18+'Product Info'!AZ18+'Product Info'!BC18+'Product Info'!BF18+'Product Info'!BI18+'Product Info'!BL18+'Product Info'!BO18+'Product Info'!BR18+'Product Info'!BU18+'Product Info'!BX18+'Product Info'!CA18+'Product Info'!CD18+'Product Info'!CG18+'Product Info'!CJ18+'Product Info'!CM18+'Product Info'!CP18+'Product Info'!CS18+'Product Info'!CV18+'Product Info'!CY18+'Product Info'!DB18+'Product Info'!DE18+'Product Info'!DH18+'Product Info'!DK18+'Product Info'!DN18+'Product Info'!DQ18+'Product Info'!DT18+'Product Info'!DW18+'Product Info'!DZ18+'Product Info'!EC18+'Product Info'!EF18+'Product Info'!EI18+'Product Info'!EL18+'Product Info'!EO18+'Product Info'!ER18+'Product Info'!EU18+'Product Info'!EX18+'Product Info'!FA18+'Product Info'!FD18)","v":0},{"$f":"AI17*('Product Info'!M18)","v":0},{"$f":"AI17*'Product Info'!P18","v":0},{"$f":"AI17*'Product Info'!S18","v":0},{"$f":"AI17*'Product Info'!V18","v":0},{"$f":"AI17*'Product Info'!Y18","v":0},{"$f":"AI17*'Product Info'!AB18","v":0},{"$f":"AI17*'Product Info'!AE18","v":0},{"$f":"AI17*'Product Info'!AH18","v":0},{"$f":"AI17*'Product Info'!AK18","v":0},{"$f":"AI17*'Product Info'!AN18","v":0},{"$f":"AI17*'Product Info'!AQ18","v":0},{"$f":"AI17*'Product Info'!AT18","v":0},{"$f":"AI17*'Product Info'!AW18","v":0},{"$f":"AI17*'Product Info'!AZ18","v":0},{"$f":"AI17*'Product Info'!BC18","v":0},{"$f":"AI17*'Product Info'!BF18","v":0},{"$f":"AI17*'Product Info'!BI18","v":0},{"$f":"AI17*'Product Info'!BL18","v":0},{"$f":"AI17*'Product Info'!BO18","v":0},{"$f":"AI17*'Product Info'!BR18","v":0},{"$f":"AI17*'Product Info'!BU18","v":0},{"$f":"AI17*'Product Info'!BX18","v":0}]
[{"$f":"'Product Info'!A19","v":0},{"$f":"'Product Info'!B19","v":0},{"$f":"'Product Info'!C19","v":0},null,null,null,null,null,null,null,null,null,null,null,null,null,null,null,null,null,null,null,null,null,null,null,null,null,null,null,null,null,null,null,0,{"$f":"'Product Info'!F19*('Daily Info (May)'!AI18)","v":0},null,null,{"$f":"AI18*('Product Info'!H19)","v":0},{"$f":"AI18*('Product Info'!M19+'Product Info'!P19+'Product Info'!S19+'Product Info'!V19+'Product Info'!Y19+'Product Info'!AB19+'Product Info'!AE19+'Product Info'!AH19+'Product Info'!AK19+'Product Info'!AN19+'Product Info'!AQ19+'Product Info'!AT19+'Product Info'!AW19+'Product Info'!AZ19+'Product Info'!BC19+'Product Info'!BF19+'Product Info'!BI19+'Product Info'!BL19+'Product Info'!BO19+'Product Info'!BR19+'Product Info'!BU19+'Product Info'!BX19+'Product Info'!CA19+'Product Info'!CD19+'Product Info'!CG19+'Product Info'!CJ19+'Product Info'!CM19+'Product Info'!CP19+'Product Info'!CS19+'Product Info'!CV19+'Product Info'!CY19+'Product Info'!DB19+'Product Info'!DE19+'Product Info'!DH19+'Product Info'!DK19+'Product Info'!DN19+'Product Info'!DQ19+'Product Info'!DT19+'Product Info'!DW19+'Product Info'!DZ19+'Product Info'!EC19+'Product Info'!EF19+'Product Info'!EI19+'Product Info'!EL19+'Product Info'!EO19+'Product Info'!ER19+'Product Info'!EU19+'Product Info'!EX19+'Product Info'!FA19+'Product Info'!FD19)","v":0},{"$f":"AI18*('Product Info'!M19)","v":0},{"$f":"AI18*'Product Info'!P19","v":0},{"$f":"AI18*'Product Info'!S19","v":0},{"$f":"AI18*'Product Info'!V19","v":0},{"$f":"AI18*'Product Info'!Y19","v":0},{"$f":"AI18*'Product Info'!AB19","v":0},{"$f":"AI18*'Product Info'!AE19","v":0},{"$f":"AI18*'Product Info'!AH19","v":0},{"$f":"AI18*'Product Info'!AK19","v":0},{"$f":"AI18*'Product Info'!AN19","v":0},{"$f":"AI18*'Product Info'!AQ19","v":0},{"$f":"AR18*'Product Info'!AF19","v":0},{"$f":"AI18*'Product Info'!AW19","v":0},{"$f":"AI18*'Product Info'!AZ19","v":0},{"$f":"AI18*'Product Info'!BC19","v":0},{"$f":"AI18*'Product Info'!BF19","v":0},{"$f":"AI18*'Product Info'!BI19","v":0},{"$f":"AI18*'Product Info'!BL19","v":0},{"$f":"AI18*'Product Info'!BO19","v":0},{"$f":"AI18*'Product Info'!BR19","v":0},{"$f":"AI18*'Product Info'!BU19","v":0},{"$f":"AI18*'Product Info'!BX19","v":0}]
[{"$f":"'Product Info'!A20","v":0},{"$f":"'Product Info'!B20","v":0},{"$f":"'Product Info'!C20","v":0},null,null,null,null,null,null,null,null,null,null,null,null,null,null,null,null,null,null,null,null,null,null,null,null,null,null,null,null,null,null,null,0,{"$f":"'Product Info'!F20*('Daily Info (May)'!AI19)","v":0},null,null,{"$f":"AI19*('Product Info'!H20)","v":0},{"$f":"AI19*('Product Info'!M20+'Product Info'!P20+'Product Info'!S20+'Product Info'!V20+'Product Info'!Y20+'Product Info'!AB20+'Product Info'!AE20+'Product Info'!AH20+'Product Info'!AK20+'Product Info'!AN20+'Product Info'!AQ20+'Product Info'!AT20+'Product Info'!AW20+'Product Info'!AZ20+'Product Info'!BC20+'Product Info'!BF20+'Product Info'!BI20+'Product Info'!BL20+'Product Info'!BO20+'Product Info'!BR20+'Product Info'!BU20+'Product Info'!BX20+'Product Info'!CA20+'Product Info'!CD20+'Product Info'!CG20+'Product Info'!CJ20+'Product Info'!CM20+'Product Info'!CP20+'Product Info'!CS20+'Product Info'!CV20+'Product Info'!CY20+'Product Info'!DB20+'Product Info'!DE20+'Product Info'!DH20+'Product Info'!DK20+'Product Info'!DN20+'Product Info'!DQ20+'Product Info'!DT20+'Product Info'!DW20+'Product Info'!DZ20+'Product Info'!EC20+'Product Info'!EF20+'Product Info'!EI20+'Product Info'!EL20+'Product Info'!EO20+'Product Info'!ER20+'Product Info'!EU20+'Product Info'!EX20+'Product Info'!FA20+'Product Info'!FD20)","v":0},{"$f":"AI19*('Product Info'!M20)","v":0},{"$f":"AI19*'Product Info'!P20","v":0},{"$f":"AI19*'Product Info'!S20","v":0},{"$f":"AI19*'Product Info'!V20","v":0},{"$f":"AI19*'Product Info'!Y20","v":0},{"$f":"AI19*'Product Info'!AB20","v":0},{"$f":"AI19*'Product Info'!AE20","v":0},{"$f":"AI19*'Product Info'!AH20","v":0},{"$f":"AI19*'Product Info'!AK20","v":0},{"$f":"AI19*'Product Info'!AN20","v":0},{"$f":"AI19*'Product Info'!AQ20","v":0},{"$f":"AR19*'Product Info'!AF20","v":0},{"$f":"AI19*'Product Info'!AW20","v":0},{"$f":"AI19*'Product Info'!AZ20","v":0},{"$f":"AI19*'Product Info'!BC20","v":0},{"$f":"AI19*'Product Info'!BF20","v":0},{"$f":"AI19*'Product Info'!BI20","v":0},{"$f":"AI19*'Product Info'!BL20","v":0},{"$f":"AI19*'Product Info'!BO20","v":0},{"$f":"AI19*'Product Info'!BR20","v":0},{"$f":"AI19*'Product Info'!BU20","v":0},{"$f":"AI19*'Product Info'!BX20","v":0}]
[{"$f":"'Product Info'!A21","v":0},{"$f":"'Product Info'!B21","v":0},{"$f":"'Product Info'!C21","v":0},null,null,null,null,null,null,null,null,null,null,null,null,null,null,null,null,null,null,null,null,null,null,null,null,null,null,null,null,null,null,null,0,{"$f":"'Product Info'!F21*('Daily Info (May)'!AI20)","v":0},null,null,{"$f":"AI20*('Product Info'!H21)","v":0},{"$f":"AI20*('Product Info'!M21+'Product Info'!P21+'Product Info'!S21+'Product Info'!V21+'Product Info'!Y21+'Product Info'!AB21+'Product Info'!AE21+'Product Info'!AH21+'Product Info'!AK21+'Product Info'!AN21+'Product Info'!AQ21+'Product Info'!AT21+'Product Info'!AW21+'Product Info'!AZ21+'Product Info'!BC21+'Product Info'!BF21+'Product Info'!BI21+'Product Info'!BL21+'Product Info'!BO21+'Product Info'!BR21+'Product Info'!BU21+'Product Info'!BX21+'Product Info'!CA21+'Product Info'!CD21+'Product Info'!CG21+'Product Info'!CJ21+'Product Info'!CM21+'Product Info'!CP21+'Product Info'!CS21+'Product Info'!CV21+'Product Info'!CY21+'Product Info'!DB21+'Product Info'!DE21+'Product Info'!DH21+'Product Info'!DK21+'Product Info'!DN21+'Product Info'!DQ21+'Product Info'!DT21+'Product Info'!DW21+'Product Info'!DZ21+'Product Info'!EC21+'Product Info'!EF21+'Product Info'!EI21+'Product Info'!EL21+'Product Info'!EO21+'Product Info'!ER21+'Product Info'!EU21+'Product Info'!EX21+'Product Info'!FA21+'Product Info'!FD21)","v":0},{"$f":"AI20*('Product Info'!M21)","v":0},{"$f":"AI20*'Product Info'!P21","v":0},{"$f":"AI20*'Product Info'!S21","v":0},{"$f":"AI20*'Product Info'!V21","v":0},{"$f":"AI20*'Product Info'!Y21","v":0},{"$f":"AI20*'Product Info'!AB21","v":0},{"$f":"AI20*'Product Info'!AE21","v":0},{"$f":"AI20*'Product Info'!AH21","v":0},{"$f":"AI20*'Product Info'!AK21","v":0},{"$f":"AI20*'Product Info'!AN21","v":0},{"$f":"AI20*'Product Info'!AQ21","v":0},{"$f":"AI20*'Product Info'!AT21","v":0},{"$f":"AI20*'Product Info'!AW21","v":0},{"$f":"AI20*'Product Info'!AZ21","v":0},{"$f":"AI20*'Product Info'!BC21","v":0},{"$f":"AI20*'Product Info'!BF21","v":0},{"$f":"AI20*'Product Info'!BI21","v":0},{"$f":"AI20*'Product Info'!BL21","v":0},{"$f":"AI20*'Product Info'!BO21","v":0},{"$f":"AI20*'Product Info'!BR21","v":0},{"$f":"AI20*'Product Info'!BU21","v":0},{"$f":"AI20*'Product Info'!BX21","v":0}]
[{"$f":"'Product Info'!A22","v":0},{"$f":"'Product Info'!B22","v":0},{"$f":"'Product Info'!C22","v":0},null,null,null,null,null,null,null,null,null,null,null,null,null,null,null,null,null,null,null,null,null,null,null,null,null,null,null,null,null,null,null,0,{"$f":"'Product Info'!F22*('Daily Info (May)'!AI21)","v":0},null,null,{"$f":"AI21*('Product Info'!H22)","v":0},{"$f":"AI21*('Product Info'!M22+'Product Info'!P22+'Product Info'!S22+'Product Info'!V22+'Product Info'!Y22+'Product Info'!AB22+'Product Info'!AE22+'Product Info'!AH22+'Product Info'!AK22+'Product Info'!AN22+'Product Info'!AQ22+'Product Info'!AT22+'Product Info'!AW22+'Product Info'!AZ22+'Product Info'!BC22+'Product Info'!BF22+'Product Info'!BI22+'Product Info'!BL22+'Product Info'!BO22+'Product Info'!BR22+'Product Info'!BU22+'Product Info'!BX22+'Product Info'!CA22+'Product Info'!CD22+'Product Info'!CG22+'Product Info'!CJ22+'Product Info'!CM22+'Product Info'!CP22+'Product Info'!CS22+'Product Info'!CV22+'Product Info'!CY22+'Product Info'!DB22+'Product Info'!DE22+'Product Info'!DH22+'Product Info'!DK22+'Product Info'!DN22+'Product Info'!DQ22+'Product Info'!DT22+'Product Info'!DW22+'Product Info'!DZ22+'Product Info'!EC22+'Product Info'!EF22+'Product Info'!EI22+'Product Info'!EL22+'Product Info'!EO22+'Product Info'!ER22+'Product Info'!EU22+'Product Info'!EX22+'Product Info'!FA22+'Product Info'!FD22)","v":0},{"$f":"AI21*('Product Info'!M22)","v":0},{"$f":"AI21*'Product Info'!P22","v":0},{"$f":"AI21*'Product Info'!S22","v":0},{"$f":"AI21*'Product Info'!V22","v":0},{"$f":"AI21*'Product Info'!Y22","v":0},{"$f":"AI21*'Product Info'!AB22","v":0},{"$f":"AI21*'Product Info'!AE22","v":0},{"$f":"AI21*'Product Info'!AH22","v":0},{"$f":"AI21*'Product Info'!AK22","v":0},{"$f":"AI21*'Product Info'!AN22","v":0},{"$f":"AI21*'Product Info'!AQ22","v":0},{"$f":"AI21*'Product Info'!AT22","v":0},{"$f":"AI21*'Product Info'!AW22","v":0},{"$f":"AI21*'Product Info'!AZ22","v":0},{"$f":"AI21*'Product Info'!BC22","v":0},{"$f":"AI21*'Product Info'!BF22","v":0},{"$f":"AI21*'Product Info'!BI22","v":0},{"$f":"AI21*'Product Info'!BL22","v":0},{"$f":"AI21*'Product Info'!BO22","v":0},{"$f":"AI21*'Product Info'!BR22","v":0},{"$f":"AI21*'Product Info'!BU22","v":0},{"$f":"AI21*'Product Info'!BX22","v":0}]
[{"$f":"'Product Info'!A23","v":0},{"$f":"'Product Info'!B23","v":0},{"$f":"'Product Info'!C23","v":0},null,null,null,null,null,null,null,null,null,null,null,null,null,null,null,null,null,null,null,null,null,null,null,null,null,null,null,null,null,null,null,0,{"$f":"'Product Info'!F23*('Daily Info (May)'!AI22)","v":0},null,null,{"$f":"AI22*('Product Info'!H23)","v":0},{"$f":"AI22*('Product Info'!M23+'Product Info'!P23+'Product Info'!S23+'Product Info'!V23+'Product Info'!Y23+'Product Info'!AB23+'Product Info'!AE23+'Product Info'!AH23+'Product Info'!AK23+'Product Info'!AN23+'Product Info'!AQ23+'Product Info'!AT23+'Product Info'!AW23+'Product Info'!AZ23+'Product Info'!BC23+'Product Info'!BF23+'Product Info'!BI23+'Product Info'!BL23+'Product Info'!BO23+'Product Info'!BR23+'Product Info'!BU23+'Product Info'!BX23+'Product Info'!CA23+'Product Info'!CD23+'Product Info'!CG23+'Product Info'!CJ23+'Product Info'!CM23+'Product Info'!CP23+'Product Info'!CS23+'Product Info'!CV23+'Product Info'!CY23+'Product Info'!DB23+'Product Info'!DE23+'Product Info'!DH23+'Product Info'!DK23+'Product Info'!DN23+'Product Info'!DQ23+'Product Info'!DT23+'Product Info'!DW23+'Product Info'!DZ23+'Product Info'!EC23+'Product Info'!EF23+'Product Info'!EI23+'Product Info'!EL23+'Product Info'!EO23+'Product Info'!ER23+'Product Info'!EU23+'Product Info'!EX23+'Product Info'!FA23+'Product Info'!FD23)","v":0},{"$f":"AI22*('Product Info'!M23)","v":0},{"$f":"AI22*'Product Info'!P23","v":0},{"$f":"AI22*'Product Info'!S23","v":0},{"$f":"AI22*'Product Info'!V23","v":0},{"$f":"AI22*'Product Info'!Y23","v":0},{"$f":"AI22*'Product Info'!AB23","v":0},{"$f":"AI22*'Product Info'!AE23","v":0},{"$f":"AI22*'Product Info'!AH23","v":0},{"$f":"AI22*'Product Info'!AK23","v":0},{"$f":"AI22*'Product Info'!AN23","v":0},{"$f":"AI22*'Product Info'!AQ23","v":0},{"$f":"AI22*'Product Info'!AT23","v":0},{"$f":"AI22*'Product Info'!AW23","v":0},{"$f":"AI22*'Product Info'!AZ23","v":0},{"$f":"AI22*'Product Info'!BC23","v":0},{"$f":"AI22*'Product Info'!BF23","v":0},{"$f":"AI22*'Product Info'!BI23","v":0},{"$f":"AI22*'Product Info'!BL23","v":0},{"$f":"AI22*'Product Info'!BO23","v":0},{"$f":"AI22*'Product Info'!BR23","v":0},{"$f":"AI22*'Product Info'!BU23","v":0},{"$f":"AI22*'Product Info'!BX23","v":0}]
[{"$f":"'Product Info'!A24","v":0},{"$f":"'Product Info'!B24","v":0},{"$f":"'Product Info'!C24","v":0},null,null,null,null,null,null,null,null,null,null,null,null,null,null,null,null,null,null,null,null,null,null,null,null,null,null,null,null,null,null,null,0,{"$f":"'Product Info'!F24*('Daily Info (May)'!AI23)","v":0},null,null,{"$f":"AI23*('Product Info'!H24)","v":0},{"$f":"AI23*('Product Info'!M24+'Product Info'!P24+'Product Info'!S24+'Product Info'!V24+'Product Info'!Y24+'Product Info'!AB24+'Product Info'!AE24+'Product Info'!AH24+'Product Info'!AK24+'Product Info'!AN24+'Product Info'!AQ24+'Product Info'!AT24+'Product Info'!AW24+'Product Info'!AZ24+'Product Info'!BC24+'Product Info'!BF24+'Product Info'!BI24+'Product Info'!BL24+'Product Info'!BO24+'Product Info'!BR24+'Product Info'!BU24+'Product Info'!BX24+'Product Info'!CA24+'Product Info'!CD24+'Product Info'!CG24+'Product Info'!CJ24+'Product Info'!CM24+'Product Info'!CP24+'Product Info'!CS24+'Product Info'!CV24+'Product Info'!CY24+'Product Info'!DB24+'Product Info'!DE24+'Product Info'!DH24+'Product Info'!DK24+'Product Info'!DN24+'Product Info'!DQ24+'Product Info'!DT24+'Product Info'!DW24+'Product Info'!DZ24+'Product Info'!EC24+'Product Info'!EF24+'Product Info'!EI24+'Product Info'!EL24+'Product Info'!EO24+'Product Info'!ER24+'Product Info'!EU24+'Product Info'!EX24+'Product Info'!FA24+'Product Info'!FD24)","v":0},{"$f":"AI23*('Product Info'!M24)","v":0},{"$f":"AI23*'Product Info'!P24","v":0},{"$f":"AI23*'Product Info'!S24","v":0},{"$f":"AI23*'Product Info'!V24","v":0},{"$f":"AI23*'Product Info'!Y24","v":0},{"$f":"AI23*'Product Info'!AB24","v":0},{"$f":"AI23*'Product Info'!AE24","v":0},{"$f":"AI23*'Product Info'!AH24","v":0},{"$f":"AI23*'Product Info'!AK24","v":0},{"$f":"AI23*'Product Info'!AN24","v":0},{"$f":"AI23*'Product Info'!AQ24","v":0},{"$f":"AI23*'Product Info'!AT24","v":0},{"$f":"AI23*'Product Info'!AW24","v":0},{"$f":"AI23*'Product Info'!AZ24","v":0},{"$f":"AI23*'Product Info'!BC24","v":0},{"$f":"AI23*'Product Info'!BF24","v":0},{"$f":"AI23*'Product Info'!BI24","v":0},{"$f":"AI23*'Product Info'!BL24","v":0},{"$f":"AI23*'Product Info'!BO24","v":0},{"$f":"AI23*'Product Info'!BR24","v":0},{"$f":"AI23*'Product Info'!BU24","v":0},{"$f":"AI23*'Product Info'!BX24","v":0}]
[{"$f":"'Product Info'!A25","v":0},{"$f":"'Product Info'!B25","v":0},{"$f":"'Product Info'!C25","v":0},null,null,null,null,null,null,null,null,null,null,null,null,null,null,null,null,null,null,null,null,null,null,null,null,null,null,null,null,null,null,null,0,{"$f":"'Product Info'!F25*('Daily Info (May)'!AI24)","v":0},null,null,{"$f":"AI24*('Product Info'!H25)","v":0},{"$f":"AI24*('Product Info'!M25+'Product Info'!P25+'Product Info'!S25+'Product Info'!V25+'Product Info'!Y25+'Product Info'!AB25+'Product Info'!AE25+'Product Info'!AH25+'Product Info'!AK25+'Product Info'!AN25+'Product Info'!AQ25+'Product Info'!AT25+'Product Info'!AW25+'Product Info'!AZ25+'Product Info'!BC25+'Product Info'!BF25+'Product Info'!BI25+'Product Info'!BL25+'Product Info'!BO25+'Product Info'!BR25+'Product Info'!BU25+'Product Info'!BX25+'Product Info'!CA25+'Product Info'!CD25+'Product Info'!CG25+'Product Info'!CJ25+'Product Info'!CM25+'Product Info'!CP25+'Product Info'!CS25+'Product Info'!CV25+'Product Info'!CY25+'Product Info'!DB25+'Product Info'!DE25+'Product Info'!DH25+'Product Info'!DK25+'Product Info'!DN25+'Product Info'!DQ25+'Product Info'!DT25+'Product Info'!DW25+'Product Info'!DZ25+'Product Info'!EC25+'Product Info'!EF25+'Product Info'!EI25+'Product Info'!EL25+'Product Info'!EO25+'Product Info'!ER25+'Product Info'!EU25+'Product Info'!EX25+'Product Info'!FA25+'Product Info'!FD25)","v":0},{"$f":"AI24*('Product Info'!M25)","v":0},{"$f":"AI24*'Product Info'!P25","v":0},{"$f":"AI24*'Product Info'!S25","v":0},{"$f":"AI24*'Product Info'!V25","v":0},{"$f":"AI24*'Product Info'!Y25","v":0},{"$f":"AI24*'Product Info'!AB25","v":0},{"$f":"AI24*'Product Info'!AE25","v":0},{"$f":"AI24*'Product Info'!AH25","v":0},{"$f":"AI24*'Product Info'!AK25","v":0},{"$f":"AI24*'Product Info'!AN25","v":0},{"$f":"AI24*'Product Info'!AQ25","v":0},{"$f":"AI24*'Product Info'!AT25","v":0},{"$f":"AI24*'Product Info'!AW25","v":0},{"$f":"AI24*'Product Info'!AZ25","v":0},{"$f":"AI24*'Product Info'!BC25","v":0},{"$f":"AI24*'Product Info'!BF25","v":0},{"$f":"AI24*'Product Info'!BI25","v":0},{"$f":"AI24*'Product Info'!BL25","v":0},{"$f":"AI24*'Product Info'!BO25","v":0},{"$f":"AI24*'Product Info'!BR25","v":0},{"$f":"AI24*'Product Info'!BU25","v":0},{"$f":"AI24*'Product Info'!BX25","v":0}]
[{"$f":"'Product Info'!A26","v":0},{"$f":"'Product Info'!B26","v":0},{"$f":"'Product Info'!C26","v":0},null,null,null,null,null,null,null,null,null,null,null,null,null,null,null,null,null,null,null,null,null,null,null,null,null,null,null,null,null,null,null,0,{"$f":"'Product Info'!F26*('Daily Info (May)'!AI25)","v":0},null,null,{"$f":"AI25*('Product Info'!H26)","v":0},{"$f":"AI25*('Product Info'!M26+'Product Info'!P26+'Product Info'!S26+'Product Info'!V26+'Product Info'!Y26+'Product Info'!AB26+'Product Info'!AE26+'Product Info'!AH26+'Product Info'!AK26+'Product Info'!AN26+'Product Info'!AQ26+'Product Info'!AT26+'Product Info'!AW26+'Product Info'!AZ26+'Product Info'!BC26+'Product Info'!BF26+'Product Info'!BI26+'Product Info'!BL26+'Product Info'!BO26+'Product Info'!BR26+'Product Info'!BU26+'Product Info'!BX26+'Product Info'!CA26+'Product Info'!CD26+'Product Info'!CG26+'Product Info'!CJ26+'Product Info'!CM26+'Product Info'!CP26+'Product Info'!CS26+'Product Info'!CV26+'Product Info'!CY26+'Product Info'!DB26+'Product Info'!DE26+'Product Info'!DH26+'Product Info'!DK26+'Product Info'!DN26+'Product Info'!DQ26+'Product Info'!DT26+'Product Info'!DW26+'Product Info'!DZ26+'Product Info'!EC26+'Product Info'!EF26+'Product Info'!EI26+'Product Info'!EL26+'Product Info'!EO26+'Product Info'!ER26+'Product Info'!EU26+'Product Info'!EX26+'Product Info'!FA26+'Product Info'!FD26)","v":0},{"$f":"AI25*('Product Info'!M26)","v":0},{"$f":"AI25*'Product Info'!P26","v":0},{"$f":"AI25*'Product Info'!S26","v":0},{"$f":"AI25*'Product Info'!V26","v":0},{"$f":"AI25*'Product Info'!Y26","v":0},{"$f":"AI25*'Product Info'!AB26","v":0},{"$f":"AI25*'Product Info'!AE26","v":0},{"$f":"AI25*'Product Info'!AH26","v":0},{"$f":"AI25*'Product Info'!AK26","v":0},{"$f":"AI25*'Product Info'!AN26","v":0},{"$f":"AI25*'Product Info'!AQ26","v":0},{"$f":"AI25*'Product Info'!AT26","v":0},{"$f":"AI25*'Product Info'!AW26","v":0},{"$f":"AI25*'Product Info'!AZ26","v":0},{"$f":"AI25*'Product Info'!BC26","v":0},{"$f":"AI25*'Product Info'!BF26","v":0},{"$f":"AI25*'Product Info'!BI26","v":0},{"$f":"AI25*'Product Info'!BL26","v":0},{"$f":"AI25*'Product Info'!BO26","v":0},{"$f":"AI25*'Product Info'!BR26","v":0},{"$f":"AI25*'Product Info'!BU26","v":0},{"$f":"AI25*'Product Info'!BX26","v":0}]
[{"$f":"'Product Info'!A27","v":0},{"$f":"'Product Info'!B27","v":0},{"$f":"'Product Info'!C27","v":0},null,null,null,null,null,null,null,null,null,null,null,null,null,null,null,null,null,null,null,null,null,null,null,null,null,null,null,null,null,null,null,0,{"$f":"'Product Info'!F27*('Daily Info (May)'!AI26)","v":0},null,null,{"$f":"AI26*('Product Info'!H27)","v":0},{"$f":"AI26*('Product Info'!M27+'Product Info'!P27+'Product Info'!S27+'Product Info'!V27+'Product Info'!Y27+'Product Info'!AB27+'Product Info'!AE27+'Product Info'!AH27+'Product Info'!AK27+'Product Info'!AN27+'Product Info'!AQ27+'Product Info'!AT27+'Product Info'!AW27+'Product Info'!AZ27+'Product Info'!BC27+'Product Info'!BF27+'Product Info'!BI27+'Product Info'!BL27+'Product Info'!BO27+'Product Info'!BR27+'Product Info'!BU27+'Product Info'!BX27+'Product Info'!CA27+'Product Info'!CD27+'Product Info'!CG27+'Product Info'!CJ27+'Product Info'!CM27+'Product Info'!CP27+'Product Info'!CS27+'Product Info'!CV27+'Product Info'!CY27+'Product Info'!DB27+'Product Info'!DE27+'Product Info'!DH27+'Product Info'!DK27+'Product Info'!DN27+'Product Info'!DQ27+'Product Info'!DT27+'Product Info'!DW27+'Product Info'!DZ27+'Product Info'!EC27+'Product Info'!EF27+'Product Info'!EI27+'Product Info'!EL27+'Product Info'!EO27+'Product Info'!ER27+'Product Info'!EU27+'Product Info'!EX27+'Product Info'!FA27+'Product Info'!FD27)","v":0},{"$f":"AI26*('Product Info'!M27)","v":0},{"$f":"AI26*'Product Info'!P27","v":0},{"$f":"AI26*'Product Info'!S27","v":0},{"$f":"AI26*'Product Info'!V27","v":0},{"$f":"AI26*'Product Info'!Y27","v":0},{"$f":"AI26*'Product Info'!AB27","v":0},{"$f":"AI26*'Product Info'!AE27","v":0},{"$f":"AI26*'Product Info'!AH27","v":0},{"$f":"AI26*'Product Info'!AK27","v":0},{"$f":"AI26*'Product Info'!AN27","v":0},{"$f":"AI26*'Product Info'!AQ27","v":0},{"$f":"AI26*'Product Info'!AT27","v":0},{"$f":"AI26*'Product Info'!AW27","v":0},{"$f":"AI26*'Product Info'!AZ27","v":0},{"$f":"AI26*'Product Info'!BC27","v":0},{"$f":"AI26*'Product Info'!BF27","v":0},{"$f":"AI26*'Product Info'!BI27","v":0},{"$f":"AI26*'Product Info'!BL27","v":0},{"$f":"AI26*'Product Info'!BO27","v":0},{"$f":"AI26*'Product Info'!BR27","v":0},{"$f":"AI26*'Product Info'!BU27","v":0},{"$f":"AI26*'Product Info'!BX27","v":0}]
[{"$f":"'Product Info'!A28","v":0},{"$f":"'Product Info'!B28","v":0},{"$f":"'Product Info'!C28","v":0},null,null,null,null,null,null,null,null,null,null,null,null,null,null,null,null,null,null,null,null,null,null,null,null,null,null,null,null,null,null,null,0,{"$f":"'Product Info'!F28*('Daily Info (May)'!AI27)","v":0},null,null,{"$f":"AI27*('Product Info'!H28)","v":0},{"$f":"AI27*('Product Info'!M28+'Product Info'!P28+'Product Info'!S28+'Product Info'!V28+'Product Info'!Y28+'Product Info'!AB28+'Product Info'!AE28+'Product Info'!AH28+'Product Info'!AK28+'Product Info'!AN28+'Product Info'!AQ28+'Product Info'!AT28+'Product Info'!AW28+'Product Info'!AZ28+'Product Info'!BC28+'Product Info'!BF28+'Product Info'!BI28+'Product Info'!BL28+'Product Info'!BO28+'Product Info'!BR28+'Product Info'!BU28+'Product Info'!BX28+'Product Info'!CA28+'Product Info'!CD28+'Product Info'!CG28+'Product Info'!CJ28+'Product Info'!CM28+'Product Info'!CP28+'Product Info'!CS28+'Product Info'!CV28+'Product Info'!CY28+'Product Info'!DB28+'Product Info'!DE28+'Product Info'!DH28+'Product Info'!DK28+'Product Info'!DN28+'Product Info'!DQ28+'Product Info'!DT28+'Product Info'!DW28+'Product Info'!DZ28+'Product Info'!EC28+'Product Info'!EF28+'Product Info'!EI28+'Product Info'!EL28+'Product Info'!EO28+'Product Info'!ER28+'Product Info'!EU28+'Product Info'!EX28+'Product Info'!FA28+'Product Info'!FD28)","v":0},{"$f":"AI27*('Product Info'!M28)","v":0},{"$f":"AI27*'Product Info'!P28","v":0},{"$f":"AI27*'Product Info'!S28","v":0},{"$f":"AI27*'Product Info'!V28","v":0},{"$f":"AI27*'Product Info'!Y28","v":0},{"$f":"AI27*'Product Info'!AB28","v":0},{"$f":"AI27*'Product Info'!AE28","v":0},{"$f":"AI27*'Product Info'!AH28","v":0},{"$f":"AI27*'Product Info'!AK28","v":0},{"$f":"AI27*'Product Info'!AN28","v":0},{"$f":"AI27*'Product Info'!AQ28","v":0},{"$f":"AI27*'Product Info'!AT28","v":0},{"$f":"AI27*'Product Info'!AW28","v":0},{"$f":"AI27*'Product Info'!AZ28","v":0},{"$f":"AI27*'Product Info'!BC28","v":0},{"$f":"AI27*'Product Info'!BF28","v":0},{"$f":"AI27*'Product Info'!BI28","v":0},{"$f":"AI27*'Product Info'!BL28","v":0},{"$f":"AI27*'Product Info'!BO28","v":0},{"$f":"AI27*'Product Info'!BR28","v":0},{"$f":"AI27*'Product Info'!BU28","v":0},{"$f":"AI27*'Product Info'!BX28","v":0}]
[{"$f":"'Product Info'!A29","v":0},{"$f":"'Product Info'!B29","v":0},{"$f":"'Product Info'!C29","v":0},null,null,null,null,null,null,null,null,null,null,null,null,null,null,null,null,null,null,null,null,null,null,null,null,null,null,null,null,null,null,null,0,{"$f":"'Product Info'!F29*('Daily Info (May)'!AI28)","v":0},null,null,{"$f":"AI28*('Product Info'!H29)","v":0},{"$f":"AI28*('Product Info'!M29+'Product Info'!P29+'Product Info'!S29+'Product Info'!V29+'Product Info'!Y29+'Product Info'!AB29+'Product Info'!AE29+'Product Info'!AH29+'Product Info'!AK29+'Product Info'!AN29+'Product Info'!AQ29+'Product Info'!AT29+'Product Info'!AW29+'Product Info'!AZ29+'Product Info'!BC29+'Product Info'!BF29+'Product Info'!BI29+'Product Info'!BL29+'Product Info'!BO29+'Product Info'!BR29+'Product Info'!BU29+'Product Info'!BX29+'Product Info'!CA29+'Product Info'!CD29+'Product Info'!CG29+'Product Info'!CJ29+'Product Info'!CM29+'Product Info'!CP29+'Product Info'!CS29+'Product Info'!CV29+'Product Info'!CY29+'Product Info'!DB29+'Product Info'!DE29+'Product Info'!DH29+'Product Info'!DK29+'Product Info'!DN29+'Product Info'!DQ29+'Product Info'!DT29+'Product Info'!DW29+'Product Info'!DZ29+'Product Info'!EC29+'Product Info'!EF29+'Product Info'!EI29+'Product Info'!EL29+'Product Info'!EO29+'Product Info'!ER29+'Product Info'!EU29+'Product Info'!EX29+'Product Info'!FA29+'Product Info'!FD29)","v":0},{"$f":"AI28*('Product Info'!M29)","v":0},{"$f":"AI28*'Product Info'!P29","v":0},{"$f":"AI28*'Product Info'!S29","v":0},{"$f":"AI28*'Product Info'!V29","v":0},{"$f":"AI28*'Product Info'!Y29","v":0},{"$f":"AI28*'Product Info'!AB29","v":0},{"$f":"AI28*'Product Info'!AE29","v":0},{"$f":"AI28*'Product Info'!AH29","v":0},{"$f":"AI28*'Product Info'!AK29","v":0},{"$f":"AI28*'Product Info'!AN29","v":0},{"$f":"AI28*'Product Info'!AQ29","v":0},{"$f":"AI28*'Product Info'!AT29","v":0},{"$f":"AI28*'Product Info'!AW29","v":0},{"$f":"AI28*'Product Info'!AZ29","v":0},{"$f":"AI28*'Product Info'!BC29","v":0},{"$f":"AI28*'Product Info'!BF29","v":0},{"$f":"AI28*'Product Info'!BI29","v":0},{"$f":"AI28*'Product Info'!BL29","v":0},{"$f":"AI28*'Product Info'!BO29","v":0},{"$f":"AI28*'Product Info'!BR29","v":0},{"$f":"AI28*'Product Info'!BU29","v":0},{"$f":"AI28*'Product Info'!BX29","v":0}]
[{"$f":"'Product Info'!A30","v":0},{"$f":"'Product Info'!B30","v":0},{"$f":"'Product Info'!C30","v":0},null,null,null,null,null,null,null,null,null,null,null,null,null,null,null,null,null,null,null,null,null,null,null,null,null,null,null,null,null,null,null,0,{"$f":"'Product Info'!F30*('Daily Info (May)'!AI29)","v":0},null,null,{"$f":"AI29*('Product Info'!H30)","v":0},{"$f":"AI29*('Product Info'!M30+'Product Info'!P30+'Product Info'!S30+'Product Info'!V30+'Product Info'!Y30+'Product Info'!AB30+'Product Info'!AE30+'Product Info'!AH30+'Product Info'!AK30+'Product Info'!AN30+'Product Info'!AQ30+'Product Info'!AT30+'Product Info'!AW30+'Product Info'!AZ30+'Product Info'!BC30+'Product Info'!BF30+'Product Info'!BI30+'Product Info'!BL30+'Product Info'!BO30+'Product Info'!BR30+'Product Info'!BU30+'Product Info'!BX30+'Product Info'!CA30+'Product Info'!CD30+'Product Info'!CG30+'Product Info'!CJ30+'Product Info'!CM30+'Product Info'!CP30+'Product Info'!CS30+'Product Info'!CV30+'Product Info'!CY30+'Product Info'!DB30+'Product Info'!DE30+'Product Info'!DH30+'Product Info'!DK30+'Product Info'!DN30+'Product Info'!DQ30+'Product Info'!DT30+'Product Info'!DW30+'Product Info'!DZ30+'Product Info'!EC30+'Product Info'!EF30+'Product Info'!EI30+'Product Info'!EL30+'Product Info'!EO30+'Product Info'!ER30+'Product Info'!EU30+'Product Info'!EX30+'Product Info'!FA30+'Product Info'!FD30)","v":0},{"$f":"AI29*('Product Info'!M30)","v":0},{"$f":"AI29*'Product Info'!P30","v":0},{"$f":"AI29*'Product Info'!S30","v":0},{"$f":"AI29*'Product Info'!V30","v":0},{"$f":"AI29*'Product Info'!Y30","v":0},{"$f":"AI29*'Product Info'!AB30","v":0},{"$f":"AI29*'Product Info'!AE30","v":0},{"$f":"AI29*'Product Info'!AH30","v":0},{"$f":"AI29*'Product Info'!AK30","v":0},{"$f":"AI29*'Product Info'!AN30","v":0},{"$f":"AI29*'Product Info'!AQ30","v":0},{"$f":"AI29*'Product Info'!AT30","v":0},{"$f":"AI29*'Product Info'!AW30","v":0},{"$f":"AI29*'Product Info'!AZ30","v":0},{"$f":"AI29*'Product Info'!BC30","v":0},{"$f":"AI29*'Product Info'!BF30","v":0},{"$f":"AI29*'Product Info'!BI30","v":0},{"$f":"AI29*'Product Info'!BL30","v":0},{"$f":"AI29*'Product Info'!BO30","v":0},{"$f":"AI29*'Product Info'!BR30","v":0},{"$f":"AI29*'Product Info'!BU30","v":0},{"$f":"AI29*'Product Info'!BX30","v":0}]
[{"$f":"'Product Info'!A31","v":0},{"$f":"'Product Info'!B31","v":0},{"$f":"'Product Info'!C31","v":0},null,null,null,null,null,null,null,null,null,null,null,null,null,null,null,null,null,null,null,null,null,null,null,null,null,null,null,null,null,null,null,0,{"$f":"'Product Info'!F31*('Daily Info (May)'!AI30)","v":0},null,null,{"$f":"AI30*('Product Info'!H31)","v":0},{"$f":"AI30*('Product Info'!M31+'Product Info'!P31+'Product Info'!S31+'Product Info'!V31+'Product Info'!Y31+'Product Info'!AB31+'Product Info'!AE31+'Product Info'!AH31+'Product Info'!AK31+'Product Info'!AN31+'Product Info'!AQ31+'Product Info'!AT31+'Product Info'!AW31+'Product Info'!AZ31+'Product Info'!BC31+'Product Info'!BF31+'Product Info'!BI31+'Product Info'!BL31+'Product Info'!BO31+'Product Info'!BR31+'Product Info'!BU31+'Product Info'!BX31+'Product Info'!CA31+'Product Info'!CD31+'Product Info'!CG31+'Product Info'!CJ31+'Product Info'!CM31+'Product Info'!CP31+'Product Info'!CS31+'Product Info'!CV31+'Product Info'!CY31+'Product Info'!DB31+'Product Info'!DE31+'Product Info'!DH31+'Product Info'!DK31+'Product Info'!DN31+'Product Info'!DQ31+'Product Info'!DT31+'Product Info'!DW31+'Product Info'!DZ31+'Product Info'!EC31+'Product Info'!EF31+'Product Info'!EI31+'Product Info'!EL31+'Product Info'!EO31+'Product Info'!ER31+'Product Info'!EU31+'Product Info'!EX31+'Product Info'!FA31+'Product Info'!FD31)","v":0},{"$f":"AI30*('Product Info'!M31)","v":0},{"$f":"AI30*'Product Info'!P31","v":0},{"$f":"AI30*'Product Info'!S31","v":0},{"$f":"AI30*'Product Info'!V31","v":0},{"$f":"AI30*'Product Info'!Y31","v":0},{"$f":"AI30*'Product Info'!AB31","v":0},{"$f":"AI30*'Product Info'!AE31","v":0},{"$f":"AI30*'Product Info'!AH31","v":0},{"$f":"AI30*'Product Info'!AK31","v":0},{"$f":"AI30*'Product Info'!AN31","v":0},{"$f":"AI30*'Product Info'!AQ31","v":0},{"$f":"AI30*'Product Info'!AT31","v":0},{"$f":"AI30*'Product Info'!AW31","v":0},{"$f":"AI30*'Product Info'!AZ31","v":0},{"$f":"AI30*'Product Info'!BC31","v":0},{"$f":"AI30*'Product Info'!BF31","v":0},{"$f":"AI30*'Product Info'!BI31","v":0},{"$f":"AI30*'Product Info'!BL31","v":0},{"$f":"AI30*'Product Info'!BO31","v":0},{"$f":"AI30*'Product Info'!BR31","v":0},{"$f":"AI30*'Product Info'!BU31","v":0},{"$f":"AI30*'Product Info'!BX31","v":0}]
[{"$f":"'Product Info'!A32","v":0},{"$f":"'Product Info'!B32","v":0},{"$f":"'Product Info'!C32","v":0},null,null,null,null,null,null,null,null,null,null,null,null,null,null,null,null,null,null,null,null,null,null,null,null,null,null,null,null,null,null,null,0,{"$f":"'Product Info'!F32*('Daily Info (May)'!AI31)","v":0},null,null,{"$f":"AI31*('Product Info'!H32)","v":0},{"$f":"AI31*('Product Info'!M32+'Product Info'!P32+'Product Info'!S32+'Product Info'!V32+'Product Info'!Y32+'Product Info'!AB32+'Product Info'!AE32+'Product Info'!AH32+'Product Info'!AK32+'Product Info'!AN32+'Product Info'!AQ32+'Product Info'!AT32+'Product Info'!AW32+'Product Info'!AZ32+'Product Info'!BC32+'Product Info'!BF32+'Product Info'!BI32+'Product Info'!BL32+'Product Info'!BO32+'Product Info'!BR32+'Product Info'!BU32+'Product Info'!BX32+'Product Info'!CA32+'Product Info'!CD32+'Product Info'!CG32+'Product Info'!CJ32+'Product Info'!CM32+'Product Info'!CP32+'Product Info'!CS32+'Product Info'!CV32+'Product Info'!CY32+'Product Info'!DB32+'Product Info'!DE32+'Product Info'!DH32+'Product Info'!DK32+'Product Info'!DN32+'Product Info'!DQ32+'Product Info'!DT32+'Product Info'!DW32+'Product Info'!DZ32+'Product Info'!EC32+'Product Info'!EF32+'Product Info'!EI32+'Product Info'!EL32+'Product Info'!EO32+'Product Info'!ER32+'Product Info'!EU32+'Product Info'!EX32+'Product Info'!FA32+'Product Info'!FD32)","v":0},{"$f":"AI31*('Product Info'!M32)","v":0},{"$f":"AI31*'Product Info'!P32","v":0},{"$f":"AI31*'Product Info'!S32","v":0},{"$f":"AI31*'Product Info'!V32","v":0},{"$f":"AI31*'Product Info'!Y32","v":0},{"$f":"AI31*'Product Info'!AB32","v":0},{"$f":"AI31*'Product Info'!AE32","v":0},{"$f":"AI31*'Product Info'!AH32","v":0},{"$f":"AI31*'Product Info'!AK32","v":0},{"$f":"AI31*'Product Info'!AN32","v":0},{"$f":"AI31*'Product Info'!AQ32","v":0},{"$f":"AI31*'Product Info'!AT32","v":0},{"$f":"AI31*'Product Info'!AW32","v":0},{"$f":"AI31*'Product Info'!AZ32","v":0},{"$f":"AI31*'Product Info'!BC32","v":0},{"$f":"AI31*'Product Info'!BF32","v":0},{"$f":"AI31*'Product Info'!BI32","v":0},{"$f":"AI31*'Product Info'!BL32","v":0},{"$f":"AI31*'Product Info'!BO32","v":0},{"$f":"AI31*'Product Info'!BR32","v":0},{"$f":"AI31*'Product Info'!BU32","v":0},{"$f":"AI31*'Product Info'!BX32","v":0}]
[{"$f":"'Product Info'!A33","v":0},{"$f":"'Product Info'!B33","v":0},{"$f":"'Product Info'!C33","v":0},null,null,null,null,null,null,null,null,null,null,null,null,null,null,null,null,null,null,null,null,null,null,null,null,null,null,null,null,null,null,null,0,{"$f":"'Product Info'!F33*('Daily Info (May)'!AI32)","v":0},null,null,{"$f":"AI32*('Product Info'!H33)","v":0},{"$f":"AI32*('Product Info'!M33+'Product Info'!P33+'Product Info'!S33+'Product Info'!V33+'Product Info'!Y33+'Product Info'!AB33+'Product Info'!AE33+'Product Info'!AH33+'Product Info'!AK33+'Product Info'!AN33+'Product Info'!AQ33+'Product Info'!AT33+'Product Info'!AW33+'Product Info'!AZ33+'Product Info'!BC33+'Product Info'!BF33+'Product Info'!BI33+'Product Info'!BL33+'Product Info'!BO33+'Product Info'!BR33+'Product Info'!BU33+'Product Info'!BX33+'Product Info'!CA33+'Product Info'!CD33+'Product Info'!CG33+'Product Info'!CJ33+'Product Info'!CM33+'Product Info'!CP33+'Product Info'!CS33+'Product Info'!CV33+'Product Info'!CY33+'Product Info'!DB33+'Product Info'!DE33+'Product Info'!DH33+'Product Info'!DK33+'Product Info'!DN33+'Product Info'!DQ33+'Product Info'!DT33+'Product Info'!DW33+'Product Info'!DZ33+'Product Info'!EC33+'Product Info'!EF33+'Product Info'!EI33+'Product Info'!EL33+'Product Info'!EO33+'Product Info'!ER33+'Product Info'!EU33+'Product Info'!EX33+'Product Info'!FA33+'Product Info'!FD33)","v":0},{"$f":"AI32*('Product Info'!M33)","v":0},{"$f":"AI32*'Product Info'!P33","v":0},{"$f":"AI32*'Product Info'!S33","v":0},{"$f":"AI32*'Product Info'!V33","v":0},{"$f":"AI32*'Product Info'!Y33","v":0},{"$f":"AI32*'Product Info'!AB33","v":0},{"$f":"AI32*'Product Info'!AE33","v":0},{"$f":"AI32*'Product Info'!AH33","v":0},{"$f":"AI32*'Product Info'!AK33","v":0},{"$f":"AI32*'Product Info'!AN33","v":0},{"$f":"AI32*'Product Info'!AQ33","v":0},{"$f":"AI32*'Product Info'!AT33","v":0},{"$f":"AI32*'Product Info'!AW33","v":0},{"$f":"AI32*'Product Info'!AZ33","v":0},{"$f":"AI32*'Product Info'!BC33","v":0},{"$f":"AI32*'Product Info'!BF33","v":0},{"$f":"AI32*'Product Info'!BI33","v":0},{"$f":"AI32*'Product Info'!BL33","v":0},{"$f":"AI32*'Product Info'!BO33","v":0},{"$f":"AI32*'Product Info'!BR33","v":0},{"$f":"AI32*'Product Info'!BU33","v":0},{"$f":"AI32*'Product Info'!BX33","v":0}]
[{"$f":"'Product Info'!A34","v":0},{"$f":"'Product Info'!B34","v":0},{"$f":"'Product Info'!C34","v":0},null,null,null,null,null,null,null,null,null,null,null,null,null,null,null,null,null,null,null,null,null,null,null,null,null,null,null,null,null,null,null,0,{"$f":"'Product Info'!F34*('Daily Info (May)'!AI33)","v":0},null,null,{"$f":"AI33*('Product Info'!H34)","v":0},{"$f":"AI33*('Product Info'!M34+'Product Info'!P34+'Product Info'!S34+'Product Info'!V34+'Product Info'!Y34+'Product Info'!AB34+'Product Info'!AE34+'Product Info'!AH34+'Product Info'!AK34+'Product Info'!AN34+'Product Info'!AQ34+'Product Info'!AT34+'Product Info'!AW34+'Product Info'!AZ34+'Product Info'!BC34+'Product Info'!BF34+'Product Info'!BI34+'Product Info'!BL34+'Product Info'!BO34+'Product Info'!BR34+'Product Info'!BU34+'Product Info'!BX34+'Product Info'!CA34+'Product Info'!CD34+'Product Info'!CG34+'Product Info'!CJ34+'Product Info'!CM34+'Product Info'!CP34+'Product Info'!CS34+'Product Info'!CV34+'Product Info'!CY34+'Product Info'!DB34+'Product Info'!DE34+'Product Info'!DH34+'Product Info'!DK34+'Product Info'!DN34+'Product Info'!DQ34+'Product Info'!DT34+'Product Info'!DW34+'Product Info'!DZ34+'Product Info'!EC34+'Product Info'!EF34+'Product Info'!EI34+'Product Info'!EL34+'Product Info'!EO34+'Product Info'!ER34+'Product Info'!EU34+'Product Info'!EX34+'Product Info'!FA34+'Product Info'!FD34)","v":0},{"$f":"AI33*('Product Info'!M34)","v":0},{"$f":"AI33*'Product Info'!P34","v":0},{"$f":"AI33*'Product Info'!S34","v":0},{"$f":"AI33*'Product Info'!V34","v":0},{"$f":"AI33*'Product Info'!Y34","v":0},{"$f":"AI33*'Product Info'!AB34","v":0},{"$f":"AI33*'Product Info'!AE34","v":0},{"$f":"AI33*'Product Info'!AH34","v":0},{"$f":"AI33*'Product Info'!AK34","v":0},{"$f":"AI33*'Product Info'!AN34","v":0},{"$f":"AI33*'Product Info'!AQ34","v":0},{"$f":"AR33*'Product Info'!AF34","v":0},{"$f":"AI33*'Product Info'!AW34","v":0},{"$f":"AI33*'Product Info'!AZ34","v":0},{"$f":"AI33*'Product Info'!BC34","v":0},{"$f":"AI33*'Product Info'!BF34","v":0},{"$f":"AI33*'Product Info'!BI34","v":0},{"$f":"AI33*'Product Info'!BL34","v":0},{"$f":"AI33*'Product Info'!BO34","v":0},{"$f":"AI33*'Product Info'!BR34","v":0},{"$f":"AI33*'Product Info'!BU34","v":0},{"$f":"AI33*'Product Info'!BX34","v":0}]
[{"$f":"'Product Info'!A35","v":0},{"$f":"'Product Info'!B35","v":0},{"$f":"'Product Info'!C35","v":0},null,null,null,null,null,null,null,null,null,null,null,null,null,null,null,null,null,null,null,null,null,null,null,null,null,null,null,null,null,null,null,0,{"$f":"'Product Info'!F35*('Daily Info (May)'!AI34)","v":0},null,null,{"$f":"AI34*('Product Info'!H35)","v":0},{"$f":"AI34*('Product Info'!M35+'Product Info'!P35+'Product Info'!S35+'Product Info'!V35+'Product Info'!Y35+'Product Info'!AB35+'Product Info'!AE35+'Product Info'!AH35+'Product Info'!AK35+'Product Info'!AN35+'Product Info'!AQ35+'Product Info'!AT35+'Product Info'!AW35+'Product Info'!AZ35+'Product Info'!BC35+'Product Info'!BF35+'Product Info'!BI35+'Product Info'!BL35+'Product Info'!BO35+'Product Info'!BR35+'Product Info'!BU35+'Product Info'!BX35+'Product Info'!CA35+'Product Info'!CD35+'Product Info'!CG35+'Product Info'!CJ35+'Product Info'!CM35+'Product Info'!CP35+'Product Info'!CS35+'Product Info'!CV35+'Product Info'!CY35+'Product Info'!DB35+'Product Info'!DE35+'Product Info'!DH35+'Product Info'!DK35+'Product Info'!DN35+'Product Info'!DQ35+'Product Info'!DT35+'Product Info'!DW35+'Product Info'!DZ35+'Product Info'!EC35+'Product Info'!EF35+'Product Info'!EI35+'Product Info'!EL35+'Product Info'!EO35+'Product Info'!ER35+'Product Info'!EU35+'Product Info'!EX35+'Product Info'!FA35+'Product Info'!FD35)","v":0},{"$f":"AI34*('Product Info'!M35)","v":0},{"$f":"AI34*'Product Info'!P35","v":0},{"$f":"AI34*'Product Info'!S35","v":0},{"$f":"AI34*'Product Info'!V35","v":0},{"$f":"AI34*'Product Info'!Y35","v":0},{"$f":"AI34*'Product Info'!AB35","v":0},{"$f":"AI34*'Product Info'!AE35","v":0},{"$f":"AI34*'Product Info'!AH35","v":0},{"$f":"AI34*'Product Info'!AK35","v":0},{"$f":"AI34*'Product Info'!AN35","v":0},{"$f":"AI34*'Product Info'!AQ35","v":0},{"$f":"AI34*'Product Info'!AT35","v":0},{"$f":"AI34*'Product Info'!AW35","v":0},{"$f":"AI34*'Product Info'!AZ35","v":0},{"$f":"AI34*'Product Info'!BC35","v":0},{"$f":"AI34*'Product Info'!BF35","v":0},{"$f":"AI34*'Product Info'!BI35","v":0},{"$f":"AI34*'Product Info'!BL35","v":0},{"$f":"AI34*'Product Info'!BO35","v":0},{"$f":"AI34*'Product Info'!BR35","v":0},{"$f":"AI34*'Product Info'!BU35","v":0},{"$f":"AI34*'Product Info'!BX35","v":0}]
[{"$f":"'Product Info'!A36","v":0},{"$f":"'Product Info'!B36","v":0},{"$f":"'Product Info'!C36","v":0},null,null,null,null,null,null,null,null,null,null,null,null,null,null,null,null,null,null,null,null,null,null,null,null,null,null,null,null,null,null,null,0,{"$f":"'Product Info'!F36*('Daily Info (May)'!AI35)","v":0},null,null,{"$f":"AI35*('Product Info'!H36)","v":0},{"$f":"AI35*('Product Info'!M36+'Product Info'!P36+'Product Info'!S36+'Product Info'!V36+'Product Info'!Y36+'Product Info'!AB36+'Product Info'!AE36+'Product Info'!AH36+'Product Info'!AK36+'Product Info'!AN36+'Product Info'!AQ36+'Product Info'!AT36+'Product Info'!AW36+'Product Info'!AZ36+'Product Info'!BC36+'Product Info'!BF36+'Product Info'!BI36+'Product Info'!BL36+'Product Info'!BO36+'Product Info'!BR36+'Product Info'!BU36+'Product Info'!BX36+'Product Info'!CA36+'Product Info'!CD36+'Product Info'!CG36+'Product Info'!CJ36+'Product Info'!CM36+'Product Info'!CP36+'Product Info'!CS36+'Product Info'!CV36+'Product Info'!CY36+'Product Info'!DB36+'Product Info'!DE36+'Product Info'!DH36+'Product Info'!DK36+'Product Info'!DN36+'Product Info'!DQ36+'Product Info'!DT36+'Product Info'!DW36+'Product Info'!DZ36+'Product Info'!EC36+'Product Info'!EF36+'Product Info'!EI36+'Product Info'!EL36+'Product Info'!EO36+'Product Info'!ER36+'Product Info'!EU36+'Product Info'!EX36+'Product Info'!FA36+'Product Info'!FD36)","v":0},{"$f":"AI35*('Product Info'!M36)","v":0},{"$f":"AI35*'Product Info'!P36","v":0},{"$f":"AI35*'Product Info'!S36","v":0},{"$f":"AI35*'Product Info'!V36","v":0},{"$f":"AI35*'Product Info'!Y36","v":0},{"$f":"AI35*'Product Info'!AB36","v":0},{"$f":"AI35*'Product Info'!AE36","v":0},{"$f":"AI35*'Product Info'!AH36","v":0},{"$f":"AI35*'Product Info'!AK36","v":0},{"$f":"AI35*'Product Info'!AN36","v":0},{"$f":"AI35*'Product Info'!AQ36","v":0},{"$f":"AI35*'Product Info'!AT36","v":0},{"$f":"AI35*'Product Info'!AW36","v":0},{"$f":"AI35*'Product Info'!AZ36","v":0},{"$f":"AI35*'Product Info'!BC36","v":0},{"$f":"AI35*'Product Info'!BF36","v":0},{"$f":"AI35*'Product Info'!BI36","v":0},{"$f":"AI35*'Product Info'!BL36","v":0},{"$f":"AI35*'Product Info'!BO36","v":0},{"$f":"AI35*'Product Info'!BR36","v":0},{"$f":"AI35*'Product Info'!BU36","v":0},{"$f":"AI35*'Product Info'!BX36","v":0}]
[{"$f":"'Product Info'!A37","v":0},{"$f":"'Product Info'!B37","v":0},{"$f":"'Product Info'!C37","v":0},null,null,null,null,null,null,null,null,null,null,null,null,null,null,null,null,null,null,null,null,null,null,null,null,null,null,null,null,null,null,null,{"$f":"SUM(D36:AH36)","v":0},{"$f":"'Product Info'!F37*('Daily Info (May)'!AI36)","v":0},null,null,{"$f":"AI36*('Product Info'!H37)","v":0},{"$f":"AI36*('Product Info'!M37+'Product Info'!P37+'Product Info'!S37+'Product Info'!V37+'Product Info'!Y37+'Product Info'!AB37+'Product Info'!AE37+'Product Info'!AH37+'Product Info'!AK37+'Product Info'!AN37+'Product Info'!AQ37+'Product Info'!AT37+'Product Info'!AW37+'Product Info'!AZ37+'Product Info'!BC37+'Product Info'!BF37+'Product Info'!BI37+'Product Info'!BL37+'Product Info'!BO37+'Product Info'!BR37+'Product Info'!BU37+'Product Info'!BX37+'Product Info'!CA37+'Product Info'!CD37+'Product Info'!CG37+'Product Info'!CJ37+'Product Info'!CM37+'Product Info'!CP37+'Product Info'!CS37+'Product Info'!CV37+'Product Info'!CY37+'Product Info'!DB37+'Product Info'!DE37+'Product Info'!DH37+'Product Info'!DK37+'Product Info'!DN37+'Product Info'!DQ37+'Product Info'!DT37+'Product Info'!DW37+'Product Info'!DZ37+'Product Info'!EC37+'Product Info'!EF37+'Product Info'!EI37+'Product Info'!EL37+'Product Info'!EO37+'Product Info'!ER37+'Product Info'!EU37+'Product Info'!EX37+'Product Info'!FA37+'Product Info'!FD37)","v":0},{"$f":"AI36*('Product Info'!M37)","v":0},{"$f":"AI36*'Product Info'!P37","v":0},{"$f":"AI36*'Product Info'!S37","v":0},{"$f":"AI36*'Product Info'!V37","v":0},{"$f":"AI36*'Product Info'!Y37","v":0},{"$f":"AI36*'Product Info'!AB37","v":0},{"$f":"AI36*'Product Info'!AE37","v":0},{"$f":"AI36*'Product Info'!AH37","v":0},{"$f":"AI36*'Product Info'!AK37","v":0},{"$f":"AI36*'Product Info'!AN37","v":0},{"$f":"AI36*'Product Info'!AQ37","v":0},{"$f":"AI36*'Product Info'!AT37","v":0},{"$f":"AI36*'Product Info'!AW37","v":0},{"$f":"AI36*'Product Info'!AZ37","v":0},{"$f":"AI36*'Product Info'!BC37","v":0},{"$f":"AI36*'Product Info'!BF37","v":0},{"$f":"AI36*'Product Info'!BI37","v":0},{"$f":"AI36*'Product Info'!BL37","v":0},{"$f":"AI36*'Product Info'!BO37","v":0},{"$f":"AI36*'Product Info'!BR37","v":0},{"$f":"AI36*'Product Info'!BU37","v":0},{"$f":"AI36*'Product Info'!BX37","v":0}]
[{"$f":"'Product Info'!A38","v":0},{"$f":"'Product Info'!B38","v":0},{"$f":"'Product Info'!C38","v":0},null,null,null,null,null,null,null,null,null,null,null,null,null,null,null,null,null,null,null,null,null,null,null,null,null,null,null,null,null,null,null,0,{"$f":"'Product Info'!F38*('Daily Info (May)'!AI37)","v":0},null,null,{"$f":"AI37*('Product Info'!H38)","v":0},{"$f":"AI37*('Product Info'!M38+'Product Info'!P38+'Product Info'!S38+'Product Info'!V38+'Product Info'!Y38+'Product Info'!AB38+'Product Info'!AE38+'Product Info'!AH38+'Product Info'!AK38+'Product Info'!AN38+'Product Info'!AQ38+'Product Info'!AT38+'Product Info'!AW38+'Product Info'!AZ38+'Product Info'!BC38+'Product Info'!BF38+'Product Info'!BI38+'Product Info'!BL38+'Product Info'!BO38+'Product Info'!BR38+'Product Info'!BU38+'Product Info'!BX38+'Product Info'!CA38+'Product Info'!CD38+'Product Info'!CG38+'Product Info'!CJ38+'Product Info'!CM38+'Product Info'!CP38+'Product Info'!CS38+'Product Info'!CV38+'Product Info'!CY38+'Product Info'!DB38+'Product Info'!DE38+'Product Info'!DH38+'Product Info'!DK38+'Product Info'!DN38+'Product Info'!DQ38+'Product Info'!DT38+'Product Info'!DW38+'Product Info'!DZ38+'Product Info'!EC38+'Product Info'!EF38+'Product Info'!EI38+'Product Info'!EL38+'Product Info'!EO38+'Product Info'!ER38+'Product Info'!EU38+'Product Info'!EX38+'Product Info'!FA38+'Product Info'!FD38)","v":0},{"$f":"AI37*('Product Info'!M38)","v":0},{"$f":"AI37*'Product Info'!P38","v":0},{"$f":"AI37*'Product Info'!S38","v":0},{"$f":"AI37*'Product Info'!V38","v":0},{"$f":"AI37*'Product Info'!Y38","v":0},{"$f":"AI37*'Product Info'!AB38","v":0},{"$f":"AI37*'Product Info'!AE38","v":0},{"$f":"AI37*'Product Info'!AH38","v":0},{"$f":"AI37*'Product Info'!AK38","v":0},{"$f":"AI37*'Product Info'!AN38","v":0},{"$f":"AI37*'Product Info'!AQ38","v":0},{"$f":"AI37*'Product Info'!AT38","v":0},{"$f":"AI37*'Product Info'!AW38","v":0},{"$f":"AI37*'Product Info'!AZ38","v":0},{"$f":"AI37*'Product Info'!BC38","v":0},{"$f":"AI37*'Product Info'!BF38","v":0},{"$f":"AI37*'Product Info'!BI38","v":0},{"$f":"AI37*'Product Info'!BL38","v":0},{"$f":"AI37*'Product Info'!BO38","v":0},{"$f":"AI37*'Product Info'!BR38","v":0},{"$f":"AI37*'Product Info'!BU38","v":0},{"$f":"AI37*'Product Info'!BX38","v":0}]
[{"$f":"'Product Info'!A39","v":0},{"$f":"'Product Info'!B39","v":0},{"$f":"'Product Info'!C39","v":0},null,null,null,null,null,null,null,null,null,null,null,null,null,null,null,null,null,null,null,null,null,null,null,null,null,null,null,null,null,null,null,0,{"$f":"'Product Info'!F39*('Daily Info (May)'!AI38)","v":0},null,null,{"$f":"AI38*('Product Info'!H39)","v":0},{"$f":"AI38*('Product Info'!M39+'Product Info'!P39+'Product Info'!S39+'Product Info'!V39+'Product Info'!Y39+'Product Info'!AB39+'Product Info'!AE39+'Product Info'!AH39+'Product Info'!AK39+'Product Info'!AN39+'Product Info'!AQ39+'Product Info'!AT39+'Product Info'!AW39+'Product Info'!AZ39+'Product Info'!BC39+'Product Info'!BF39+'Product Info'!BI39+'Product Info'!BL39+'Product Info'!BO39+'Product Info'!BR39+'Product Info'!BU39+'Product Info'!BX39+'Product Info'!CA39+'Product Info'!CD39+'Product Info'!CG39+'Product Info'!CJ39+'Product Info'!CM39+'Product Info'!CP39+'Product Info'!CS39+'Product Info'!CV39+'Product Info'!CY39+'Product Info'!DB39+'Product Info'!DE39+'Product Info'!DH39+'Product Info'!DK39+'Product Info'!DN39+'Product Info'!DQ39+'Product Info'!DT39+'Product Info'!DW39+'Product Info'!DZ39+'Product Info'!EC39+'Product Info'!EF39+'Product Info'!EI39+'Product Info'!EL39+'Product Info'!EO39+'Product Info'!ER39+'Product Info'!EU39+'Product Info'!EX39+'Product Info'!FA39+'Product Info'!FD39)","v":0},{"$f":"AI38*('Product Info'!M39)","v":0},{"$f":"AI38*'Product Info'!P39","v":0},{"$f":"AI38*'Product Info'!S39","v":0},{"$f":"AI38*'Product Info'!V39","v":0},{"$f":"AI38*'Product Info'!Y39","v":0},{"$f":"AI38*'Product Info'!AB39","v":0},{"$f":"AI38*'Product Info'!AE39","v":0},{"$f":"AI38*'Product Info'!AH39","v":0},{"$f":"AI38*'Product Info'!AK39","v":0},{"$f":"AI38*'Product Info'!AN39","v":0},{"$f":"AI38*'Product Info'!AQ39","v":0},{"$f":"AI38*'Product Info'!AT39","v":0},{"$f":"AI38*'Product Info'!AW39","v":0},{"$f":"AI38*'Product Info'!AZ39","v":0},{"$f":"AI38*'Product Info'!BC39","v":0},{"$f":"AI38*'Product Info'!BF39","v":0},{"$f":"AI38*'Product Info'!BI39","v":0},{"$f":"AI38*'Product Info'!BL39","v":0},{"$f":"AI38*'Product Info'!BO39","v":0},{"$f":"AI38*'Product Info'!BR39","v":0},{"$f":"AI38*'Product Info'!BU39","v":0},{"$f":"AI38*'Product Info'!BX39","v":0}]
[{"$f":"'Product Info'!A40","v":0},{"$f":"'Product Info'!B40","v":0},{"$f":"'Product Info'!C40","v":0},null,null,null,null,null,null,null,null,null,null,null,null,null,null,null,null,null,null,null,null,null,null,null,null,null,null,null,null,null,null,null,0,{"$f":"'Product Info'!F40*('Daily Info (May)'!AI39)","v":0},null,null,{"$f":"AI39*('Product Info'!H40)","v":0},{"$f":"AI39*('Product Info'!M40+'Product Info'!P40+'Product Info'!S40+'Product Info'!V40+'Product Info'!Y40+'Product Info'!AB40+'Product Info'!AE40+'Product Info'!AH40+'Product Info'!AK40+'Product Info'!AN40+'Product Info'!AQ40+'Product Info'!AT40+'Product Info'!AW40+'Product Info'!AZ40+'Product Info'!BC40+'Product Info'!BF40+'Product Info'!BI40+'Product Info'!BL40+'Product Info'!BO40+'Product Info'!BR40+'Product Info'!BU40+'Product Info'!BX40+'Product Info'!CA40+'Product Info'!CD40+'Product Info'!CG40+'Product Info'!CJ40+'Product Info'!CM40+'Product Info'!CP40+'Product Info'!CS40+'Product Info'!CV40+'Product Info'!CY40+'Product Info'!DB40+'Product Info'!DE40+'Product Info'!DH40+'Product Info'!DK40+'Product Info'!DN40+'Product Info'!DQ40+'Product Info'!DT40+'Product Info'!DW40+'Product Info'!DZ40+'Product Info'!EC40+'Product Info'!EF40+'Product Info'!EI40+'Product Info'!EL40+'Product Info'!EO40+'Product Info'!ER40+'Product Info'!EU40+'Product Info'!EX40+'Product Info'!FA40+'Product Info'!FD40)","v":0},{"$f":"AI39*('Product Info'!M40)","v":0},{"$f":"AI39*'Product Info'!P40","v":0},{"$f":"AI39*'Product Info'!S40","v":0},{"$f":"AI39*'Product Info'!V40","v":0},{"$f":"AI39*'Product Info'!Y40","v":0},{"$f":"AI39*'Product Info'!AB40","v":0},{"$f":"AI39*'Product Info'!AE40","v":0},{"$f":"AI39*'Product Info'!AH40","v":0},{"$f":"AI39*'Product Info'!AK40","v":0},{"$f":"AI39*'Product Info'!AN40","v":0},{"$f":"AI39*'Product Info'!AQ40","v":0},{"$f":"AI39*'Product Info'!AT40","v":0},{"$f":"AI39*'Product Info'!AW40","v":0},{"$f":"AI39*'Product Info'!AZ40","v":0},{"$f":"AI39*'Product Info'!BC40","v":0},{"$f":"AI39*'Product Info'!BF40","v":0},{"$f":"AI39*'Product Info'!BI40","v":0},{"$f":"AI39*'Product Info'!BL40","v":0},{"$f":"AI39*'Product Info'!BO40","v":0},{"$f":"AI39*'Product Info'!BR40","v":0},{"$f":"AI39*'Product Info'!BU40","v":0},{"$f":"AI39*'Product Info'!BX40","v":0}]
[{"$f":"'Product Info'!A41","v":0},{"$f":"'Product Info'!B41","v":0},{"$f":"'Product Info'!C41","v":0},null,null,null,null,null,null,null,null,null,null,null,null,null,null,null,null,null,null,null,null,null,null,null,null,null,null,null,null,null,null,null,0,{"$f":"'Product Info'!F41*('Daily Info (May)'!AI40)","v":0},null,null,{"$f":"AI40*('Product Info'!H41)","v":0},{"$f":"AI40*('Product Info'!M41+'Product Info'!P41+'Product Info'!S41+'Product Info'!V41+'Product Info'!Y41+'Product Info'!AB41+'Product Info'!AE41+'Product Info'!AH41+'Product Info'!AK41+'Product Info'!AN41+'Product Info'!AQ41+'Product Info'!AT41+'Product Info'!AW41+'Product Info'!AZ41+'Product Info'!BC41+'Product Info'!BF41+'Product Info'!BI41+'Product Info'!BL41+'Product Info'!BO41+'Product Info'!BR41+'Product Info'!BU41+'Product Info'!BX41+'Product Info'!CA41+'Product Info'!CD41+'Product Info'!CG41+'Product Info'!CJ41+'Product Info'!CM41+'Product Info'!CP41+'Product Info'!CS41+'Product Info'!CV41+'Product Info'!CY41+'Product Info'!DB41+'Product Info'!DE41+'Product Info'!DH41+'Product Info'!DK41+'Product Info'!DN41+'Product Info'!DQ41+'Product Info'!DT41+'Product Info'!DW41+'Product Info'!DZ41+'Product Info'!EC41+'Product Info'!EF41+'Product Info'!EI41+'Product Info'!EL41+'Product Info'!EO41+'Product Info'!ER41+'Product Info'!EU41+'Product Info'!EX41+'Product Info'!FA41+'Product Info'!FD41)","v":0},{"$f":"AI40*('Product Info'!M41)","v":0},{"$f":"AI40*'Product Info'!P41","v":0},{"$f":"AI40*'Product Info'!S41","v":0},{"$f":"AI40*'Product Info'!V41","v":0},{"$f":"AI40*'Product Info'!Y41","v":0},{"$f":"AI40*'Product Info'!AB41","v":0},{"$f":"AI40*'Product Info'!AE41","v":0},{"$f":"AI40*'Product Info'!AH41","v":0},{"$f":"AI40*'Product Info'!AK41","v":0},{"$f":"AI40*'Product Info'!AN41","v":0},{"$f":"AI40*'Product Info'!AQ41","v":0},{"$f":"AI40*'Product Info'!AT41","v":0},{"$f":"AI40*'Product Info'!AW41","v":0},{"$f":"AI40*'Product Info'!AZ41","v":0},{"$f":"AI40*'Product Info'!BC41","v":0},{"$f":"AI40*'Product Info'!BF41","v":0},{"$f":"AI40*'Product Info'!BI41","v":0},{"$f":"AI40*'Product Info'!BL41","v":0},{"$f":"AI40*'Product Info'!BO41","v":0},{"$f":"AI40*'Product Info'!BR41","v":0},{"$f":"AI40*'Product Info'!BU41","v":0},{"$f":"AI40*'Product Info'!BX41","v":0}]
[{"$f":"'Product Info'!A42","v":0},{"$f":"'Product Info'!B42","v":0},{"$f":"'Product Info'!C42","v":0},null,null,null,null,null,null,null,null,null,null,null,null,null,null,null,null,null,null,null,null,null,null,null,null,null,null,null,null,null,null,null,0,{"$f":"'Product Info'!F42*('Daily Info (May)'!AI41)","v":0},null,null,{"$f":"AI41*('Product Info'!H42)","v":0},{"$f":"AI41*('Product Info'!M42+'Product Info'!P42+'Product Info'!S42+'Product Info'!V42+'Product Info'!Y42+'Product Info'!AB42+'Product Info'!AE42+'Product Info'!AH42+'Product Info'!AK42+'Product Info'!AN42+'Product Info'!AQ42+'Product Info'!AT42+'Product Info'!AW42+'Product Info'!AZ42+'Product Info'!BC42+'Product Info'!BF42+'Product Info'!BI42+'Product Info'!BL42+'Product Info'!BO42+'Product Info'!BR42+'Product Info'!BU42+'Product Info'!BX42+'Product Info'!CA42+'Product Info'!CD42+'Product Info'!CG42+'Product Info'!CJ42+'Product Info'!CM42+'Product Info'!CP42+'Product Info'!CS42+'Product Info'!CV42+'Product Info'!CY42+'Product Info'!DB42+'Product Info'!DE42+'Product Info'!DH42+'Product Info'!DK42+'Product Info'!DN42+'Product Info'!DQ42+'Product Info'!DT42+'Product Info'!DW42+'Product Info'!DZ42+'Product Info'!EC42+'Product Info'!EF42+'Product Info'!EI42+'Product Info'!EL42+'Product Info'!EO42+'Product Info'!ER42+'Product Info'!EU42+'Product Info'!EX42+'Product Info'!FA42+'Product Info'!FD42)","v":0},{"$f":"AI41*('Product Info'!M42)","v":0},{"$f":"AI41*'Product Info'!P42","v":0},{"$f":"AI41*'Product Info'!S42","v":0},{"$f":"AI41*'Product Info'!V42","v":0},{"$f":"AI41*'Product Info'!Y42","v":0},{"$f":"AI41*'Product Info'!AB42","v":0},{"$f":"AI41*'Product Info'!AE42","v":0},{"$f":"AI41*'Product Info'!AH42","v":0},{"$f":"AI41*'Product Info'!AK42","v":0},{"$f":"AI41*'Product Info'!AN42","v":0},{"$f":"AI41*'Product Info'!AQ42","v":0},{"$f":"AI41*'Product Info'!AT42","v":0},{"$f":"AI41*'Product Info'!AW42","v":0},{"$f":"AI41*'Product Info'!AZ42","v":0},{"$f":"AI41*'Product Info'!BC42","v":0},{"$f":"AI41*'Product Info'!BF42","v":0},{"$f":"AI41*'Product Info'!BI42","v":0},{"$f":"AI41*'Product Info'!BL42","v":0},{"$f":"AI41*'Product Info'!BO42","v":0},{"$f":"AI41*'Product Info'!BR42","v":0},{"$f":"AI41*'Product Info'!BU42","v":0},{"$f":"AI41*'Product Info'!BX42","v":0}]
[{"$f":"'Product Info'!A43","v":0},{"$f":"'Product Info'!B43","v":0},{"$f":"'Product Info'!C43","v":0},null,null,null,null,null,null,null,null,null,null,null,null,null,null,null,null,null,null,null,null,null,null,null,null,null,null,null,null,null,null,null,0,{"$f":"'Product Info'!F43*('Daily Info (May)'!AI42)","v":0},null,null,{"$f":"AI42*('Product Info'!H43)","v":0},{"$f":"AI42*('Product Info'!M43+'Product Info'!P43+'Product Info'!S43+'Product Info'!V43+'Product Info'!Y43+'Product Info'!AB43+'Product Info'!AE43+'Product Info'!AH43+'Product Info'!AK43+'Product Info'!AN43+'Product Info'!AQ43+'Product Info'!AT43+'Product Info'!AW43+'Product Info'!AZ43+'Product Info'!BC43+'Product Info'!BF43+'Product Info'!BI43+'Product Info'!BL43+'Product Info'!BO43+'Product Info'!BR43+'Product Info'!BU43+'Product Info'!BX43+'Product Info'!CA43+'Product Info'!CD43+'Product Info'!CG43+'Product Info'!CJ43+'Product Info'!CM43+'Product Info'!CP43+'Product Info'!CS43+'Product Info'!CV43+'Product Info'!CY43+'Product Info'!DB43+'Product Info'!DE43+'Product Info'!DH43+'Product Info'!DK43+'Product Info'!DN43+'Product Info'!DQ43+'Product Info'!DT43+'Product Info'!DW43+'Product Info'!DZ43+'Product Info'!EC43+'Product Info'!EF43+'Product Info'!EI43+'Product Info'!EL43+'Product Info'!EO43+'Product Info'!ER43+'Product Info'!EU43+'Product Info'!EX43+'Product Info'!FA43+'Product Info'!FD43)","v":0},{"$f":"AI42*('Product Info'!M43)","v":0},{"$f":"AI42*'Product Info'!P43","v":0},{"$f":"AI42*'Product Info'!S43","v":0},{"$f":"AI42*'Product Info'!V43","v":0},{"$f":"AI42*'Product Info'!Y43","v":0},{"$f":"AI42*'Product Info'!AB43","v":0},{"$f":"AI42*'Product Info'!AE43","v":0},{"$f":"AI42*'Product Info'!AH43","v":0},{"$f":"AI42*'Product Info'!AK43","v":0},{"$f":"AI42*'Product Info'!AN43","v":0},{"$f":"AI42*'Product Info'!AQ43","v":0},{"$f":"AI42*'Product Info'!AT43","v":0},{"$f":"AI42*'Product Info'!AW43","v":0},{"$f":"AI42*'Product Info'!AZ43","v":0},{"$f":"AI42*'Product Info'!BC43","v":0},{"$f":"AI42*'Product Info'!BF43","v":0},{"$f":"AI42*'Product Info'!BI43","v":0},{"$f":"AI42*'Product Info'!BL43","v":0},{"$f":"AI42*'Product Info'!BO43","v":0},{"$f":"AI42*'Product Info'!BR43","v":0},{"$f":"AI42*'Product Info'!BU43","v":0},{"$f":"AI42*'Product Info'!BX43","v":0}]
[{"$f":"'Product Info'!A44","v":0},{"$f":"'Product Info'!B44","v":0},{"$f":"'Product Info'!C44","v":0},null,null,null,null,null,null,null,null,null,null,null,null,null,null,null,null,null,null,null,null,null,null,null,null,null,null,null,null,null,null,null,0,{"$f":"'Product Info'!F44*('Daily Info (May)'!AI43)","v":0},null,null,{"$f":"AI43*('Product Info'!H44)","v":0},{"$f":"AI43*('Product Info'!M44+'Product Info'!P44+'Product Info'!S44+'Product Info'!V44+'Product Info'!Y44+'Product Info'!AB44+'Product Info'!AE44+'Product Info'!AH44+'Product Info'!AK44+'Product Info'!AN44+'Product Info'!AQ44+'Product Info'!AT44+'Product Info'!AW44+'Product Info'!AZ44+'Product Info'!BC44+'Product Info'!BF44+'Product Info'!BI44+'Product Info'!BL44+'Product Info'!BO44+'Product Info'!BR44+'Product Info'!BU44+'Product Info'!BX44+'Product Info'!CA44+'Product Info'!CD44+'Product Info'!CG44+'Product Info'!CJ44+'Product Info'!CM44+'Product Info'!CP44+'Product Info'!CS44+'Product Info'!CV44+'Product Info'!CY44+'Product Info'!DB44+'Product Info'!DE44+'Product Info'!DH44+'Product Info'!DK44+'Product Info'!DN44+'Product Info'!DQ44+'Product Info'!DT44+'Product Info'!DW44+'Product Info'!DZ44+'Product Info'!EC44+'Product Info'!EF44+'Product Info'!EI44+'Product Info'!EL44+'Product Info'!EO44+'Product Info'!ER44+'Product Info'!EU44+'Product Info'!EX44+'Product Info'!FA44+'Product Info'!FD44)","v":0},{"$f":"AI43*('Product Info'!M44)","v":0},{"$f":"AI43*'Product Info'!P44","v":0},{"$f":"AI43*'Product Info'!S44","v":0},{"$f":"AI43*'Product Info'!V44","v":0},{"$f":"AI43*'Product Info'!Y44","v":0},{"$f":"AI43*'Product Info'!AB44","v":0},{"$f":"AI43*'Product Info'!AE44","v":0},{"$f":"AI43*'Product Info'!AH44","v":0},{"$f":"AI43*'Product Info'!AK44","v":0},{"$f":"AI43*'Product Info'!AN44","v":0},{"$f":"AI43*'Product Info'!AQ44","v":0},{"$f":"AI43*'Product Info'!AT44","v":0},{"$f":"AI43*'Product Info'!AW44","v":0},{"$f":"AI43*'Product Info'!AZ44","v":0},{"$f":"AI43*'Product Info'!BC44","v":0},{"$f":"AI43*'Product Info'!BF44","v":0},{"$f":"AI43*'Product Info'!BI44","v":0},{"$f":"AI43*'Product Info'!BL44","v":0},{"$f":"AI43*'Product Info'!BO44","v":0},{"$f":"AI43*'Product Info'!BR44","v":0},{"$f":"AI43*'Product Info'!BU44","v":0},{"$f":"AI43*'Product Info'!BX44","v":0}]
[{"$f":"'Product Info'!A45","v":0},{"$f":"'Product Info'!B45","v":0},{"$f":"'Product Info'!C45","v":0},null,null,null,null,null,null,null,null,null,null,null,null,null,null,null,null,null,null,null,null,null,null,null,null,null,null,null,null,null,null,null,0,{"$f":"'Product Info'!F45*('Daily Info (May)'!AI44)","v":0},null,null,{"$f":"AI44*('Product Info'!H45)","v":0},{"$f":"AI44*('Product Info'!M45+'Product Info'!P45+'Product Info'!S45+'Product Info'!V45+'Product Info'!Y45+'Product Info'!AB45+'Product Info'!AE45+'Product Info'!AH45+'Product Info'!AK45+'Product Info'!AN45+'Product Info'!AQ45+'Product Info'!AT45+'Product Info'!AW45+'Product Info'!AZ45+'Product Info'!BC45+'Product Info'!BF45+'Product Info'!BI45+'Product Info'!BL45+'Product Info'!BO45+'Product Info'!BR45+'Product Info'!BU45+'Product Info'!BX45+'Product Info'!CA45+'Product Info'!CD45+'Product Info'!CG45+'Product Info'!CJ45+'Product Info'!CM45+'Product Info'!CP45+'Product Info'!CS45+'Product Info'!CV45+'Product Info'!CY45+'Product Info'!DB45+'Product Info'!DE45+'Product Info'!DH45+'Product Info'!DK45+'Product Info'!DN45+'Product Info'!DQ45+'Product Info'!DT45+'Product Info'!DW45+'Product Info'!DZ45+'Product Info'!EC45+'Product Info'!EF45+'Product Info'!EI45+'Product Info'!EL45+'Product Info'!EO45+'Product Info'!ER45+'Product Info'!EU45+'Product Info'!EX45+'Product Info'!FA45+'Product Info'!FD45)","v":0},{"$f":"AI44*('Product Info'!M45)","v":0},{"$f":"AI44*'Product Info'!P45","v":0},{"$f":"AI44*'Product Info'!S45","v":0},{"$f":"AI44*'Product Info'!V45","v":0},{"$f":"AI44*'Product Info'!Y45","v":0},{"$f":"AI44*'Product Info'!AB45","v":0},{"$f":"AI44*'Product Info'!AE45","v":0},{"$f":"AI44*'Product Info'!AH45","v":0},{"$f":"AI44*'Product Info'!AK45","v":0},{"$f":"AI44*'Product Info'!AN45","v":0},{"$f":"AI44*'Product Info'!AQ45","v":0},{"$f":"AI44*'Product Info'!AT45","v":0},{"$f":"AI44*'Product Info'!AW45","v":0},{"$f":"AI44*'Product Info'!AZ45","v":0},{"$f":"AI44*'Product Info'!BC45","v":0},{"$f":"AI44*'Product Info'!BF45","v":0},{"$f":"AI44*'Product Info'!BI45","v":0},{"$f":"AI44*'Product Info'!BL45","v":0},{"$f":"AI44*'Product Info'!BO45","v":0},{"$f":"AI44*'Product Info'!BR45","v":0},{"$f":"AI44*'Product Info'!BU45","v":0},{"$f":"AI44*'Product Info'!BX45","v":0}]
[{"$f":"'Product Info'!A46","v":0},{"$f":"'Product Info'!B46","v":0},{"$f":"'Product Info'!C46","v":0},null,null,null,null,null,null,null,null,null,null,null,null,null,null,null,null,null,null,null,null,null,null,null,null,null,null,null,null,null,null,null,0,{"$f":"'Product Info'!F46*('Daily Info (May)'!AI45)","v":0},null,null,{"$f":"AI45*('Product Info'!H46)","v":0},{"$f":"AI45*('Product Info'!M46+'Product Info'!P46+'Product Info'!S46+'Product Info'!V46+'Product Info'!Y46+'Product Info'!AB46+'Product Info'!AE46+'Product Info'!AH46+'Product Info'!AK46+'Product Info'!AN46+'Product Info'!AQ46+'Product Info'!AT46+'Product Info'!AW46+'Product Info'!AZ46+'Product Info'!BC46+'Product Info'!BF46+'Product Info'!BI46+'Product Info'!BL46+'Product Info'!BO46+'Product Info'!BR46+'Product Info'!BU46+'Product Info'!BX46+'Product Info'!CA46+'Product Info'!CD46+'Product Info'!CG46+'Product Info'!CJ46+'Product Info'!CM46+'Product Info'!CP46+'Product Info'!CS46+'Product Info'!CV46+'Product Info'!CY46+'Product Info'!DB46+'Product Info'!DE46+'Product Info'!DH46+'Product Info'!DK46+'Product Info'!DN46+'Product Info'!DQ46+'Product Info'!DT46+'Product Info'!DW46+'Product Info'!DZ46+'Product Info'!EC46+'Product Info'!EF46+'Product Info'!EI46+'Product Info'!EL46+'Product Info'!EO46+'Product Info'!ER46+'Product Info'!EU46+'Product Info'!EX46+'Product Info'!FA46+'Product Info'!FD46)","v":0},{"$f":"AI45*('Product Info'!M46)","v":0},{"$f":"AI45*'Product Info'!P46","v":0},{"$f":"AI45*'Product Info'!S46","v":0},{"$f":"AI45*'Product Info'!V46","v":0},{"$f":"AI45*'Product Info'!Y46","v":0},{"$f":"AI45*'Product Info'!AB46","v":0},{"$f":"AI45*'Product Info'!AE46","v":0},{"$f":"AI45*'Product Info'!AH46","v":0},{"$f":"AI45*'Product Info'!AK46","v":0},{"$f":"AI45*'Product Info'!AN46","v":0},{"$f":"AI45*'Product Info'!AQ46","v":0},{"$f":"AI45*'Product Info'!AT46","v":0},{"$f":"AI45*'Product Info'!AW46","v":0},{"$f":"AI45*'Product Info'!AZ46","v":0},{"$f":"AI45*'Product Info'!BC46","v":0},{"$f":"AI45*'Product Info'!BF46","v":0},{"$f":"AI45*'Product Info'!BI46","v":0},{"$f":"AI45*'Product Info'!BL46","v":0},{"$f":"AI45*'Product Info'!BO46","v":0},{"$f":"AI45*'Product Info'!BR46","v":0},{"$f":"AI45*'Product Info'!BU46","v":0},{"$f":"AI45*'Product Info'!BX46","v":0}]
[{"$f":"'Product Info'!A47","v":0},{"$f":"'Product Info'!B47","v":0},{"$f":"'Product Info'!C47","v":0},null,null,null,null,null,null,null,null,null,null,null,null,null,null,null,null,null,null,null,null,null,null,null,null,null,null,null,null,null,null,null,0,{"$f":"'Product Info'!F47*('Daily Info (May)'!AI46)","v":0},null,null,{"$f":"AI46*('Product Info'!H47)","v":0},{"$f":"AI46*('Product Info'!M47+'Product Info'!P47+'Product Info'!S47+'Product Info'!V47+'Product Info'!Y47+'Product Info'!AB47+'Product Info'!AE47+'Product Info'!AH47+'Product Info'!AK47+'Product Info'!AN47+'Product Info'!AQ47+'Product Info'!AT47+'Product Info'!AW47+'Product Info'!AZ47+'Product Info'!BC47+'Product Info'!BF47+'Product Info'!BI47+'Product Info'!BL47+'Product Info'!BO47+'Product Info'!BR47+'Product Info'!BU47+'Product Info'!BX47+'Product Info'!CA47+'Product Info'!CD47+'Product Info'!CG47+'Product Info'!CJ47+'Product Info'!CM47+'Product Info'!CP47+'Product Info'!CS47+'Product Info'!CV47+'Product Info'!CY47+'Product Info'!DB47+'Product Info'!DE47+'Product Info'!DH47+'Product Info'!DK47+'Product Info'!DN47+'Product Info'!DQ47+'Product Info'!DT47+'Product Info'!DW47+'Product Info'!DZ47+'Product Info'!EC47+'Product Info'!EF47+'Product Info'!EI47+'Product Info'!EL47+'Product Info'!EO47+'Product Info'!ER47+'Product Info'!EU47+'Product Info'!EX47+'Product Info'!FA47+'Product Info'!FD47)","v":0},{"$f":"AI46*('Product Info'!M47)","v":0},{"$f":"AI46*'Product Info'!P47","v":0},{"$f":"AI46*'Product Info'!S47","v":0},{"$f":"AI46*'Product Info'!V47","v":0},{"$f":"AI46*'Product Info'!Y47","v":0},{"$f":"AI46*'Product Info'!AB47","v":0},{"$f":"AI46*'Product Info'!AE47","v":0},{"$f":"AI46*'Product Info'!AH47","v":0},{"$f":"AI46*'Product Info'!AK47","v":0},{"$f":"AI46*'Product Info'!AN47","v":0},{"$f":"AI46*'Product Info'!AQ47","v":0},{"$f":"AI46*'Product Info'!AT47","v":0},{"$f":"AI46*'Product Info'!AW47","v":0},{"$f":"AI46*'Product Info'!AZ47","v":0},{"$f":"AI46*'Product Info'!BC47","v":0},{"$f":"AI46*'Product Info'!BF47","v":0},{"$f":"AI46*'Product Info'!BI47","v":0},{"$f":"AI46*'Product Info'!BL47","v":0},{"$f":"AI46*'Product Info'!BO47","v":0},{"$f":"AI46*'Product Info'!BR47","v":0},{"$f":"AI46*'Product Info'!BU47","v":0},{"$f":"AI46*'Product Info'!BX47","v":0}]
[{"$f":"'Product Info'!A48","v":0},{"$f":"'Product Info'!B48","v":0},{"$f":"'Product Info'!C48","v":0},null,null,null,null,null,null,null,null,null,null,null,null,null,null,null,null,null,null,null,null,null,null,null,null,null,null,null,null,null,null,null,0,{"$f":"'Product Info'!F48*('Daily Info (May)'!AI47)","v":0},null,null,{"$f":"AI47*('Product Info'!H48)","v":0},{"$f":"AI47*('Product Info'!M48+'Product Info'!P48+'Product Info'!S48+'Product Info'!V48+'Product Info'!Y48+'Product Info'!AB48+'Product Info'!AE48+'Product Info'!AH48+'Product Info'!AK48+'Product Info'!AN48+'Product Info'!AQ48+'Product Info'!AT48+'Product Info'!AW48+'Product Info'!AZ48+'Product Info'!BC48+'Product Info'!BF48+'Product Info'!BI48+'Product Info'!BL48+'Product Info'!BO48+'Product Info'!BR48+'Product Info'!BU48+'Product Info'!BX48+'Product Info'!CA48+'Product Info'!CD48+'Product Info'!CG48+'Product Info'!CJ48+'Product Info'!CM48+'Product Info'!CP48+'Product Info'!CS48+'Product Info'!CV48+'Product Info'!CY48+'Product Info'!DB48+'Product Info'!DE48+'Product Info'!DH48+'Product Info'!DK48+'Product Info'!DN48+'Product Info'!DQ48+'Product Info'!DT48+'Product Info'!DW48+'Product Info'!DZ48+'Product Info'!EC48+'Product Info'!EF48+'Product Info'!EI48+'Product Info'!EL48+'Product Info'!EO48+'Product Info'!ER48+'Product Info'!EU48+'Product Info'!EX48+'Product Info'!FA48+'Product Info'!FD48)","v":0},{"$f":"AI47*('Product Info'!M48)","v":0},{"$f":"AI47*'Product Info'!P48","v":0},{"$f":"AI47*'Product Info'!S48","v":0},{"$f":"AI47*'Product Info'!V48","v":0},{"$f":"AI47*'Product Info'!Y48","v":0},{"$f":"AI47*'Product Info'!AB48","v":0},{"$f":"AI47*'Product Info'!AE48","v":0},{"$f":"AI47*'Product Info'!AH48","v":0},{"$f":"AI47*'Product Info'!AK48","v":0},{"$f":"AI47*'Product Info'!AN48","v":0},{"$f":"AI47*'Product Info'!AQ48","v":0},{"$f":"AR47*'Product Info'!AF48","v":0},{"$f":"AI47*'Product Info'!AW48","v":0},{"$f":"AI47*'Product Info'!AZ48","v":0},{"$f":"AI47*'Product Info'!BC48","v":0},{"$f":"AI47*'Product Info'!BF48","v":0},{"$f":"AI47*'Product Info'!BI48","v":0},{"$f":"AI47*'Product Info'!BL48","v":0},{"$f":"AI47*'Product Info'!BO48","v":0},{"$f":"AI47*'Product Info'!BR48","v":0},{"$f":"AI47*'Product Info'!BU48","v":0},{"$f":"AI47*'Product Info'!BX48","v":0}]
[{"$f":"'Product Info'!A49","v":0},{"$f":"'Product Info'!B49","v":0},{"$f":"'Product Info'!C49","v":0},null,null,null,null,null,null,null,null,null,null,null,null,null,null,null,null,null,null,null,null,null,null,null,null,null,null,null,null,null,null,null,0,{"$f":"'Product Info'!F49*('Daily Info (May)'!AI48)","v":0},null,null,{"$f":"AI48*('Product Info'!H49)","v":0},{"$f":"AI48*('Product Info'!M49+'Product Info'!P49+'Product Info'!S49+'Product Info'!V49+'Product Info'!Y49+'Product Info'!AB49+'Product Info'!AE49+'Product Info'!AH49+'Product Info'!AK49+'Product Info'!AN49+'Product Info'!AQ49+'Product Info'!AT49+'Product Info'!AW49+'Product Info'!AZ49+'Product Info'!BC49+'Product Info'!BF49+'Product Info'!BI49+'Product Info'!BL49+'Product Info'!BO49+'Product Info'!BR49+'Product Info'!BU49+'Product Info'!BX49+'Product Info'!CA49+'Product Info'!CD49+'Product Info'!CG49+'Product Info'!CJ49+'Product Info'!CM49+'Product Info'!CP49+'Product Info'!CS49+'Product Info'!CV49+'Product Info'!CY49+'Product Info'!DB49+'Product Info'!DE49+'Product Info'!DH49+'Product Info'!DK49+'Product Info'!DN49+'Product Info'!DQ49+'Product Info'!DT49+'Product Info'!DW49+'Product Info'!DZ49+'Product Info'!EC49+'Product Info'!EF49+'Product Info'!EI49+'Product Info'!EL49+'Product Info'!EO49+'Product Info'!ER49+'Product Info'!EU49+'Product Info'!EX49+'Product Info'!FA49+'Product Info'!FD49)","v":0},{"$f":"AI48*('Product Info'!M49)","v":0},{"$f":"AI48*'Product Info'!P49","v":0},{"$f":"AI48*'Product Info'!S49","v":0},{"$f":"AI48*'Product Info'!V49","v":0},{"$f":"AI48*'Product Info'!Y49","v":0},{"$f":"AI48*'Product Info'!AB49","v":0},{"$f":"AI48*'Product Info'!AE49","v":0},{"$f":"AI48*'Product Info'!AH49","v":0},{"$f":"AI48*'Product Info'!AK49","v":0},{"$f":"AI48*'Product Info'!AN49","v":0},{"$f":"AI48*'Product Info'!AQ49","v":0},{"$f":"AR48*'Product Info'!AF49","v":0},{"$f":"AI48*'Product Info'!AW49","v":0},{"$f":"AI48*'Product Info'!AZ49","v":0},{"$f":"AI48*'Product Info'!BC49","v":0},{"$f":"AI48*'Product Info'!BF49","v":0},{"$f":"AI48*'Product Info'!BI49","v":0},{"$f":"AI48*'Product Info'!BL49","v":0},{"$f":"AI48*'Product Info'!BO49","v":0},{"$f":"AI48*'Product Info'!BR49","v":0},{"$f":"AI48*'Product Info'!BU49","v":0},{"$f":"AI48*'Product Info'!BX49","v":0}]
[{"$f":"'Product Info'!A50","v":0},{"$f":"'Product Info'!B50","v":0},{"$f":"'Product Info'!C50","v":0},null,null,null,null,null,null,null,null,null,null,null,null,null,null,null,null,null,null,null,null,null,null,null,null,null,null,null,null,null,null,null,0,{"$f":"'Product Info'!F50*('Daily Info (May)'!AI49)","v":0},null,null,{"$f":"AI49*('Product Info'!H50)","v":0},{"$f":"AI49*('Product Info'!M50+'Product Info'!P50+'Product Info'!S50+'Product Info'!V50+'Product Info'!Y50+'Product Info'!AB50+'Product Info'!AE50+'Product Info'!AH50+'Product Info'!AK50+'Product Info'!AN50+'Product Info'!AQ50+'Product Info'!AT50+'Product Info'!AW50+'Product Info'!AZ50+'Product Info'!BC50+'Product Info'!BF50+'Product Info'!BI50+'Product Info'!BL50+'Product Info'!BO50+'Product Info'!BR50+'Product Info'!BU50+'Product Info'!BX50+'Product Info'!CA50+'Product Info'!CD50+'Product Info'!CG50+'Product Info'!CJ50+'Product Info'!CM50+'Product Info'!CP50+'Product Info'!CS50+'Product Info'!CV50+'Product Info'!CY50+'Product Info'!DB50+'Product Info'!DE50+'Product Info'!DH50+'Product Info'!DK50+'Product Info'!DN50+'Product Info'!DQ50+'Product Info'!DT50+'Product Info'!DW50+'Product Info'!DZ50+'Product Info'!EC50+'Product Info'!EF50+'Product Info'!EI50+'Product Info'!EL50+'Product Info'!EO50+'Product Info'!ER50+'Product Info'!EU50+'Product Info'!EX50+'Product Info'!FA50+'Product Info'!FD50)","v":0},{"$f":"AI49*('Product Info'!M50)","v":0},{"$f":"AI49*'Product Info'!P50","v":0},{"$f":"AI49*'Product Info'!S50","v":0},{"$f":"AI49*'Product Info'!V50","v":0},{"$f":"AI49*'Product Info'!Y50","v":0},{"$f":"AI49*'Product Info'!AB50","v":0},{"$f":"AI49*'Product Info'!AE50","v":0},{"$f":"AI49*'Product Info'!AH50","v":0},{"$f":"AI49*'Product Info'!AK50","v":0},{"$f":"AI49*'Product Info'!AN50","v":0},{"$f":"AI49*'Product Info'!AQ50","v":0},{"$f":"AI49*'Product Info'!AT50","v":0},{"$f":"AI49*'Product Info'!AW50","v":0},{"$f":"AI49*'Product Info'!AZ50","v":0},{"$f":"AI49*'Product Info'!BC50","v":0},{"$f":"AI49*'Product Info'!BF50","v":0},{"$f":"AI49*'Product Info'!BI50","v":0},{"$f":"AI49*'Product Info'!BL50","v":0},{"$f":"AI49*'Product Info'!BO50","v":0},{"$f":"AI49*'Product Info'!BR50","v":0},{"$f":"AI49*'Product Info'!BU50","v":0},{"$f":"AI49*'Product Info'!BX50","v":0}]
[{"$f":"'Product Info'!A51","v":0},{"$f":"'Product Info'!B51","v":0},{"$f":"'Product Info'!C51","v":0},null,null,null,null,null,null,null,null,null,null,null,null,null,null,null,null,null,null,null,null,null,null,null,null,null,null,null,null,null,null,null,0,{"$f":"'Product Info'!F51*('Daily Info (May)'!AI50)","v":0},null,null,{"$f":"AI50*('Product Info'!H51)","v":0},{"$f":"AI50*('Product Info'!M51+'Product Info'!P51+'Product Info'!S51+'Product Info'!V51+'Product Info'!Y51+'Product Info'!AB51+'Product Info'!AE51+'Product Info'!AH51+'Product Info'!AK51+'Product Info'!AN51+'Product Info'!AQ51+'Product Info'!AT51+'Product Info'!AW51+'Product Info'!AZ51+'Product Info'!BC51+'Product Info'!BF51+'Product Info'!BI51+'Product Info'!BL51+'Product Info'!BO51+'Product Info'!BR51+'Product Info'!BU51+'Product Info'!BX51+'Product Info'!CA51+'Product Info'!CD51+'Product Info'!CG51+'Product Info'!CJ51+'Product Info'!CM51+'Product Info'!CP51+'Product Info'!CS51+'Product Info'!CV51+'Product Info'!CY51+'Product Info'!DB51+'Product Info'!DE51+'Product Info'!DH51+'Product Info'!DK51+'Product Info'!DN51+'Product Info'!DQ51+'Product Info'!DT51+'Product Info'!DW51+'Product Info'!DZ51+'Product Info'!EC51+'Product Info'!EF51+'Product Info'!EI51+'Product Info'!EL51+'Product Info'!EO51+'Product Info'!ER51+'Product Info'!EU51+'Product Info'!EX51+'Product Info'!FA51+'Product Info'!FD51)","v":0},{"$f":"AI50*('Product Info'!M51)","v":0},{"$f":"AI50*'Product Info'!P51","v":0},{"$f":"AI50*'Product Info'!S51","v":0},{"$f":"AI50*'Product Info'!V51","v":0},{"$f":"AI50*'Product Info'!Y51","v":0},{"$f":"AI50*'Product Info'!AB51","v":0},{"$f":"AI50*'Product Info'!AE51","v":0},{"$f":"AI50*'Product Info'!AH51","v":0},{"$f":"AI50*'Product Info'!AK51","v":0},{"$f":"AI50*'Product Info'!AN51","v":0},{"$f":"AI50*'Product Info'!AQ51","v":0},{"$f":"AI50*'Product Info'!AT51","v":0},{"$f":"AI50*'Product Info'!AW51","v":0},{"$f":"AI50*'Product Info'!AZ51","v":0},{"$f":"AI50*'Product Info'!BC51","v":0},{"$f":"AI50*'Product Info'!BF51","v":0},{"$f":"AI50*'Product Info'!BI51","v":0},{"$f":"AI50*'Product Info'!BL51","v":0},{"$f":"AI50*'Product Info'!BO51","v":0},{"$f":"AI50*'Product Info'!BR51","v":0},{"$f":"AI50*'Product Info'!BU51","v":0},{"$f":"AI50*'Product Info'!BX51","v":0}]
[{"$f":"'Product Info'!A52","v":0},{"$f":"'Product Info'!B52","v":0},{"$f":"'Product Info'!C52","v":0},null,null,null,null,null,null,null,null,null,null,null,null,null,null,null,null,null,null,null,null,null,null,null,null,null,null,null,null,null,null,null,0,{"$f":"'Product Info'!F52*('Daily Info (May)'!AI51)","v":0},null,null,{"$f":"AI51*('Product Info'!H52)","v":0},{"$f":"AI51*('Product Info'!M52+'Product Info'!P52+'Product Info'!S52+'Product Info'!V52+'Product Info'!Y52+'Product Info'!AB52+'Product Info'!AE52+'Product Info'!AH52+'Product Info'!AK52+'Product Info'!AN52+'Product Info'!AQ52+'Product Info'!AT52+'Product Info'!AW52+'Product Info'!AZ52+'Product Info'!BC52+'Product Info'!BF52+'Product Info'!BI52+'Product Info'!BL52+'Product Info'!BO52+'Product Info'!BR52+'Product Info'!BU52+'Product Info'!BX52+'Product Info'!CA52+'Product Info'!CD52+'Product Info'!CG52+'Product Info'!CJ52+'Product Info'!CM52+'Product Info'!CP52+'Product Info'!CS52+'Product Info'!CV52+'Product Info'!CY52+'Product Info'!DB52+'Product Info'!DE52+'Product Info'!DH52+'Product Info'!DK52+'Product Info'!DN52+'Product Info'!DQ52+'Product Info'!DT52+'Product Info'!DW52+'Product Info'!DZ52+'Product Info'!EC52+'Product Info'!EF52+'Product Info'!EI52+'Product Info'!EL52+'Product Info'!EO52+'Product Info'!ER52+'Product Info'!EU52+'Product Info'!EX52+'Product Info'!FA52+'Product Info'!FD52)","v":0},{"$f":"AI51*('Product Info'!M52)","v":0},{"$f":"AI51*'Product Info'!P52","v":0},{"$f":"AI51*'Product Info'!S52","v":0},{"$f":"AI51*'Product Info'!V52","v":0},{"$f":"AI51*'Product Info'!Y52","v":0},{"$f":"AI51*'Product Info'!AB52","v":0},{"$f":"AI51*'Product Info'!AE52","v":0},{"$f":"AI51*'Product Info'!AH52","v":0},{"$f":"AI51*'Product Info'!AK52","v":0},{"$f":"AI51*'Product Info'!AN52","v":0},{"$f":"AI51*'Product Info'!AQ52","v":0},{"$f":"AI51*'Product Info'!AT52","v":0},{"$f":"AI51*'Product Info'!AW52","v":0},{"$f":"AI51*'Product Info'!AZ52","v":0},{"$f":"AI51*'Product Info'!BC52","v":0},{"$f":"AI51*'Product Info'!BF52","v":0},{"$f":"AI51*'Product Info'!BI52","v":0},{"$f":"AI51*'Product Info'!BL52","v":0},{"$f":"AI51*'Product Info'!BO52","v":0},{"$f":"AI51*'Product Info'!BR52","v":0},{"$f":"AI51*'Product Info'!BU52","v":0},{"$f":"AI51*'Product Info'!BX52","v":0}]
[{"$f":"'Product Info'!A53","v":0},{"$f":"'Product Info'!B53","v":0},{"$f":"'Product Info'!C53","v":0},null,null,null,null,null,null,null,null,null,null,null,null,null,null,null,null,null,null,null,null,null,null,null,null,null,null,null,null,null,null,null,0,{"$f":"'Product Info'!F53*('Daily Info (May)'!AI52)","v":0},null,null,{"$f":"AI52*('Product Info'!H53)","v":0},{"$f":"AI52*('Product Info'!M53+'Product Info'!P53+'Product Info'!S53+'Product Info'!V53+'Product Info'!Y53+'Product Info'!AB53+'Product Info'!AE53+'Product Info'!AH53+'Product Info'!AK53+'Product Info'!AN53+'Product Info'!AQ53+'Product Info'!AT53+'Product Info'!AW53+'Product Info'!AZ53+'Product Info'!BC53+'Product Info'!BF53+'Product Info'!BI53+'Product Info'!BL53+'Product Info'!BO53+'Product Info'!BR53+'Product Info'!BU53+'Product Info'!BX53+'Product Info'!CA53+'Product Info'!CD53+'Product Info'!CG53+'Product Info'!CJ53+'Product Info'!CM53+'Product Info'!CP53+'Product Info'!CS53+'Product Info'!CV53+'Product Info'!CY53+'Product Info'!DB53+'Product Info'!DE53+'Product Info'!DH53+'Product Info'!DK53+'Product Info'!DN53+'Product Info'!DQ53+'Product Info'!DT53+'Product Info'!DW53+'Product Info'!DZ53+'Product Info'!EC53+'Product Info'!EF53+'Product Info'!EI53+'Product Info'!EL53+'Product Info'!EO53+'Product Info'!ER53+'Product Info'!EU53+'Product Info'!EX53+'Product Info'!FA53+'Product Info'!FD53)","v":0},{"$f":"AI52*('Product Info'!M53)","v":0},{"$f":"AI52*'Product Info'!P53","v":0},{"$f":"AI52*'Product Info'!S53","v":0},{"$f":"AI52*'Product Info'!V53","v":0},{"$f":"AI52*'Product Info'!Y53","v":0},{"$f":"AI52*'Product Info'!AB53","v":0},{"$f":"AI52*'Product Info'!AE53","v":0},{"$f":"AI52*'Product Info'!AH53","v":0},{"$f":"AI52*'Product Info'!AK53","v":0},{"$f":"AI52*'Product Info'!AN53","v":0},{"$f":"AI52*'Product Info'!AQ53","v":0},{"$f":"AI52*'Product Info'!AT53","v":0},{"$f":"AI52*'Product Info'!AW53","v":0},{"$f":"AI52*'Product Info'!AZ53","v":0},{"$f":"AI52*'Product Info'!BC53","v":0},{"$f":"AI52*'Product Info'!BF53","v":0},{"$f":"AI52*'Product Info'!BI53","v":0},{"$f":"AI52*'Product Info'!BL53","v":0},{"$f":"AI52*'Product Info'!BO53","v":0},{"$f":"AI52*'Product Info'!BR53","v":0},{"$f":"AI52*'Product Info'!BU53","v":0},{"$f":"AI52*'Product Info'!BX53","v":0}]
[{"$f":"'Product Info'!A54","v":0},{"$f":"'Product Info'!B54","v":0},{"$f":"'Product Info'!C54","v":0},null,null,null,null,null,null,null,null,null,null,null,null,null,null,null,null,null,null,null,null,null,null,null,null,null,null,null,null,null,null,null,0,{"$f":"'Product Info'!F54*('Daily Info (May)'!AI53)","v":0},null,null,{"$f":"AI53*('Product Info'!H54)","v":0},{"$f":"AI53*('Product Info'!M54+'Product Info'!P54+'Product Info'!S54+'Product Info'!V54+'Product Info'!Y54+'Product Info'!AB54+'Product Info'!AE54+'Product Info'!AH54+'Product Info'!AK54+'Product Info'!AN54+'Product Info'!AQ54+'Product Info'!AT54+'Product Info'!AW54+'Product Info'!AZ54+'Product Info'!BC54+'Product Info'!BF54+'Product Info'!BI54+'Product Info'!BL54+'Product Info'!BO54+'Product Info'!BR54+'Product Info'!BU54+'Product Info'!BX54+'Product Info'!CA54+'Product Info'!CD54+'Product Info'!CG54+'Product Info'!CJ54+'Product Info'!CM54+'Product Info'!CP54+'Product Info'!CS54+'Product Info'!CV54+'Product Info'!CY54+'Product Info'!DB54+'Product Info'!DE54+'Product Info'!DH54+'Product Info'!DK54+'Product Info'!DN54+'Product Info'!DQ54+'Product Info'!DT54+'Product Info'!DW54+'Product Info'!DZ54+'Product Info'!EC54+'Product Info'!EF54+'Product Info'!EI54+'Product Info'!EL54+'Product Info'!EO54+'Product Info'!ER54+'Product Info'!EU54+'Product Info'!EX54+'Product Info'!FA54+'Product Info'!FD54)","v":0},{"$f":"AI53*('Product Info'!M54)","v":0},{"$f":"AI53*'Product Info'!P54","v":0},{"$f":"AI53*'Product Info'!S54","v":0},{"$f":"AI53*'Product Info'!V54","v":0},{"$f":"AI53*'Product Info'!Y54","v":0},{"$f":"AI53*'Product Info'!AB54","v":0},{"$f":"AI53*'Product Info'!AE54","v":0},{"$f":"AI53*'Product Info'!AH54","v":0},{"$f":"AI53*'Product Info'!AK54","v":0},{"$f":"AI53*'Product Info'!AN54","v":0},{"$f":"AI53*'Product Info'!AQ54","v":0},{"$f":"AI53*'Product Info'!AT54","v":0},{"$f":"AI53*'Product Info'!AW54","v":0},{"$f":"AI53*'Product Info'!AZ54","v":0},{"$f":"AI53*'Product Info'!BC54","v":0},{"$f":"AI53*'Product Info'!BF54","v":0},{"$f":"AI53*'Product Info'!BI54","v":0},{"$f":"AI53*'Product Info'!BL54","v":0},{"$f":"AI53*'Product Info'!BO54","v":0},{"$f":"AI53*'Product Info'!BR54","v":0},{"$f":"AI53*'Product Info'!BU54","v":0},{"$f":"AI53*'Product Info'!BX54","v":0}]
[{"$f":"'Product Info'!A55","v":0},{"$f":"'Product Info'!B55","v":0},{"$f":"'Product Info'!C55","v":0},null,null,null,null,null,null,null,null,null,null,null,null,null,null,null,null,null,null,null,null,null,null,null,null,null,null,null,null,null,null,null,0,{"$f":"'Product Info'!F55*('Daily Info (May)'!AI54)","v":0},null,null,{"$f":"AI54*('Product Info'!H55)","v":0},{"$f":"AI54*('Product Info'!M55+'Product Info'!P55+'Product Info'!S55+'Product Info'!V55+'Product Info'!Y55+'Product Info'!AB55+'Product Info'!AE55+'Product Info'!AH55+'Product Info'!AK55+'Product Info'!AN55+'Product Info'!AQ55+'Product Info'!AT55+'Product Info'!AW55+'Product Info'!AZ55+'Product Info'!BC55+'Product Info'!BF55+'Product Info'!BI55+'Product Info'!BL55+'Product Info'!BO55+'Product Info'!BR55+'Product Info'!BU55+'Product Info'!BX55+'Product Info'!CA55+'Product Info'!CD55+'Product Info'!CG55+'Product Info'!CJ55+'Product Info'!CM55+'Product Info'!CP55+'Product Info'!CS55+'Product Info'!CV55+'Product Info'!CY55+'Product Info'!DB55+'Product Info'!DE55+'Product Info'!DH55+'Product Info'!DK55+'Product Info'!DN55+'Product Info'!DQ55+'Product Info'!DT55+'Product Info'!DW55+'Product Info'!DZ55+'Product Info'!EC55+'Product Info'!EF55+'Product Info'!EI55+'Product Info'!EL55+'Product Info'!EO55+'Product Info'!ER55+'Product Info'!EU55+'Product Info'!EX55+'Product Info'!FA55+'Product Info'!FD55)","v":0},{"$f":"AI54*('Product Info'!M55)","v":0},{"$f":"AI54*'Product Info'!P55","v":0},{"$f":"AI54*'Product Info'!S55","v":0},{"$f":"AI54*'Product Info'!V55","v":0},{"$f":"AI54*'Product Info'!Y55","v":0},{"$f":"AI54*'Product Info'!AB55","v":0},{"$f":"AI54*'Product Info'!AE55","v":0},{"$f":"AI54*'Product Info'!AH55","v":0},{"$f":"AI54*'Product Info'!AK55","v":0},{"$f":"AI54*'Product Info'!AN55","v":0},{"$f":"AI54*'Product Info'!AQ55","v":0},{"$f":"AI54*'Product Info'!AT55","v":0},{"$f":"AI54*'Product Info'!AW55","v":0},{"$f":"AI54*'Product Info'!AZ55","v":0},{"$f":"AI54*'Product Info'!BC55","v":0},{"$f":"AI54*'Product Info'!BF55","v":0},{"$f":"AI54*'Product Info'!BI55","v":0},{"$f":"AI54*'Product Info'!BL55","v":0},{"$f":"AI54*'Product Info'!BO55","v":0},{"$f":"AI54*'Product Info'!BR55","v":0},{"$f":"AI54*'Product Info'!BU55","v":0},{"$f":"AI54*'Product Info'!BX55","v":0}]
[{"$f":"'Product Info'!A56","v":0},{"$f":"'Product Info'!B56","v":0},{"$f":"'Product Info'!C56","v":0},null,null,null,null,null,null,null,null,null,null,null,null,null,null,null,null,null,null,null,null,null,null,null,null,null,null,null,null,null,null,null,0,{"$f":"'Product Info'!F56*('Daily Info (May)'!AI55)","v":0},null,null,{"$f":"AI55*('Product Info'!H56)","v":0},{"$f":"AI55*('Product Info'!M56+'Product Info'!P56+'Product Info'!S56+'Product Info'!V56+'Product Info'!Y56+'Product Info'!AB56+'Product Info'!AE56+'Product Info'!AH56+'Product Info'!AK56+'Product Info'!AN56+'Product Info'!AQ56+'Product Info'!AT56+'Product Info'!AW56+'Product Info'!AZ56+'Product Info'!BC56+'Product Info'!BF56+'Product Info'!BI56+'Product Info'!BL56+'Product Info'!BO56+'Product Info'!BR56+'Product Info'!BU56+'Product Info'!BX56+'Product Info'!CA56+'Product Info'!CD56+'Product Info'!CG56+'Product Info'!CJ56+'Product Info'!CM56+'Product Info'!CP56+'Product Info'!CS56+'Product Info'!CV56+'Product Info'!CY56+'Product Info'!DB56+'Product Info'!DE56+'Product Info'!DH56+'Product Info'!DK56+'Product Info'!DN56+'Product Info'!DQ56+'Product Info'!DT56+'Product Info'!DW56+'Product Info'!DZ56+'Product Info'!EC56+'Product Info'!EF56+'Product Info'!EI56+'Product Info'!EL56+'Product Info'!EO56+'Product Info'!ER56+'Product Info'!EU56+'Product Info'!EX56+'Product Info'!FA56+'Product Info'!FD56)","v":0},{"$f":"AI55*('Product Info'!M56)","v":0},{"$f":"AI55*'Product Info'!P56","v":0},{"$f":"AI55*'Product Info'!S56","v":0},{"$f":"AI55*'Product Info'!V56","v":0},{"$f":"AI55*'Product Info'!Y56","v":0},{"$f":"AI55*'Product Info'!AB56","v":0},{"$f":"AI55*'Product Info'!AE56","v":0},{"$f":"AI55*'Product Info'!AH56","v":0},{"$f":"AI55*'Product Info'!AK56","v":0},{"$f":"AI55*'Product Info'!AN56","v":0},{"$f":"AI55*'Product Info'!AQ56","v":0},{"$f":"AI55*'Product Info'!AT56","v":0},{"$f":"AI55*'Product Info'!AW56","v":0},{"$f":"AI55*'Product Info'!AZ56","v":0},{"$f":"AI55*'Product Info'!BC56","v":0},{"$f":"AI55*'Product Info'!BF56","v":0},{"$f":"AI55*'Product Info'!BI56","v":0},{"$f":"AI55*'Product Info'!BL56","v":0},{"$f":"AI55*'Product Info'!BO56","v":0},{"$f":"AI55*'Product Info'!BR56","v":0},{"$f":"AI55*'Product Info'!BU56","v":0},{"$f":"AI55*'Product Info'!BX56","v":0}]
[{"$f":"'Product Info'!A57","v":0},{"$f":"'Product Info'!B57","v":0},{"$f":"'Product Info'!C57","v":0},null,null,null,null,null,null,null,null,null,null,null,null,null,null,null,null,null,null,null,null,null,null,null,null,null,null,null,null,null,null,null,0,{"$f":"'Product Info'!F57*('Daily Info (May)'!AI56)","v":0},null,null,{"$f":"AI56*('Product Info'!H57)","v":0},{"$f":"AI56*('Product Info'!M57+'Product Info'!P57+'Product Info'!S57+'Product Info'!V57+'Product Info'!Y57+'Product Info'!AB57+'Product Info'!AE57+'Product Info'!AH57+'Product Info'!AK57+'Product Info'!AN57+'Product Info'!AQ57+'Product Info'!AT57+'Product Info'!AW57+'Product Info'!AZ57+'Product Info'!BC57+'Product Info'!BF57+'Product Info'!BI57+'Product Info'!BL57+'Product Info'!BO57+'Product Info'!BR57+'Product Info'!BU57+'Product Info'!BX57+'Product Info'!CA57+'Product Info'!CD57+'Product Info'!CG57+'Product Info'!CJ57+'Product Info'!CM57+'Product Info'!CP57+'Product Info'!CS57+'Product Info'!CV57+'Product Info'!CY57+'Product Info'!DB57+'Product Info'!DE57+'Product Info'!DH57+'Product Info'!DK57+'Product Info'!DN57+'Product Info'!DQ57+'Product Info'!DT57+'Product Info'!DW57+'Product Info'!DZ57+'Product Info'!EC57+'Product Info'!EF57+'Product Info'!EI57+'Product Info'!EL57+'Product Info'!EO57+'Product Info'!ER57+'Product Info'!EU57+'Product Info'!EX57+'Product Info'!FA57+'Product Info'!FD57)","v":0},{"$f":"AI56*('Product Info'!M57)","v":0},{"$f":"AI56*'Product Info'!P57","v":0},{"$f":"AI56*'Product Info'!S57","v":0},{"$f":"AI56*'Product Info'!V57","v":0},{"$f":"AI56*'Product Info'!Y57","v":0},{"$f":"AI56*'Product Info'!AB57","v":0},{"$f":"AI56*'Product Info'!AE57","v":0},{"$f":"AI56*'Product Info'!AH57","v":0},{"$f":"AI56*'Product Info'!AK57","v":0},{"$f":"AI56*'Product Info'!AN57","v":0},{"$f":"AI56*'Product Info'!AQ57","v":0},{"$f":"AI56*'Product Info'!AT57","v":0},{"$f":"AI56*'Product Info'!AW57","v":0},{"$f":"AI56*'Product Info'!AZ57","v":0},{"$f":"AI56*'Product Info'!BC57","v":0},{"$f":"AI56*'Product Info'!BF57","v":0},{"$f":"AI56*'Product Info'!BI57","v":0},{"$f":"AI56*'Product Info'!BL57","v":0},{"$f":"AI56*'Product Info'!BO57","v":0},{"$f":"AI56*'Product Info'!BR57","v":0},{"$f":"AI56*'Product Info'!BU57","v":0},{"$f":"AI56*'Product Info'!BX57","v":0}]
[{"$f":"'Product Info'!A58","v":0},{"$f":"'Product Info'!B58","v":0},{"$f":"'Product Info'!C58","v":0},null,null,null,null,null,null,null,null,null,null,null,null,null,null,null,null,null,null,null,null,null,null,null,null,null,null,null,null,null,null,null,0,{"$f":"'Product Info'!F58*('Daily Info (May)'!AI57)","v":0},null,null,{"$f":"AI57*('Product Info'!H58)","v":0},{"$f":"AI57*('Product Info'!M58+'Product Info'!P58+'Product Info'!S58+'Product Info'!V58+'Product Info'!Y58+'Product Info'!AB58+'Product Info'!AE58+'Product Info'!AH58+'Product Info'!AK58+'Product Info'!AN58+'Product Info'!AQ58+'Product Info'!AT58+'Product Info'!AW58+'Product Info'!AZ58+'Product Info'!BC58+'Product Info'!BF58+'Product Info'!BI58+'Product Info'!BL58+'Product Info'!BO58+'Product Info'!BR58+'Product Info'!BU58+'Product Info'!BX58+'Product Info'!CA58+'Product Info'!CD58+'Product Info'!CG58+'Product Info'!CJ58+'Product Info'!CM58+'Product Info'!CP58+'Product Info'!CS58+'Product Info'!CV58+'Product Info'!CY58+'Product Info'!DB58+'Product Info'!DE58+'Product Info'!DH58+'Product Info'!DK58+'Product Info'!DN58+'Product Info'!DQ58+'Product Info'!DT58+'Product Info'!DW58+'Product Info'!DZ58+'Product Info'!EC58+'Product Info'!EF58+'Product Info'!EI58+'Product Info'!EL58+'Product Info'!EO58+'Product Info'!ER58+'Product Info'!EU58+'Product Info'!EX58+'Product Info'!FA58+'Product Info'!FD58)","v":0},{"$f":"AI57*('Product Info'!M58)","v":0},{"$f":"AI57*'Product Info'!P58","v":0},{"$f":"AI57*'Product Info'!S58","v":0},{"$f":"AI57*'Product Info'!V58","v":0},{"$f":"AI57*'Product Info'!Y58","v":0},{"$f":"AI57*'Product Info'!AB58","v":0},{"$f":"AI57*'Product Info'!AE58","v":0},{"$f":"AI57*'Product Info'!AH58","v":0},{"$f":"AI57*'Product Info'!AK58","v":0},{"$f":"AI57*'Product Info'!AN58","v":0},{"$f":"AI57*'Product Info'!AQ58","v":0},{"$f":"AI57*'Product Info'!AT58","v":0},{"$f":"AI57*'Product Info'!AW58","v":0},{"$f":"AI57*'Product Info'!AZ58","v":0},{"$f":"AI57*'Product Info'!BC58","v":0},{"$f":"AI57*'Product Info'!BF58","v":0},{"$f":"AI57*'Product Info'!BI58","v":0},{"$f":"AI57*'Product Info'!BL58","v":0},{"$f":"AI57*'Product Info'!BO58","v":0},{"$f":"AI57*'Product Info'!BR58","v":0},{"$f":"AI57*'Product Info'!BU58","v":0},{"$f":"AI57*'Product Info'!BX58","v":0}]
[{"$f":"'Product Info'!A59","v":0},{"$f":"'Product Info'!B59","v":0},{"$f":"'Product Info'!C59","v":0},null,null,null,null,null,null,null,null,null,null,null,null,null,null,null,null,null,null,null,null,null,null,null,null,null,null,null,null,null,null,null,0,{"$f":"'Product Info'!F59*('Daily Info (May)'!AI58)","v":0},null,null,{"$f":"AI58*('Product Info'!H59)","v":0},{"$f":"AI58*('Product Info'!M59+'Product Info'!P59+'Product Info'!S59+'Product Info'!V59+'Product Info'!Y59+'Product Info'!AB59+'Product Info'!AE59+'Product Info'!AH59+'Product Info'!AK59+'Product Info'!AN59+'Product Info'!AQ59+'Product Info'!AT59+'Product Info'!AW59+'Product Info'!AZ59+'Product Info'!BC59+'Product Info'!BF59+'Product Info'!BI59+'Product Info'!BL59+'Product Info'!BO59+'Product Info'!BR59+'Product Info'!BU59+'Product Info'!BX59+'Product Info'!CA59+'Product Info'!CD59+'Product Info'!CG59+'Product Info'!CJ59+'Product Info'!CM59+'Product Info'!CP59+'Product Info'!CS59+'Product Info'!CV59+'Product Info'!CY59+'Product Info'!DB59+'Product Info'!DE59+'Product Info'!DH59+'Product Info'!DK59+'Product Info'!DN59+'Product Info'!DQ59+'Product Info'!DT59+'Product Info'!DW59+'Product Info'!DZ59+'Product Info'!EC59+'Product Info'!EF59+'Product Info'!EI59+'Product Info'!EL59+'Product Info'!EO59+'Product Info'!ER59+'Product Info'!EU59+'Product Info'!EX59+'Product Info'!FA59+'Product Info'!FD59)","v":0},{"$f":"AI58*('Product Info'!M59)","v":0},{"$f":"AI58*'Product Info'!P59","v":0},{"$f":"AI58*'Product Info'!S59","v":0},{"$f":"AI58*'Product Info'!V59","v":0},{"$f":"AI58*'Product Info'!Y59","v":0},{"$f":"AI58*'Product Info'!AB59","v":0},{"$f":"AI58*'Product Info'!AE59","v":0},{"$f":"AI58*'Product Info'!AH59","v":0},{"$f":"AI58*'Product Info'!AK59","v":0},{"$f":"AI58*'Product Info'!AN59","v":0},{"$f":"AI58*'Product Info'!AQ59","v":0},{"$f":"AI58*'Product Info'!AT59","v":0},{"$f":"AI58*'Product Info'!AW59","v":0},{"$f":"AI58*'Product Info'!AZ59","v":0},{"$f":"AI58*'Product Info'!BC59","v":0},{"$f":"AI58*'Product Info'!BF59","v":0},{"$f":"AI58*'Product Info'!BI59","v":0},{"$f":"AI58*'Product Info'!BL59","v":0},{"$f":"AI58*'Product Info'!BO59","v":0},{"$f":"AI58*'Product Info'!BR59","v":0},{"$f":"AI58*'Product Info'!BU59","v":0},{"$f":"AI58*'Product Info'!BX59","v":0}]
[{"$f":"'Product Info'!A60","v":0},{"$f":"'Product Info'!B60","v":0},{"$f":"'Product Info'!C60","v":0},null,null,null,null,null,null,null,null,null,null,null,null,null,null,null,null,null,null,null,null,null,null,null,null,null,null,null,null,null,null,null,0,{"$f":"'Product Info'!F60*('Daily Info (May)'!AI59)","v":0},null,null,{"$f":"AI59*('Product Info'!H60)","v":0},{"$f":"AI59*('Product Info'!M60+'Product Info'!P60+'Product Info'!S60+'Product Info'!V60+'Product Info'!Y60+'Product Info'!AB60+'Product Info'!AE60+'Product Info'!AH60+'Product Info'!AK60+'Product Info'!AN60+'Product Info'!AQ60+'Product Info'!AT60+'Product Info'!AW60+'Product Info'!AZ60+'Product Info'!BC60+'Product Info'!BF60+'Product Info'!BI60+'Product Info'!BL60+'Product Info'!BO60+'Product Info'!BR60+'Product Info'!BU60+'Product Info'!BX60+'Product Info'!CA60+'Product Info'!CD60+'Product Info'!CG60+'Product Info'!CJ60+'Product Info'!CM60+'Product Info'!CP60+'Product Info'!CS60+'Product Info'!CV60+'Product Info'!CY60+'Product Info'!DB60+'Product Info'!DE60+'Product Info'!DH60+'Product Info'!DK60+'Product Info'!DN60+'Product Info'!DQ60+'Product Info'!DT60+'Product Info'!DW60+'Product Info'!DZ60+'Product Info'!EC60+'Product Info'!EF60+'Product Info'!EI60+'Product Info'!EL60+'Product Info'!EO60+'Product Info'!ER60+'Product Info'!EU60+'Product Info'!EX60+'Product Info'!FA60+'Product Info'!FD60)","v":0},{"$f":"AI59*('Product Info'!M60)","v":0},{"$f":"AI59*'Product Info'!P60","v":0},{"$f":"AI59*'Product Info'!S60","v":0},{"$f":"AI59*'Product Info'!V60","v":0},{"$f":"AI59*'Product Info'!Y60","v":0},{"$f":"AI59*'Product Info'!AB60","v":0},{"$f":"AI59*'Product Info'!AE60","v":0},{"$f":"AI59*'Product Info'!AH60","v":0},{"$f":"AI59*'Product Info'!AK60","v":0},{"$f":"AI59*'Product Info'!AN60","v":0},{"$f":"AI59*'Product Info'!AQ60","v":0},{"$f":"AI59*'Product Info'!AT60","v":0},{"$f":"AI59*'Product Info'!AW60","v":0},{"$f":"AI59*'Product Info'!AZ60","v":0},{"$f":"AI59*'Product Info'!BC60","v":0},{"$f":"AI59*'Product Info'!BF60","v":0},{"$f":"AI59*'Product Info'!BI60","v":0},{"$f":"AI59*'Product Info'!BL60","v":0},{"$f":"AI59*'Product Info'!BO60","v":0},{"$f":"AI59*'Product Info'!BR60","v":0},{"$f":"AI59*'Product Info'!BU60","v":0},{"$f":"AI59*'Product Info'!BX60","v":0}]
[{"$f":"'Product Info'!A61","v":0},{"$f":"'Product Info'!B61","v":0},{"$f":"'Product Info'!C61","v":0},null,null,null,null,null,null,null,null,null,null,null,null,null,null,null,null,null,null,null,null,null,null,null,null,null,null,null,null,null,null,null,0,{"$f":"'Product Info'!F61*('Daily Info (May)'!AI60)","v":0},null,null,{"$f":"AI60*('Product Info'!H61)","v":0},{"$f":"AI60*('Product Info'!M61+'Product Info'!P61+'Product Info'!S61+'Product Info'!V61+'Product Info'!Y61+'Product Info'!AB61+'Product Info'!AE61+'Product Info'!AH61+'Product Info'!AK61+'Product Info'!AN61+'Product Info'!AQ61+'Product Info'!AT61+'Product Info'!AW61+'Product Info'!AZ61+'Product Info'!BC61+'Product Info'!BF61+'Product Info'!BI61+'Product Info'!BL61+'Product Info'!BO61+'Product Info'!BR61+'Product Info'!BU61+'Product Info'!BX61+'Product Info'!CA61+'Product Info'!CD61+'Product Info'!CG61+'Product Info'!CJ61+'Product Info'!CM61+'Product Info'!CP61+'Product Info'!CS61+'Product Info'!CV61+'Product Info'!CY61+'Product Info'!DB61+'Product Info'!DE61+'Product Info'!DH61+'Product Info'!DK61+'Product Info'!DN61+'Product Info'!DQ61+'Product Info'!DT61+'Product Info'!DW61+'Product Info'!DZ61+'Product Info'!EC61+'Product Info'!EF61+'Product Info'!EI61+'Product Info'!EL61+'Product Info'!EO61+'Product Info'!ER61+'Product Info'!EU61+'Product Info'!EX61+'Product Info'!FA61+'Product Info'!FD61)","v":0},{"$f":"AI60*('Product Info'!M61)","v":0},{"$f":"AI60*'Product Info'!P61","v":0},{"$f":"AI60*'Product Info'!S61","v":0},{"$f":"AI60*'Product Info'!V61","v":0},{"$f":"AI60*'Product Info'!Y61","v":0},{"$f":"AI60*'Product Info'!AB61","v":0},{"$f":"AI60*'Product Info'!AE61","v":0},{"$f":"AI60*'Product Info'!AH61","v":0},{"$f":"AI60*'Product Info'!AK61","v":0},{"$f":"AI60*'Product Info'!AN61","v":0},{"$f":"AI60*'Product Info'!AQ61","v":0},{"$f":"AI60*'Product Info'!AT61","v":0},{"$f":"AI60*'Product Info'!AW61","v":0},{"$f":"AI60*'Product Info'!AZ61","v":0},{"$f":"AI60*'Product Info'!BC61","v":0},{"$f":"AI60*'Product Info'!BF61","v":0},{"$f":"AI60*'Product Info'!BI61","v":0},{"$f":"AI60*'Product Info'!BL61","v":0},{"$f":"AI60*'Product Info'!BO61","v":0},{"$f":"AI60*'Product Info'!BR61","v":0},{"$f":"AI60*'Product Info'!BU61","v":0},{"$f":"AI60*'Product Info'!BX61","v":0}]
[{"$f":"'Product Info'!A62","v":0},{"$f":"'Product Info'!B62","v":0},{"$f":"'Product Info'!C62","v":0},null,null,null,null,null,null,null,null,null,null,null,null,null,null,null,null,null,null,null,null,null,null,null,null,null,null,null,null,null,null,null,0,{"$f":"'Product Info'!F62*('Daily Info (May)'!AI61)","v":0},null,null,{"$f":"AI61*('Product Info'!H62)","v":0},{"$f":"AI61*('Product Info'!M62+'Product Info'!P62+'Product Info'!S62+'Product Info'!V62+'Product Info'!Y62+'Product Info'!AB62+'Product Info'!AE62+'Product Info'!AH62+'Product Info'!AK62+'Product Info'!AN62+'Product Info'!AQ62+'Product Info'!AT62+'Product Info'!AW62+'Product Info'!AZ62+'Product Info'!BC62+'Product Info'!BF62+'Product Info'!BI62+'Product Info'!BL62+'Product Info'!BO62+'Product Info'!BR62+'Product Info'!BU62+'Product Info'!BX62+'Product Info'!CA62+'Product Info'!CD62+'Product Info'!CG62+'Product Info'!CJ62+'Product Info'!CM62+'Product Info'!CP62+'Product Info'!CS62+'Product Info'!CV62+'Product Info'!CY62+'Product Info'!DB62+'Product Info'!DE62+'Product Info'!DH62+'Product Info'!DK62+'Product Info'!DN62+'Product Info'!DQ62+'Product Info'!DT62+'Product Info'!DW62+'Product Info'!DZ62+'Product Info'!EC62+'Product Info'!EF62+'Product Info'!EI62+'Product Info'!EL62+'Product Info'!EO62+'Product Info'!ER62+'Product Info'!EU62+'Product Info'!EX62+'Product Info'!FA62+'Product Info'!FD62)","v":0},{"$f":"AI61*('Product Info'!M62)","v":0},{"$f":"AI61*'Product Info'!P62","v":0},{"$f":"AI61*'Product Info'!S62","v":0},{"$f":"AI61*'Product Info'!V62","v":0},{"$f":"AI61*'Product Info'!Y62","v":0},{"$f":"AI61*'Product Info'!AB62","v":0},{"$f":"AI61*'Product Info'!AE62","v":0},{"$f":"AI61*'Product Info'!AH62","v":0},{"$f":"AI61*'Product Info'!AK62","v":0},{"$f":"AI61*'Product Info'!AN62","v":0},{"$f":"AI61*'Product Info'!AQ62","v":0},{"$f":"AI61*'Product Info'!AT62","v":0},{"$f":"AI61*'Product Info'!AW62","v":0},{"$f":"AI61*'Product Info'!AZ62","v":0},{"$f":"AI61*'Product Info'!BC62","v":0},{"$f":"AI61*'Product Info'!BF62","v":0},{"$f":"AI61*'Product Info'!BI62","v":0},{"$f":"AI61*'Product Info'!BL62","v":0},{"$f":"AI61*'Product Info'!BO62","v":0},{"$f":"AI61*'Product Info'!BR62","v":0},{"$f":"AI61*'Product Info'!BU62","v":0},{"$f":"AI61*'Product Info'!BX62","v":0}]
["TOTALS for May",null,null,null,null,null,null,null,null,null,null,null,null,null,null,null,null,null,null,null,null,null,null,null,null,null,null,null,null,null,null,null,null,null,{"$f":"SUM(AI4:AI18)","v":0},{"$f":"SUM(AJ4:AJ18)","v":0},null,null,{"$f":"SUM(AM4:AM18)","v":0},{"$f":"SUM(AN4:AN18)","v":0},0,0,0,0,0,0,0,0,0,0,0,0,0,0,0,0,0,0,0,0,0,0]

{"sheet":"Daily Info (June)","index":7,"n_rows":62,"n_cols":61,"rows_kept":62,"cut":false,"hidden":false,"merged":[[0,3,0,12],[0,37,0,38],[61,0,61,1],[61,3,61,30],[1,34,1,35],[3,34,3,35],[4,34,4,35],[5,34,5,35],[6,34,6,35],[7,34,7,35],[19,34,19,35],[8,34,8,35],[9,34,9,35],[10,34,10,35],[11,34,11,35],[12,34,12,35],[13,34,13,35],[14,34,14,35],[15,34,15,35],[16,34,16,35],[17,34,17,35],[18,34,18,35],[31,34,31,35],[20,34,20,35],[21,34,21,35],[22,34,22,35],[23,34,23,35],[24,34,24,35],[25,34,25,35],[26,34,26,35],[27,34,27,35],[28,34,28,35],[29,34,29,35],[30,34,30,35],[43,34,43,35],[32,34,32,35],[33,34,33,35],[34,34,34,35],[35,34,35,35],[36,34,36,35],[37,34,37,35],[38,34,38,35],[39,34,39,35],[40,34,40,35],[41,34,41,35],[42,34,42,35],[55,34,55,35],[44,34,44,35],[45,34,45,35],[46,34,46,35],[47,34,47,35],[48,34,48,35],[49,34,49,35],[50,34,50,35],[51,34,51,35],[52,34,52,35],[53,34,53,35],[54,34,54,35],[60,34,60,35],[61,34,61,35],[56,34,56,35],[57,34,57,35],[58,34,58,35],[59,34,59,35]]}
["Main Menu","VOC Product Information",null,"Daily Usage (gal)",null,null,null,null,null,null,null,null,null,null,null,null,null,null,null,null,null,null,null,null,null,"Daily Usage (gal)",null,null,null,null,null,null,null,null,null,null,null,"Emissions"]
["Product Number","Product Name","Product Type","2006-06-01","2006-06-02","2006-06-03","2006-06-04","2006-06-05","2006-06-06","2006-06-07","2006-06-08","2006-06-09","2006-06-10","2006-06-11","2006-06-12","2006-06-13","2006-06-14","2006-06-15","2006-06-16","2006-06-17","2006-06-18","2006-06-19","2006-06-20","2006-06-21","2006-06-22","2006-06-23","2006-06-24","2006-06-25","2006-06-26","2006-06-27","2006-06-28","2006-06-29","2006-06-30","Total Usage (gal)","Total Usage (lbs)",null,null,"Pounds VOCs Emitted","Pounds Total HAPs Emitted",{"$f":"'Product Info'!K3","v":0},{"$f":"'Product Info'!N3","v":0},{"$f":"'Product Info'!Q3","v":0},{"$f":"'Product Info'!T3","v":0},{"$f":"'Product Info'!W3","v":0},{"$f":"'Product Info'!Z3","v":0},{"$f":"'Product Info'!AC3","v":0},{"$f":"'Product Info'!AF3","v":0},{"$f":"'Product Info'!AI3","v":0},{"$f":"'Product Info'!AL3","v":0},{"$f":"'Product Info'!AO3","v":0},{"$f":"'Product Info'!AR3","v":0},{"$f":"'Product Info'!AU3","v":0},{"$f":"'Product Info'!AX3","v":0},{"$f":"'Product Info'!BA3","v":0},{"$f":"'Product Info'!BD3","v":0},{"$f":"'Product Info'!BG3","v":0},{"$f":"'Product Info'!BJ3","v":0},{"$f":"'Product Info'!BM3","v":0},{"$f":"'Product Info'!BP3","v":0},{"$f":"'Product Info'!BS3","v":0},{"$f":"'Product Info'!BV3","v":0}]
[]
[{"$f":"'Product Info'!A5","v":0},{"$f":"'Product Info'!B5","v":0},{"$f":"'Product Info'!C5","v":0},null,null,null,null,null,null,null,null,null,null,null,null,null,null,null,null,null,null,null,null,null,null,null,null,null,null,null,null,null,null,{"$f":"SUM(D4:AG4)","v":0},{"$f":"'Product Info'!F5*('Daily Info (June)'!AH4)","v":0},null,null,{"$f":"AH4*('Product Info'!H5)","v":0},{"$f":"AH4*('Product Info'!M5+'Product Info'!P5+'Product Info'!S5+'Product Info'!V5+'Product Info'!Y5+'Product Info'!AB5+'Product Info'!AE5+'Product Info'!AH5+'Product Info'!AK5+'Product Info'!AN5+'Product Info'!AQ5+'Product Info'!AT5+'Product Info'!AW5+'Product Info'!AZ5+'Product Info'!BC5+'Product Info'!BF5+'Product Info'!BI5+'Product Info'!BL5+'Product Info'!BO5+'Product Info'!BR5+'Product Info'!BU5+'Product Info'!BX5+'Product Info'!CA5+'Product Info'!CD5+'Product Info'!CG5+'Product Info'!CJ5+'Product Info'!CM5+'Product Info'!CP5+'Product Info'!CS5+'Product Info'!CV5+'Product Info'!CY5+'Product Info'!DB5+'Product Info'!DE5+'Product Info'!DH5+'Product Info'!DK5+'Product Info'!DN5+'Product Info'!DQ5+'Product Info'!DT5+'Product Info'!DW5+'Product Info'!DZ5+'Product Info'!EC5+'Product Info'!EF5+'Product Info'!EI5+'Product Info'!EL5+'Product Info'!EO5+'Product Info'!ER5+'Product Info'!EU5+'Product Info'!EX5+'Product Info'!FA5+'Product Info'!FD5)","v":0},{"$f":"AH4*('Product Info'!M5)","v":0},{"$f":"AH4*'Product Info'!P5","v":0},{"$f":"AH4*'Product Info'!S5","v":0},{"$f":"AH4*'Product Info'!V5","v":0},{"$f":"AH4*'Product Info'!Y5","v":0},{"$f":"AH4*'Product Info'!AB5","v":0},{"$f":"AH4*'Product Info'!AE5","v":0},{"$f":"AH4*'Product Info'!AH5","v":0},{"$f":"AH4*'Product Info'!AK5","v":0},{"$f":"AH4*'Product Info'!AN5","v":0},{"$f":"AH4*'Product Info'!AQ5","v":0},{"$f":"AH4*'Product Info'!AT5","v":0},{"$f":"AH4*'Product Info'!AW5","v":0},{"$f":"AH4*'Product Info'!AZ5","v":0},{"$f":"AH4*'Product Info'!BC5","v":0},{"$f":"AH4*'Product Info'!BF5","v":0},{"$f":"AH4*'Product Info'!BI5","v":0},{"$f":"AH4*'Product Info'!BL5","v":0},{"$f":"AH4*'Product Info'!BO5","v":0},{"$f":"AH4*'Product Info'!BR5","v":0},{"$f":"AH4*'Product Info'!BU5","v":0},{"$f":"AH4*'Product Info'!BX5","v":0}]
[{"$f":"'Product Info'!A6","v":0},{"$f":"'Product Info'!B6","v":0},{"$f":"'Product Info'!C6","v":0},null,null,null,null,null,null,null,null,null,null,null,null,null,null,null,null,null,null,null,null,null,null,null,null,null,null,null,null,null,null,0,{"$f":"'Product Info'!F6*('Daily Info (June)'!AH5)","v":0},null,null,{"$f":"AH5*('Product Info'!H6)","v":0},{"$f":"AH5*('Product Info'!M6+'Product Info'!P6+'Product Info'!S6+'Product Info'!V6+'Product Info'!Y6+'Product Info'!AB6+'Product Info'!AE6+'Product Info'!AH6+'Product Info'!AK6+'Product Info'!AN6+'Product Info'!AQ6+'Product Info'!AT6+'Product Info'!AW6+'Product Info'!AZ6+'Product Info'!BC6+'Product Info'!BF6+'Product Info'!BI6+'Product Info'!BL6+'Product Info'!BO6+'Product Info'!BR6+'Product Info'!BU6+'Product Info'!BX6+'Product Info'!CA6+'Product Info'!CD6+'Product Info'!CG6+'Product Info'!CJ6+'Product Info'!CM6+'Product Info'!CP6+'Product Info'!CS6+'Product Info'!CV6+'Product Info'!CY6+'Product Info'!DB6+'Product Info'!DE6+'Product Info'!DH6+'Product Info'!DK6+'Product Info'!DN6+'Product Info'!DQ6+'Product Info'!DT6+'Product Info'!DW6+'Product Info'!DZ6+'Product Info'!EC6+'Product Info'!EF6+'Product Info'!EI6+'Product Info'!EL6+'Product Info'!EO6+'Product Info'!ER6+'Product Info'!EU6+'Product Info'!EX6+'Product Info'!FA6+'Product Info'!FD6)","v":0},{"$f":"AH5*('Product Info'!M6)","v":0},{"$f":"AH5*'Product Info'!P6","v":0},{"$f":"AH5*'Product Info'!S6","v":0},{"$f":"AH5*'Product Info'!V6","v":0},{"$f":"AH5*'Product Info'!Y6","v":0},{"$f":"AH5*'Product Info'!AB6","v":0},{"$f":"AH5*'Product Info'!AE6","v":0},{"$f":"AH5*'Product Info'!AH6","v":0},{"$f":"AH5*'Product Info'!AK6","v":0},{"$f":"AH5*'Product Info'!AN6","v":0},{"$f":"AH5*'Product Info'!AQ6","v":0},{"$f":"AH5*'Product Info'!AT6","v":0},{"$f":"AH5*'Product Info'!AW6","v":0},{"$f":"AH5*'Product Info'!AZ6","v":0},{"$f":"AH5*'Product Info'!BC6","v":0},{"$f":"AH5*'Product Info'!BF6","v":0},{"$f":"AH5*'Product Info'!BI6","v":0},{"$f":"AH5*'Product Info'!BL6","v":0},{"$f":"AH5*'Product Info'!BO6","v":0},{"$f":"AH5*'Product Info'!BR6","v":0},{"$f":"AH5*'Product Info'!BU6","v":0},{"$f":"AH5*'Product Info'!BX6","v":0}]
[{"$f":"'Product Info'!A7","v":0},{"$f":"'Product Info'!B7","v":0},{"$f":"'Product Info'!C7","v":0},null,null,null,null,null,null,null,null,null,null,null,null,null,null,null,null,null,null,null,null,null,null,null,null,null,null,null,null,null,null,0,{"$f":"'Product Info'!F7*('Daily Info (June)'!AH6)","v":0},null,null,{"$f":"AH6*('Product Info'!H7)","v":0},{"$f":"AH6*('Product Info'!M7+'Product Info'!P7+'Product Info'!S7+'Product Info'!V7+'Product Info'!Y7+'Product Info'!AB7+'Product Info'!AE7+'Product Info'!AH7+'Product Info'!AK7+'Product Info'!AN7+'Product Info'!AQ7+'Product Info'!AT7+'Product Info'!AW7+'Product Info'!AZ7+'Product Info'!BC7+'Product Info'!BF7+'Product Info'!BI7+'Product Info'!BL7+'Product Info'!BO7+'Product Info'!BR7+'Product Info'!BU7+'Product Info'!BX7+'Product Info'!CA7+'Product Info'!CD7+'Product Info'!CG7+'Product Info'!CJ7+'Product Info'!CM7+'Product Info'!CP7+'Product Info'!CS7+'Product Info'!CV7+'Product Info'!CY7+'Product Info'!DB7+'Product Info'!DE7+'Product Info'!DH7+'Product Info'!DK7+'Product Info'!DN7+'Product Info'!DQ7+'Product Info'!DT7+'Product Info'!DW7+'Product Info'!DZ7+'Product Info'!EC7+'Product Info'!EF7+'Product Info'!EI7+'Product Info'!EL7+'Product Info'!EO7+'Product Info'!ER7+'Product Info'!EU7+'Product Info'!EX7+'Product Info'!FA7+'Product Info'!FD7)","v":0},{"$f":"AH6*('Product Info'!M7)","v":0},{"$f":"AH6*'Product Info'!P7","v":0},{"$f":"AH6*'Product Info'!S7","v":0},{"$f":"AH6*'Product Info'!V7","v":0},{"$f":"AH6*'Product Info'!Y7","v":0},{"$f":"AH6*'Product Info'!AB7","v":0},{"$f":"AH6*'Product Info'!AE7","v":0},{"$f":"AH6*'Product Info'!AH7","v":0},{"$f":"AH6*'Product Info'!AK7","v":0},{"$f":"AH6*'Product Info'!AN7","v":0},{"$f":"AH6*'Product Info'!AQ7","v":0},{"$f":"AH6*'Product Info'!AT7","v":0},{"$f":"AH6*'Product Info'!AW7","v":0},{"$f":"AH6*'Product Info'!AZ7","v":0},{"$f":"AH6*'Product Info'!BC7","v":0},{"$f":"AH6*'Product Info'!BF7","v":0},{"$f":"AH6*'Product Info'!BI7","v":0},{"$f":"AH6*'Product Info'!BL7","v":0},{"$f":"AH6*'Product Info'!BO7","v":0},{"$f":"AH6*'Product Info'!BR7","v":0},{"$f":"AH6*'Product Info'!BU7","v":0},{"$f":"AH6*'Product Info'!BX7","v":0}]
[{"$f":"'Product Info'!A8","v":0},{"$f":"'Product Info'!B8","v":0},{"$f":"'Product Info'!C8","v":0},null,null,null,null,null,null,null,null,null,null,null,null,null,null,null,null,null,null,null,null,null,null,null,null,null,null,null,null,null,null,0,{"$f":"'Product Info'!F8*('Daily Info (June)'!AH7)","v":0},null,null,{"$f":"AH7*('Product Info'!H8)","v":0},{"$f":"AH7*('Product Info'!M8+'Product Info'!P8+'Product Info'!S8+'Product Info'!V8+'Product Info'!Y8+'Product Info'!AB8+'Product Info'!AE8+'Product Info'!AH8+'Product Info'!AK8+'Product Info'!AN8+'Product Info'!AQ8+'Product Info'!AT8+'Product Info'!AW8+'Product Info'!AZ8+'Product Info'!BC8+'Product Info'!BF8+'Product Info'!BI8+'Product Info'!BL8+'Product Info'!BO8+'Product Info'!BR8+'Product Info'!BU8+'Product Info'!BX8+'Product Info'!CA8+'Product Info'!CD8+'Product Info'!CG8+'Product Info'!CJ8+'Product Info'!CM8+'Product Info'!CP8+'Product Info'!CS8+'Product Info'!CV8+'Product Info'!CY8+'Product Info'!DB8+'Product Info'!DE8+'Product Info'!DH8+'Product Info'!DK8+'Product Info'!DN8+'Product Info'!DQ8+'Product Info'!DT8+'Product Info'!DW8+'Product Info'!DZ8+'Product Info'!EC8+'Product Info'!EF8+'Product Info'!EI8+'Product Info'!EL8+'Product Info'!EO8+'Product Info'!ER8+'Product Info'!EU8+'Product Info'!EX8+'Product Info'!FA8+'Product Info'!FD8)","v":0},{"$f":"AH7*('Product Info'!M8)","v":0},{"$f":"AH7*'Product Info'!P8","v":0},{"$f":"AH7*'Product Info'!S8","v":0},{"$f":"AH7*'Product Info'!V8","v":0},{"$f":"AH7*'Product Info'!Y8","v":0},{"$f":"AH7*'Product Info'!AB8","v":0},{"$f":"AH7*'Product Info'!AE8","v":0},{"$f":"AH7*'Product Info'!AH8","v":0},{"$f":"AH7*'Product Info'!AK8","v":0},{"$f":"AH7*'Product Info'!AN8","v":0},{"$f":"AH7*'Product Info'!AQ8","v":0},{"$f":"AH7*'Product Info'!AT8","v":0},{"$f":"AH7*'Product Info'!AW8","v":0},{"$f":"AH7*'Product Info'!AZ8","v":0},{"$f":"AH7*'Product Info'!BC8","v":0},{"$f":"AH7*'Product Info'!BF8","v":0},{"$f":"AH7*'Product Info'!BI8","v":0},{"$f":"AH7*'Product Info'!BL8","v":0},{"$f":"AH7*'Product Info'!BO8","v":0},{"$f":"AH7*'Product Info'!BR8","v":0},{"$f":"AH7*'Product Info'!BU8","v":0},{"$f":"AH7*'Product Info'!BX8","v":0}]
[{"$f":"'Product Info'!A9","v":0},{"$f":"'Product Info'!B9","v":0},{"$f":"'Product Info'!C9","v":0},null,null,null,null,null,null,null,null,null,null,null,null,null,null,null,null,null,null,null,null,null,null,null,null,null,null,null,null,null,null,0,{"$f":"'Product Info'!F9*('Daily Info (June)'!AH8)","v":0},null,null,{"$f":"AH8*('Product Info'!H9)","v":0},{"$f":"AH8*('Product Info'!M9+'Product Info'!P9+'Product Info'!S9+'Product Info'!V9+'Product Info'!Y9+'Product Info'!AB9+'Product Info'!AE9+'Product Info'!AH9+'Product Info'!AK9+'Product Info'!AN9+'Product Info'!AQ9+'Product Info'!AT9+'Product Info'!AW9+'Product Info'!AZ9+'Product Info'!BC9+'Product Info'!BF9+'Product Info'!BI9+'Product Info'!BL9+'Product Info'!BO9+'Product Info'!BR9+'Product Info'!BU9+'Product Info'!BX9+'Product Info'!CA9+'Product Info'!CD9+'Product Info'!CG9+'Product Info'!CJ9+'Product Info'!CM9+'Product Info'!CP9+'Product Info'!CS9+'Product Info'!CV9+'Product Info'!CY9+'Product Info'!DB9+'Product Info'!DE9+'Product Info'!DH9+'Product Info'!DK9+'Product Info'!DN9+'Product Info'!DQ9+'Product Info'!DT9+'Product Info'!DW9+'Product Info'!DZ9+'Product Info'!EC9+'Product Info'!EF9+'Product Info'!EI9+'Product Info'!EL9+'Product Info'!EO9+'Product Info'!ER9+'Product Info'!EU9+'Product Info'!EX9+'Product Info'!FA9+'Product Info'!FD9)","v":0},{"$f":"AH8*('Product Info'!M9)","v":0},{"$f":"AH8*'Product Info'!P9","v":0},{"$f":"AH8*'Product Info'!S9","v":0},{"$f":"AH8*'Product Info'!V9","v":0},{"$f":"AH8*'Product Info'!Y9","v":0},{"$f":"AH8*'Product Info'!AB9","v":0},{"$f":"AH8*'Product Info'!AE9","v":0},{"$f":"AH8*'Product Info'!AH9","v":0},{"$f":"AH8*'Product Info'!AK9","v":0},{"$f":"AH8*'Product Info'!AN9","v":0},{"$f":"AH8*'Product Info'!AQ9","v":0},{"$f":"AH8*'Product Info'!AT9","v":0},{"$f":"AH8*'Product Info'!AW9","v":0},{"$f":"AH8*'Product Info'!AZ9","v":0},{"$f":"AH8*'Product Info'!BC9","v":0},{"$f":"AH8*'Product Info'!BF9","v":0},{"$f":"AH8*'Product Info'!BI9","v":0},{"$f":"AH8*'Product Info'!BL9","v":0},{"$f":"AH8*'Product Info'!BO9","v":0},{"$f":"AH8*'Product Info'!BR9","v":0},{"$f":"AH8*'Product Info'!BU9","v":0},{"$f":"AH8*'Product Info'!BX9","v":0}]
[{"$f":"'Product Info'!A10","v":0},{"$f":"'Product Info'!B10","v":0},{"$f":"'Product Info'!C10","v":0},null,null,null,null,null,null,null,null,null,null,null,null,null,null,null,null,null,null,null,null,null,null,null,null,null,null,null,null,null,null,0,{"$f":"'Product Info'!F10*('Daily Info (June)'!AH9)","v":0},null,null,{"$f":"AH9*('Product Info'!H10)","v":0},{"$f":"AH9*('Product Info'!M10+'Product Info'!P10+'Product Info'!S10+'Product Info'!V10+'Product Info'!Y10+'Product Info'!AB10+'Product Info'!AE10+'Product Info'!AH10+'Product Info'!AK10+'Product Info'!AN10+'Product Info'!AQ10+'Product Info'!AT10+'Product Info'!AW10+'Product Info'!AZ10+'Product Info'!BC10+'Product Info'!BF10+'Product Info'!BI10+'Product Info'!BL10+'Product Info'!BO10+'Product Info'!BR10+'Product Info'!BU10+'Product Info'!BX10+'Product Info'!CA10+'Product Info'!CD10+'Product Info'!CG10+'Product Info'!CJ10+'Product Info'!CM10+'Product Info'!CP10+'Product Info'!CS10+'Product Info'!CV10+'Product Info'!CY10+'Product Info'!DB10+'Product Info'!DE10+'Product Info'!DH10+'Product Info'!DK10+'Product Info'!DN10+'Product Info'!DQ10+'Product Info'!DT10+'Product Info'!DW10+'Product Info'!DZ10+'Product Info'!EC10+'Product Info'!EF10+'Product Info'!EI10+'Product Info'!EL10+'Product Info'!EO10+'Product Info'!ER10+'Product Info'!EU10+'Product Info'!EX10+'Product Info'!FA10+'Product Info'!FD10)","v":0},{"$f":"AH9*('Product Info'!M10)","v":0},{"$f":"AH9*'Product Info'!P10","v":0},{"$f":"AH9*'Product Info'!S10","v":0},{"$f":"AH9*'Product Info'!V10","v":0},{"$f":"AH9*'Product Info'!Y10","v":0},{"$f":"AH9*'Product Info'!AB10","v":0},{"$f":"AH9*'Product Info'!AE10","v":0},{"$f":"AH9*'Product Info'!AH10","v":0},{"$f":"AH9*'Product Info'!AK10","v":0},{"$f":"AH9*'Product Info'!AN10","v":0},{"$f":"AH9*'Product Info'!AQ10","v":0},{"$f":"AH9*'Product Info'!AT10","v":0},{"$f":"AH9*'Product Info'!AW10","v":0},{"$f":"AH9*'Product Info'!AZ10","v":0},{"$f":"AH9*'Product Info'!BC10","v":0},{"$f":"AH9*'Product Info'!BF10","v":0},{"$f":"AH9*'Product Info'!BI10","v":0},{"$f":"AH9*'Product Info'!BL10","v":0},{"$f":"AH9*'Product Info'!BO10","v":0},{"$f":"AH9*'Product Info'!BR10","v":0},{"$f":"AH9*'Product Info'!BU10","v":0},{"$f":"AH9*'Product Info'!BX10","v":0}]
[{"$f":"'Product Info'!A11","v":0},{"$f":"'Product Info'!B11","v":0},{"$f":"'Product Info'!C11","v":0},null,null,null,null,null,null,null,null,null,null,null,null,null,null,null,null,null,null,null,null,null,null,null,null,null,null,null,null,null,null,0,{"$f":"'Product Info'!F11*('Daily Info (June)'!AH10)","v":0},null,null,{"$f":"AH10*('Product Info'!H11)","v":0},{"$f":"AH10*('Product Info'!M11+'Product Info'!P11+'Product Info'!S11+'Product Info'!V11+'Product Info'!Y11+'Product Info'!AB11+'Product Info'!AE11+'Product Info'!AH11+'Product Info'!AK11+'Product Info'!AN11+'Product Info'!AQ11+'Product Info'!AT11+'Product Info'!AW11+'Product Info'!AZ11+'Product Info'!BC11+'Product Info'!BF11+'Product Info'!BI11+'Product Info'!BL11+'Product Info'!BO11+'Product Info'!BR11+'Product Info'!BU11+'Product Info'!BX11+'Product Info'!CA11+'Product Info'!CD11+'Product Info'!CG11+'Product Info'!CJ11+'Product Info'!CM11+'Product Info'!CP11+'Product Info'!CS11+'Product Info'!CV11+'Product Info'!CY11+'Product Info'!DB11+'Product Info'!DE11+'Product Info'!DH11+'Product Info'!DK11+'Product Info'!DN11+'Product Info'!DQ11+'Product Info'!DT11+'Product Info'!DW11+'Product Info'!DZ11+'Product Info'!EC11+'Product Info'!EF11+'Product Info'!EI11+'Product Info'!EL11+'Product Info'!EO11+'Product Info'!ER11+'Product Info'!EU11+'Product Info'!EX11+'Product Info'!FA11+'Product Info'!FD11)","v":0},{"$f":"AH10*('Product Info'!M11)","v":0},{"$f":"AH10*'Product Info'!P11","v":0},{"$f":"AH10*'Product Info'!S11","v":0},{"$f":"AH10*'Product Info'!V11","v":0},{"$f":"AH10*'Product Info'!Y11","v":0},{"$f":"AH10*'Product Info'!AB11","v":0},{"$f":"AH10*'Product Info'!AE11","v":0},{"$f":"AH10*'Product Info'!AH11","v":0},{"$f":"AH10*'Product Info'!AK11","v":0},{"$f":"AH10*'Product Info'!AN11","v":0},{"$f":"AH10*'Product Info'!AQ11","v":0},{"$f":"AH10*'Product Info'!AT11","v":0},{"$f":"AH10*'Product Info'!AW11","v":0},{"$f":"AH10*'Product Info'!AZ11","v":0},{"$f":"AH10*'Product Info'!BC11","v":0},{"$f":"AH10*'Product Info'!BF11","v":0},{"$f":"AH10*'Product Info'!BI11","v":0},{"$f":"AH10*'Product Info'!BL11","v":0},{"$f":"AH10*'Product Info'!BO11","v":0},{"$f":"AH10*'Product Info'!BR11","v":0},{"$f":"AH10*'Product Info'!BU11","v":0},{"$f":"AH10*'Product Info'!BX11","v":0}]
[{"$f":"'Product Info'!A12","v":0},{"$f":"'Product Info'!B12","v":0},{"$f":"'Product Info'!C12","v":0},null,null,null,null,null,null,null,null,null,null,null,null,null,null,null,null,null,null,null,null,null,null,null,null,null,null,null,null,null,null,0,{"$f":"'Product Info'!F12*('Daily Info (June)'!AH11)","v":0},null,null,{"$f":"AH11*('Product Info'!H12)","v":0},{"$f":"AH11*('Product Info'!M12+'Product Info'!P12+'Product Info'!S12+'Product Info'!V12+'Product Info'!Y12+'Product Info'!AB12+'Product Info'!AE12+'Product Info'!AH12+'Product Info'!AK12+'Product Info'!AN12+'Product Info'!AQ12+'Product Info'!AT12+'Product Info'!AW12+'Product Info'!AZ12+'Product Info'!BC12+'Product Info'!BF12+'Product Info'!BI12+'Product Info'!BL12+'Product Info'!BO12+'Product Info'!BR12+'Product Info'!BU12+'Product Info'!BX12+'Product Info'!CA12+'Product Info'!CD12+'Product Info'!CG12+'Product Info'!CJ12+'Product Info'!CM12+'Product Info'!CP12+'Product Info'!CS12+'Product Info'!CV12+'Product Info'!CY12+'Product Info'!DB12+'Product Info'!DE12+'Product Info'!DH12+'Product Info'!DK12+'Product Info'!DN12+'Product Info'!DQ12+'Product Info'!DT12+'Product Info'!DW12+'Product Info'!DZ12+'Product Info'!EC12+'Product Info'!EF12+'Product Info'!EI12+'Product Info'!EL12+'Product Info'!EO12+'Product Info'!ER12+'Product Info'!EU12+'Product Info'!EX12+'Product Info'!FA12+'Product Info'!FD12)","v":0},{"$f":"AH11*('Product Info'!M12)","v":0},{"$f":"AH11*'Product Info'!P12","v":0},{"$f":"AH11*'Product Info'!S12","v":0},{"$f":"AH11*'Product Info'!V12","v":0},{"$f":"AH11*'Product Info'!Y12","v":0},{"$f":"AH11*'Product Info'!AB12","v":0},{"$f":"AH11*'Product Info'!AE12","v":0},{"$f":"AH11*'Product Info'!AH12","v":0},{"$f":"AH11*'Product Info'!AK12","v":0},{"$f":"AH11*'Product Info'!AN12","v":0},{"$f":"AH11*'Product Info'!AQ12","v":0},{"$f":"AH11*'Product Info'!AT12","v":0},{"$f":"AH11*'Product Info'!AW12","v":0},{"$f":"AH11*'Product Info'!AZ12","v":0},{"$f":"AH11*'Product Info'!BC12","v":0},{"$f":"AH11*'Product Info'!BF12","v":0},{"$f":"AH11*'Product Info'!BI12","v":0},{"$f":"AH11*'Product Info'!BL12","v":0},{"$f":"AH11*'Product Info'!BO12","v":0},{"$f":"AH11*'Product Info'!BR12","v":0},{"$f":"AH11*'Product Info'!BU12","v":0},{"$f":"AH11*'Product Info'!BX12","v":0}]
[{"$f":"'Product Info'!A13","v":0},{"$f":"'Product Info'!B13","v":0},{"$f":"'Product Info'!C13","v":0},null,null,null,null,null,null,null,null,null,null,null,null,null,null,null,null,null,null,null,null,null,null,null,null,null,null,null,null,null,null,0,{"$f":"'Product Info'!F13*('Daily Info (June)'!AH12)","v":0},null,null,{"$f":"AH12*('Product Info'!H13)","v":0},{"$f":"AH12*('Product Info'!M13+'Product Info'!P13+'Product Info'!S13+'Product Info'!V13+'Product Info'!Y13+'Product Info'!AB13+'Product Info'!AE13+'Product Info'!AH13+'Product Info'!AK13+'Product Info'!AN13+'Product Info'!AQ13+'Product Info'!AT13+'Product Info'!AW13+'Product Info'!AZ13+'Product Info'!BC13+'Product Info'!BF13+'Product Info'!BI13+'Product Info'!BL13+'Product Info'!BO13+'Product Info'!BR13+'Product Info'!BU13+'Product Info'!BX13+'Product Info'!CA13+'Product Info'!CD13+'Product Info'!CG13+'Product Info'!CJ13+'Product Info'!CM13+'Product Info'!CP13+'Product Info'!CS13+'Product Info'!CV13+'Product Info'!CY13+'Product Info'!DB13+'Product Info'!DE13+'Product Info'!DH13+'Product Info'!DK13+'Product Info'!DN13+'Product Info'!DQ13+'Product Info'!DT13+'Product Info'!DW13+'Product Info'!DZ13+'Product Info'!EC13+'Product Info'!EF13+'Product Info'!EI13+'Product Info'!EL13+'Product Info'!EO13+'Product Info'!ER13+'Product Info'!EU13+'Product Info'!EX13+'Product Info'!FA13+'Product Info'!FD13)","v":0},{"$f":"AH12*('Product Info'!M13)","v":0},{"$f":"AH12*'Product Info'!P13","v":0},{"$f":"AH12*'Product Info'!S13","v":0},{"$f":"AH12*'Product Info'!V13","v":0},{"$f":"AH12*'Product Info'!Y13","v":0},{"$f":"AH12*'Product Info'!AB13","v":0},{"$f":"AH12*'Product Info'!AE13","v":0},{"$f":"AH12*'Product Info'!AH13","v":0},{"$f":"AH12*'Product Info'!AK13","v":0},{"$f":"AH12*'Product Info'!AN13","v":0},{"$f":"AH12*'Product Info'!AQ13","v":0},{"$f":"AH12*'Product Info'!AT13","v":0},{"$f":"AH12*'Product Info'!AW13","v":0},{"$f":"AH12*'Product Info'!AZ13","v":0},{"$f":"AH12*'Product Info'!BC13","v":0},{"$f":"AH12*'Product Info'!BF13","v":0},{"$f":"AH12*'Product Info'!BI13","v":0},{"$f":"AH12*'Product Info'!BL13","v":0},{"$f":"AH12*'Product Info'!BO13","v":0},{"$f":"AH12*'Product Info'!BR13","v":0},{"$f":"AH12*'Product Info'!BU13","v":0},{"$f":"AH12*'Product Info'!BX13","v":0}]
[{"$f":"'Product Info'!A14","v":0},{"$f":"'Product Info'!B14","v":0},{"$f":"'Product Info'!C14","v":0},null,null,null,null,null,null,null,null,null,null,null,null,null,null,null,null,null,null,null,null,null,null,null,null,null,null,null,null,null,null,0,{"$f":"'Product Info'!F14*('Daily Info (June)'!AH13)","v":0},null,null,{"$f":"AH13*('Product Info'!H14)","v":0},{"$f":"AH13*('Product Info'!M14+'Product Info'!P14+'Product Info'!S14+'Product Info'!V14+'Product Info'!Y14+'Product Info'!AB14+'Product Info'!AE14+'Product Info'!AH14+'Product Info'!AK14+'Product Info'!AN14+'Product Info'!AQ14+'Product Info'!AT14+'Product Info'!AW14+'Product Info'!AZ14+'Product Info'!BC14+'Product Info'!BF14+'Product Info'!BI14+'Product Info'!BL14+'Product Info'!BO14+'Product Info'!BR14+'Product Info'!BU14+'Product Info'!BX14+'Product Info'!CA14+'Product Info'!CD14+'Product Info'!CG14+'Product Info'!CJ14+'Product Info'!CM14+'Product Info'!CP14+'Product Info'!CS14+'Product Info'!CV14+'Product Info'!CY14+'Product Info'!DB14+'Product Info'!DE14+'Product Info'!DH14+'Product Info'!DK14+'Product Info'!DN14+'Product Info'!DQ14+'Product Info'!DT14+'Product Info'!DW14+'Product Info'!DZ14+'Product Info'!EC14+'Product Info'!EF14+'Product Info'!EI14+'Product Info'!EL14+'Product Info'!EO14+'Product Info'!ER14+'Product Info'!EU14+'Product Info'!EX14+'Product Info'!FA14+'Product Info'!FD14)","v":0},{"$f":"AH13*('Product Info'!M14)","v":0},{"$f":"AH13*'Product Info'!P14","v":0},{"$f":"AH13*'Product Info'!S14","v":0},{"$f":"AH13*'Product Info'!V14","v":0},{"$f":"AH13*'Product Info'!Y14","v":0},{"$f":"AH13*'Product Info'!AB14","v":0},{"$f":"AH13*'Product Info'!AE14","v":0},{"$f":"AH13*'Product Info'!AH14","v":0},{"$f":"AH13*'Product Info'!AK14","v":0},{"$f":"AH13*'Product Info'!AN14","v":0},{"$f":"AH13*'Product Info'!AQ14","v":0},{"$f":"AH13*'Product Info'!AT14","v":0},{"$f":"AH13*'Product Info'!AW14","v":0},{"$f":"AH13*'Product Info'!AZ14","v":0},{"$f":"AH13*'Product Info'!BC14","v":0},{"$f":"AH13*'Product Info'!BF14","v":0},{"$f":"AH13*'Product Info'!BI14","v":0},{"$f":"AH13*'Product Info'!BL14","v":0},{"$f":"AH13*'Product Info'!BO14","v":0},{"$f":"AH13*'Product Info'!BR14","v":0},{"$f":"AH13*'Product Info'!BU14","v":0},{"$f":"AH13*'Product Info'!BX14","v":0}]
[{"$f":"'Product Info'!A15","v":0},{"$f":"'Product Info'!B15","v":0},{"$f":"'Product Info'!C15","v":0},null,null,null,null,null,null,null,null,null,null,null,null,null,null,null,null,null,null,null,null,null,null,null,null,null,null,null,null,null,null,0,{"$f":"'Product Info'!F15*('Daily Info (June)'!AH14)","v":0},null,null,{"$f":"AH14*('Product Info'!H15)","v":0},{"$f":"AH14*('Product Info'!M15+'Product Info'!P15+'Product Info'!S15+'Product Info'!V15+'Product Info'!Y15+'Product Info'!AB15+'Product Info'!AE15+'Product Info'!AH15+'Product Info'!AK15+'Product Info'!AN15+'Product Info'!AQ15+'Product Info'!AT15+'Product Info'!AW15+'Product Info'!AZ15+'Product Info'!BC15+'Product Info'!BF15+'Product Info'!BI15+'Product Info'!BL15+'Product Info'!BO15+'Product Info'!BR15+'Product Info'!BU15+'Product Info'!BX15+'Product Info'!CA15+'Product Info'!CD15+'Product Info'!CG15+'Product Info'!CJ15+'Product Info'!CM15+'Product Info'!CP15+'Product Info'!CS15+'Product Info'!CV15+'Product Info'!CY15+'Product Info'!DB15+'Product Info'!DE15+'Product Info'!DH15+'Product Info'!DK15+'Product Info'!DN15+'Product Info'!DQ15+'Product Info'!DT15+'Product Info'!DW15+'Product Info'!DZ15+'Product Info'!EC15+'Product Info'!EF15+'Product Info'!EI15+'Product Info'!EL15+'Product Info'!EO15+'Product Info'!ER15+'Product Info'!EU15+'Product Info'!EX15+'Product Info'!FA15+'Product Info'!FD15)","v":0},{"$f":"AH14*('Product Info'!M15)","v":0},{"$f":"AH14*'Product Info'!P15","v":0},{"$f":"AH14*'Product Info'!S15","v":0},{"$f":"AH14*'Product Info'!V15","v":0},{"$f":"AH14*'Product Info'!Y15","v":0},{"$f":"AH14*'Product Info'!AB15","v":0},{"$f":"AH14*'Product Info'!AE15","v":0},{"$f":"AH14*'Product Info'!AH15","v":0},{"$f":"AH14*'Product Info'!AK15","v":0},{"$f":"AH14*'Product Info'!AN15","v":0},{"$f":"AH14*'Product Info'!AQ15","v":0},{"$f":"AH14*'Product Info'!AT15","v":0},{"$f":"AH14*'Product Info'!AW15","v":0},{"$f":"AH14*'Product Info'!AZ15","v":0},{"$f":"AH14*'Product Info'!BC15","v":0},{"$f":"AH14*'Product Info'!BF15","v":0},{"$f":"AH14*'Product Info'!BI15","v":0},{"$f":"AH14*'Product Info'!BL15","v":0},{"$f":"AH14*'Product Info'!BO15","v":0},{"$f":"AH14*'Product Info'!BR15","v":0},{"$f":"AH14*'Product Info'!BU15","v":0},{"$f":"AH14*'Product Info'!BX15","v":0}]
[{"$f":"'Product Info'!A16","v":0},{"$f":"'Product Info'!B16","v":0},{"$f":"'Product Info'!C16","v":0},null,null,null,null,null,null,null,null,null,null,null,null,null,null,null,null,null,null,null,null,null,null,null,null,null,null,null,null,null,null,0,{"$f":"'Product Info'!F16*('Daily Info (June)'!AH15)","v":0},null,null,{"$f":"AH15*('Product Info'!H16)","v":0},{"$f":"AH15*('Product Info'!M16+'Product Info'!P16+'Product Info'!S16+'Product Info'!V16+'Product Info'!Y16+'Product Info'!AB16+'Product Info'!AE16+'Product Info'!AH16+'Product Info'!AK16+'Product Info'!AN16+'Product Info'!AQ16+'Product Info'!AT16+'Product Info'!AW16+'Product Info'!AZ16+'Product Info'!BC16+'Product Info'!BF16+'Product Info'!BI16+'Product Info'!BL16+'Product Info'!BO16+'Product Info'!BR16+'Product Info'!BU16+'Product Info'!BX16+'Product Info'!CA16+'Product Info'!CD16+'Product Info'!CG16+'Product Info'!CJ16+'Product Info'!CM16+'Product Info'!CP16+'Product Info'!CS16+'Product Info'!CV16+'Product Info'!CY16+'Product Info'!DB16+'Product Info'!DE16+'Product Info'!DH16+'Product Info'!DK16+'Product Info'!DN16+'Product Info'!DQ16+'Product Info'!DT16+'Product Info'!DW16+'Product Info'!DZ16+'Product Info'!EC16+'Product Info'!EF16+'Product Info'!EI16+'Product Info'!EL16+'Product Info'!EO16+'Product Info'!ER16+'Product Info'!EU16+'Product Info'!EX16+'Product Info'!FA16+'Product Info'!FD16)","v":0},{"$f":"AH15*('Product Info'!M16)","v":0},{"$f":"AH15*'Product Info'!P16","v":0},{"$f":"AH15*'Product Info'!S16","v":0},{"$f":"AH15*'Product Info'!V16","v":0},{"$f":"AH15*'Product Info'!Y16","v":0},{"$f":"AH15*'Product Info'!AB16","v":0},{"$f":"AH15*'Product Info'!AE16","v":0},{"$f":"AH15*'Product Info'!AH16","v":0},{"$f":"AH15*'Product Info'!AK16","v":0},{"$f":"AH15*'Product Info'!AN16","v":0},{"$f":"AH15*'Product Info'!AQ16","v":0},{"$f":"AH15*'Product Info'!AT16","v":0},{"$f":"AH15*'Product Info'!AW16","v":0},{"$f":"AH15*'Product Info'!AZ16","v":0},{"$f":"AH15*'Product Info'!BC16","v":0},{"$f":"AH15*'Product Info'!BF16","v":0},{"$f":"AH15*'Product Info'!BI16","v":0},{"$f":"AH15*'Product Info'!BL16","v":0},{"$f":"AH15*'Product Info'!BO16","v":0},{"$f":"AH15*'Product Info'!BR16","v":0},{"$f":"AH15*'Product Info'!BU16","v":0},{"$f":"AH15*'Product Info'!BX16","v":0}]
[{"$f":"'Product Info'!A17","v":0},{"$f":"'Product Info'!B17","v":0},{"$f":"'Product Info'!C17","v":0},null,null,null,null,null,null,null,null,null,null,null,null,null,null,null,null,null,null,null,null,null,null,null,null,null,null,null,null,null,null,0,{"$f":"'Product Info'!F17*('Daily Info (June)'!AH16)","v":0},null,null,{"$f":"AH16*('Product Info'!H17)","v":0},{"$f":"AH16*('Product Info'!M17+'Product Info'!P17+'Product Info'!S17+'Product Info'!V17+'Product Info'!Y17+'Product Info'!AB17+'Product Info'!AE17+'Product Info'!AH17+'Product Info'!AK17+'Product Info'!AN17+'Product Info'!AQ17+'Product Info'!AT17+'Product Info'!AW17+'Product Info'!AZ17+'Product Info'!BC17+'Product Info'!BF17+'Product Info'!BI17+'Product Info'!BL17+'Product Info'!BO17+'Product Info'!BR17+'Product Info'!BU17+'Product Info'!BX17+'Product Info'!CA17+'Product Info'!CD17+'Product Info'!CG17+'Product Info'!CJ17+'Product Info'!CM17+'Product Info'!CP17+'Product Info'!CS17+'Product Info'!CV17+'Product Info'!CY17+'Product Info'!DB17+'Product Info'!DE17+'Product Info'!DH17+'Product Info'!DK17+'Product Info'!DN17+'Product Info'!DQ17+'Product Info'!DT17+'Product Info'!DW17+'Product Info'!DZ17+'Product Info'!EC17+'Product Info'!EF17+'Product Info'!EI17+'Product Info'!EL17+'Product Info'!EO17+'Product Info'!ER17+'Product Info'!EU17+'Product Info'!EX17+'Product Info'!FA17+'Product Info'!FD17)","v":0},{"$f":"AH16*('Product Info'!M17)","v":0},{"$f":"AH16*'Product Info'!P17","v":0},{"$f":"AH16*'Product Info'!S17","v":0},{"$f":"AH16*'Product Info'!V17","v":0},{"$f":"AH16*'Product Info'!Y17","v":0},{"$f":"AH16*'Product Info'!AB17","v":0},{"$f":"AH16*'Product Info'!AE17","v":0},{"$f":"AH16*'Product Info'!AH17","v":0},{"$f":"AH16*'Product Info'!AK17","v":0},{"$f":"AH16*'Product Info'!AN17","v":0},{"$f":"AH16*'Product Info'!AQ17","v":0},{"$f":"AH16*'Product Info'!AT17","v":0},{"$f":"AH16*'Product Info'!AW17","v":0},{"$f":"AH16*'Product Info'!AZ17","v":0},{"$f":"AH16*'Product Info'!BC17","v":0},{"$f":"AH16*'Product Info'!BF17","v":0},{"$f":"AH16*'Product Info'!BI17","v":0},{"$f":"AH16*'Product Info'!BL17","v":0},{"$f":"AH16*'Product Info'!BO17","v":0},{"$f":"AH16*'Product Info'!BR17","v":0},{"$f":"AH16*'Product Info'!BU17","v":0},{"$f":"AH16*'Product Info'!BX17","v":0}]
[{"$f":"'Product Info'!A18","v":0},{"$f":"'Product Info'!B18","v":0},{"$f":"'Product Info'!C18","v":0},null,null,null,null,null,null,null,null,null,null,null,null,null,null,null,null,null,null,null,null,null,null,null,null,null,null,null,null,null,null,0,{"$f":"'Product Info'!F18*('Daily Info (June)'!AH17)","v":0},null,null,{"$f":"AH17*('Product Info'!H18)","v":0},{"$f":"AH17*('Product Info'!M18+'Product Info'!P18+'Product Info'!S18+'Product Info'!V18+'Product Info'!Y18+'Product Info'!AB18+'Product Info'!AE18+'Product Info'!AH18+'Product Info'!AK18+'Product Info'!AN18+'Product Info'!AQ18+'Product Info'!AT18+'Product Info'!AW18+'Product Info'!AZ18+'Product Info'!BC18+'Product Info'!BF18+'Product Info'!BI18+'Product Info'!BL18+'Product Info'!BO18+'Product Info'!BR18+'Product Info'!BU18+'Product Info'!BX18+'Product Info'!CA18+'Product Info'!CD18+'Product Info'!CG18+'Product Info'!CJ18+'Product Info'!CM18+'Product Info'!CP18+'Product Info'!CS18+'Product Info'!CV18+'Product Info'!CY18+'Product Info'!DB18+'Product Info'!DE18+'Product Info'!DH18+'Product Info'!DK18+'Product Info'!DN18+'Product Info'!DQ18+'Product Info'!DT18+'Product Info'!DW18+'Product Info'!DZ18+'Product Info'!EC18+'Product Info'!EF18+'Product Info'!EI18+'Product Info'!EL18+'Product Info'!EO18+'Product Info'!ER18+'Product Info'!EU18+'Product Info'!EX18+'Product Info'!FA18+'Product Info'!FD18)","v":0},{"$f":"AH17*('Product Info'!M18)","v":0},{"$f":"AH17*'Product Info'!P18","v":0},{"$f":"AH17*'Product Info'!S18","v":0},{"$f":"AH17*'Product Info'!V18","v":0},{"$f":"AH17*'Product Info'!Y18","v":0},{"$f":"AH17*'Product Info'!AB18","v":0},{"$f":"AH17*'Product Info'!AE18","v":0},{"$f":"AH17*'Product Info'!AH18","v":0},{"$f":"AH17*'Product Info'!AK18","v":0},{"$f":"AH17*'Product Info'!AN18","v":0},{"$f":"AH17*'Product Info'!AQ18","v":0},{"$f":"AH17*'Product Info'!AT18","v":0},{"$f":"AH17*'Product Info'!AW18","v":0},{"$f":"AH17*'Product Info'!AZ18","v":0},{"$f":"AH17*'Product Info'!BC18","v":0},{"$f":"AH17*'Product Info'!BF18","v":0},{"$f":"AH17*'Product Info'!BI18","v":0},{"$f":"AH17*'Product Info'!BL18","v":0},{"$f":"AH17*'Product Info'!BO18","v":0},{"$f":"AH17*'Product Info'!BR18","v":0},{"$f":"AH17*'Product Info'!BU18","v":0},{"$f":"AH17*'Product Info'!BX18","v":0}]
[{"$f":"'Product Info'!A19","v":0},{"$f":"'Product Info'!B19","v":0},{"$f":"'Product Info'!C19","v":0},null,null,null,null,null,null,null,null,null,null,null,null,null,null,null,null,null,null,null,null,null,null,null,null,null,null,null,null,null,null,0,{"$f":"'Product Info'!F19*('Daily Info (June)'!AH18)","v":0},null,null,{"$f":"AH18*('Product Info'!H19)","v":0},{"$f":"AH18*('Product Info'!M19+'Product Info'!P19+'Product Info'!S19+'Product Info'!V19+'Product Info'!Y19+'Product Info'!AB19+'Product Info'!AE19+'Product Info'!AH19+'Product Info'!AK19+'Product Info'!AN19+'Product Info'!AQ19+'Product Info'!AT19+'Product Info'!AW19+'Product Info'!AZ19+'Product Info'!BC19+'Product Info'!BF19+'Product Info'!BI19+'Product Info'!BL19+'Product Info'!BO19+'Product Info'!BR19+'Product Info'!BU19+'Product Info'!BX19+'Product Info'!CA19+'Product Info'!CD19+'Product Info'!CG19+'Product Info'!CJ19+'Product Info'!CM19+'Product Info'!CP19+'Product Info'!CS19+'Product Info'!CV19+'Product Info'!CY19+'Product Info'!DB19+'Product Info'!DE19+'Product Info'!DH19+'Product Info'!DK19+'Product Info'!DN19+'Product Info'!DQ19+'Product Info'!DT19+'Product Info'!DW19+'Product Info'!DZ19+'Product Info'!EC19+'Product Info'!EF19+'Product Info'!EI19+'Product Info'!EL19+'Product Info'!EO19+'Product Info'!ER19+'Product Info'!EU19+'Product Info'!EX19+'Product Info'!FA19+'Product Info'!FD19)","v":0},{"$f":"AH18*('Product Info'!M19)","v":0},{"$f":"AH18*'Product Info'!P19","v":0},{"$f":"AH18*'Product Info'!S19","v":0},{"$f":"AH18*'Product Info'!V19","v":0},{"$f":"AH18*'Product Info'!Y19","v":0},{"$f":"AH18*'Product Info'!AB19","v":0},{"$f":"AH18*'Product Info'!AE19","v":0},{"$f":"AH18*'Product Info'!AH19","v":0},{"$f":"AH18*'Product Info'!AK19","v":0},{"$f":"AH18*'Product Info'!AN19","v":0},{"$f":"AH18*'Product Info'!AQ19","v":0},{"$f":"AQ18*'Product Info'!AF19","v":0},{"$f":"AH18*'Product Info'!AW19","v":0},{"$f":"AH18*'Product Info'!AZ19","v":0},{"$f":"AH18*'Product Info'!BC19","v":0},{"$f":"AH18*'Product Info'!BF19","v":0},{"$f":"AH18*'Product Info'!BI19","v":0},{"$f":"AH18*'Product Info'!BL19","v":0},{"$f":"AH18*'Product Info'!BO19","v":0},{"$f":"AH18*'Product Info'!BR19","v":0},{"$f":"AH18*'Product Info'!BU19","v":0},{"$f":"AH18*'Product Info'!BX19","v":0}]
[{"$f":"'Product Info'!A20","v":0},{"$f":"'Product Info'!B20","v":0},{"$f":"'Product Info'!C20","v":0},null,null,null,null,null,null,null,null,null,null,null,null,null,null,null,null,null,null,null,null,null,null,null,null,null,null,null,null,null,null,0,{"$f":"'Product Info'!F20*('Daily Info (June)'!AH19)","v":0},null,null,{"$f":"AH19*('Product Info'!H20)","v":0},{"$f":"AH19*('Product Info'!M20+'Product Info'!P20+'Product Info'!S20+'Product Info'!V20+'Product Info'!Y20+'Product Info'!AB20+'Product Info'!AE20+'Product Info'!AH20+'Product Info'!AK20+'Product Info'!AN20+'Product Info'!AQ20+'Product Info'!AT20+'Product Info'!AW20+'Product Info'!AZ20+'Product Info'!BC20+'Product Info'!BF20+'Product Info'!BI20+'Product Info'!BL20+'Product Info'!BO20+'Product Info'!BR20+'Product Info'!BU20+'Product Info'!BX20+'Product Info'!CA20+'Product Info'!CD20+'Product Info'!CG20+'Product Info'!CJ20+'Product Info'!CM20+'Product Info'!CP20+'Product Info'!CS20+'Product Info'!CV20+'Product Info'!CY20+'Product Info'!DB20+'Product Info'!DE20+'Product Info'!DH20+'Product Info'!DK20+'Product Info'!DN20+'Product Info'!DQ20+'Product Info'!DT20+'Product Info'!DW20+'Product Info'!DZ20+'Product Info'!EC20+'Product Info'!EF20+'Product Info'!EI20+'Product Info'!EL20+'Product Info'!EO20+'Product Info'!ER20+'Product Info'!EU20+'Product Info'!EX20+'Product Info'!FA20+'Product Info'!FD20)","v":0},{"$f":"AH19*('Product Info'!M20)","v":0},{"$f":"AH19*'Product Info'!P20","v":0},{"$f":"AH19*'Product Info'!S20","v":0},{"$f":"AH19*'Product Info'!V20","v":0},{"$f":"AH19*'Product Info'!Y20","v":0},{"$f":"AH19*'Product Info'!AB20","v":0},{"$f":"AH19*'Product Info'!AE20","v":0},{"$f":"AH19*'Product Info'!AH20","v":0},{"$f":"AH19*'Product Info'!AK20","v":0},{"$f":"AH19*'Product Info'!AN20","v":0},{"$f":"AH19*'Product Info'!AQ20","v":0},{"$f":"AQ19*'Product Info'!AF20","v":0},{"$f":"AH19*'Product Info'!AW20","v":0},{"$f":"AH19*'Product Info'!AZ20","v":0},{"$f":"AH19*'Product Info'!BC20","v":0},{"$f":"AH19*'Product Info'!BF20","v":0},{"$f":"AH19*'Product Info'!BI20","v":0},{"$f":"AH19*'Product Info'!BL20","v":0},{"$f":"AH19*'Product Info'!BO20","v":0},{"$f":"AH19*'Product Info'!BR20","v":0},{"$f":"AH19*'Product Info'!BU20","v":0},{"$f":"AH19*'Product Info'!BX20","v":0}]
[{"$f":"'Product Info'!A21","v":0},{"$f":"'Product Info'!B21","v":0},{"$f":"'Product Info'!C21","v":0},null,null,null,null,null,null,null,null,null,null,null,null,null,null,null,null,null,null,null,null,null,null,null,null,null,null,null,null,null,null,0,{"$f":"'Product Info'!F21*('Daily Info (June)'!AH20)","v":0},null,null,{"$f":"AH20*('Product Info'!H21)","v":0},{"$f":"AH20*('Product Info'!M21+'Product Info'!P21+'Product Info'!S21+'Product Info'!V21+'Product Info'!Y21+'Product Info'!AB21+'Product Info'!AE21+'Product Info'!AH21+'Product Info'!AK21+'Product Info'!AN21+'Product Info'!AQ21+'Product Info'!AT21+'Product Info'!AW21+'Product Info'!AZ21+'Product Info'!BC21+'Product Info'!BF21+'Product Info'!BI21+'Product Info'!BL21+'Product Info'!BO21+'Product Info'!BR21+'Product Info'!BU21+'Product Info'!BX21+'Product Info'!CA21+'Product Info'!CD21+'Product Info'!CG21+'Product Info'!CJ21+'Product Info'!CM21+'Product Info'!CP21+'Product Info'!CS21+'Product Info'!CV21+'Product Info'!CY21+'Product Info'!DB21+'Product Info'!DE21+'Product Info'!DH21+'Product Info'!DK21+'Product Info'!DN21+'Product Info'!DQ21+'Product Info'!DT21+'Product Info'!DW21+'Product Info'!DZ21+'Product Info'!EC21+'Product Info'!EF21+'Product Info'!EI21+'Product Info'!EL21+'Product Info'!EO21+'Product Info'!ER21+'Product Info'!EU21+'Product Info'!EX21+'Product Info'!FA21+'Product Info'!FD21)","v":0},{"$f":"AH20*('Product Info'!M21)","v":0},{"$f":"AH20*'Product Info'!P21","v":0},{"$f":"AH20*'Product Info'!S21","v":0},{"$f":"AH20*'Product Info'!V21","v":0},{"$f":"AH20*'Product Info'!Y21","v":0},{"$f":"AH20*'Product Info'!AB21","v":0},{"$f":"AH20*'Product Info'!AE21","v":0},{"$f":"AH20*'Product Info'!AH21","v":0},{"$f":"AH20*'Product Info'!AK21","v":0},{"$f":"AH20*'Product Info'!AN21","v":0},{"$f":"AH20*'Product Info'!AQ21","v":0},{"$f":"AH20*'Product Info'!AT21","v":0},{"$f":"AH20*'Product Info'!AW21","v":0},{"$f":"AH20*'Product Info'!AZ21","v":0},{"$f":"AH20*'Product Info'!BC21","v":0},{"$f":"AH20*'Product Info'!BF21","v":0},{"$f":"AH20*'Product Info'!BI21","v":0},{"$f":"AH20*'Product Info'!BL21","v":0},{"$f":"AH20*'Product Info'!BO21","v":0},{"$f":"AH20*'Product Info'!BR21","v":0},{"$f":"AH20*'Product Info'!BU21","v":0},{"$f":"AH20*'Product Info'!BX21","v":0}]
[{"$f":"'Product Info'!A22","v":0},{"$f":"'Product Info'!B22","v":0},{"$f":"'Product Info'!C22","v":0},null,null,null,null,null,null,null,null,null,null,null,null,null,null,null,null,null,null,null,null,null,null,null,null,null,null,null,null,null,null,0,{"$f":"'Product Info'!F22*('Daily Info (June)'!AH21)","v":0},null,null,{"$f":"AH21*('Product Info'!H22)","v":0},{"$f":"AH21*('Product Info'!M22+'Product Info'!P22+'Product Info'!S22+'Product Info'!V22+'Product Info'!Y22+'Product Info'!AB22+'Product Info'!AE22+'Product Info'!AH22+'Product Info'!AK22+'Product Info'!AN22+'Product Info'!AQ22+'Product Info'!AT22+'Product Info'!AW22+'Product Info'!AZ22+'Product Info'!BC22+'Product Info'!BF22+'Product Info'!BI22+'Product Info'!BL22+'Product Info'!BO22+'Product Info'!BR22+'Product Info'!BU22+'Product Info'!BX22+'Product Info'!CA22+'Product Info'!CD22+'Product Info'!CG22+'Product Info'!CJ22+'Product Info'!CM22+'Product Info'!CP22+'Product Info'!CS22+'Product Info'!CV22+'Product Info'!CY22+'Product Info'!DB22+'Product Info'!DE22+'Product Info'!DH22+'Product Info'!DK22+'Product Info'!DN22+'Product Info'!DQ22+'Product Info'!DT22+'Product Info'!DW22+'Product Info'!DZ22+'Product Info'!EC22+'Product Info'!EF22+'Product Info'!EI22+'Product Info'!EL22+'Product Info'!EO22+'Product Info'!ER22+'Product Info'!EU22+'Product Info'!EX22+'Product Info'!FA22+'Product Info'!FD22)","v":0},{"$f":"AH21*('Product Info'!M22)","v":0},{"$f":"AH21*'Product Info'!P22","v":0},{"$f":"AH21*'Product Info'!S22","v":0},{"$f":"AH21*'Product Info'!V22","v":0},{"$f":"AH21*'Product Info'!Y22","v":0},{"$f":"AH21*'Product Info'!AB22","v":0},{"$f":"AH21*'Product Info'!AE22","v":0},{"$f":"AH21*'Product Info'!AH22","v":0},{"$f":"AH21*'Product Info'!AK22","v":0},{"$f":"AH21*'Product Info'!AN22","v":0},{"$f":"AH21*'Product Info'!AQ22","v":0},{"$f":"AH21*'Product Info'!AT22","v":0},{"$f":"AH21*'Product Info'!AW22","v":0},{"$f":"AH21*'Product Info'!AZ22","v":0},{"$f":"AH21*'Product Info'!BC22","v":0},{"$f":"AH21*'Product Info'!BF22","v":0},{"$f":"AH21*'Product Info'!BI22","v":0},{"$f":"AH21*'Product Info'!BL22","v":0},{"$f":"AH21*'Product Info'!BO22","v":0},{"$f":"AH21*'Product Info'!BR22","v":0},{"$f":"AH21*'Product Info'!BU22","v":0},{"$f":"AH21*'Product Info'!BX22","v":0}]
[{"$f":"'Product Info'!A23","v":0},{"$f":"'Product Info'!B23","v":0},{"$f":"'Product Info'!C23","v":0},null,null,null,null,null,null,null,null,null,null,null,null,null,null,null,null,null,null,null,null,null,null,null,null,null,null,null,null,null,null,0,{"$f":"'Product Info'!F23*('Daily Info (June)'!AH22)","v":0},null,null,{"$f":"AH22*('Product Info'!H23)","v":0},{"$f":"AH22*('Product Info'!M23+'Product Info'!P23+'Product Info'!S23+'Product Info'!V23+'Product Info'!Y23+'Product Info'!AB23+'Product Info'!AE23+'Product Info'!AH23+'Product Info'!AK23+'Product Info'!AN23+'Product Info'!AQ23+'Product Info'!AT23+'Product Info'!AW23+'Product Info'!AZ23+'Product Info'!BC23+'Product Info'!BF23+'Product Info'!BI23+'Product Info'!BL23+'Product Info'!BO23+'Product Info'!BR23+'Product Info'!BU23+'Product Info'!BX23+'Product Info'!CA23+'Product Info'!CD23+'Product Info'!CG23+'Product Info'!CJ23+'Product Info'!CM23+'Product Info'!CP23+'Product Info'!CS23+'Product Info'!CV23+'Product Info'!CY23+'Product Info'!DB23+'Product Info'!DE23+'Product Info'!DH23+'Product Info'!DK23+'Product Info'!DN23+'Product Info'!DQ23+'Product Info'!DT23+'Product Info'!DW23+'Product Info'!DZ23+'Product Info'!EC23+'Product Info'!EF23+'Product Info'!EI23+'Product Info'!EL23+'Product Info'!EO23+'Product Info'!ER23+'Product Info'!EU23+'Product Info'!EX23+'Product Info'!FA23+'Product Info'!FD23)","v":0},{"$f":"AH22*('Product Info'!M23)","v":0},{"$f":"AH22*'Product Info'!P23","v":0},{"$f":"AH22*'Product Info'!S23","v":0},{"$f":"AH22*'Product Info'!V23","v":0},{"$f":"AH22*'Product Info'!Y23","v":0},{"$f":"AH22*'Product Info'!AB23","v":0},{"$f":"AH22*'Product Info'!AE23","v":0},{"$f":"AH22*'Product Info'!AH23","v":0},{"$f":"AH22*'Product Info'!AK23","v":0},{"$f":"AH22*'Product Info'!AN23","v":0},{"$f":"AH22*'Product Info'!AQ23","v":0},{"$f":"AH22*'Product Info'!AT23","v":0},{"$f":"AH22*'Product Info'!AW23","v":0},{"$f":"AH22*'Product Info'!AZ23","v":0},{"$f":"AH22*'Product Info'!BC23","v":0},{"$f":"AH22*'Product Info'!BF23","v":0},{"$f":"AH22*'Product Info'!BI23","v":0},{"$f":"AH22*'Product Info'!BL23","v":0},{"$f":"AH22*'Product Info'!BO23","v":0},{"$f":"AH22*'Product Info'!BR23","v":0},{"$f":"AH22*'Product Info'!BU23","v":0},{"$f":"AH22*'Product Info'!BX23","v":0}]
[{"$f":"'Product Info'!A24","v":0},{"$f":"'Product Info'!B24","v":0},{"$f":"'Product Info'!C24","v":0},null,null,null,null,null,null,null,null,null,null,null,null,null,null,null,null,null,null,null,null,null,null,null,null,null,null,null,null,null,null,0,{"$f":"'Product Info'!F24*('Daily Info (June)'!AH23)","v":0},null,null,{"$f":"AH23*('Product Info'!H24)","v":0},{"$f":"AH23*('Product Info'!M24+'Product Info'!P24+'Product Info'!S24+'Product Info'!V24+'Product Info'!Y24+'Product Info'!AB24+'Product Info'!AE24+'Product Info'!AH24+'Product Info'!AK24+'Product Info'!AN24+'Product Info'!AQ24+'Product Info'!AT24+'Product Info'!AW24+'Product Info'!AZ24+'Product Info'!BC24+'Product Info'!BF24+'Product Info'!BI24+'Product Info'!BL24+'Product Info'!BO24+'Product Info'!BR24+'Product Info'!BU24+'Product Info'!BX24+'Product Info'!CA24+'Product Info'!CD24+'Product Info'!CG24+'Product Info'!CJ24+'Product Info'!CM24+'Product Info'!CP24+'Product Info'!CS24+'Product Info'!CV24+'Product Info'!CY24+'Product Info'!DB24+'Product Info'!DE24+'Product Info'!DH24+'Product Info'!DK24+'Product Info'!DN24+'Product Info'!DQ24+'Product Info'!DT24+'Product Info'!DW24+'Product Info'!DZ24+'Product Info'!EC24+'Product Info'!EF24+'Product Info'!EI24+'Product Info'!EL24+'Product Info'!EO24+'Product Info'!ER24+'Product Info'!EU24+'Product Info'!EX24+'Product Info'!FA24+'Product Info'!FD24)","v":0},{"$f":"AH23*('Product Info'!M24)","v":0},{"$f":"AH23*'Product Info'!P24","v":0},{"$f":"AH23*'Product Info'!S24","v":0},{"$f":"AH23*'Product Info'!V24","v":0},{"$f":"AH23*'Product Info'!Y24","v":0},{"$f":"AH23*'Product Info'!AB24","v":0},{"$f":"AH23*'Product Info'!AE24","v":0},{"$f":"AH23*'Product Info'!AH24","v":0},{"$f":"AH23*'Product Info'!AK24","v":0},{"$f":"AH23*'Product Info'!AN24","v":0},{"$f":"AH23*'Product Info'!AQ24","v":0},{"$f":"AH23*'Product Info'!AT24","v":0},{"$f":"AH23*'Product Info'!AW24","v":0},{"$f":"AH23*'Product Info'!AZ24","v":0},{"$f":"AH23*'Product Info'!BC24","v":0},{"$f":"AH23*'Product Info'!BF24","v":0},{"$f":"AH23*'Product Info'!BI24","v":0},{"$f":"AH23*'Product Info'!BL24","v":0},{"$f":"AH23*'Product Info'!BO24","v":0},{"$f":"AH23*'Product Info'!BR24","v":0},{"$f":"AH23*'Product Info'!BU24","v":0},{"$f":"AH23*'Product Info'!BX24","v":0}]
[{"$f":"'Product Info'!A25","v":0},{"$f":"'Product Info'!B25","v":0},{"$f":"'Product Info'!C25","v":0},null,null,null,null,null,null,null,null,null,null,null,null,null,null,null,null,null,null,null,null,null,null,null,null,null,null,null,null,null,null,0,{"$f":"'Product Info'!F25*('Daily Info (June)'!AH24)","v":0},null,null,{"$f":"AH24*('Product Info'!H25)","v":0},{"$f":"AH24*('Product Info'!M25+'Product Info'!P25+'Product Info'!S25+'Product Info'!V25+'Product Info'!Y25+'Product Info'!AB25+'Product Info'!AE25+'Product Info'!AH25+'Product Info'!AK25+'Product Info'!AN25+'Product Info'!AQ25+'Product Info'!AT25+'Product Info'!AW25+'Product Info'!AZ25+'Product Info'!BC25+'Product Info'!BF25+'Product Info'!BI25+'Product Info'!BL25+'Product Info'!BO25+'Product Info'!BR25+'Product Info'!BU25+'Product Info'!BX25+'Product Info'!CA25+'Product Info'!CD25+'Product Info'!CG25+'Product Info'!CJ25+'Product Info'!CM25+'Product Info'!CP25+'Product Info'!CS25+'Product Info'!CV25+'Product Info'!CY25+'Product Info'!DB25+'Product Info'!DE25+'Product Info'!DH25+'Product Info'!DK25+'Product Info'!DN25+'Product Info'!DQ25+'Product Info'!DT25+'Product Info'!DW25+'Product Info'!DZ25+'Product Info'!EC25+'Product Info'!EF25+'Product Info'!EI25+'Product Info'!EL25+'Product Info'!EO25+'Product Info'!ER25+'Product Info'!EU25+'Product Info'!EX25+'Product Info'!FA25+'Product Info'!FD25)","v":0},{"$f":"AH24*('Product Info'!M25)","v":0},{"$f":"AH24*'Product Info'!P25","v":0},{"$f":"AH24*'Product Info'!S25","v":0},{"$f":"AH24*'Product Info'!V25","v":0},{"$f":"AH24*'Product Info'!Y25","v":0},{"$f":"AH24*'Product Info'!AB25","v":0},{"$f":"AH24*'Product Info'!AE25","v":0},{"$f":"AH24*'Product Info'!AH25","v":0},{"$f":"AH24*'Product Info'!AK25","v":0},{"$f":"AH24*'Product Info'!AN25","v":0},{"$f":"AH24*'Product Info'!AQ25","v":0},{"$f":"AH24*'Product Info'!AT25","v":0},{"$f":"AH24*'Product Info'!AW25","v":0},{"$f":"AH24*'Product Info'!AZ25","v":0},{"$f":"AH24*'Product Info'!BC25","v":0},{"$f":"AH24*'Product Info'!BF25","v":0},{"$f":"AH24*'Product Info'!BI25","v":0},{"$f":"AH24*'Product Info'!BL25","v":0},{"$f":"AH24*'Product Info'!BO25","v":0},{"$f":"AH24*'Product Info'!BR25","v":0},{"$f":"AH24*'Product Info'!BU25","v":0},{"$f":"AH24*'Product Info'!BX25","v":0}]
[{"$f":"'Product Info'!A26","v":0},{"$f":"'Product Info'!B26","v":0},{"$f":"'Product Info'!C26","v":0},null,null,null,null,null,null,null,null,null,null,null,null,null,null,null,null,null,null,null,null,null,null,null,null,null,null,null,null,null,null,0,{"$f":"'Product Info'!F26*('Daily Info (June)'!AH25)","v":0},null,null,{"$f":"AH25*('Product Info'!H26)","v":0},{"$f":"AH25*('Product Info'!M26+'Product Info'!P26+'Product Info'!S26+'Product Info'!V26+'Product Info'!Y26+'Product Info'!AB26+'Product Info'!AE26+'Product Info'!AH26+'Product Info'!AK26+'Product Info'!AN26+'Product Info'!AQ26+'Product Info'!AT26+'Product Info'!AW26+'Product Info'!AZ26+'Product Info'!BC26+'Product Info'!BF26+'Product Info'!BI26+'Product Info'!BL26+'Product Info'!BO26+'Product Info'!BR26+'Product Info'!BU26+'Product Info'!BX26+'Product Info'!CA26+'Product Info'!CD26+'Product Info'!CG26+'Product Info'!CJ26+'Product Info'!CM26+'Product Info'!CP26+'Product Info'!CS26+'Product Info'!CV26+'Product Info'!CY26+'Product Info'!DB26+'Product Info'!DE26+'Product Info'!DH26+'Product Info'!DK26+'Product Info'!DN26+'Product Info'!DQ26+'Product Info'!DT26+'Product Info'!DW26+'Product Info'!DZ26+'Product Info'!EC26+'Product Info'!EF26+'Product Info'!EI26+'Product Info'!EL26+'Product Info'!EO26+'Product Info'!ER26+'Product Info'!EU26+'Product Info'!EX26+'Product Info'!FA26+'Product Info'!FD26)","v":0},{"$f":"AH25*('Product Info'!M26)","v":0},{"$f":"AH25*'Product Info'!P26","v":0},{"$f":"AH25*'Product Info'!S26","v":0},{"$f":"AH25*'Product Info'!V26","v":0},{"$f":"AH25*'Product Info'!Y26","v":0},{"$f":"AH25*'Product Info'!AB26","v":0},{"$f":"AH25*'Product Info'!AE26","v":0},{"$f":"AH25*'Product Info'!AH26","v":0},{"$f":"AH25*'Product Info'!AK26","v":0},{"$f":"AH25*'Product Info'!AN26","v":0},{"$f":"AH25*'Product Info'!AQ26","v":0},{"$f":"AH25*'Product Info'!AT26","v":0},{"$f":"AH25*'Product Info'!AW26","v":0},{"$f":"AH25*'Product Info'!AZ26","v":0},{"$f":"AH25*'Product Info'!BC26","v":0},{"$f":"AH25*'Product Info'!BF26","v":0},{"$f":"AH25*'Product Info'!BI26","v":0},{"$f":"AH25*'Product Info'!BL26","v":0},{"$f":"AH25*'Product Info'!BO26","v":0},{"$f":"AH25*'Product Info'!BR26","v":0},{"$f":"AH25*'Product Info'!BU26","v":0},{"$f":"AH25*'Product Info'!BX26","v":0}]
[{"$f":"'Product Info'!A27","v":0},{"$f":"'Product Info'!B27","v":0},{"$f":"'Product Info'!C27","v":0},null,null,null,null,null,null,null,null,null,null,null,null,null,null,null,null,null,null,null,null,null,null,null,null,null,null,null,null,null,null,0,{"$f":"'Product Info'!F27*('Daily Info (June)'!AH26)","v":0},null,null,{"$f":"AH26*('Product Info'!H27)","v":0},{"$f":"AH26*('Product Info'!M27+'Product Info'!P27+'Product Info'!S27+'Product Info'!V27+'Product Info'!Y27+'Product Info'!AB27+'Product Info'!AE27+'Product Info'!AH27+'Product Info'!AK27+'Product Info'!AN27+'Product Info'!AQ27+'Product Info'!AT27+'Product Info'!AW27+'Product Info'!AZ27+'Product Info'!BC27+'Product Info'!BF27+'Product Info'!BI27+'Product Info'!BL27+'Product Info'!BO27+'Product Info'!BR27+'Product Info'!BU27+'Product Info'!BX27+'Product Info'!CA27+'Product Info'!CD27+'Product Info'!CG27+'Product Info'!CJ27+'Product Info'!CM27+'Product Info'!CP27+'Product Info'!CS27+'Product Info'!CV27+'Product Info'!CY27+'Product Info'!DB27+'Product Info'!DE27+'Product Info'!DH27+'Product Info'!DK27+'Product Info'!DN27+'Product Info'!DQ27+'Product Info'!DT27+'Product Info'!DW27+'Product Info'!DZ27+'Product Info'!EC27+'Product Info'!EF27+'Product Info'!EI27+'Product Info'!EL27+'Product Info'!EO27+'Product Info'!ER27+'Product Info'!EU27+'Product Info'!EX27+'Product Info'!FA27+'Product Info'!FD27)","v":0},{"$f":"AH26*('Product Info'!M27)","v":0},{"$f":"AH26*'Product Info'!P27","v":0},{"$f":"AH26*'Product Info'!S27","v":0},{"$f":"AH26*'Product Info'!V27","v":0},{"$f":"AH26*'Product Info'!Y27","v":0},{"$f":"AH26*'Product Info'!AB27","v":0},{"$f":"AH26*'Product Info'!AE27","v":0},{"$f":"AH26*'Product Info'!AH27","v":0},{"$f":"AH26*'Product Info'!AK27","v":0},{"$f":"AH26*'Product Info'!AN27","v":0},{"$f":"AH26*'Product Info'!AQ27","v":0},{"$f":"AH26*'Product Info'!AT27","v":0},{"$f":"AH26*'Product Info'!AW27","v":0},{"$f":"AH26*'Product Info'!AZ27","v":0},{"$f":"AH26*'Product Info'!BC27","v":0},{"$f":"AH26*'Product Info'!BF27","v":0},{"$f":"AH26*'Product Info'!BI27","v":0},{"$f":"AH26*'Product Info'!BL27","v":0},{"$f":"AH26*'Product Info'!BO27","v":0},{"$f":"AH26*'Product Info'!BR27","v":0},{"$f":"AH26*'Product Info'!BU27","v":0},{"$f":"AH26*'Product Info'!BX27","v":0}]
[{"$f":"'Product Info'!A28","v":0},{"$f":"'Product Info'!B28","v":0},{"$f":"'Product Info'!C28","v":0},null,null,null,null,null,null,null,null,null,null,null,null,null,null,null,null,null,null,null,null,null,null,null,null,null,null,null,null,null,null,0,{"$f":"'Product Info'!F28*('Daily Info (June)'!AH27)","v":0},null,null,{"$f":"AH27*('Product Info'!H28)","v":0},{"$f":"AH27*('Product Info'!M28+'Product Info'!P28+'Product Info'!S28+'Product Info'!V28+'Product Info'!Y28+'Product Info'!AB28+'Product Info'!AE28+'Product Info'!AH28+'Product Info'!AK28+'Product Info'!AN28+'Product Info'!AQ28+'Product Info'!AT28+'Product Info'!AW28+'Product Info'!AZ28+'Product Info'!BC28+'Product Info'!BF28+'Product Info'!BI28+'Product Info'!BL28+'Product Info'!BO28+'Product Info'!BR28+'Product Info'!BU28+'Product Info'!BX28+'Product Info'!CA28+'Product Info'!CD28+'Product Info'!CG28+'Product Info'!CJ28+'Product Info'!CM28+'Product Info'!CP28+'Product Info'!CS28+'Product Info'!CV28+'Product Info'!CY28+'Product Info'!DB28+'Product Info'!DE28+'Product Info'!DH28+'Product Info'!DK28+'Product Info'!DN28+'Product Info'!DQ28+'Product Info'!DT28+'Product Info'!DW28+'Product Info'!DZ28+'Product Info'!EC28+'Product Info'!EF28+'Product Info'!EI28+'Product Info'!EL28+'Product Info'!EO28+'Product Info'!ER28+'Product Info'!EU28+'Product Info'!EX28+'Product Info'!FA28+'Product Info'!FD28)","v":0},{"$f":"AH27*('Product Info'!M28)","v":0},{"$f":"AH27*'Product Info'!P28","v":0},{"$f":"AH27*'Product Info'!S28","v":0},{"$f":"AH27*'Product Info'!V28","v":0},{"$f":"AH27*'Product Info'!Y28","v":0},{"$f":"AH27*'Product Info'!AB28","v":0},{"$f":"AH27*'Product Info'!AE28","v":0},{"$f":"AH27*'Product Info'!AH28","v":0},{"$f":"AH27*'Product Info'!AK28","v":0},{"$f":"AH27*'Product Info'!AN28","v":0},{"$f":"AH27*'Product Info'!AQ28","v":0},{"$f":"AH27*'Product Info'!AT28","v":0},{"$f":"AH27*'Product Info'!AW28","v":0},{"$f":"AH27*'Product Info'!AZ28","v":0},{"$f":"AH27*'Product Info'!BC28","v":0},{"$f":"AH27*'Product Info'!BF28","v":0},{"$f":"AH27*'Product Info'!BI28","v":0},{"$f":"AH27*'Product Info'!BL28","v":0},{"$f":"AH27*'Product Info'!BO28","v":0},{"$f":"AH27*'Product Info'!BR28","v":0},{"$f":"AH27*'Product Info'!BU28","v":0},{"$f":"AH27*'Product Info'!BX28","v":0}]
[{"$f":"'Product Info'!A29","v":0},{"$f":"'Product Info'!B29","v":0},{"$f":"'Product Info'!C29","v":0},null,null,null,null,null,null,null,null,null,null,null,null,null,null,null,null,null,null,null,null,null,null,null,null,null,null,null,null,null,null,0,{"$f":"'Product Info'!F29*('Daily Info (June)'!AH28)","v":0},null,null,{"$f":"AH28*('Product Info'!H29)","v":0},{"$f":"AH28*('Product Info'!M29+'Product Info'!P29+'Product Info'!S29+'Product Info'!V29+'Product Info'!Y29+'Product Info'!AB29+'Product Info'!AE29+'Product Info'!AH29+'Product Info'!AK29+'Product Info'!AN29+'Product Info'!AQ29+'Product Info'!AT29+'Product Info'!AW29+'Product Info'!AZ29+'Product Info'!BC29+'Product Info'!BF29+'Product Info'!BI29+'Product Info'!BL29+'Product Info'!BO29+'Product Info'!BR29+'Product Info'!BU29+'Product Info'!BX29+'Product Info'!CA29+'Product Info'!CD29+'Product Info'!CG29+'Product Info'!CJ29+'Product Info'!CM29+'Product Info'!CP29+'Product Info'!CS29+'Product Info'!CV29+'Product Info'!CY29+'Product Info'!DB29+'Product Info'!DE29+'Product Info'!DH29+'Product Info'!DK29+'Product Info'!DN29+'Product Info'!DQ29+'Product Info'!DT29+'Product Info'!DW29+'Product Info'!DZ29+'Product Info'!EC29+'Product Info'!EF29+'Product Info'!EI29+'Product Info'!EL29+'Product Info'!EO29+'Product Info'!ER29+'Product Info'!EU29+'Product Info'!EX29+'Product Info'!FA29+'Product Info'!FD29)","v":0},{"$f":"AH28*('Product Info'!M29)","v":0},{"$f":"AH28*'Product Info'!P29","v":0},{"$f":"AH28*'Product Info'!S29","v":0},{"$f":"AH28*'Product Info'!V29","v":0},{"$f":"AH28*'Product Info'!Y29","v":0},{"$f":"AH28*'Product Info'!AB29","v":0},{"$f":"AH28*'Product Info'!AE29","v":0},{"$f":"AH28*'Product Info'!AH29","v":0},{"$f":"AH28*'Product Info'!AK29","v":0},{"$f":"AH28*'Product Info'!AN29","v":0},{"$f":"AH28*'Product Info'!AQ29","v":0},{"$f":"AH28*'Product Info'!AT29","v":0},{"$f":"AH28*'Product Info'!AW29","v":0},{"$f":"AH28*'Product Info'!AZ29","v":0},{"$f":"AH28*'Product Info'!BC29","v":0},{"$f":"AH28*'Product Info'!BF29","v":0},{"$f":"AH28*'Product Info'!BI29","v":0},{"$f":"AH28*'Product Info'!BL29","v":0},{"$f":"AH28*'Product Info'!BO29","v":0},{"$f":"AH28*'Product Info'!BR29","v":0},{"$f":"AH28*'Product Info'!BU29","v":0},{"$f":"AH28*'Product Info'!BX29","v":0}]
[{"$f":"'Product Info'!A30","v":0},{"$f":"'Product Info'!B30","v":0},{"$f":"'Product Info'!C30","v":0},null,null,null,null,null,null,null,null,null,null,null,null,null,null,null,null,null,null,null,null,null,null,null,null,null,null,null,null,null,null,0,{"$f":"'Product Info'!F30*('Daily Info (June)'!AH29)","v":0},null,null,{"$f":"AH29*('Product Info'!H30)","v":0},{"$f":"AH29*('Product Info'!M30+'Product Info'!P30+'Product Info'!S30+'Product Info'!V30+'Product Info'!Y30+'Product Info'!AB30+'Product Info'!AE30+'Product Info'!AH30+'Product Info'!AK30+'Product Info'!AN30+'Product Info'!AQ30+'Product Info'!AT30+'Product Info'!AW30+'Product Info'!AZ30+'Product Info'!BC30+'Product Info'!BF30+'Product Info'!BI30+'Product Info'!BL30+'Product Info'!BO30+'Product Info'!BR30+'Product Info'!BU30+'Product Info'!BX30+'Product Info'!CA30+'Product Info'!CD30+'Product Info'!CG30+'Product Info'!CJ30+'Product Info'!CM30+'Product Info'!CP30+'Product Info'!CS30+'Product Info'!CV30+'Product Info'!CY30+'Product Info'!DB30+'Product Info'!DE30+'Product Info'!DH30+'Product Info'!DK30+'Product Info'!DN30+'Product Info'!DQ30+'Product Info'!DT30+'Product Info'!DW30+'Product Info'!DZ30+'Product Info'!EC30+'Product Info'!EF30+'Product Info'!EI30+'Product Info'!EL30+'Product Info'!EO30+'Product Info'!ER30+'Product Info'!EU30+'Product Info'!EX30+'Product Info'!FA30+'Product Info'!FD30)","v":0},{"$f":"AH29*('Product Info'!M30)","v":0},{"$f":"AH29*'Product Info'!P30","v":0},{"$f":"AH29*'Product Info'!S30","v":0},{"$f":"AH29*'Product Info'!V30","v":0},{"$f":"AH29*'Product Info'!Y30","v":0},{"$f":"AH29*'Product Info'!AB30","v":0},{"$f":"AH29*'Product Info'!AE30","v":0},{"$f":"AH29*'Product Info'!AH30","v":0},{"$f":"AH29*'Product Info'!AK30","v":0},{"$f":"AH29*'Product Info'!AN30","v":0},{"$f":"AH29*'Product Info'!AQ30","v":0},{"$f":"AH29*'Product Info'!AT30","v":0},{"$f":"AH29*'Product Info'!AW30","v":0},{"$f":"AH29*'Product Info'!AZ30","v":0},{"$f":"AH29*'Product Info'!BC30","v":0},{"$f":"AH29*'Product Info'!BF30","v":0},{"$f":"AH29*'Product Info'!BI30","v":0},{"$f":"AH29*'Product Info'!BL30","v":0},{"$f":"AH29*'Product Info'!BO30","v":0},{"$f":"AH29*'Product Info'!BR30","v":0},{"$f":"AH29*'Product Info'!BU30","v":0},{"$f":"AH29*'Product Info'!BX30","v":0}]
[{"$f":"'Product Info'!A31","v":0},{"$f":"'Product Info'!B31","v":0},{"$f":"'Product Info'!C31","v":0},null,null,null,null,null,null,null,null,null,null,null,null,null,null,null,null,null,null,null,null,null,null,null,null,null,null,null,null,null,null,0,{"$f":"'Product Info'!F31*('Daily Info (June)'!AH30)","v":0},null,null,{"$f":"AH30*('Product Info'!H31)","v":0},{"$f":"AH30*('Product Info'!M31+'Product Info'!P31+'Product Info'!S31+'Product Info'!V31+'Product Info'!Y31+'Product Info'!AB31+'Product Info'!AE31+'Product Info'!AH31+'Product Info'!AK31+'Product Info'!AN31+'Product Info'!AQ31+'Product Info'!AT31+'Product Info'!AW31+'Product Info'!AZ31+'Product Info'!BC31+'Product Info'!BF31+'Product Info'!BI31+'Product Info'!BL31+'Product Info'!BO31+'Product Info'!BR31+'Product Info'!BU31+'Product Info'!BX31+'Product Info'!CA31+'Product Info'!CD31+'Product Info'!CG31+'Product Info'!CJ31+'Product Info'!CM31+'Product Info'!CP31+'Product Info'!CS31+'Product Info'!CV31+'Product Info'!CY31+'Product Info'!DB31+'Product Info'!DE31+'Product Info'!DH31+'Product Info'!DK31+'Product Info'!DN31+'Product Info'!DQ31+'Product Info'!DT31+'Product Info'!DW31+'Product Info'!DZ31+'Product Info'!EC31+'Product Info'!EF31+'Product Info'!EI31+'Product Info'!EL31+'Product Info'!EO31+'Product Info'!ER31+'Product Info'!EU31+'Product Info'!EX31+'Product Info'!FA31+'Product Info'!FD31)","v":0},{"$f":"AH30*('Product Info'!M31)","v":0},{"$f":"AH30*'Product Info'!P31","v":0},{"$f":"AH30*'Product Info'!S31","v":0},{"$f":"AH30*'Product Info'!V31","v":0},{"$f":"AH30*'Product Info'!Y31","v":0},{"$f":"AH30*'Product Info'!AB31","v":0},{"$f":"AH30*'Product Info'!AE31","v":0},{"$f":"AH30*'Product Info'!AH31","v":0},{"$f":"AH30*'Product Info'!AK31","v":0},{"$f":"AH30*'Product Info'!AN31","v":0},{"$f":"AH30*'Product Info'!AQ31","v":0},{"$f":"AH30*'Product Info'!AT31","v":0},{"$f":"AH30*'Product Info'!AW31","v":0},{"$f":"AH30*'Product Info'!AZ31","v":0},{"$f":"AH30*'Product Info'!BC31","v":0},{"$f":"AH30*'Product Info'!BF31","v":0},{"$f":"AH30*'Product Info'!BI31","v":0},{"$f":"AH30*'Product Info'!BL31","v":0},{"$f":"AH30*'Product Info'!BO31","v":0},{"$f":"AH30*'Product Info'!BR31","v":0},{"$f":"AH30*'Product Info'!BU31","v":0},{"$f":"AH30*'Product Info'!BX31","v":0}]
[{"$f":"'Product Info'!A32","v":0},{"$f":"'Product Info'!B32","v":0},{"$f":"'Product Info'!C32","v":0},null,null,null,null,null,null,null,null,null,null,null,null,null,null,null,null,null,null,null,null,null,null,null,null,null,null,null,null,null,null,0,{"$f":"'Product Info'!F32*('Daily Info (June)'!AH31)","v":0},null,null,{"$f":"AH31*('Product Info'!H32)","v":0},{"$f":"AH31*('Product Info'!M32+'Product Info'!P32+'Product Info'!S32+'Product Info'!V32+'Product Info'!Y32+'Product Info'!AB32+'Product Info'!AE32+'Product Info'!AH32+'Product Info'!AK32+'Product Info'!AN32+'Product Info'!AQ32+'Product Info'!AT32+'Product Info'!AW32+'Product Info'!AZ32+'Product Info'!BC32+'Product Info'!BF32+'Product Info'!BI32+'Product Info'!BL32+'Product Info'!BO32+'Product Info'!BR32+'Product Info'!BU32+'Product Info'!BX32+'Product Info'!CA32+'Product Info'!CD32+'Product Info'!CG32+'Product Info'!CJ32+'Product Info'!CM32+'Product Info'!CP32+'Product Info'!CS32+'Product Info'!CV32+'Product Info'!CY32+'Product Info'!DB32+'Product Info'!DE32+'Product Info'!DH32+'Product Info'!DK32+'Product Info'!DN32+'Product Info'!DQ32+'Product Info'!DT32+'Product Info'!DW32+'Product Info'!DZ32+'Product Info'!EC32+'Product Info'!EF32+'Product Info'!EI32+'Product Info'!EL32+'Product Info'!EO32+'Product Info'!ER32+'Product Info'!EU32+'Product Info'!EX32+'Product Info'!FA32+'Product Info'!FD32)","v":0},{"$f":"AH31*('Product Info'!M32)","v":0},{"$f":"AH31*'Product Info'!P32","v":0},{"$f":"AH31*'Product Info'!S32","v":0},{"$f":"AH31*'Product Info'!V32","v":0},{"$f":"AH31*'Product Info'!Y32","v":0},{"$f":"AH31*'Product Info'!AB32","v":0},{"$f":"AH31*'Product Info'!AE32","v":0},{"$f":"AH31*'Product Info'!AH32","v":0},{"$f":"AH31*'Product Info'!AK32","v":0},{"$f":"AH31*'Product Info'!AN32","v":0},{"$f":"AH31*'Product Info'!AQ32","v":0},{"$f":"AH31*'Product Info'!AT32","v":0},{"$f":"AH31*'Product Info'!AW32","v":0},{"$f":"AH31*'Product Info'!AZ32","v":0},{"$f":"AH31*'Product Info'!BC32","v":0},{"$f":"AH31*'Product Info'!BF32","v":0},{"$f":"AH31*'Product Info'!BI32","v":0},{"$f":"AH31*'Product Info'!BL32","v":0},{"$f":"AH31*'Product Info'!BO32","v":0},{"$f":"AH31*'Product Info'!BR32","v":0},{"$f":"AH31*'Product Info'!BU32","v":0},{"$f":"AH31*'Product Info'!BX32","v":0}]
[{"$f":"'Product Info'!A33","v":0},{"$f":"'Product Info'!B33","v":0},{"$f":"'Product Info'!C33","v":0},null,null,null,null,null,null,null,null,null,null,null,null,null,null,null,null,null,null,null,null,null,null,null,null,null,null,null,null,null,null,0,{"$f":"'Product Info'!F33*('Daily Info (June)'!AH32)","v":0},null,null,{"$f":"AH32*('Product Info'!H33)","v":0},{"$f":"AH32*('Product Info'!M33+'Product Info'!P33+'Product Info'!S33+'Product Info'!V33+'Product Info'!Y33+'Product Info'!AB33+'Product Info'!AE33+'Product Info'!AH33+'Product Info'!AK33+'Product Info'!AN33+'Product Info'!AQ33+'Product Info'!AT33+'Product Info'!AW33+'Product Info'!AZ33+'Product Info'!BC33+'Product Info'!BF33+'Product Info'!BI33+'Product Info'!BL33+'Product Info'!BO33+'Product Info'!BR33+'Product Info'!BU33+'Product Info'!BX33+'Product Info'!CA33+'Product Info'!CD33+'Product Info'!CG33+'Product Info'!CJ33+'Product Info'!CM33+'Product Info'!CP33+'Product Info'!CS33+'Product Info'!CV33+'Product Info'!CY33+'Product Info'!DB33+'Product Info'!DE33+'Product Info'!DH33+'Product Info'!DK33+'Product Info'!DN33+'Product Info'!DQ33+'Product Info'!DT33+'Product Info'!DW33+'Product Info'!DZ33+'Product Info'!EC33+'Product Info'!EF33+'Product Info'!EI33+'Product Info'!EL33+'Product Info'!EO33+'Product Info'!ER33+'Product Info'!EU33+'Product Info'!EX33+'Product Info'!FA33+'Product Info'!FD33)","v":0},{"$f":"AH32*('Product Info'!M33)","v":0},{"$f":"AH32*'Product Info'!P33","v":0},{"$f":"AH32*'Product Info'!S33","v":0},{"$f":"AH32*'Product Info'!V33","v":0},{"$f":"AH32*'Product Info'!Y33","v":0},{"$f":"AH32*'Product Info'!AB33","v":0},{"$f":"AH32*'Product Info'!AE33","v":0},{"$f":"AH32*'Product Info'!AH33","v":0},{"$f":"AH32*'Product Info'!AK33","v":0},{"$f":"AH32*'Product Info'!AN33","v":0},{"$f":"AH32*'Product Info'!AQ33","v":0},{"$f":"AH32*'Product Info'!AT33","v":0},{"$f":"AH32*'Product Info'!AW33","v":0},{"$f":"AH32*'Product Info'!AZ33","v":0},{"$f":"AH32*'Product Info'!BC33","v":0},{"$f":"AH32*'Product Info'!BF33","v":0},{"$f":"AH32*'Product Info'!BI33","v":0},{"$f":"AH32*'Product Info'!BL33","v":0},{"$f":"AH32*'Product Info'!BO33","v":0},{"$f":"AH32*'Product Info'!BR33","v":0},{"$f":"AH32*'Product Info'!BU33","v":0},{"$f":"AH32*'Product Info'!BX33","v":0}]
[{"$f":"'Product Info'!A34","v":0},{"$f":"'Product Info'!B34","v":0},{"$f":"'Product Info'!C34","v":0},null,null,null,null,null,null,null,null,null,null,null,null,null,null,null,null,null,null,null,null,null,null,null,null,null,null,null,null,null,null,0,{"$f":"'Product Info'!F34*('Daily Info (June)'!AH33)","v":0},null,null,{"$f":"AH33*('Product Info'!H34)","v":0},{"$f":"AH33*('Product Info'!M34+'Product Info'!P34+'Product Info'!S34+'Product Info'!V34+'Product Info'!Y34+'Product Info'!AB34+'Product Info'!AE34+'Product Info'!AH34+'Product Info'!AK34+'Product Info'!AN34+'Product Info'!AQ34+'Product Info'!AT34+'Product Info'!AW34+'Product Info'!AZ34+'Product Info'!BC34+'Product Info'!BF34+'Product Info'!BI34+'Product Info'!BL34+'Product Info'!BO34+'Product Info'!BR34+'Product Info'!BU34+'Product Info'!BX34+'Product Info'!CA34+'Product Info'!CD34+'Product Info'!CG34+'Product Info'!CJ34+'Product Info'!CM34+'Product Info'!CP34+'Product Info'!CS34+'Product Info'!CV34+'Product Info'!CY34+'Product Info'!DB34+'Product Info'!DE34+'Product Info'!DH34+'Product Info'!DK34+'Product Info'!DN34+'Product Info'!DQ34+'Product Info'!DT34+'Product Info'!DW34+'Product Info'!DZ34+'Product Info'!EC34+'Product Info'!EF34+'Product Info'!EI34+'Product Info'!EL34+'Product Info'!EO34+'Product Info'!ER34+'Product Info'!EU34+'Product Info'!EX34+'Product Info'!FA34+'Product Info'!FD34)","v":0},{"$f":"AH33*('Product Info'!M34)","v":0},{"$f":"AH33*'Product Info'!P34","v":0},{"$f":"AH33*'Product Info'!S34","v":0},{"$f":"AH33*'Product Info'!V34","v":0},{"$f":"AH33*'Product Info'!Y34","v":0},{"$f":"AH33*'Product Info'!AB34","v":0},{"$f":"AH33*'Product Info'!AE34","v":0},{"$f":"AH33*'Product Info'!AH34","v":0},{"$f":"AH33*'Product Info'!AK34","v":0},{"$f":"AH33*'Product Info'!AN34","v":0},{"$f":"AH33*'Product Info'!AQ34","v":0},{"$f":"AQ33*'Product Info'!AF34","v":0},{"$f":"AH33*'Product Info'!AW34","v":0},{"$f":"AH33*'Product Info'!AZ34","v":0},{"$f":"AH33*'Product Info'!BC34","v":0},{"$f":"AH33*'Product Info'!BF34","v":0},{"$f":"AH33*'Product Info'!BI34","v":0},{"$f":"AH33*'Product Info'!BL34","v":0},{"$f":"AH33*'Product Info'!BO34","v":0},{"$f":"AH33*'Product Info'!BR34","v":0},{"$f":"AH33*'Product Info'!BU34","v":0},{"$f":"AH33*'Product Info'!BX34","v":0}]
[{"$f":"'Product Info'!A35","v":0},{"$f":"'Product Info'!B35","v":0},{"$f":"'Product Info'!C35","v":0},null,null,null,null,null,null,null,null,null,null,null,null,null,null,null,null,null,null,null,null,null,null,null,null,null,null,null,null,null,null,0,{"$f":"'Product Info'!F35*('Daily Info (June)'!AH34)","v":0},null,null,{"$f":"AH34*('Product Info'!H35)","v":0},{"$f":"AH34*('Product Info'!M35+'Product Info'!P35+'Product Info'!S35+'Product Info'!V35+'Product Info'!Y35+'Product Info'!AB35+'Product Info'!AE35+'Product Info'!AH35+'Product Info'!AK35+'Product Info'!AN35+'Product Info'!AQ35+'Product Info'!AT35+'Product Info'!AW35+'Product Info'!AZ35+'Product Info'!BC35+'Product Info'!BF35+'Product Info'!BI35+'Product Info'!BL35+'Product Info'!BO35+'Product Info'!BR35+'Product Info'!BU35+'Product Info'!BX35+'Product Info'!CA35+'Product Info'!CD35+'Product Info'!CG35+'Product Info'!CJ35+'Product Info'!CM35+'Product Info'!CP35+'Product Info'!CS35+'Product Info'!CV35+'Product Info'!CY35+'Product Info'!DB35+'Product Info'!DE35+'Product Info'!DH35+'Product Info'!DK35+'Product Info'!DN35+'Product Info'!DQ35+'Product Info'!DT35+'Product Info'!DW35+'Product Info'!DZ35+'Product Info'!EC35+'Product Info'!EF35+'Product Info'!EI35+'Product Info'!EL35+'Product Info'!EO35+'Product Info'!ER35+'Product Info'!EU35+'Product Info'!EX35+'Product Info'!FA35+'Product Info'!FD35)","v":0},{"$f":"AH34*('Product Info'!M35)","v":0},{"$f":"AH34*'Product Info'!P35","v":0},{"$f":"AH34*'Product Info'!S35","v":0},{"$f":"AH34*'Product Info'!V35","v":0},{"$f":"AH34*'Product Info'!Y35","v":0},{"$f":"AH34*'Product Info'!AB35","v":0},{"$f":"AH34*'Product Info'!AE35","v":0},{"$f":"AH34*'Product Info'!AH35","v":0},{"$f":"AH34*'Product Info'!AK35","v":0},{"$f":"AH34*'Product Info'!AN35","v":0},{"$f":"AH34*'Product Info'!AQ35","v":0},{"$f":"AH34*'Product Info'!AT35","v":0},{"$f":"AH34*'Product Info'!AW35","v":0},{"$f":"AH34*'Product Info'!AZ35","v":0},{"$f":"AH34*'Product Info'!BC35","v":0},{"$f":"AH34*'Product Info'!BF35","v":0},{"$f":"AH34*'Product Info'!BI35","v":0},{"$f":"AH34*'Product Info'!BL35","v":0},{"$f":"AH34*'Product Info'!BO35","v":0},{"$f":"AH34*'Product Info'!BR35","v":0},{"$f":"AH34*'Product Info'!BU35","v":0},{"$f":"AH34*'Product Info'!BX35","v":0}]
[{"$f":"'Product Info'!A36","v":0},{"$f":"'Product Info'!B36","v":0},{"$f":"'Product Info'!C36","v":0},null,null,null,null,null,null,null,null,null,null,null,null,null,null,null,null,null,null,null,null,null,null,null,null,null,null,null,null,null,null,0,{"$f":"'Product Info'!F36*('Daily Info (June)'!AH35)","v":0},null,null,{"$f":"AH35*('Product Info'!H36)","v":0},{"$f":"AH35*('Product Info'!M36+'Product Info'!P36+'Product Info'!S36+'Product Info'!V36+'Product Info'!Y36+'Product Info'!AB36+'Product Info'!AE36+'Product Info'!AH36+'Product Info'!AK36+'Product Info'!AN36+'Product Info'!AQ36+'Product Info'!AT36+'Product Info'!AW36+'Product Info'!AZ36+'Product Info'!BC36+'Product Info'!BF36+'Product Info'!BI36+'Product Info'!BL36+'Product Info'!BO36+'Product Info'!BR36+'Product Info'!BU36+'Product Info'!BX36+'Product Info'!CA36+'Product Info'!CD36+'Product Info'!CG36+'Product Info'!CJ36+'Product Info'!CM36+'Product Info'!CP36+'Product Info'!CS36+'Product Info'!CV36+'Product Info'!CY36+'Product Info'!DB36+'Product Info'!DE36+'Product Info'!DH36+'Product Info'!DK36+'Product Info'!DN36+'Product Info'!DQ36+'Product Info'!DT36+'Product Info'!DW36+'Product Info'!DZ36+'Product Info'!EC36+'Product Info'!EF36+'Product Info'!EI36+'Product Info'!EL36+'Product Info'!EO36+'Product Info'!ER36+'Product Info'!EU36+'Product Info'!EX36+'Product Info'!FA36+'Product Info'!FD36)","v":0},{"$f":"AH35*('Product Info'!M36)","v":0},{"$f":"AH35*'Product Info'!P36","v":0},{"$f":"AH35*'Product Info'!S36","v":0},{"$f":"AH35*'Product Info'!V36","v":0},{"$f":"AH35*'Product Info'!Y36","v":0},{"$f":"AH35*'Product Info'!AB36","v":0},{"$f":"AH35*'Product Info'!AE36","v":0},{"$f":"AH35*'Product Info'!AH36","v":0},{"$f":"AH35*'Product Info'!AK36","v":0},{"$f":"AH35*'Product Info'!AN36","v":0},{"$f":"AH35*'Product Info'!AQ36","v":0},{"$f":"AH35*'Product Info'!AT36","v":0},{"$f":"AH35*'Product Info'!AW36","v":0},{"$f":"AH35*'Product Info'!AZ36","v":0},{"$f":"AH35*'Product Info'!BC36","v":0},{"$f":"AH35*'Product Info'!BF36","v":0},{"$f":"AH35*'Product Info'!BI36","v":0},{"$f":"AH35*'Product Info'!BL36","v":0},{"$f":"AH35*'Product Info'!BO36","v":0},{"$f":"AH35*'Product Info'!BR36","v":0},{"$f":"AH35*'Product Info'!BU36","v":0},{"$f":"AH35*'Product Info'!BX36","v":0}]
[{"$f":"'Product Info'!A37","v":0},{"$f":"'Product Info'!B37","v":0},{"$f":"'Product Info'!C37","v":0},null,null,null,null,null,null,null,null,null,null,null,null,null,null,null,null,null,null,null,null,null,null,null,null,null,null,null,null,null,null,{"$f":"SUM(D36:AG36)","v":0},{"$f":"'Product Info'!F37*('Daily Info (June)'!AH36)","v":0},null,null,{"$f":"AH36*('Product Info'!H37)","v":0},{"$f":"AH36*('Product Info'!M37+'Product Info'!P37+'Product Info'!S37+'Product Info'!V37+'Product Info'!Y37+'Product Info'!AB37+'Product Info'!AE37+'Product Info'!AH37+'Product Info'!AK37+'Product Info'!AN37+'Product Info'!AQ37+'Product Info'!AT37+'Product Info'!AW37+'Product Info'!AZ37+'Product Info'!BC37+'Product Info'!BF37+'Product Info'!BI37+'Product Info'!BL37+'Product Info'!BO37+'Product Info'!BR37+'Product Info'!BU37+'Product Info'!BX37+'Product Info'!CA37+'Product Info'!CD37+'Product Info'!CG37+'Product Info'!CJ37+'Product Info'!CM37+'Product Info'!CP37+'Product Info'!CS37+'Product Info'!CV37+'Product Info'!CY37+'Product Info'!DB37+'Product Info'!DE37+'Product Info'!DH37+'Product Info'!DK37+'Product Info'!DN37+'Product Info'!DQ37+'Product Info'!DT37+'Product Info'!DW37+'Product Info'!DZ37+'Product Info'!EC37+'Product Info'!EF37+'Product Info'!EI37+'Product Info'!EL37+'Product Info'!EO37+'Product Info'!ER37+'Product Info'!EU37+'Product Info'!EX37+'Product Info'!FA37+'Product Info'!FD37)","v":0},{"$f":"AH36*('Product Info'!M37)","v":0},{"$f":"AH36*'Product Info'!P37","v":0},{"$f":"AH36*'Product Info'!S37","v":0},{"$f":"AH36*'Product Info'!V37","v":0},{"$f":"AH36*'Product Info'!Y37","v":0},{"$f":"AH36*'Product Info'!AB37","v":0},{"$f":"AH36*'Product Info'!AE37","v":0},{"$f":"AH36*'Product Info'!AH37","v":0},{"$f":"AH36*'Product Info'!AK37","v":0},{"$f":"AH36*'Product Info'!AN37","v":0},{"$f":"AH36*'Product Info'!AQ37","v":0},{"$f":"AH36*'Product Info'!AT37","v":0},{"$f":"AH36*'Product Info'!AW37","v":0},{"$f":"AH36*'Product Info'!AZ37","v":0},{"$f":"AH36*'Product Info'!BC37","v":0},{"$f":"AH36*'Product Info'!BF37","v":0},{"$f":"AH36*'Product Info'!BI37","v":0},{"$f":"AH36*'Product Info'!BL37","v":0},{"$f":"AH36*'Product Info'!BO37","v":0},{"$f":"AH36*'Product Info'!BR37","v":0},{"$f":"AH36*'Product Info'!BU37","v":0},{"$f":"AH36*'Product Info'!BX37","v":0}]
[{"$f":"'Product Info'!A38","v":0},{"$f":"'Product Info'!B38","v":0},{"$f":"'Product Info'!C38","v":0},null,null,null,null,null,null,null,null,null,null,null,null,null,null,null,null,null,null,null,null,null,null,null,null,null,null,null,null,null,null,0,{"$f":"'Product Info'!F38*('Daily Info (June)'!AH37)","v":0},null,null,{"$f":"AH37*('Product Info'!H38)","v":0},{"$f":"AH37*('Product Info'!M38+'Product Info'!P38+'Product Info'!S38+'Product Info'!V38+'Product Info'!Y38+'Product Info'!AB38+'Product Info'!AE38+'Product Info'!AH38+'Product Info'!AK38+'Product Info'!AN38+'Product Info'!AQ38+'Product Info'!AT38+'Product Info'!AW38+'Product Info'!AZ38+'Product Info'!BC38+'Product Info'!BF38+'Product Info'!BI38+'Product Info'!BL38+'Product Info'!BO38+'Product Info'!BR38+'Product Info'!BU38+'Product Info'!BX38+'Product Info'!CA38+'Product Info'!CD38+'Product Info'!CG38+'Product Info'!CJ38+'Product Info'!CM38+'Product Info'!CP38+'Product Info'!CS38+'Product Info'!CV38+'Product Info'!CY38+'Product Info'!DB38+'Product Info'!DE38+'Product Info'!DH38+'Product Info'!DK38+'Product Info'!DN38+'Product Info'!DQ38+'Product Info'!DT38+'Product Info'!DW38+'Product Info'!DZ38+'Product Info'!EC38+'Product Info'!EF38+'Product Info'!EI38+'Product Info'!EL38+'Product Info'!EO38+'Product Info'!ER38+'Product Info'!EU38+'Product Info'!EX38+'Product Info'!FA38+'Product Info'!FD38)","v":0},{"$f":"AH37*('Product Info'!M38)","v":0},{"$f":"AH37*'Product Info'!P38","v":0},{"$f":"AH37*'Product Info'!S38","v":0},{"$f":"AH37*'Product Info'!V38","v":0},{"$f":"AH37*'Product Info'!Y38","v":0},{"$f":"AH37*'Product Info'!AB38","v":0},{"$f":"AH37*'Product Info'!AE38","v":0},{"$f":"AH37*'Product Info'!AH38","v":0},{"$f":"AH37*'Product Info'!AK38","v":0},{"$f":"AH37*'Product Info'!AN38","v":0},{"$f":"AH37*'Product Info'!AQ38","v":0},{"$f":"AH37*'Product Info'!AT38","v":0},{"$f":"AH37*'Product Info'!AW38","v":0},{"$f":"AH37*'Product Info'!AZ38","v":0},{"$f":"AH37*'Product Info'!BC38","v":0},{"$f":"AH37*'Product Info'!BF38","v":0},{"$f":"AH37*'Product Info'!BI38","v":0},{"$f":"AH37*'Product Info'!BL38","v":0},{"$f":"AH37*'Product Info'!BO38","v":0},{"$f":"AH37*'Product Info'!BR38","v":0},{"$f":"AH37*'Product Info'!BU38","v":0},{"$f":"AH37*'Product Info'!BX38","v":0}]
[{"$f":"'Product Info'!A39","v":0},{"$f":"'Product Info'!B39","v":0},{"$f":"'Product Info'!C39","v":0},null,null,null,null,null,null,null,null,null,null,null,null,null,null,null,null,null,null,null,null,null,null,null,null,null,null,null,null,null,null,0,{"$f":"'Product Info'!F39*('Daily Info (June)'!AH38)","v":0},null,null,{"$f":"AH38*('Product Info'!H39)","v":0},{"$f":"AH38*('Product Info'!M39+'Product Info'!P39+'Product Info'!S39+'Product Info'!V39+'Product Info'!Y39+'Product Info'!AB39+'Product Info'!AE39+'Product Info'!AH39+'Product Info'!AK39+'Product Info'!AN39+'Product Info'!AQ39+'Product Info'!AT39+'Product Info'!AW39+'Product Info'!AZ39+'Product Info'!BC39+'Product Info'!BF39+'Product Info'!BI39+'Product Info'!BL39+'Product Info'!BO39+'Product Info'!BR39+'Product Info'!BU39+'Product Info'!BX39+'Product Info'!CA39+'Product Info'!CD39+'Product Info'!CG39+'Product Info'!CJ39+'Product Info'!CM39+'Product Info'!CP39+'Product Info'!CS39+'Product Info'!CV39+'Product Info'!CY39+'Product Info'!DB39+'Product Info'!DE39+'Product Info'!DH39+'Product Info'!DK39+'Product Info'!DN39+'Product Info'!DQ39+'Product Info'!DT39+'Product Info'!DW39+'Product Info'!DZ39+'Product Info'!EC39+'Product Info'!EF39+'Product Info'!EI39+'Product Info'!EL39+'Product Info'!EO39+'Product Info'!ER39+'Product Info'!EU39+'Product Info'!EX39+'Product Info'!FA39+'Product Info'!FD39)","v":0},{"$f":"AH38*('Product Info'!M39)","v":0},{"$f":"AH38*'Product Info'!P39","v":0},{"$f":"AH38*'Product Info'!S39","v":0},{"$f":"AH38*'Product Info'!V39","v":0},{"$f":"AH38*'Product Info'!Y39","v":0},{"$f":"AH38*'Product Info'!AB39","v":0},{"$f":"AH38*'Product Info'!AE39","v":0},{"$f":"AH38*'Product Info'!AH39","v":0},{"$f":"AH38*'Product Info'!AK39","v":0},{"$f":"AH38*'Product Info'!AN39","v":0},{"$f":"AH38*'Product Info'!AQ39","v":0},{"$f":"AH38*'Product Info'!AT39","v":0},{"$f":"AH38*'Product Info'!AW39","v":0},{"$f":"AH38*'Product Info'!AZ39","v":0},{"$f":"AH38*'Product Info'!BC39","v":0},{"$f":"AH38*'Product Info'!BF39","v":0},{"$f":"AH38*'Product Info'!BI39","v":0},{"$f":"AH38*'Product Info'!BL39","v":0},{"$f":"AH38*'Product Info'!BO39","v":0},{"$f":"AH38*'Product Info'!BR39","v":0},{"$f":"AH38*'Product Info'!BU39","v":0},{"$f":"AH38*'Product Info'!BX39","v":0}]
[{"$f":"'Product Info'!A40","v":0},{"$f":"'Product Info'!B40","v":0},{"$f":"'Product Info'!C40","v":0},null,null,null,null,null,null,null,null,null,null,null,null,null,null,null,null,null,null,null,null,null,null,null,null,null,null,null,null,null,null,0,{"$f":"'Product Info'!F40*('Daily Info (June)'!AH39)","v":0},null,null,{"$f":"AH39*('Product Info'!H40)","v":0},{"$f":"AH39*('Product Info'!M40+'Product Info'!P40+'Product Info'!S40+'Product Info'!V40+'Product Info'!Y40+'Product Info'!AB40+'Product Info'!AE40+'Product Info'!AH40+'Product Info'!AK40+'Product Info'!AN40+'Product Info'!AQ40+'Product Info'!AT40+'Product Info'!AW40+'Product Info'!AZ40+'Product Info'!BC40+'Product Info'!BF40+'Product Info'!BI40+'Product Info'!BL40+'Product Info'!BO40+'Product Info'!BR40+'Product Info'!BU40+'Product Info'!BX40+'Product Info'!CA40+'Product Info'!CD40+'Product Info'!CG40+'Product Info'!CJ40+'Product Info'!CM40+'Product Info'!CP40+'Product Info'!CS40+'Product Info'!CV40+'Product Info'!CY40+'Product Info'!DB40+'Product Info'!DE40+'Product Info'!DH40+'Product Info'!DK40+'Product Info'!DN40+'Product Info'!DQ40+'Product Info'!DT40+'Product Info'!DW40+'Product Info'!DZ40+'Product Info'!EC40+'Product Info'!EF40+'Product Info'!EI40+'Product Info'!EL40+'Product Info'!EO40+'Product Info'!ER40+'Product Info'!EU40+'Product Info'!EX40+'Product Info'!FA40+'Product Info'!FD40)","v":0},{"$f":"AH39*('Product Info'!M40)","v":0},{"$f":"AH39*'Product Info'!P40","v":0},{"$f":"AH39*'Product Info'!S40","v":0},{"$f":"AH39*'Product Info'!V40","v":0},{"$f":"AH39*'Product Info'!Y40","v":0},{"$f":"AH39*'Product Info'!AB40","v":0},{"$f":"AH39*'Product Info'!AE40","v":0},{"$f":"AH39*'Product Info'!AH40","v":0},{"$f":"AH39*'Product Info'!AK40","v":0},{"$f":"AH39*'Product Info'!AN40","v":0},{"$f":"AH39*'Product Info'!AQ40","v":0},{"$f":"AH39*'Product Info'!AT40","v":0},{"$f":"AH39*'Product Info'!AW40","v":0},{"$f":"AH39*'Product Info'!AZ40","v":0},{"$f":"AH39*'Product Info'!BC40","v":0},{"$f":"AH39*'Product Info'!BF40","v":0},{"$f":"AH39*'Product Info'!BI40","v":0},{"$f":"AH39*'Product Info'!BL40","v":0},{"$f":"AH39*'Product Info'!BO40","v":0},{"$f":"AH39*'Product Info'!BR40","v":0},{"$f":"AH39*'Product Info'!BU40","v":0},{"$f":"AH39*'Product Info'!BX40","v":0}]
[{"$f":"'Product Info'!A41","v":0},{"$f":"'Product Info'!B41","v":0},{"$f":"'Product Info'!C41","v":0},null,null,null,null,null,null,null,null,null,null,null,null,null,null,null,null,null,null,null,null,null,null,null,null,null,null,null,null,null,null,0,{"$f":"'Product Info'!F41*('Daily Info (June)'!AH40)","v":0},null,null,{"$f":"AH40*('Product Info'!H41)","v":0},{"$f":"AH40*('Product Info'!M41+'Product Info'!P41+'Product Info'!S41+'Product Info'!V41+'Product Info'!Y41+'Product Info'!AB41+'Product Info'!AE41+'Product Info'!AH41+'Product Info'!AK41+'Product Info'!AN41+'Product Info'!AQ41+'Product Info'!AT41+'Product Info'!AW41+'Product Info'!AZ41+'Product Info'!BC41+'Product Info'!BF41+'Product Info'!BI41+'Product Info'!BL41+'Product Info'!BO41+'Product Info'!BR41+'Product Info'!BU41+'Product Info'!BX41+'Product Info'!CA41+'Product Info'!CD41+'Product Info'!CG41+'Product Info'!CJ41+'Product Info'!CM41+'Product Info'!CP41+'Product Info'!CS41+'Product Info'!CV41+'Product Info'!CY41+'Product Info'!DB41+'Product Info'!DE41+'Product Info'!DH41+'Product Info'!DK41+'Product Info'!DN41+'Product Info'!DQ41+'Product Info'!DT41+'Product Info'!DW41+'Product Info'!DZ41+'Product Info'!EC41+'Product Info'!EF41+'Product Info'!EI41+'Product Info'!EL41+'Product Info'!EO41+'Product Info'!ER41+'Product Info'!EU41+'Product Info'!EX41+'Product Info'!FA41+'Product Info'!FD41)","v":0},{"$f":"AH40*('Product Info'!M41)","v":0},{"$f":"AH40*'Product Info'!P41","v":0},{"$f":"AH40*'Product Info'!S41","v":0},{"$f":"AH40*'Product Info'!V41","v":0},{"$f":"AH40*'Product Info'!Y41","v":0},{"$f":"AH40*'Product Info'!AB41","v":0},{"$f":"AH40*'Product Info'!AE41","v":0},{"$f":"AH40*'Product Info'!AH41","v":0},{"$f":"AH40*'Product Info'!AK41","v":0},{"$f":"AH40*'Product Info'!AN41","v":0},{"$f":"AH40*'Product Info'!AQ41","v":0},{"$f":"AH40*'Product Info'!AT41","v":0},{"$f":"AH40*'Product Info'!AW41","v":0},{"$f":"AH40*'Product Info'!AZ41","v":0},{"$f":"AH40*'Product Info'!BC41","v":0},{"$f":"AH40*'Product Info'!BF41","v":0},{"$f":"AH40*'Product Info'!BI41","v":0},{"$f":"AH40*'Product Info'!BL41","v":0},{"$f":"AH40*'Product Info'!BO41","v":0},{"$f":"AH40*'Product Info'!BR41","v":0},{"$f":"AH40*'Product Info'!BU41","v":0},{"$f":"AH40*'Product Info'!BX41","v":0}]
[{"$f":"'Product Info'!A42","v":0},{"$f":"'Product Info'!B42","v":0},{"$f":"'Product Info'!C42","v":0},null,null,null,null,null,null,null,null,null,null,null,null,null,null,null,null,null,null,null,null,null,null,null,null,null,null,null,null,null,null,0,{"$f":"'Product Info'!F42*('Daily Info (June)'!AH41)","v":0},null,null,{"$f":"AH41*('Product Info'!H42)","v":0},{"$f":"AH41*('Product Info'!M42+'Product Info'!P42+'Product Info'!S42+'Product Info'!V42+'Product Info'!Y42+'Product Info'!AB42+'Product Info'!AE42+'Product Info'!AH42+'Product Info'!AK42+'Product Info'!AN42+'Product Info'!AQ42+'Product Info'!AT42+'Product Info'!AW42+'Product Info'!AZ42+'Product Info'!BC42+'Product Info'!BF42+'Product Info'!BI42+'Product Info'!BL42+'Product Info'!BO42+'Product Info'!BR42+'Product Info'!BU42+'Product Info'!BX42+'Product Info'!CA42+'Product Info'!CD42+'Product Info'!CG42+'Product Info'!CJ42+'Product Info'!CM42+'Product Info'!CP42+'Product Info'!CS42+'Product Info'!CV42+'Product Info'!CY42+'Product Info'!DB42+'Product Info'!DE42+'Product Info'!DH42+'Product Info'!DK42+'Product Info'!DN42+'Product Info'!DQ42+'Product Info'!DT42+'Product Info'!DW42+'Product Info'!DZ42+'Product Info'!EC42+'Product Info'!EF42+'Product Info'!EI42+'Product Info'!EL42+'Product Info'!EO42+'Product Info'!ER42+'Product Info'!EU42+'Product Info'!EX42+'Product Info'!FA42+'Product Info'!FD42)","v":0},{"$f":"AH41*('Product Info'!M42)","v":0},{"$f":"AH41*'Product Info'!P42","v":0},{"$f":"AH41*'Product Info'!S42","v":0},{"$f":"AH41*'Product Info'!V42","v":0},{"$f":"AH41*'Product Info'!Y42","v":0},{"$f":"AH41*'Product Info'!AB42","v":0},{"$f":"AH41*'Product Info'!AE42","v":0},{"$f":"AH41*'Product Info'!AH42","v":0},{"$f":"AH41*'Product Info'!AK42","v":0},{"$f":"AH41*'Product Info'!AN42","v":0},{"$f":"AH41*'Product Info'!AQ42","v":0},{"$f":"AH41*'Product Info'!AT42","v":0},{"$f":"AH41*'Product Info'!AW42","v":0},{"$f":"AH41*'Product Info'!AZ42","v":0},{"$f":"AH41*'Product Info'!BC42","v":0},{"$f":"AH41*'Product Info'!BF42","v":0},{"$f":"AH41*'Product Info'!BI42","v":0},{"$f":"AH41*'Product Info'!BL42","v":0},{"$f":"AH41*'Product Info'!BO42","v":0},{"$f":"AH41*'Product Info'!BR42","v":0},{"$f":"AH41*'Product Info'!BU42","v":0},{"$f":"AH41*'Product Info'!BX42","v":0}]
[{"$f":"'Product Info'!A43","v":0},{"$f":"'Product Info'!B43","v":0},{"$f":"'Product Info'!C43","v":0},null,null,null,null,null,null,null,null,null,null,null,null,null,null,null,null,null,null,null,null,null,null,null,null,null,null,null,null,null,null,0,{"$f":"'Product Info'!F43*('Daily Info (June)'!AH42)","v":0},null,null,{"$f":"AH42*('Product Info'!H43)","v":0},{"$f":"AH42*('Product Info'!M43+'Product Info'!P43+'Product Info'!S43+'Product Info'!V43+'Product Info'!Y43+'Product Info'!AB43+'Product Info'!AE43+'Product Info'!AH43+'Product Info'!AK43+'Product Info'!AN43+'Product Info'!AQ43+'Product Info'!AT43+'Product Info'!AW43+'Product Info'!AZ43+'Product Info'!BC43+'Product Info'!BF43+'Product Info'!BI43+'Product Info'!BL43+'Product Info'!BO43+'Product Info'!BR43+'Product Info'!BU43+'Product Info'!BX43+'Product Info'!CA43+'Product Info'!CD43+'Product Info'!CG43+'Product Info'!CJ43+'Product Info'!CM43+'Product Info'!CP43+'Product Info'!CS43+'Product Info'!CV43+'Product Info'!CY43+'Product Info'!DB43+'Product Info'!DE43+'Product Info'!DH43+'Product Info'!DK43+'Product Info'!DN43+'Product Info'!DQ43+'Product Info'!DT43+'Product Info'!DW43+'Product Info'!DZ43+'Product Info'!EC43+'Product Info'!EF43+'Product Info'!EI43+'Product Info'!EL43+'Product Info'!EO43+'Product Info'!ER43+'Product Info'!EU43+'Product Info'!EX43+'Product Info'!FA43+'Product Info'!FD43)","v":0},{"$f":"AH42*('Product Info'!M43)","v":0},{"$f":"AH42*'Product Info'!P43","v":0},{"$f":"AH42*'Product Info'!S43","v":0},{"$f":"AH42*'Product Info'!V43","v":0},{"$f":"AH42*'Product Info'!Y43","v":0},{"$f":"AH42*'Product Info'!AB43","v":0},{"$f":"AH42*'Product Info'!AE43","v":0},{"$f":"AH42*'Product Info'!AH43","v":0},{"$f":"AH42*'Product Info'!AK43","v":0},{"$f":"AH42*'Product Info'!AN43","v":0},{"$f":"AH42*'Product Info'!AQ43","v":0},{"$f":"AH42*'Product Info'!AT43","v":0},{"$f":"AH42*'Product Info'!AW43","v":0},{"$f":"AH42*'Product Info'!AZ43","v":0},{"$f":"AH42*'Product Info'!BC43","v":0},{"$f":"AH42*'Product Info'!BF43","v":0},{"$f":"AH42*'Product Info'!BI43","v":0},{"$f":"AH42*'Product Info'!BL43","v":0},{"$f":"AH42*'Product Info'!BO43","v":0},{"$f":"AH42*'Product Info'!BR43","v":0},{"$f":"AH42*'Product Info'!BU43","v":0},{"$f":"AH42*'Product Info'!BX43","v":0}]
[{"$f":"'Product Info'!A44","v":0},{"$f":"'Product Info'!B44","v":0},{"$f":"'Product Info'!C44","v":0},null,null,null,null,null,null,null,null,null,null,null,null,null,null,null,null,null,null,null,null,null,null,null,null,null,null,null,null,null,null,0,{"$f":"'Product Info'!F44*('Daily Info (June)'!AH43)","v":0},null,null,{"$f":"AH43*('Product Info'!H44)","v":0},{"$f":"AH43*('Product Info'!M44+'Product Info'!P44+'Product Info'!S44+'Product Info'!V44+'Product Info'!Y44+'Product Info'!AB44+'Product Info'!AE44+'Product Info'!AH44+'Product Info'!AK44+'Product Info'!AN44+'Product Info'!AQ44+'Product Info'!AT44+'Product Info'!AW44+'Product Info'!AZ44+'Product Info'!BC44+'Product Info'!BF44+'Product Info'!BI44+'Product Info'!BL44+'Product Info'!BO44+'Product Info'!BR44+'Product Info'!BU44+'Product Info'!BX44+'Product Info'!CA44+'Product Info'!CD44+'Product Info'!CG44+'Product Info'!CJ44+'Product Info'!CM44+'Product Info'!CP44+'Product Info'!CS44+'Product Info'!CV44+'Product Info'!CY44+'Product Info'!DB44+'Product Info'!DE44+'Product Info'!DH44+'Product Info'!DK44+'Product Info'!DN44+'Product Info'!DQ44+'Product Info'!DT44+'Product Info'!DW44+'Product Info'!DZ44+'Product Info'!EC44+'Product Info'!EF44+'Product Info'!EI44+'Product Info'!EL44+'Product Info'!EO44+'Product Info'!ER44+'Product Info'!EU44+'Product Info'!EX44+'Product Info'!FA44+'Product Info'!FD44)","v":0},{"$f":"AH43*('Product Info'!M44)","v":0},{"$f":"AH43*'Product Info'!P44","v":0},{"$f":"AH43*'Product Info'!S44","v":0},{"$f":"AH43*'Product Info'!V44","v":0},{"$f":"AH43*'Product Info'!Y44","v":0},{"$f":"AH43*'Product Info'!AB44","v":0},{"$f":"AH43*'Product Info'!AE44","v":0},{"$f":"AH43*'Product Info'!AH44","v":0},{"$f":"AH43*'Product Info'!AK44","v":0},{"$f":"AH43*'Product Info'!AN44","v":0},{"$f":"AH43*'Product Info'!AQ44","v":0},{"$f":"AH43*'Product Info'!AT44","v":0},{"$f":"AH43*'Product Info'!AW44","v":0},{"$f":"AH43*'Product Info'!AZ44","v":0},{"$f":"AH43*'Product Info'!BC44","v":0},{"$f":"AH43*'Product Info'!BF44","v":0},{"$f":"AH43*'Product Info'!BI44","v":0},{"$f":"AH43*'Product Info'!BL44","v":0},{"$f":"AH43*'Product Info'!BO44","v":0},{"$f":"AH43*'Product Info'!BR44","v":0},{"$f":"AH43*'Product Info'!BU44","v":0},{"$f":"AH43*'Product Info'!BX44","v":0}]
[{"$f":"'Product Info'!A45","v":0},{"$f":"'Product Info'!B45","v":0},{"$f":"'Product Info'!C45","v":0},null,null,null,null,null,null,null,null,null,null,null,null,null,null,null,null,null,null,null,null,null,null,null,null,null,null,null,null,null,null,0,{"$f":"'Product Info'!F45*('Daily Info (June)'!AH44)","v":0},null,null,{"$f":"AH44*('Product Info'!H45)","v":0},{"$f":"AH44*('Product Info'!M45+'Product Info'!P45+'Product Info'!S45+'Product Info'!V45+'Product Info'!Y45+'Product Info'!AB45+'Product Info'!AE45+'Product Info'!AH45+'Product Info'!AK45+'Product Info'!AN45+'Product Info'!AQ45+'Product Info'!AT45+'Product Info'!AW45+'Product Info'!AZ45+'Product Info'!BC45+'Product Info'!BF45+'Product Info'!BI45+'Product Info'!BL45+'Product Info'!BO45+'Product Info'!BR45+'Product Info'!BU45+'Product Info'!BX45+'Product Info'!CA45+'Product Info'!CD45+'Product Info'!CG45+'Product Info'!CJ45+'Product Info'!CM45+'Product Info'!CP45+'Product Info'!CS45+'Product Info'!CV45+'Product Info'!CY45+'Product Info'!DB45+'Product Info'!DE45+'Product Info'!DH45+'Product Info'!DK45+'Product Info'!DN45+'Product Info'!DQ45+'Product Info'!DT45+'Product Info'!DW45+'Product Info'!DZ45+'Product Info'!EC45+'Product Info'!EF45+'Product Info'!EI45+'Product Info'!EL45+'Product Info'!EO45+'Product Info'!ER45+'Product Info'!EU45+'Product Info'!EX45+'Product Info'!FA45+'Product Info'!FD45)","v":0},{"$f":"AH44*('Product Info'!M45)","v":0},{"$f":"AH44*'Product Info'!P45","v":0},{"$f":"AH44*'Product Info'!S45","v":0},{"$f":"AH44*'Product Info'!V45","v":0},{"$f":"AH44*'Product Info'!Y45","v":0},{"$f":"AH44*'Product Info'!AB45","v":0},{"$f":"AH44*'Product Info'!AE45","v":0},{"$f":"AH44*'Product Info'!AH45","v":0},{"$f":"AH44*'Product Info'!AK45","v":0},{"$f":"AH44*'Product Info'!AN45","v":0},{"$f":"AH44*'Product Info'!AQ45","v":0},{"$f":"AH44*'Product Info'!AT45","v":0},{"$f":"AH44*'Product Info'!AW45","v":0},{"$f":"AH44*'Product Info'!AZ45","v":0},{"$f":"AH44*'Product Info'!BC45","v":0},{"$f":"AH44*'Product Info'!BF45","v":0},{"$f":"AH44*'Product Info'!BI45","v":0},{"$f":"AH44*'Product Info'!BL45","v":0},{"$f":"AH44*'Product Info'!BO45","v":0},{"$f":"AH44*'Product Info'!BR45","v":0},{"$f":"AH44*'Product Info'!BU45","v":0},{"$f":"AH44*'Product Info'!BX45","v":0}]
[{"$f":"'Product Info'!A46","v":0},{"$f":"'Product Info'!B46","v":0},{"$f":"'Product Info'!C46","v":0},null,null,null,null,null,null,null,null,null,null,null,null,null,null,null,null,null,null,null,null,null,null,null,null,null,null,null,null,null,null,0,{"$f":"'Product Info'!F46*('Daily Info (June)'!AH45)","v":0},null,null,{"$f":"AH45*('Product Info'!H46)","v":0},{"$f":"AH45*('Product Info'!M46+'Product Info'!P46+'Product Info'!S46+'Product Info'!V46+'Product Info'!Y46+'Product Info'!AB46+'Product Info'!AE46+'Product Info'!AH46+'Product Info'!AK46+'Product Info'!AN46+'Product Info'!AQ46+'Product Info'!AT46+'Product Info'!AW46+'Product Info'!AZ46+'Product Info'!BC46+'Product Info'!BF46+'Product Info'!BI46+'Product Info'!BL46+'Product Info'!BO46+'Product Info'!BR46+'Product Info'!BU46+'Product Info'!BX46+'Product Info'!CA46+'Product Info'!CD46+'Product Info'!CG46+'Product Info'!CJ46+'Product Info'!CM46+'Product Info'!CP46+'Product Info'!CS46+'Product Info'!CV46+'Product Info'!CY46+'Product Info'!DB46+'Product Info'!DE46+'Product Info'!DH46+'Product Info'!DK46+'Product Info'!DN46+'Product Info'!DQ46+'Product Info'!DT46+'Product Info'!DW46+'Product Info'!DZ46+'Product Info'!EC46+'Product Info'!EF46+'Product Info'!EI46+'Product Info'!EL46+'Product Info'!EO46+'Product Info'!ER46+'Product Info'!EU46+'Product Info'!EX46+'Product Info'!FA46+'Product Info'!FD46)","v":0},{"$f":"AH45*('Product Info'!M46)","v":0},{"$f":"AH45*'Product Info'!P46","v":0},{"$f":"AH45*'Product Info'!S46","v":0},{"$f":"AH45*'Product Info'!V46","v":0},{"$f":"AH45*'Product Info'!Y46","v":0},{"$f":"AH45*'Product Info'!AB46","v":0},{"$f":"AH45*'Product Info'!AE46","v":0},{"$f":"AH45*'Product Info'!AH46","v":0},{"$f":"AH45*'Product Info'!AK46","v":0},{"$f":"AH45*'Product Info'!AN46","v":0},{"$f":"AH45*'Product Info'!AQ46","v":0},{"$f":"AH45*'Product Info'!AT46","v":0},{"$f":"AH45*'Product Info'!AW46","v":0},{"$f":"AH45*'Product Info'!AZ46","v":0},{"$f":"AH45*'Product Info'!BC46","v":0},{"$f":"AH45*'Product Info'!BF46","v":0},{"$f":"AH45*'Product Info'!BI46","v":0},{"$f":"AH45*'Product Info'!BL46","v":0},{"$f":"AH45*'Product Info'!BO46","v":0},{"$f":"AH45*'Product Info'!BR46","v":0},{"$f":"AH45*'Product Info'!BU46","v":0},{"$f":"AH45*'Product Info'!BX46","v":0}]
[{"$f":"'Product Info'!A47","v":0},{"$f":"'Product Info'!B47","v":0},{"$f":"'Product Info'!C47","v":0},null,null,null,null,null,null,null,null,null,null,null,null,null,null,null,null,null,null,null,null,null,null,null,null,null,null,null,null,null,null,0,{"$f":"'Product Info'!F47*('Daily Info (June)'!AH46)","v":0},null,null,{"$f":"AH46*('Product Info'!H47)","v":0},{"$f":"AH46*('Product Info'!M47+'Product Info'!P47+'Product Info'!S47+'Product Info'!V47+'Product Info'!Y47+'Product Info'!AB47+'Product Info'!AE47+'Product Info'!AH47+'Product Info'!AK47+'Product Info'!AN47+'Product Info'!AQ47+'Product Info'!AT47+'Product Info'!AW47+'Product Info'!AZ47+'Product Info'!BC47+'Product Info'!BF47+'Product Info'!BI47+'Product Info'!BL47+'Product Info'!BO47+'Product Info'!BR47+'Product Info'!BU47+'Product Info'!BX47+'Product Info'!CA47+'Product Info'!CD47+'Product Info'!CG47+'Product Info'!CJ47+'Product Info'!CM47+'Product Info'!CP47+'Product Info'!CS47+'Product Info'!CV47+'Product Info'!CY47+'Product Info'!DB47+'Product Info'!DE47+'Product Info'!DH47+'Product Info'!DK47+'Product Info'!DN47+'Product Info'!DQ47+'Product Info'!DT47+'Product Info'!DW47+'Product Info'!DZ47+'Product Info'!EC47+'Product Info'!EF47+'Product Info'!EI47+'Product Info'!EL47+'Product Info'!EO47+'Product Info'!ER47+'Product Info'!EU47+'Product Info'!EX47+'Product Info'!FA47+'Product Info'!FD47)","v":0},{"$f":"AH46*('Product Info'!M47)","v":0},{"$f":"AH46*'Product Info'!P47","v":0},{"$f":"AH46*'Product Info'!S47","v":0},{"$f":"AH46*'Product Info'!V47","v":0},{"$f":"AH46*'Product Info'!Y47","v":0},{"$f":"AH46*'Product Info'!AB47","v":0},{"$f":"AH46*'Product Info'!AE47","v":0},{"$f":"AH46*'Product Info'!AH47","v":0},{"$f":"AH46*'Product Info'!AK47","v":0},{"$f":"AH46*'Product Info'!AN47","v":0},{"$f":"AH46*'Product Info'!AQ47","v":0},{"$f":"AH46*'Product Info'!AT47","v":0},{"$f":"AH46*'Product Info'!AW47","v":0},{"$f":"AH46*'Product Info'!AZ47","v":0},{"$f":"AH46*'Product Info'!BC47","v":0},{"$f":"AH46*'Product Info'!BF47","v":0},{"$f":"AH46*'Product Info'!BI47","v":0},{"$f":"AH46*'Product Info'!BL47","v":0},{"$f":"AH46*'Product Info'!BO47","v":0},{"$f":"AH46*'Product Info'!BR47","v":0},{"$f":"AH46*'Product Info'!BU47","v":0},{"$f":"AH46*'Product Info'!BX47","v":0}]
[{"$f":"'Product Info'!A48","v":0},{"$f":"'Product Info'!B48","v":0},{"$f":"'Product Info'!C48","v":0},null,null,null,null,null,null,null,null,null,null,null,null,null,null,null,null,null,null,null,null,null,null,null,null,null,null,null,null,null,null,0,{"$f":"'Product Info'!F48*('Daily Info (June)'!AH47)","v":0},null,null,{"$f":"AH47*('Product Info'!H48)","v":0},{"$f":"AH47*('Product Info'!M48+'Product Info'!P48+'Product Info'!S48+'Product Info'!V48+'Product Info'!Y48+'Product Info'!AB48+'Product Info'!AE48+'Product Info'!AH48+'Product Info'!AK48+'Product Info'!AN48+'Product Info'!AQ48+'Product Info'!AT48+'Product Info'!AW48+'Product Info'!AZ48+'Product Info'!BC48+'Product Info'!BF48+'Product Info'!BI48+'Product Info'!BL48+'Product Info'!BO48+'Product Info'!BR48+'Product Info'!BU48+'Product Info'!BX48+'Product Info'!CA48+'Product Info'!CD48+'Product Info'!CG48+'Product Info'!CJ48+'Product Info'!CM48+'Product Info'!CP48+'Product Info'!CS48+'Product Info'!CV48+'Product Info'!CY48+'Product Info'!DB48+'Product Info'!DE48+'Product Info'!DH48+'Product Info'!DK48+'Product Info'!DN48+'Product Info'!DQ48+'Product Info'!DT48+'Product Info'!DW48+'Product Info'!DZ48+'Product Info'!EC48+'Product Info'!EF48+'Product Info'!EI48+'Product Info'!EL48+'Product Info'!EO48+'Product Info'!ER48+'Product Info'!EU48+'Product Info'!EX48+'Product Info'!FA48+'Product Info'!FD48)","v":0},{"$f":"AH47*('Product Info'!M48)","v":0},{"$f":"AH47*'Product Info'!P48","v":0},{"$f":"AH47*'Product Info'!S48","v":0},{"$f":"AH47*'Product Info'!V48","v":0},{"$f":"AH47*'Product Info'!Y48","v":0},{"$f":"AH47*'Product Info'!AB48","v":0},{"$f":"AH47*'Product Info'!AE48","v":0},{"$f":"AH47*'Product Info'!AH48","v":0},{"$f":"AH47*'Product Info'!AK48","v":0},{"$f":"AH47*'Product Info'!AN48","v":0},{"$f":"AH47*'Product Info'!AQ48","v":0},{"$f":"AQ47*'Product Info'!AF48","v":0},{"$f":"AH47*'Product Info'!AW48","v":0},{"$f":"AH47*'Product Info'!AZ48","v":0},{"$f":"AH47*'Product Info'!BC48","v":0},{"$f":"AH47*'Product Info'!BF48","v":0},{"$f":"AH47*'Product Info'!BI48","v":0},{"$f":"AH47*'Product Info'!BL48","v":0},{"$f":"AH47*'Product Info'!BO48","v":0},{"$f":"AH47*'Product Info'!BR48","v":0},{"$f":"AH47*'Product Info'!BU48","v":0},{"$f":"AH47*'Product Info'!BX48","v":0}]
[{"$f":"'Product Info'!A49","v":0},{"$f":"'Product Info'!B49","v":0},{"$f":"'Product Info'!C49","v":0},null,null,null,null,null,null,null,null,null,null,null,null,null,null,null,null,null,null,null,null,null,null,null,null,null,null,null,null,null,null,0,{"$f":"'Product Info'!F49*('Daily Info (June)'!AH48)","v":0},null,null,{"$f":"AH48*('Product Info'!H49)","v":0},{"$f":"AH48*('Product Info'!M49+'Product Info'!P49+'Product Info'!S49+'Product Info'!V49+'Product Info'!Y49+'Product Info'!AB49+'Product Info'!AE49+'Product Info'!AH49+'Product Info'!AK49+'Product Info'!AN49+'Product Info'!AQ49+'Product Info'!AT49+'Product Info'!AW49+'Product Info'!AZ49+'Product Info'!BC49+'Product Info'!BF49+'Product Info'!BI49+'Product Info'!BL49+'Product Info'!BO49+'Product Info'!BR49+'Product Info'!BU49+'Product Info'!BX49+'Product Info'!CA49+'Product Info'!CD49+'Product Info'!CG49+'Product Info'!CJ49+'Product Info'!CM49+'Product Info'!CP49+'Product Info'!CS49+'Product Info'!CV49+'Product Info'!CY49+'Product Info'!DB49+'Product Info'!DE49+'Product Info'!DH49+'Product Info'!DK49+'Product Info'!DN49+'Product Info'!DQ49+'Product Info'!DT49+'Product Info'!DW49+'Product Info'!DZ49+'Product Info'!EC49+'Product Info'!EF49+'Product Info'!EI49+'Product Info'!EL49+'Product Info'!EO49+'Product Info'!ER49+'Product Info'!EU49+'Product Info'!EX49+'Product Info'!FA49+'Product Info'!FD49)","v":0},{"$f":"AH48*('Product Info'!M49)","v":0},{"$f":"AH48*'Product Info'!P49","v":0},{"$f":"AH48*'Product Info'!S49","v":0},{"$f":"AH48*'Product Info'!V49","v":0},{"$f":"AH48*'Product Info'!Y49","v":0},{"$f":"AH48*'Product Info'!AB49","v":0},{"$f":"AH48*'Product Info'!AE49","v":0},{"$f":"AH48*'Product Info'!AH49","v":0},{"$f":"AH48*'Product Info'!AK49","v":0},{"$f":"AH48*'Product Info'!AN49","v":0},{"$f":"AH48*'Product Info'!AQ49","v":0},{"$f":"AQ48*'Product Info'!AF49","v":0},{"$f":"AH48*'Product Info'!AW49","v":0},{"$f":"AH48*'Product Info'!AZ49","v":0},{"$f":"AH48*'Product Info'!BC49","v":0},{"$f":"AH48*'Product Info'!BF49","v":0},{"$f":"AH48*'Product Info'!BI49","v":0},{"$f":"AH48*'Product Info'!BL49","v":0},{"$f":"AH48*'Product Info'!BO49","v":0},{"$f":"AH48*'Product Info'!BR49","v":0},{"$f":"AH48*'Product Info'!BU49","v":0},{"$f":"AH48*'Product Info'!BX49","v":0}]
[{"$f":"'Product Info'!A50","v":0},{"$f":"'Product Info'!B50","v":0},{"$f":"'Product Info'!C50","v":0},null,null,null,null,null,null,null,null,null,null,null,null,null,null,null,null,null,null,null,null,null,null,null,null,null,null,null,null,null,null,0,{"$f":"'Product Info'!F50*('Daily Info (June)'!AH49)","v":0},null,null,{"$f":"AH49*('Product Info'!H50)","v":0},{"$f":"AH49*('Product Info'!M50+'Product Info'!P50+'Product Info'!S50+'Product Info'!V50+'Product Info'!Y50+'Product Info'!AB50+'Product Info'!AE50+'Product Info'!AH50+'Product Info'!AK50+'Product Info'!AN50+'Product Info'!AQ50+'Product Info'!AT50+'Product Info'!AW50+'Product Info'!AZ50+'Product Info'!BC50+'Product Info'!BF50+'Product Info'!BI50+'Product Info'!BL50+'Product Info'!BO50+'Product Info'!BR50+'Product Info'!BU50+'Product Info'!BX50+'Product Info'!CA50+'Product Info'!CD50+'Product Info'!CG50+'Product Info'!CJ50+'Product Info'!CM50+'Product Info'!CP50+'Product Info'!CS50+'Product Info'!CV50+'Product Info'!CY50+'Product Info'!DB50+'Product Info'!DE50+'Product Info'!DH50+'Product Info'!DK50+'Product Info'!DN50+'Product Info'!DQ50+'Product Info'!DT50+'Product Info'!DW50+'Product Info'!DZ50+'Product Info'!EC50+'Product Info'!EF50+'Product Info'!EI50+'Product Info'!EL50+'Product Info'!EO50+'Product Info'!ER50+'Product Info'!EU50+'Product Info'!EX50+'Product Info'!FA50+'Product Info'!FD50)","v":0},{"$f":"AH49*('Product Info'!M50)","v":0},{"$f":"AH49*'Product Info'!P50","v":0},{"$f":"AH49*'Product Info'!S50","v":0},{"$f":"AH49*'Product Info'!V50","v":0},{"$f":"AH49*'Product Info'!Y50","v":0},{"$f":"AH49*'Product Info'!AB50","v":0},{"$f":"AH49*'Product Info'!AE50","v":0},{"$f":"AH49*'Product Info'!AH50","v":0},{"$f":"AH49*'Product Info'!AK50","v":0},{"$f":"AH49*'Product Info'!AN50","v":0},{"$f":"AH49*'Product Info'!AQ50","v":0},{"$f":"AH49*'Product Info'!AT50","v":0},{"$f":"AH49*'Product Info'!AW50","v":0},{"$f":"AH49*'Product Info'!AZ50","v":0},{"$f":"AH49*'Product Info'!BC50","v":0},{"$f":"AH49*'Product Info'!BF50","v":0},{"$f":"AH49*'Product Info'!BI50","v":0},{"$f":"AH49*'Product Info'!BL50","v":0},{"$f":"AH49*'Product Info'!BO50","v":0},{"$f":"AH49*'Product Info'!BR50","v":0},{"$f":"AH49*'Product Info'!BU50","v":0},{"$f":"AH49*'Product Info'!BX50","v":0}]
[{"$f":"'Product Info'!A51","v":0},{"$f":"'Product Info'!B51","v":0},{"$f":"'Product Info'!C51","v":0},null,null,null,null,null,null,null,null,null,null,null,null,null,null,null,null,null,null,null,null,null,null,null,null,null,null,null,null,null,null,0,{"$f":"'Product Info'!F51*('Daily Info (June)'!AH50)","v":0},null,null,{"$f":"AH50*('Product Info'!H51)","v":0},{"$f":"AH50*('Product Info'!M51+'Product Info'!P51+'Product Info'!S51+'Product Info'!V51+'Product Info'!Y51+'Product Info'!AB51+'Product Info'!AE51+'Product Info'!AH51+'Product Info'!AK51+'Product Info'!AN51+'Product Info'!AQ51+'Product Info'!AT51+'Product Info'!AW51+'Product Info'!AZ51+'Product Info'!BC51+'Product Info'!BF51+'Product Info'!BI51+'Product Info'!BL51+'Product Info'!BO51+'Product Info'!BR51+'Product Info'!BU51+'Product Info'!BX51+'Product Info'!CA51+'Product Info'!CD51+'Product Info'!CG51+'Product Info'!CJ51+'Product Info'!CM51+'Product Info'!CP51+'Product Info'!CS51+'Product Info'!CV51+'Product Info'!CY51+'Product Info'!DB51+'Product Info'!DE51+'Product Info'!DH51+'Product Info'!DK51+'Product Info'!DN51+'Product Info'!DQ51+'Product Info'!DT51+'Product Info'!DW51+'Product Info'!DZ51+'Product Info'!EC51+'Product Info'!EF51+'Product Info'!EI51+'Product Info'!EL51+'Product Info'!EO51+'Product Info'!ER51+'Product Info'!EU51+'Product Info'!EX51+'Product Info'!FA51+'Product Info'!FD51)","v":0},{"$f":"AH50*('Product Info'!M51)","v":0},{"$f":"AH50*'Product Info'!P51","v":0},{"$f":"AH50*'Product Info'!S51","v":0},{"$f":"AH50*'Product Info'!V51","v":0},{"$f":"AH50*'Product Info'!Y51","v":0},{"$f":"AH50*'Product Info'!AB51","v":0},{"$f":"AH50*'Product Info'!AE51","v":0},{"$f":"AH50*'Product Info'!AH51","v":0},{"$f":"AH50*'Product Info'!AK51","v":0},{"$f":"AH50*'Product Info'!AN51","v":0},{"$f":"AH50*'Product Info'!AQ51","v":0},{"$f":"AH50*'Product Info'!AT51","v":0},{"$f":"AH50*'Product Info'!AW51","v":0},{"$f":"AH50*'Product Info'!AZ51","v":0},{"$f":"AH50*'Product Info'!BC51","v":0},{"$f":"AH50*'Product Info'!BF51","v":0},{"$f":"AH50*'Product Info'!BI51","v":0},{"$f":"AH50*'Product Info'!BL51","v":0},{"$f":"AH50*'Product Info'!BO51","v":0},{"$f":"AH50*'Product Info'!BR51","v":0},{"$f":"AH50*'Product Info'!BU51","v":0},{"$f":"AH50*'Product Info'!BX51","v":0}]
[{"$f":"'Product Info'!A52","v":0},{"$f":"'Product Info'!B52","v":0},{"$f":"'Product Info'!C52","v":0},null,null,null,null,null,null,null,null,null,null,null,null,null,null,null,null,null,null,null,null,null,null,null,null,null,null,null,null,null,null,0,{"$f":"'Product Info'!F52*('Daily Info (June)'!AH51)","v":0},null,null,{"$f":"AH51*('Product Info'!H52)","v":0},{"$f":"AH51*('Product Info'!M52+'Product Info'!P52+'Product Info'!S52+'Product Info'!V52+'Product Info'!Y52+'Product Info'!AB52+'Product Info'!AE52+'Product Info'!AH52+'Product Info'!AK52+'Product Info'!AN52+'Product Info'!AQ52+'Product Info'!AT52+'Product Info'!AW52+'Product Info'!AZ52+'Product Info'!BC52+'Product Info'!BF52+'Product Info'!BI52+'Product Info'!BL52+'Product Info'!BO52+'Product Info'!BR52+'Product Info'!BU52+'Product Info'!BX52+'Product Info'!CA52+'Product Info'!CD52+'Product Info'!CG52+'Product Info'!CJ52+'Product Info'!CM52+'Product Info'!CP52+'Product Info'!CS52+'Product Info'!CV52+'Product Info'!CY52+'Product Info'!DB52+'Product Info'!DE52+'Product Info'!DH52+'Product Info'!DK52+'Product Info'!DN52+'Product Info'!DQ52+'Product Info'!DT52+'Product Info'!DW52+'Product Info'!DZ52+'Product Info'!EC52+'Product Info'!EF52+'Product Info'!EI52+'Product Info'!EL52+'Product Info'!EO52+'Product Info'!ER52+'Product Info'!EU52+'Product Info'!EX52+'Product Info'!FA52+'Product Info'!FD52)","v":0},{"$f":"AH51*('Product Info'!M52)","v":0},{"$f":"AH51*'Product Info'!P52","v":0},{"$f":"AH51*'Product Info'!S52","v":0},{"$f":"AH51*'Product Info'!V52","v":0},{"$f":"AH51*'Product Info'!Y52","v":0},{"$f":"AH51*'Product Info'!AB52","v":0},{"$f":"AH51*'Product Info'!AE52","v":0},{"$f":"AH51*'Product Info'!AH52","v":0},{"$f":"AH51*'Product Info'!AK52","v":0},{"$f":"AH51*'Product Info'!AN52","v":0},{"$f":"AH51*'Product Info'!AQ52","v":0},{"$f":"AH51*'Product Info'!AT52","v":0},{"$f":"AH51*'Product Info'!AW52","v":0},{"$f":"AH51*'Product Info'!AZ52","v":0},{"$f":"AH51*'Product Info'!BC52","v":0},{"$f":"AH51*'Product Info'!BF52","v":0},{"$f":"AH51*'Product Info'!BI52","v":0},{"$f":"AH51*'Product Info'!BL52","v":0},{"$f":"AH51*'Product Info'!BO52","v":0},{"$f":"AH51*'Product Info'!BR52","v":0},{"$f":"AH51*'Product Info'!BU52","v":0},{"$f":"AH51*'Product Info'!BX52","v":0}]
[{"$f":"'Product Info'!A53","v":0},{"$f":"'Product Info'!B53","v":0},{"$f":"'Product Info'!C53","v":0},null,null,null,null,null,null,null,null,null,null,null,null,null,null,null,null,null,null,null,null,null,null,null,null,null,null,null,null,null,null,0,{"$f":"'Product Info'!F53*('Daily Info (June)'!AH52)","v":0},null,null,{"$f":"AH52*('Product Info'!H53)","v":0},{"$f":"AH52*('Product Info'!M53+'Product Info'!P53+'Product Info'!S53+'Product Info'!V53+'Product Info'!Y53+'Product Info'!AB53+'Product Info'!AE53+'Product Info'!AH53+'Product Info'!AK53+'Product Info'!AN53+'Product Info'!AQ53+'Product Info'!AT53+'Product Info'!AW53+'Product Info'!AZ53+'Product Info'!BC53+'Product Info'!BF53+'Product Info'!BI53+'Product Info'!BL53+'Product Info'!BO53+'Product Info'!BR53+'Product Info'!BU53+'Product Info'!BX53+'Product Info'!CA53+'Product Info'!CD53+'Product Info'!CG53+'Product Info'!CJ53+'Product Info'!CM53+'Product Info'!CP53+'Product Info'!CS53+'Product Info'!CV53+'Product Info'!CY53+'Product Info'!DB53+'Product Info'!DE53+'Product Info'!DH53+'Product Info'!DK53+'Product Info'!DN53+'Product Info'!DQ53+'Product Info'!DT53+'Product Info'!DW53+'Product Info'!DZ53+'Product Info'!EC53+'Product Info'!EF53+'Product Info'!EI53+'Product Info'!EL53+'Product Info'!EO53+'Product Info'!ER53+'Product Info'!EU53+'Product Info'!EX53+'Product Info'!FA53+'Product Info'!FD53)","v":0},{"$f":"AH52*('Product Info'!M53)","v":0},{"$f":"AH52*'Product Info'!P53","v":0},{"$f":"AH52*'Product Info'!S53","v":0},{"$f":"AH52*'Product Info'!V53","v":0},{"$f":"AH52*'Product Info'!Y53","v":0},{"$f":"AH52*'Product Info'!AB53","v":0},{"$f":"AH52*'Product Info'!AE53","v":0},{"$f":"AH52*'Product Info'!AH53","v":0},{"$f":"AH52*'Product Info'!AK53","v":0},{"$f":"AH52*'Product Info'!AN53","v":0},{"$f":"AH52*'Product Info'!AQ53","v":0},{"$f":"AH52*'Product Info'!AT53","v":0},{"$f":"AH52*'Product Info'!AW53","v":0},{"$f":"AH52*'Product Info'!AZ53","v":0},{"$f":"AH52*'Product Info'!BC53","v":0},{"$f":"AH52*'Product Info'!BF53","v":0},{"$f":"AH52*'Product Info'!BI53","v":0},{"$f":"AH52*'Product Info'!BL53","v":0},{"$f":"AH52*'Product Info'!BO53","v":0},{"$f":"AH52*'Product Info'!BR53","v":0},{"$f":"AH52*'Product Info'!BU53","v":0},{"$f":"AH52*'Product Info'!BX53","v":0}]
[{"$f":"'Product Info'!A54","v":0},{"$f":"'Product Info'!B54","v":0},{"$f":"'Product Info'!C54","v":0},null,null,null,null,null,null,null,null,null,null,null,null,null,null,null,null,null,null,null,null,null,null,null,null,null,null,null,null,null,null,0,{"$f":"'Product Info'!F54*('Daily Info (June)'!AH53)","v":0},null,null,{"$f":"AH53*('Product Info'!H54)","v":0},{"$f":"AH53*('Product Info'!M54+'Product Info'!P54+'Product Info'!S54+'Product Info'!V54+'Product Info'!Y54+'Product Info'!AB54+'Product Info'!AE54+'Product Info'!AH54+'Product Info'!AK54+'Product Info'!AN54+'Product Info'!AQ54+'Product Info'!AT54+'Product Info'!AW54+'Product Info'!AZ54+'Product Info'!BC54+'Product Info'!BF54+'Product Info'!BI54+'Product Info'!BL54+'Product Info'!BO54+'Product Info'!BR54+'Product Info'!BU54+'Product Info'!BX54+'Product Info'!CA54+'Product Info'!CD54+'Product Info'!CG54+'Product Info'!CJ54+'Product Info'!CM54+'Product Info'!CP54+'Product Info'!CS54+'Product Info'!CV54+'Product Info'!CY54+'Product Info'!DB54+'Product Info'!DE54+'Product Info'!DH54+'Product Info'!DK54+'Product Info'!DN54+'Product Info'!DQ54+'Product Info'!DT54+'Product Info'!DW54+'Product Info'!DZ54+'Product Info'!EC54+'Product Info'!EF54+'Product Info'!EI54+'Product Info'!EL54+'Product Info'!EO54+'Product Info'!ER54+'Product Info'!EU54+'Product Info'!EX54+'Product Info'!FA54+'Product Info'!FD54)","v":0},{"$f":"AH53*('Product Info'!M54)","v":0},{"$f":"AH53*'Product Info'!P54","v":0},{"$f":"AH53*'Product Info'!S54","v":0},{"$f":"AH53*'Product Info'!V54","v":0},{"$f":"AH53*'Product Info'!Y54","v":0},{"$f":"AH53*'Product Info'!AB54","v":0},{"$f":"AH53*'Product Info'!AE54","v":0},{"$f":"AH53*'Product Info'!AH54","v":0},{"$f":"AH53*'Product Info'!AK54","v":0},{"$f":"AH53*'Product Info'!AN54","v":0},{"$f":"AH53*'Product Info'!AQ54","v":0},{"$f":"AH53*'Product Info'!AT54","v":0},{"$f":"AH53*'Product Info'!AW54","v":0},{"$f":"AH53*'Product Info'!AZ54","v":0},{"$f":"AH53*'Product Info'!BC54","v":0},{"$f":"AH53*'Product Info'!BF54","v":0},{"$f":"AH53*'Product Info'!BI54","v":0},{"$f":"AH53*'Product Info'!BL54","v":0},{"$f":"AH53*'Product Info'!BO54","v":0},{"$f":"AH53*'Product Info'!BR54","v":0},{"$f":"AH53*'Product Info'!BU54","v":0},{"$f":"AH53*'Product Info'!BX54","v":0}]
[{"$f":"'Product Info'!A55","v":0},{"$f":"'Product Info'!B55","v":0},{"$f":"'Product Info'!C55","v":0},null,null,null,null,null,null,null,null,null,null,null,null,null,null,null,null,null,null,null,null,null,null,null,null,null,null,null,null,null,null,0,{"$f":"'Product Info'!F55*('Daily Info (June)'!AH54)","v":0},null,null,{"$f":"AH54*('Product Info'!H55)","v":0},{"$f":"AH54*('Product Info'!M55+'Product Info'!P55+'Product Info'!S55+'Product Info'!V55+'Product Info'!Y55+'Product Info'!AB55+'Product Info'!AE55+'Product Info'!AH55+'Product Info'!AK55+'Product Info'!AN55+'Product Info'!AQ55+'Product Info'!AT55+'Product Info'!AW55+'Product Info'!AZ55+'Product Info'!BC55+'Product Info'!BF55+'Product Info'!BI55+'Product Info'!BL55+'Product Info'!BO55+'Product Info'!BR55+'Product Info'!BU55+'Product Info'!BX55+'Product Info'!CA55+'Product Info'!CD55+'Product Info'!CG55+'Product Info'!CJ55+'Product Info'!CM55+'Product Info'!CP55+'Product Info'!CS55+'Product Info'!CV55+'Product Info'!CY55+'Product Info'!DB55+'Product Info'!DE55+'Product Info'!DH55+'Product Info'!DK55+'Product Info'!DN55+'Product Info'!DQ55+'Product Info'!DT55+'Product Info'!DW55+'Product Info'!DZ55+'Product Info'!EC55+'Product Info'!EF55+'Product Info'!EI55+'Product Info'!EL55+'Product Info'!EO55+'Product Info'!ER55+'Product Info'!EU55+'Product Info'!EX55+'Product Info'!FA55+'Product Info'!FD55)","v":0},{"$f":"AH54*('Product Info'!M55)","v":0},{"$f":"AH54*'Product Info'!P55","v":0},{"$f":"AH54*'Product Info'!S55","v":0},{"$f":"AH54*'Product Info'!V55","v":0},{"$f":"AH54*'Product Info'!Y55","v":0},{"$f":"AH54*'Product Info'!AB55","v":0},{"$f":"AH54*'Product Info'!AE55","v":0},{"$f":"AH54*'Product Info'!AH55","v":0},{"$f":"AH54*'Product Info'!AK55","v":0},{"$f":"AH54*'Product Info'!AN55","v":0},{"$f":"AH54*'Product Info'!AQ55","v":0},{"$f":"AH54*'Product Info'!AT55","v":0},{"$f":"AH54*'Product Info'!AW55","v":0},{"$f":"AH54*'Product Info'!AZ55","v":0},{"$f":"AH54*'Product Info'!BC55","v":0},{"$f":"AH54*'Product Info'!BF55","v":0},{"$f":"AH54*'Product Info'!BI55","v":0},{"$f":"AH54*'Product Info'!BL55","v":0},{"$f":"AH54*'Product Info'!BO55","v":0},{"$f":"AH54*'Product Info'!BR55","v":0},{"$f":"AH54*'Product Info'!BU55","v":0},{"$f":"AH54*'Product Info'!BX55","v":0}]
[{"$f":"'Product Info'!A56","v":0},{"$f":"'Product Info'!B56","v":0},{"$f":"'Product Info'!C56","v":0},null,null,null,null,null,null,null,null,null,null,null,null,null,null,null,null,null,null,null,null,null,null,null,null,null,null,null,null,null,null,0,{"$f":"'Product Info'!F56*('Daily Info (June)'!AH55)","v":0},null,null,{"$f":"AH55*('Product Info'!H56)","v":0},{"$f":"AH55*('Product Info'!M56+'Product Info'!P56+'Product Info'!S56+'Product Info'!V56+'Product Info'!Y56+'Product Info'!AB56+'Product Info'!AE56+'Product Info'!AH56+'Product Info'!AK56+'Product Info'!AN56+'Product Info'!AQ56+'Product Info'!AT56+'Product Info'!AW56+'Product Info'!AZ56+'Product Info'!BC56+'Product Info'!BF56+'Product Info'!BI56+'Product Info'!BL56+'Product Info'!BO56+'Product Info'!BR56+'Product Info'!BU56+'Product Info'!BX56+'Product Info'!CA56+'Product Info'!CD56+'Product Info'!CG56+'Product Info'!CJ56+'Product Info'!CM56+'Product Info'!CP56+'Product Info'!CS56+'Product Info'!CV56+'Product Info'!CY56+'Product Info'!DB56+'Product Info'!DE56+'Product Info'!DH56+'Product Info'!DK56+'Product Info'!DN56+'Product Info'!DQ56+'Product Info'!DT56+'Product Info'!DW56+'Product Info'!DZ56+'Product Info'!EC56+'Product Info'!EF56+'Product Info'!EI56+'Product Info'!EL56+'Product Info'!EO56+'Product Info'!ER56+'Product Info'!EU56+'Product Info'!EX56+'Product Info'!FA56+'Product Info'!FD56)","v":0},{"$f":"AH55*('Product Info'!M56)","v":0},{"$f":"AH55*'Product Info'!P56","v":0},{"$f":"AH55*'Product Info'!S56","v":0},{"$f":"AH55*'Product Info'!V56","v":0},{"$f":"AH55*'Product Info'!Y56","v":0},{"$f":"AH55*'Product Info'!AB56","v":0},{"$f":"AH55*'Product Info'!AE56","v":0},{"$f":"AH55*'Product Info'!AH56","v":0},{"$f":"AH55*'Product Info'!AK56","v":0},{"$f":"AH55*'Product Info'!AN56","v":0},{"$f":"AH55*'Product Info'!AQ56","v":0},{"$f":"AH55*'Product Info'!AT56","v":0},{"$f":"AH55*'Product Info'!AW56","v":0},{"$f":"AH55*'Product Info'!AZ56","v":0},{"$f":"AH55*'Product Info'!BC56","v":0},{"$f":"AH55*'Product Info'!BF56","v":0},{"$f":"AH55*'Product Info'!BI56","v":0},{"$f":"AH55*'Product Info'!BL56","v":0},{"$f":"AH55*'Product Info'!BO56","v":0},{"$f":"AH55*'Product Info'!BR56","v":0},{"$f":"AH55*'Product Info'!BU56","v":0},{"$f":"AH55*'Product Info'!BX56","v":0}]
[{"$f":"'Product Info'!A57","v":0},{"$f":"'Product Info'!B57","v":0},{"$f":"'Product Info'!C57","v":0},null,null,null,null,null,null,null,null,null,null,null,null,null,null,null,null,null,null,null,null,null,null,null,null,null,null,null,null,null,null,0,{"$f":"'Product Info'!F57*('Daily Info (June)'!AH56)","v":0},null,null,{"$f":"AH56*('Product Info'!H57)","v":0},{"$f":"AH56*('Product Info'!M57+'Product Info'!P57+'Product Info'!S57+'Product Info'!V57+'Product Info'!Y57+'Product Info'!AB57+'Product Info'!AE57+'Product Info'!AH57+'Product Info'!AK57+'Product Info'!AN57+'Product Info'!AQ57+'Product Info'!AT57+'Product Info'!AW57+'Product Info'!AZ57+'Product Info'!BC57+'Product Info'!BF57+'Product Info'!BI57+'Product Info'!BL57+'Product Info'!BO57+'Product Info'!BR57+'Product Info'!BU57+'Product Info'!BX57+'Product Info'!CA57+'Product Info'!CD57+'Product Info'!CG57+'Product Info'!CJ57+'Product Info'!CM57+'Product Info'!CP57+'Product Info'!CS57+'Product Info'!CV57+'Product Info'!CY57+'Product Info'!DB57+'Product Info'!DE57+'Product Info'!DH57+'Product Info'!DK57+'Product Info'!DN57+'Product Info'!DQ57+'Product Info'!DT57+'Product Info'!DW57+'Product Info'!DZ57+'Product Info'!EC57+'Product Info'!EF57+'Product Info'!EI57+'Product Info'!EL57+'Product Info'!EO57+'Product Info'!ER57+'Product Info'!EU57+'Product Info'!EX57+'Product Info'!FA57+'Product Info'!FD57)","v":0},{"$f":"AH56*('Product Info'!M57)","v":0},{"$f":"AH56*'Product Info'!P57","v":0},{"$f":"AH56*'Product Info'!S57","v":0},{"$f":"AH56*'Product Info'!V57","v":0},{"$f":"AH56*'Product Info'!Y57","v":0},{"$f":"AH56*'Product Info'!AB57","v":0},{"$f":"AH56*'Product Info'!AE57","v":0},{"$f":"AH56*'Product Info'!AH57","v":0},{"$f":"AH56*'Product Info'!AK57","v":0},{"$f":"AH56*'Product Info'!AN57","v":0},{"$f":"AH56*'Product Info'!AQ57","v":0},{"$f":"AH56*'Product Info'!AT57","v":0},{"$f":"AH56*'Product Info'!AW57","v":0},{"$f":"AH56*'Product Info'!AZ57","v":0},{"$f":"AH56*'Product Info'!BC57","v":0},{"$f":"AH56*'Product Info'!BF57","v":0},{"$f":"AH56*'Product Info'!BI57","v":0},{"$f":"AH56*'Product Info'!BL57","v":0},{"$f":"AH56*'Product Info'!BO57","v":0},{"$f":"AH56*'Product Info'!BR57","v":0},{"$f":"AH56*'Product Info'!BU57","v":0},{"$f":"AH56*'Product Info'!BX57","v":0}]
[{"$f":"'Product Info'!A58","v":0},{"$f":"'Product Info'!B58","v":0},{"$f":"'Product Info'!C58","v":0},null,null,null,null,null,null,null,null,null,null,null,null,null,null,null,null,null,null,null,null,null,null,null,null,null,null,null,null,null,null,0,{"$f":"'Product Info'!F58*('Daily Info (June)'!AH57)","v":0},null,null,{"$f":"AH57*('Product Info'!H58)","v":0},{"$f":"AH57*('Product Info'!M58+'Product Info'!P58+'Product Info'!S58+'Product Info'!V58+'Product Info'!Y58+'Product Info'!AB58+'Product Info'!AE58+'Product Info'!AH58+'Product Info'!AK58+'Product Info'!AN58+'Product Info'!AQ58+'Product Info'!AT58+'Product Info'!AW58+'Product Info'!AZ58+'Product Info'!BC58+'Product Info'!BF58+'Product Info'!BI58+'Product Info'!BL58+'Product Info'!BO58+'Product Info'!BR58+'Product Info'!BU58+'Product Info'!BX58+'Product Info'!CA58+'Product Info'!CD58+'Product Info'!CG58+'Product Info'!CJ58+'Product Info'!CM58+'Product Info'!CP58+'Product Info'!CS58+'Product Info'!CV58+'Product Info'!CY58+'Product Info'!DB58+'Product Info'!DE58+'Product Info'!DH58+'Product Info'!DK58+'Product Info'!DN58+'Product Info'!DQ58+'Product Info'!DT58+'Product Info'!DW58+'Product Info'!DZ58+'Product Info'!EC58+'Product Info'!EF58+'Product Info'!EI58+'Product Info'!EL58+'Product Info'!EO58+'Product Info'!ER58+'Product Info'!EU58+'Product Info'!EX58+'Product Info'!FA58+'Product Info'!FD58)","v":0},{"$f":"AH57*('Product Info'!M58)","v":0},{"$f":"AH57*'Product Info'!P58","v":0},{"$f":"AH57*'Product Info'!S58","v":0},{"$f":"AH57*'Product Info'!V58","v":0},{"$f":"AH57*'Product Info'!Y58","v":0},{"$f":"AH57*'Product Info'!AB58","v":0},{"$f":"AH57*'Product Info'!AE58","v":0},{"$f":"AH57*'Product Info'!AH58","v":0},{"$f":"AH57*'Product Info'!AK58","v":0},{"$f":"AH57*'Product Info'!AN58","v":0},{"$f":"AH57*'Product Info'!AQ58","v":0},{"$f":"AH57*'Product Info'!AT58","v":0},{"$f":"AH57*'Product Info'!AW58","v":0},{"$f":"AH57*'Product Info'!AZ58","v":0},{"$f":"AH57*'Product Info'!BC58","v":0},{"$f":"AH57*'Product Info'!BF58","v":0},{"$f":"AH57*'Product Info'!BI58","v":0},{"$f":"AH57*'Product Info'!BL58","v":0},{"$f":"AH57*'Product Info'!BO58","v":0},{"$f":"AH57*'Product Info'!BR58","v":0},{"$f":"AH57*'Product Info'!BU58","v":0},{"$f":"AH57*'Product Info'!BX58","v":0}]
[{"$f":"'Product Info'!A59","v":0},{"$f":"'Product Info'!B59","v":0},{"$f":"'Product Info'!C59","v":0},null,null,null,null,null,null,null,null,null,null,null,null,null,null,null,null,null,null,null,null,null,null,null,null,null,null,null,null,null,null,0,{"$f":"'Product Info'!F59*('Daily Info (June)'!AH58)","v":0},null,null,{"$f":"AH58*('Product Info'!H59)","v":0},{"$f":"AH58*('Product Info'!M59+'Product Info'!P59+'Product Info'!S59+'Product Info'!V59+'Product Info'!Y59+'Product Info'!AB59+'Product Info'!AE59+'Product Info'!AH59+'Product Info'!AK59+'Product Info'!AN59+'Product Info'!AQ59+'Product Info'!AT59+'Product Info'!AW59+'Product Info'!AZ59+'Product Info'!BC59+'Product Info'!BF59+'Product Info'!BI59+'Product Info'!BL59+'Product Info'!BO59+'Product Info'!BR59+'Product Info'!BU59+'Product Info'!BX59+'Product Info'!CA59+'Product Info'!CD59+'Product Info'!CG59+'Product Info'!CJ59+'Product Info'!CM59+'Product Info'!CP59+'Product Info'!CS59+'Product Info'!CV59+'Product Info'!CY59+'Product Info'!DB59+'Product Info'!DE59+'Product Info'!DH59+'Product Info'!DK59+'Product Info'!DN59+'Product Info'!DQ59+'Product Info'!DT59+'Product Info'!DW59+'Product Info'!DZ59+'Product Info'!EC59+'Product Info'!EF59+'Product Info'!EI59+'Product Info'!EL59+'Product Info'!EO59+'Product Info'!ER59+'Product Info'!EU59+'Product Info'!EX59+'Product Info'!FA59+'Product Info'!FD59)","v":0},{"$f":"AH58*('Product Info'!M59)","v":0},{"$f":"AH58*'Product Info'!P59","v":0},{"$f":"AH58*'Product Info'!S59","v":0},{"$f":"AH58*'Product Info'!V59","v":0},{"$f":"AH58*'Product Info'!Y59","v":0},{"$f":"AH58*'Product Info'!AB59","v":0},{"$f":"AH58*'Product Info'!AE59","v":0},{"$f":"AH58*'Product Info'!AH59","v":0},{"$f":"AH58*'Product Info'!AK59","v":0},{"$f":"AH58*'Product Info'!AN59","v":0},{"$f":"AH58*'Product Info'!AQ59","v":0},{"$f":"AH58*'Product Info'!AT59","v":0},{"$f":"AH58*'Product Info'!AW59","v":0},{"$f":"AH58*'Product Info'!AZ59","v":0},{"$f":"AH58*'Product Info'!BC59","v":0},{"$f":"AH58*'Product Info'!BF59","v":0},{"$f":"AH58*'Product Info'!BI59","v":0},{"$f":"AH58*'Product Info'!BL59","v":0},{"$f":"AH58*'Product Info'!BO59","v":0},{"$f":"AH58*'Product Info'!BR59","v":0},{"$f":"AH58*'Product Info'!BU59","v":0},{"$f":"AH58*'Product Info'!BX59","v":0}]
[{"$f":"'Product Info'!A60","v":0},{"$f":"'Product Info'!B60","v":0},{"$f":"'Product Info'!C60","v":0},null,null,null,null,null,null,null,null,null,null,null,null,null,null,null,null,null,null,null,null,null,null,null,null,null,null,null,null,null,null,0,{"$f":"'Product Info'!F60*('Daily Info (June)'!AH59)","v":0},null,null,{"$f":"AH59*('Product Info'!H60)","v":0},{"$f":"AH59*('Product Info'!M60+'Product Info'!P60+'Product Info'!S60+'Product Info'!V60+'Product Info'!Y60+'Product Info'!AB60+'Product Info'!AE60+'Product Info'!AH60+'Product Info'!AK60+'Product Info'!AN60+'Product Info'!AQ60+'Product Info'!AT60+'Product Info'!AW60+'Product Info'!AZ60+'Product Info'!BC60+'Product Info'!BF60+'Product Info'!BI60+'Product Info'!BL60+'Product Info'!BO60+'Product Info'!BR60+'Product Info'!BU60+'Product Info'!BX60+'Product Info'!CA60+'Product Info'!CD60+'Product Info'!CG60+'Product Info'!CJ60+'Product Info'!CM60+'Product Info'!CP60+'Product Info'!CS60+'Product Info'!CV60+'Product Info'!CY60+'Product Info'!DB60+'Product Info'!DE60+'Product Info'!DH60+'Product Info'!DK60+'Product Info'!DN60+'Product Info'!DQ60+'Product Info'!DT60+'Product Info'!DW60+'Product Info'!DZ60+'Product Info'!EC60+'Product Info'!EF60+'Product Info'!EI60+'Product Info'!EL60+'Product Info'!EO60+'Product Info'!ER60+'Product Info'!EU60+'Product Info'!EX60+'Product Info'!FA60+'Product Info'!FD60)","v":0},{"$f":"AH59*('Product Info'!M60)","v":0},{"$f":"AH59*'Product Info'!P60","v":0},{"$f":"AH59*'Product Info'!S60","v":0},{"$f":"AH59*'Product Info'!V60","v":0},{"$f":"AH59*'Product Info'!Y60","v":0},{"$f":"AH59*'Product Info'!AB60","v":0},{"$f":"AH59*'Product Info'!AE60","v":0},{"$f":"AH59*'Product Info'!AH60","v":0},{"$f":"AH59*'Product Info'!AK60","v":0},{"$f":"AH59*'Product Info'!AN60","v":0},{"$f":"AH59*'Product Info'!AQ60","v":0},{"$f":"AH59*'Product Info'!AT60","v":0},{"$f":"AH59*'Product Info'!AW60","v":0},{"$f":"AH59*'Product Info'!AZ60","v":0},{"$f":"AH59*'Product Info'!BC60","v":0},{"$f":"AH59*'Product Info'!BF60","v":0},{"$f":"AH59*'Product Info'!BI60","v":0},{"$f":"AH59*'Product Info'!BL60","v":0},{"$f":"AH59*'Product Info'!BO60","v":0},{"$f":"AH59*'Product Info'!BR60","v":0},{"$f":"AH59*'Product Info'!BU60","v":0},{"$f":"AH59*'Product Info'!BX60","v":0}]
[{"$f":"'Product Info'!A61","v":0},{"$f":"'Product Info'!B61","v":0},{"$f":"'Product Info'!C61","v":0},null,null,null,null,null,null,null,null,null,null,null,null,null,null,null,null,null,null,null,null,null,null,null,null,null,null,null,null,null,null,0,{"$f":"'Product Info'!F61*('Daily Info (June)'!AH60)","v":0},null,null,{"$f":"AH60*('Product Info'!H61)","v":0},{"$f":"AH60*('Product Info'!M61+'Product Info'!P61+'Product Info'!S61+'Product Info'!V61+'Product Info'!Y61+'Product Info'!AB61+'Product Info'!AE61+'Product Info'!AH61+'Product Info'!AK61+'Product Info'!AN61+'Product Info'!AQ61+'Product Info'!AT61+'Product Info'!AW61+'Product Info'!AZ61+'Product Info'!BC61+'Product Info'!BF61+'Product Info'!BI61+'Product Info'!BL61+'Product Info'!BO61+'Product Info'!BR61+'Product Info'!BU61+'Product Info'!BX61+'Product Info'!CA61+'Product Info'!CD61+'Product Info'!CG61+'Product Info'!CJ61+'Product Info'!CM61+'Product Info'!CP61+'Product Info'!CS61+'Product Info'!CV61+'Product Info'!CY61+'Product Info'!DB61+'Product Info'!DE61+'Product Info'!DH61+'Product Info'!DK61+'Product Info'!DN61+'Product Info'!DQ61+'Product Info'!DT61+'Product Info'!DW61+'Product Info'!DZ61+'Product Info'!EC61+'Product Info'!EF61+'Product Info'!EI61+'Product Info'!EL61+'Product Info'!EO61+'Product Info'!ER61+'Product Info'!EU61+'Product Info'!EX61+'Product Info'!FA61+'Product Info'!FD61)","v":0},{"$f":"AH60*('Product Info'!M61)","v":0},{"$f":"AH60*'Product Info'!P61","v":0},{"$f":"AH60*'Product Info'!S61","v":0},{"$f":"AH60*'Product Info'!V61","v":0},{"$f":"AH60*'Product Info'!Y61","v":0},{"$f":"AH60*'Product Info'!AB61","v":0},{"$f":"AH60*'Product Info'!AE61","v":0},{"$f":"AH60*'Product Info'!AH61","v":0},{"$f":"AH60*'Product Info'!AK61","v":0},{"$f":"AH60*'Product Info'!AN61","v":0},{"$f":"AH60*'Product Info'!AQ61","v":0},{"$f":"AH60*'Product Info'!AT61","v":0},{"$f":"AH60*'Product Info'!AW61","v":0},{"$f":"AH60*'Product Info'!AZ61","v":0},{"$f":"AH60*'Product Info'!BC61","v":0},{"$f":"AH60*'Product Info'!BF61","v":0},{"$f":"AH60*'Product Info'!BI61","v":0},{"$f":"AH60*'Product Info'!BL61","v":0},{"$f":"AH60*'Product Info'!BO61","v":0},{"$f":"AH60*'Product Info'!BR61","v":0},{"$f":"AH60*'Product Info'!BU61","v":0},{"$f":"AH60*'Product Info'!BX61","v":0}]
[{"$f":"'Product Info'!A62","v":0},{"$f":"'Product Info'!B62","v":0},{"$f":"'Product Info'!C62","v":0},null,null,null,null,null,null,null,null,null,null,null,null,null,null,null,null,null,null,null,null,null,null,null,null,null,null,null,null,null,null,0,{"$f":"'Product Info'!F62*('Daily Info (June)'!AH61)","v":0},null,null,{"$f":"AH61*('Product Info'!H62)","v":0},{"$f":"AH61*('Product Info'!M62+'Product Info'!P62+'Product Info'!S62+'Product Info'!V62+'Product Info'!Y62+'Product Info'!AB62+'Product Info'!AE62+'Product Info'!AH62+'Product Info'!AK62+'Product Info'!AN62+'Product Info'!AQ62+'Product Info'!AT62+'Product Info'!AW62+'Product Info'!AZ62+'Product Info'!BC62+'Product Info'!BF62+'Product Info'!BI62+'Product Info'!BL62+'Product Info'!BO62+'Product Info'!BR62+'Product Info'!BU62+'Product Info'!BX62+'Product Info'!CA62+'Product Info'!CD62+'Product Info'!CG62+'Product Info'!CJ62+'Product Info'!CM62+'Product Info'!CP62+'Product Info'!CS62+'Product Info'!CV62+'Product Info'!CY62+'Product Info'!DB62+'Product Info'!DE62+'Product Info'!DH62+'Product Info'!DK62+'Product Info'!DN62+'Product Info'!DQ62+'Product Info'!DT62+'Product Info'!DW62+'Product Info'!DZ62+'Product Info'!EC62+'Product Info'!EF62+'Product Info'!EI62+'Product Info'!EL62+'Product Info'!EO62+'Product Info'!ER62+'Product Info'!EU62+'Product Info'!EX62+'Product Info'!FA62+'Product Info'!FD62)","v":0},{"$f":"AH61*('Product Info'!M62)","v":0},{"$f":"AH61*'Product Info'!P62","v":0},{"$f":"AH61*'Product Info'!S62","v":0},{"$f":"AH61*'Product Info'!V62","v":0},{"$f":"AH61*'Product Info'!Y62","v":0},{"$f":"AH61*'Product Info'!AB62","v":0},{"$f":"AH61*'Product Info'!AE62","v":0},{"$f":"AH61*'Product Info'!AH62","v":0},{"$f":"AH61*'Product Info'!AK62","v":0},{"$f":"AH61*'Product Info'!AN62","v":0},{"$f":"AH61*'Product Info'!AQ62","v":0},{"$f":"AH61*'Product Info'!AT62","v":0},{"$f":"AH61*'Product Info'!AW62","v":0},{"$f":"AH61*'Product Info'!AZ62","v":0},{"$f":"AH61*'Product Info'!BC62","v":0},{"$f":"AH61*'Product Info'!BF62","v":0},{"$f":"AH61*'Product Info'!BI62","v":0},{"$f":"AH61*'Product Info'!BL62","v":0},{"$f":"AH61*'Product Info'!BO62","v":0},{"$f":"AH61*'Product Info'!BR62","v":0},{"$f":"AH61*'Product Info'!BU62","v":0},{"$f":"AH61*'Product Info'!BX62","v":0}]
["TOTALS for June",null,null,null,null,null,null,null,null,null,null,null,null,null,null,null,null,null,null,null,null,null,null,null,null,null,null,null,null,null,null,null,null,{"$f":"SUM(AH4:AH18)","v":0},{"$f":"SUM(AI4:AI18)","v":0},null,null,{"$f":"SUM(AL4:AL18)","v":0},{"$f":"SUM(AM4:AM18)","v":0},0,0,0,0,0,0,0,0,0,0,0,0,0,0,0,0,0,0,0,0,0,0]

{"sheet":"Daily Info (July)","index":8,"n_rows":62,"n_cols":62,"rows_kept":62,"cut":false,"hidden":false,"merged":[[0,3,0,12],[0,38,0,39],[61,0,61,1],[61,3,61,33],[1,35,1,36],[3,35,3,36],[4,35,4,36],[5,35,5,36],[6,35,6,36],[7,35,7,36],[19,35,19,36],[8,35,8,36],[9,35,9,36],[10,35,10,36],[11,35,11,36],[12,35,12,36],[13,35,13,36],[14,35,14,36],[15,35,15,36],[16,35,16,36],[17,35,17,36],[18,35,18,36],[31,35,31,36],[20,35,20,36],[21,35,21,36],[22,35,22,36],[23,35,23,36],[24,35,24,36],[25,35,25,36],[26,35,26,36],[27,35,27,36],[28,35,28,36],[29,35,29,36],[30,35,30,36],[43,35,43,36],[32,35,32,36],[33,35,33,36],[34,35,34,36],[35,35,35,36],[36,35,36,36],[37,35,37,36],[38,35,38,36],[39,35,39,36],[40,35,40,36],[41,35,41,36],[42,35,42,36],[55,35,55,36],[44,35,44,36],[45,35,45,36],[46,35,46,36],[47,35,47,36],[48,35,48,36],[49,35,49,36],[50,35,50,36],[51,35,51,36],[52,35,52,36],[53,35,53,36],[54,35,54,36],[56,35,56,36],[61,35,61,36],[57,35,57,36],[58,35,58,36],[59,35,59,36],[60,35,60,36]]}
["Main Menu","VOC Product Information",null,"Daily Usage (gal)",null,null,null,null,null,null,null,null,null,null,null,null,null,null,null,null,null,null,null,null,null,"Daily Usage (gal)",null,null,null,null,null,null,null,null,null,null,null,null,"Emissions"]
["Product Number","Product Name","Product Type","2006-07-01","2006-07-02","2006-07-03","2006-07-04","2006-07-05","2006-07-06","2006-07-07","2006-07-08","2006-07-09","2006-07-10","2006-07-11","2006-07-12","2006-07-13","2006-07-14","2006-07-15","2006-07-16","2006-07-17","2006-07-18","2006-07-19","2006-07-20","2006-07-21","2006-07-22","2006-07-23","2006-07-24","2006-07-25","2006-07-26","2006-07-27","2006-07-28","2006-07-29","2006-07-30","2006-07-31","Total Usage (gal)","Total Usage (lbs)",null,null,"Pounds VOCs Emitted","Pounds Total HAPs Emitted",{"$f":"'Product Info'!K3","v":0},{"$f":"'Product Info'!N3","v":0},{"$f":"'Product Info'!Q3","v":0},{"$f":"'Product Info'!T3","v":0},{"$f":"'Product Info'!W3","v":0},{"$f":"'Product Info'!Z3","v":0},{"$f":"'Product Info'!AC3","v":0},{"$f":"'Product Info'!AF3","v":0},{"$f":"'Product Info'!AI3","v":0},{"$f":"'Product Info'!AL3","v":0},{"$f":"'Product Info'!AO3","v":0},{"$f":"'Product Info'!AR3","v":0},{"$f":"'Product Info'!AU3","v":0},{"$f":"'Product Info'!AX3","v":0},{"$f":"'Product Info'!BA3","v":0},{"$f":"'Product Info'!BD3","v":0},{"$f":"'Product Info'!BG3","v":0},{"$f":"'Product Info'!BJ3","v":0},{"$f":"'Product Info'!BM3","v":0},{"$f":"'Product Info'!BP3","v":0},{"$f":"'Product Info'!BS3","v":0},{"$f":"'Product Info'!BV3","v":0}]
[]
[{"$f":"'Product Info'!A5","v":0},{"$f":"'Product Info'!B5","v":0},{"$f":"'Product Info'!C5","v":0},null,null,null,null,null,null,null,null,null,null,null,null,null,null,null,null,null,null,null,null,null,null,null,null,null,null,null,null,null,null,null,{"$f":"SUM(D4:AH4)","v":0},{"$f":"'Product Info'!F5*('Daily Info (July)'!AI4)","v":0},null,null,{"$f":"AI4*('Product Info'!H5)","v":0},{"$f":"AI4*('Product Info'!M5+'Product Info'!P5+'Product Info'!S5+'Product Info'!V5+'Product Info'!Y5+'Product Info'!AB5+'Product Info'!AE5+'Product Info'!AH5+'Product Info'!AK5+'Product Info'!AN5+'Product Info'!AQ5+'Product Info'!AT5+'Product Info'!AW5+'Product Info'!AZ5+'Product Info'!BC5+'Product Info'!BF5+'Product Info'!BI5+'Product Info'!BL5+'Product Info'!BO5+'Product Info'!BR5+'Product Info'!BU5+'Product Info'!BX5+'Product Info'!CA5+'Product Info'!CD5+'Product Info'!CG5+'Product Info'!CJ5+'Product Info'!CM5+'Product Info'!CP5+'Product Info'!CS5+'Product Info'!CV5+'Product Info'!CY5+'Product Info'!DB5+'Product Info'!DE5+'Product Info'!DH5+'Product Info'!DK5+'Product Info'!DN5+'Product Info'!DQ5+'Product Info'!DT5+'Product Info'!DW5+'Product Info'!DZ5+'Product Info'!EC5+'Product Info'!EF5+'Product Info'!EI5+'Product Info'!EL5+'Product Info'!EO5+'Product Info'!ER5+'Product Info'!EU5+'Product Info'!EX5+'Product Info'!FA5+'Product Info'!FD5)","v":0},{"$f":"AI4*('Product Info'!M5)","v":0},{"$f":"AI4*'Product Info'!P5","v":0},{"$f":"AI4*'Product Info'!S5","v":0},{"$f":"AI4*'Product Info'!V5","v":0},{"$f":"AI4*'Product Info'!Y5","v":0},{"$f":"AI4*'Product Info'!AB5","v":0},{"$f":"AI4*'Product Info'!AE5","v":0},{"$f":"AI4*'Product Info'!AH5","v":0},{"$f":"AI4*'Product Info'!AK5","v":0},{"$f":"AI4*'Product Info'!AN5","v":0},{"$f":"AI4*'Product Info'!AQ5","v":0},{"$f":"AI4*'Product Info'!AT5","v":0},{"$f":"AI4*'Product Info'!AW5","v":0},{"$f":"AI4*'Product Info'!AZ5","v":0},{"$f":"AI4*'Product Info'!BC5","v":0},{"$f":"AI4*'Product Info'!BF5","v":0},{"$f":"AI4*'Product Info'!BI5","v":0},{"$f":"AI4*'Product Info'!BL5","v":0},{"$f":"AI4*'Product Info'!BO5","v":0},{"$f":"AI4*'Product Info'!BR5","v":0},{"$f":"AI4*'Product Info'!BU5","v":0},{"$f":"AI4*'Product Info'!BX5","v":0}]
[{"$f":"'Product Info'!A6","v":0},{"$f":"'Product Info'!B6","v":0},{"$f":"'Product Info'!C6","v":0},null,null,null,null,null,null,null,null,null,null,null,null,null,null,null,null,null,null,null,null,null,null,null,null,null,null,null,null,null,null,null,0,{"$f":"'Product Info'!F6*('Daily Info (July)'!AI5)","v":0},null,null,{"$f":"AI5*('Product Info'!H6)","v":0},{"$f":"AI5*('Product Info'!M6+'Product Info'!P6+'Product Info'!S6+'Product Info'!V6+'Product Info'!Y6+'Product Info'!AB6+'Product Info'!AE6+'Product Info'!AH6+'Product Info'!AK6+'Product Info'!AN6+'Product Info'!AQ6+'Product Info'!AT6+'Product Info'!AW6+'Product Info'!AZ6+'Product Info'!BC6+'Product Info'!BF6+'Product Info'!BI6+'Product Info'!BL6+'Product Info'!BO6+'Product Info'!BR6+'Product Info'!BU6+'Product Info'!BX6+'Product Info'!CA6+'Product Info'!CD6+'Product Info'!CG6+'Product Info'!CJ6+'Product Info'!CM6+'Product Info'!CP6+'Product Info'!CS6+'Product Info'!CV6+'Product Info'!CY6+'Product Info'!DB6+'Product Info'!DE6+'Product Info'!DH6+'Product Info'!DK6+'Product Info'!DN6+'Product Info'!DQ6+'Product Info'!DT6+'Product Info'!DW6+'Product Info'!DZ6+'Product Info'!EC6+'Product Info'!EF6+'Product Info'!EI6+'Product Info'!EL6+'Product Info'!EO6+'Product Info'!ER6+'Product Info'!EU6+'Product Info'!EX6+'Product Info'!FA6+'Product Info'!FD6)","v":0},{"$f":"AI5*('Product Info'!M6)","v":0},{"$f":"AI5*'Product Info'!P6","v":0},{"$f":"AI5*'Product Info'!S6","v":0},{"$f":"AI5*'Product Info'!V6","v":0},{"$f":"AI5*'Product Info'!Y6","v":0},{"$f":"AI5*'Product Info'!AB6","v":0},{"$f":"AI5*'Product Info'!AE6","v":0},{"$f":"AI5*'Product Info'!AH6","v":0},{"$f":"AI5*'Product Info'!AK6","v":0},{"$f":"AI5*'Product Info'!AN6","v":0},{"$f":"AI5*'Product Info'!AQ6","v":0},{"$f":"AI5*'Product Info'!AT6","v":0},{"$f":"AI5*'Product Info'!AW6","v":0},{"$f":"AI5*'Product Info'!AZ6","v":0},{"$f":"AI5*'Product Info'!BC6","v":0},{"$f":"AI5*'Product Info'!BF6","v":0},{"$f":"AI5*'Product Info'!BI6","v":0},{"$f":"AI5*'Product Info'!BL6","v":0},{"$f":"AI5*'Product Info'!BO6","v":0},{"$f":"AI5*'Product Info'!BR6","v":0},{"$f":"AI5*'Product Info'!BU6","v":0},{"$f":"AI5*'Product Info'!BX6","v":0}]
[{"$f":"'Product Info'!A7","v":0},{"$f":"'Product Info'!B7","v":0},{"$f":"'Product Info'!C7","v":0},null,null,null,null,null,null,null,null,null,null,null,null,null,null,null,null,null,null,null,null,null,null,null,null,null,null,null,null,null,null,null,0,{"$f":"'Product Info'!F7*('Daily Info (July)'!AI6)","v":0},null,null,{"$f":"AI6*('Product Info'!H7)","v":0},{"$f":"AI6*('Product Info'!M7+'Product Info'!P7+'Product Info'!S7+'Product Info'!V7+'Product Info'!Y7+'Product Info'!AB7+'Product Info'!AE7+'Product Info'!AH7+'Product Info'!AK7+'Product Info'!AN7+'Product Info'!AQ7+'Product Info'!AT7+'Product Info'!AW7+'Product Info'!AZ7+'Product Info'!BC7+'Product Info'!BF7+'Product Info'!BI7+'Product Info'!BL7+'Product Info'!BO7+'Product Info'!BR7+'Product Info'!BU7+'Product Info'!BX7+'Product Info'!CA7+'Product Info'!CD7+'Product Info'!CG7+'Product Info'!CJ7+'Product Info'!CM7+'Product Info'!CP7+'Product Info'!CS7+'Product Info'!CV7+'Product Info'!CY7+'Product Info'!DB7+'Product Info'!DE7+'Product Info'!DH7+'Product Info'!DK7+'Product Info'!DN7+'Product Info'!DQ7+'Product Info'!DT7+'Product Info'!DW7+'Product Info'!DZ7+'Product Info'!EC7+'Product Info'!EF7+'Product Info'!EI7+'Product Info'!EL7+'Product Info'!EO7+'Product Info'!ER7+'Product Info'!EU7+'Product Info'!EX7+'Product Info'!FA7+'Product Info'!FD7)","v":0},{"$f":"AI6*('Product Info'!M7)","v":0},{"$f":"AI6*'Product Info'!P7","v":0},{"$f":"AI6*'Product Info'!S7","v":0},{"$f":"AI6*'Product Info'!V7","v":0},{"$f":"AI6*'Product Info'!Y7","v":0},{"$f":"AI6*'Product Info'!AB7","v":0},{"$f":"AI6*'Product Info'!AE7","v":0},{"$f":"AI6*'Product Info'!AH7","v":0},{"$f":"AI6*'Product Info'!AK7","v":0},{"$f":"AI6*'Product Info'!AN7","v":0},{"$f":"AI6*'Product Info'!AQ7","v":0},{"$f":"AI6*'Product Info'!AT7","v":0},{"$f":"AI6*'Product Info'!AW7","v":0},{"$f":"AI6*'Product Info'!AZ7","v":0},{"$f":"AI6*'Product Info'!BC7","v":0},{"$f":"AI6*'Product Info'!BF7","v":0},{"$f":"AI6*'Product Info'!BI7","v":0},{"$f":"AI6*'Product Info'!BL7","v":0},{"$f":"AI6*'Product Info'!BO7","v":0},{"$f":"AI6*'Product Info'!BR7","v":0},{"$f":"AI6*'Product Info'!BU7","v":0},{"$f":"AI6*'Product Info'!BX7","v":0}]
[{"$f":"'Product Info'!A8","v":0},{"$f":"'Product Info'!B8","v":0},{"$f":"'Product Info'!C8","v":0},null,null,null,null,null,null,null,null,null,null,null,null,null,null,null,null,null,null,null,null,null,null,null,null,null,null,null,null,null,null,null,0,{"$f":"'Product Info'!F8*('Daily Info (July)'!AI7)","v":0},null,null,{"$f":"AI7*('Product Info'!H8)","v":0},{"$f":"AI7*('Product Info'!M8+'Product Info'!P8+'Product Info'!S8+'Product Info'!V8+'Product Info'!Y8+'Product Info'!AB8+'Product Info'!AE8+'Product Info'!AH8+'Product Info'!AK8+'Product Info'!AN8+'Product Info'!AQ8+'Product Info'!AT8+'Product Info'!AW8+'Product Info'!AZ8+'Product Info'!BC8+'Product Info'!BF8+'Product Info'!BI8+'Product Info'!BL8+'Product Info'!BO8+'Product Info'!BR8+'Product Info'!BU8+'Product Info'!BX8+'Product Info'!CA8+'Product Info'!CD8+'Product Info'!CG8+'Product Info'!CJ8+'Product Info'!CM8+'Product Info'!CP8+'Product Info'!CS8+'Product Info'!CV8+'Product Info'!CY8+'Product Info'!DB8+'Product Info'!DE8+'Product Info'!DH8+'Product Info'!DK8+'Product Info'!DN8+'Product Info'!DQ8+'Product Info'!DT8+'Product Info'!DW8+'Product Info'!DZ8+'Product Info'!EC8+'Product Info'!EF8+'Product Info'!EI8+'Product Info'!EL8+'Product Info'!EO8+'Product Info'!ER8+'Product Info'!EU8+'Product Info'!EX8+'Product Info'!FA8+'Product Info'!FD8)","v":0},{"$f":"AI7*('Product Info'!M8)","v":0},{"$f":"AI7*'Product Info'!P8","v":0},{"$f":"AI7*'Product Info'!S8","v":0},{"$f":"AI7*'Product Info'!V8","v":0},{"$f":"AI7*'Product Info'!Y8","v":0},{"$f":"AI7*'Product Info'!AB8","v":0},{"$f":"AI7*'Product Info'!AE8","v":0},{"$f":"AI7*'Product Info'!AH8","v":0},{"$f":"AI7*'Product Info'!AK8","v":0},{"$f":"AI7*'Product Info'!AN8","v":0},{"$f":"AI7*'Product Info'!AQ8","v":0},{"$f":"AI7*'Product Info'!AT8","v":0},{"$f":"AI7*'Product Info'!AW8","v":0},{"$f":"AI7*'Product Info'!AZ8","v":0},{"$f":"AI7*'Product Info'!BC8","v":0},{"$f":"AI7*'Product Info'!BF8","v":0},{"$f":"AI7*'Product Info'!BI8","v":0},{"$f":"AI7*'Product Info'!BL8","v":0},{"$f":"AI7*'Product Info'!BO8","v":0},{"$f":"AI7*'Product Info'!BR8","v":0},{"$f":"AI7*'Product Info'!BU8","v":0},{"$f":"AI7*'Product Info'!BX8","v":0}]
[{"$f":"'Product Info'!A9","v":0},{"$f":"'Product Info'!B9","v":0},{"$f":"'Product Info'!C9","v":0},null,null,null,null,null,null,null,null,null,null,null,null,null,null,null,null,null,null,null,null,null,null,null,null,null,null,null,null,null,null,null,0,{"$f":"'Product Info'!F9*('Daily Info (July)'!AI8)","v":0},null,null,{"$f":"AI8*('Product Info'!H9)","v":0},{"$f":"AI8*('Product Info'!M9+'Product Info'!P9+'Product Info'!S9+'Product Info'!V9+'Product Info'!Y9+'Product Info'!AB9+'Product Info'!AE9+'Product Info'!AH9+'Product Info'!AK9+'Product Info'!AN9+'Product Info'!AQ9+'Product Info'!AT9+'Product Info'!AW9+'Product Info'!AZ9+'Product Info'!BC9+'Product Info'!BF9+'Product Info'!BI9+'Product Info'!BL9+'Product Info'!BO9+'Product Info'!BR9+'Product Info'!BU9+'Product Info'!BX9+'Product Info'!CA9+'Product Info'!CD9+'Product Info'!CG9+'Product Info'!CJ9+'Product Info'!CM9+'Product Info'!CP9+'Product Info'!CS9+'Product Info'!CV9+'Product Info'!CY9+'Product Info'!DB9+'Product Info'!DE9+'Product Info'!DH9+'Product Info'!DK9+'Product Info'!DN9+'Product Info'!DQ9+'Product Info'!DT9+'Product Info'!DW9+'Product Info'!DZ9+'Product Info'!EC9+'Product Info'!EF9+'Product Info'!EI9+'Product Info'!EL9+'Product Info'!EO9+'Product Info'!ER9+'Product Info'!EU9+'Product Info'!EX9+'Product Info'!FA9+'Product Info'!FD9)","v":0},{"$f":"AI8*('Product Info'!M9)","v":0},{"$f":"AI8*'Product Info'!P9","v":0},{"$f":"AI8*'Product Info'!S9","v":0},{"$f":"AI8*'Product Info'!V9","v":0},{"$f":"AI8*'Product Info'!Y9","v":0},{"$f":"AI8*'Product Info'!AB9","v":0},{"$f":"AI8*'Product Info'!AE9","v":0},{"$f":"AI8*'Product Info'!AH9","v":0},{"$f":"AI8*'Product Info'!AK9","v":0},{"$f":"AI8*'Product Info'!AN9","v":0},{"$f":"AI8*'Product Info'!AQ9","v":0},{"$f":"AI8*'Product Info'!AT9","v":0},{"$f":"AI8*'Product Info'!AW9","v":0},{"$f":"AI8*'Product Info'!AZ9","v":0},{"$f":"AI8*'Product Info'!BC9","v":0},{"$f":"AI8*'Product Info'!BF9","v":0},{"$f":"AI8*'Product Info'!BI9","v":0},{"$f":"AI8*'Product Info'!BL9","v":0},{"$f":"AI8*'Product Info'!BO9","v":0},{"$f":"AI8*'Product Info'!BR9","v":0},{"$f":"AI8*'Product Info'!BU9","v":0},{"$f":"AI8*'Product Info'!BX9","v":0}]
[{"$f":"'Product Info'!A10","v":0},{"$f":"'Product Info'!B10","v":0},{"$f":"'Product Info'!C10","v":0},null,null,null,null,null,null,null,null,null,null,null,null,null,null,null,null,null,null,null,null,null,null,null,null,null,null,null,null,null,null,null,0,{"$f":"'Product Info'!F10*('Daily Info (July)'!AI9)","v":0},null,null,{"$f":"AI9*('Product Info'!H10)","v":0},{"$f":"AI9*('Product Info'!M10+'Product Info'!P10+'Product Info'!S10+'Product Info'!V10+'Product Info'!Y10+'Product Info'!AB10+'Product Info'!AE10+'Product Info'!AH10+'Product Info'!AK10+'Product Info'!AN10+'Product Info'!AQ10+'Product Info'!AT10+'Product Info'!AW10+'Product Info'!AZ10+'Product Info'!BC10+'Product Info'!BF10+'Product Info'!BI10+'Product Info'!BL10+'Product Info'!BO10+'Product Info'!BR10+'Product Info'!BU10+'Product Info'!BX10+'Product Info'!CA10+'Product Info'!CD10+'Product Info'!CG10+'Product Info'!CJ10+'Product Info'!CM10+'Product Info'!CP10+'Product Info'!CS10+'Product Info'!CV10+'Product Info'!CY10+'Product Info'!DB10+'Product Info'!DE10+'Product Info'!DH10+'Product Info'!DK10+'Product Info'!DN10+'Product Info'!DQ10+'Product Info'!DT10+'Product Info'!DW10+'Product Info'!DZ10+'Product Info'!EC10+'Product Info'!EF10+'Product Info'!EI10+'Product Info'!EL10+'Product Info'!EO10+'Product Info'!ER10+'Product Info'!EU10+'Product Info'!EX10+'Product Info'!FA10+'Product Info'!FD10)","v":0},{"$f":"AI9*('Product Info'!M10)","v":0},{"$f":"AI9*'Product Info'!P10","v":0},{"$f":"AI9*'Product Info'!S10","v":0},{"$f":"AI9*'Product Info'!V10","v":0},{"$f":"AI9*'Product Info'!Y10","v":0},{"$f":"AI9*'Product Info'!AB10","v":0},{"$f":"AI9*'Product Info'!AE10","v":0},{"$f":"AI9*'Product Info'!AH10","v":0},{"$f":"AI9*'Product Info'!AK10","v":0},{"$f":"AI9*'Product Info'!AN10","v":0},{"$f":"AI9*'Product Info'!AQ10","v":0},{"$f":"AI9*'Product Info'!AT10","v":0},{"$f":"AI9*'Product Info'!AW10","v":0},{"$f":"AI9*'Product Info'!AZ10","v":0},{"$f":"AI9*'Product Info'!BC10","v":0},{"$f":"AI9*'Product Info'!BF10","v":0},{"$f":"AI9*'Product Info'!BI10","v":0},{"$f":"AI9*'Product Info'!BL10","v":0},{"$f":"AI9*'Product Info'!BO10","v":0},{"$f":"AI9*'Product Info'!BR10","v":0},{"$f":"AI9*'Product Info'!BU10","v":0},{"$f":"AI9*'Product Info'!BX10","v":0}]
[{"$f":"'Product Info'!A11","v":0},{"$f":"'Product Info'!B11","v":0},{"$f":"'Product Info'!C11","v":0},null,null,null,null,null,null,null,null,null,null,null,null,null,null,null,null,null,null,null,null,null,null,null,null,null,null,null,null,null,null,null,0,{"$f":"'Product Info'!F11*('Daily Info (July)'!AI10)","v":0},null,null,{"$f":"AI10*('Product Info'!H11)","v":0},{"$f":"AI10*('Product Info'!M11+'Product Info'!P11+'Product Info'!S11+'Product Info'!V11+'Product Info'!Y11+'Product Info'!AB11+'Product Info'!AE11+'Product Info'!AH11+'Product Info'!AK11+'Product Info'!AN11+'Product Info'!AQ11+'Product Info'!AT11+'Product Info'!AW11+'Product Info'!AZ11+'Product Info'!BC11+'Product Info'!BF11+'Product Info'!BI11+'Product Info'!BL11+'Product Info'!BO11+'Product Info'!BR11+'Product Info'!BU11+'Product Info'!BX11+'Product Info'!CA11+'Product Info'!CD11+'Product Info'!CG11+'Product Info'!CJ11+'Product Info'!CM11+'Product Info'!CP11+'Product Info'!CS11+'Product Info'!CV11+'Product Info'!CY11+'Product Info'!DB11+'Product Info'!DE11+'Product Info'!DH11+'Product Info'!DK11+'Product Info'!DN11+'Product Info'!DQ11+'Product Info'!DT11+'Product Info'!DW11+'Product Info'!DZ11+'Product Info'!EC11+'Product Info'!EF11+'Product Info'!EI11+'Product Info'!EL11+'Product Info'!EO11+'Product Info'!ER11+'Product Info'!EU11+'Product Info'!EX11+'Product Info'!FA11+'Product Info'!FD11)","v":0},{"$f":"AI10*('Product Info'!M11)","v":0},{"$f":"AI10*'Product Info'!P11","v":0},{"$f":"AI10*'Product Info'!S11","v":0},{"$f":"AI10*'Product Info'!V11","v":0},{"$f":"AI10*'Product Info'!Y11","v":0},{"$f":"AI10*'Product Info'!AB11","v":0},{"$f":"AI10*'Product Info'!AE11","v":0},{"$f":"AI10*'Product Info'!AH11","v":0},{"$f":"AI10*'Product Info'!AK11","v":0},{"$f":"AI10*'Product Info'!AN11","v":0},{"$f":"AI10*'Product Info'!AQ11","v":0},{"$f":"AI10*'Product Info'!AT11","v":0},{"$f":"AI10*'Product Info'!AW11","v":0},{"$f":"AI10*'Product Info'!AZ11","v":0},{"$f":"AI10*'Product Info'!BC11","v":0},{"$f":"AI10*'Product Info'!BF11","v":0},{"$f":"AI10*'Product Info'!BI11","v":0},{"$f":"AI10*'Product Info'!BL11","v":0},{"$f":"AI10*'Product Info'!BO11","v":0},{"$f":"AI10*'Product Info'!BR11","v":0},{"$f":"AI10*'Product Info'!BU11","v":0},{"$f":"AI10*'Product Info'!BX11","v":0}]
[{"$f":"'Product Info'!A12","v":0},{"$f":"'Product Info'!B12","v":0},{"$f":"'Product Info'!C12","v":0},null,null,null,null,null,null,null,null,null,null,null,null,null,null,null,null,null,null,null,null,null,null,null,null,null,null,null,null,null,null,null,0,{"$f":"'Product Info'!F12*('Daily Info (July)'!AI11)","v":0},null,null,{"$f":"AI11*('Product Info'!H12)","v":0},{"$f":"AI11*('Product Info'!M12+'Product Info'!P12+'Product Info'!S12+'Product Info'!V12+'Product Info'!Y12+'Product Info'!AB12+'Product Info'!AE12+'Product Info'!AH12+'Product Info'!AK12+'Product Info'!AN12+'Product Info'!AQ12+'Product Info'!AT12+'Product Info'!AW12+'Product Info'!AZ12+'Product Info'!BC12+'Product Info'!BF12+'Product Info'!BI12+'Product Info'!BL12+'Product Info'!BO12+'Product Info'!BR12+'Product Info'!BU12+'Product Info'!BX12+'Product Info'!CA12+'Product Info'!CD12+'Product Info'!CG12+'Product Info'!CJ12+'Product Info'!CM12+'Product Info'!CP12+'Product Info'!CS12+'Product Info'!CV12+'Product Info'!CY12+'Product Info'!DB12+'Product Info'!DE12+'Product Info'!DH12+'Product Info'!DK12+'Product Info'!DN12+'Product Info'!DQ12+'Product Info'!DT12+'Product Info'!DW12+'Product Info'!DZ12+'Product Info'!EC12+'Product Info'!EF12+'Product Info'!EI12+'Product Info'!EL12+'Product Info'!EO12+'Product Info'!ER12+'Product Info'!EU12+'Product Info'!EX12+'Product Info'!FA12+'Product Info'!FD12)","v":0},{"$f":"AI11*('Product Info'!M12)","v":0},{"$f":"AI11*'Product Info'!P12","v":0},{"$f":"AI11*'Product Info'!S12","v":0},{"$f":"AI11*'Product Info'!V12","v":0},{"$f":"AI11*'Product Info'!Y12","v":0},{"$f":"AI11*'Product Info'!AB12","v":0},{"$f":"AI11*'Product Info'!AE12","v":0},{"$f":"AI11*'Product Info'!AH12","v":0},{"$f":"AI11*'Product Info'!AK12","v":0},{"$f":"AI11*'Product Info'!AN12","v":0},{"$f":"AI11*'Product Info'!AQ12","v":0},{"$f":"AI11*'Product Info'!AT12","v":0},{"$f":"AI11*'Product Info'!AW12","v":0},{"$f":"AI11*'Product Info'!AZ12","v":0},{"$f":"AI11*'Product Info'!BC12","v":0},{"$f":"AI11*'Product Info'!BF12","v":0},{"$f":"AI11*'Product Info'!BI12","v":0},{"$f":"AI11*'Product Info'!BL12","v":0},{"$f":"AI11*'Product Info'!BO12","v":0},{"$f":"AI11*'Product Info'!BR12","v":0},{"$f":"AI11*'Product Info'!BU12","v":0},{"$f":"AI11*'Product Info'!BX12","v":0}]
[{"$f":"'Product Info'!A13","v":0},{"$f":"'Product Info'!B13","v":0},{"$f":"'Product Info'!C13","v":0},null,null,null,null,null,null,null,null,null,null,null,null,null,null,null,null,null,null,null,null,null,null,null,null,null,null,null,null,null,null,null,0,{"$f":"'Product Info'!F13*('Daily Info (July)'!AI12)","v":0},null,null,{"$f":"AI12*('Product Info'!H13)","v":0},{"$f":"AI12*('Product Info'!M13+'Product Info'!P13+'Product Info'!S13+'Product Info'!V13+'Product Info'!Y13+'Product Info'!AB13+'Product Info'!AE13+'Product Info'!AH13+'Product Info'!AK13+'Product Info'!AN13+'Product Info'!AQ13+'Product Info'!AT13+'Product Info'!AW13+'Product Info'!AZ13+'Product Info'!BC13+'Product Info'!BF13+'Product Info'!BI13+'Product Info'!BL13+'Product Info'!BO13+'Product Info'!BR13+'Product Info'!BU13+'Product Info'!BX13+'Product Info'!CA13+'Product Info'!CD13+'Product Info'!CG13+'Product Info'!CJ13+'Product Info'!CM13+'Product Info'!CP13+'Product Info'!CS13+'Product Info'!CV13+'Product Info'!CY13+'Product Info'!DB13+'Product Info'!DE13+'Product Info'!DH13+'Product Info'!DK13+'Product Info'!DN13+'Product Info'!DQ13+'Product Info'!DT13+'Product Info'!DW13+'Product Info'!DZ13+'Product Info'!EC13+'Product Info'!EF13+'Product Info'!EI13+'Product Info'!EL13+'Product Info'!EO13+'Product Info'!ER13+'Product Info'!EU13+'Product Info'!EX13+'Product Info'!FA13+'Product Info'!FD13)","v":0},{"$f":"AI12*('Product Info'!M13)","v":0},{"$f":"AI12*'Product Info'!P13","v":0},{"$f":"AI12*'Product Info'!S13","v":0},{"$f":"AI12*'Product Info'!V13","v":0},{"$f":"AI12*'Product Info'!Y13","v":0},{"$f":"AI12*'Product Info'!AB13","v":0},{"$f":"AI12*'Product Info'!AE13","v":0},{"$f":"AI12*'Product Info'!AH13","v":0},{"$f":"AI12*'Product Info'!AK13","v":0},{"$f":"AI12*'Product Info'!AN13","v":0},{"$f":"AI12*'Product Info'!AQ13","v":0},{"$f":"AI12*'Product Info'!AT13","v":0},{"$f":"AI12*'Product Info'!AW13","v":0},{"$f":"AI12*'Product Info'!AZ13","v":0},{"$f":"AI12*'Product Info'!BC13","v":0},{"$f":"AI12*'Product Info'!BF13","v":0},{"$f":"AI12*'Product Info'!BI13","v":0},{"$f":"AI12*'Product Info'!BL13","v":0},{"$f":"AI12*'Product Info'!BO13","v":0},{"$f":"AI12*'Product Info'!BR13","v":0},{"$f":"AI12*'Product Info'!BU13","v":0},{"$f":"AI12*'Product Info'!BX13","v":0}]
[{"$f":"'Product Info'!A14","v":0},{"$f":"'Product Info'!B14","v":0},{"$f":"'Product Info'!C14","v":0},null,null,null,null,null,null,null,null,null,null,null,null,null,null,null,null,null,null,null,null,null,null,null,null,null,null,null,null,null,null,null,0,{"$f":"'Product Info'!F14*('Daily Info (July)'!AI13)","v":0},null,null,{"$f":"AI13*('Product Info'!H14)","v":0},{"$f":"AI13*('Product Info'!M14+'Product Info'!P14+'Product Info'!S14+'Product Info'!V14+'Product Info'!Y14+'Product Info'!AB14+'Product Info'!AE14+'Product Info'!AH14+'Product Info'!AK14+'Product Info'!AN14+'Product Info'!AQ14+'Product Info'!AT14+'Product Info'!AW14+'Product Info'!AZ14+'Product Info'!BC14+'Product Info'!BF14+'Product Info'!BI14+'Product Info'!BL14+'Product Info'!BO14+'Product Info'!BR14+'Product Info'!BU14+'Product Info'!BX14+'Product Info'!CA14+'Product Info'!CD14+'Product Info'!CG14+'Product Info'!CJ14+'Product Info'!CM14+'Product Info'!CP14+'Product Info'!CS14+'Product Info'!CV14+'Product Info'!CY14+'Product Info'!DB14+'Product Info'!DE14+'Product Info'!DH14+'Product Info'!DK14+'Product Info'!DN14+'Product Info'!DQ14+'Product Info'!DT14+'Product Info'!DW14+'Product Info'!DZ14+'Product Info'!EC14+'Product Info'!EF14+'Product Info'!EI14+'Product Info'!EL14+'Product Info'!EO14+'Product Info'!ER14+'Product Info'!EU14+'Product Info'!EX14+'Product Info'!FA14+'Product Info'!FD14)","v":0},{"$f":"AI13*('Product Info'!M14)","v":0},{"$f":"AI13*'Product Info'!P14","v":0},{"$f":"AI13*'Product Info'!S14","v":0},{"$f":"AI13*'Product Info'!V14","v":0},{"$f":"AI13*'Product Info'!Y14","v":0},{"$f":"AI13*'Product Info'!AB14","v":0},{"$f":"AI13*'Product Info'!AE14","v":0},{"$f":"AI13*'Product Info'!AH14","v":0},{"$f":"AI13*'Product Info'!AK14","v":0},{"$f":"AI13*'Product Info'!AN14","v":0},{"$f":"AI13*'Product Info'!AQ14","v":0},{"$f":"AI13*'Product Info'!AT14","v":0},{"$f":"AI13*'Product Info'!AW14","v":0},{"$f":"AI13*'Product Info'!AZ14","v":0},{"$f":"AI13*'Product Info'!BC14","v":0},{"$f":"AI13*'Product Info'!BF14","v":0},{"$f":"AI13*'Product Info'!BI14","v":0},{"$f":"AI13*'Product Info'!BL14","v":0},{"$f":"AI13*'Product Info'!BO14","v":0},{"$f":"AI13*'Product Info'!BR14","v":0},{"$f":"AI13*'Product Info'!BU14","v":0},{"$f":"AI13*'Product Info'!BX14","v":0}]
[{"$f":"'Product Info'!A15","v":0},{"$f":"'Product Info'!B15","v":0},{"$f":"'Product Info'!C15","v":0},null,null,null,null,null,null,null,null,null,null,null,null,null,null,null,null,null,null,null,null,null,null,null,null,null,null,null,null,null,null,null,0,{"$f":"'Product Info'!F15*('Daily Info (July)'!AI14)","v":0},null,null,{"$f":"AI14*('Product Info'!H15)","v":0},{"$f":"AI14*('Product Info'!M15+'Product Info'!P15+'Product Info'!S15+'Product Info'!V15+'Product Info'!Y15+'Product Info'!AB15+'Product Info'!AE15+'Product Info'!AH15+'Product Info'!AK15+'Product Info'!AN15+'Product Info'!AQ15+'Product Info'!AT15+'Product Info'!AW15+'Product Info'!AZ15+'Product Info'!BC15+'Product Info'!BF15+'Product Info'!BI15+'Product Info'!BL15+'Product Info'!BO15+'Product Info'!BR15+'Product Info'!BU15+'Product Info'!BX15+'Product Info'!CA15+'Product Info'!CD15+'Product Info'!CG15+'Product Info'!CJ15+'Product Info'!CM15+'Product Info'!CP15+'Product Info'!CS15+'Product Info'!CV15+'Product Info'!CY15+'Product Info'!DB15+'Product Info'!DE15+'Product Info'!DH15+'Product Info'!DK15+'Product Info'!DN15+'Product Info'!DQ15+'Product Info'!DT15+'Product Info'!DW15+'Product Info'!DZ15+'Product Info'!EC15+'Product Info'!EF15+'Product Info'!EI15+'Product Info'!EL15+'Product Info'!EO15+'Product Info'!ER15+'Product Info'!EU15+'Product Info'!EX15+'Product Info'!FA15+'Product Info'!FD15)","v":0},{"$f":"AI14*('Product Info'!M15)","v":0},{"$f":"AI14*'Product Info'!P15","v":0},{"$f":"AI14*'Product Info'!S15","v":0},{"$f":"AI14*'Product Info'!V15","v":0},{"$f":"AI14*'Product Info'!Y15","v":0},{"$f":"AI14*'Product Info'!AB15","v":0},{"$f":"AI14*'Product Info'!AE15","v":0},{"$f":"AI14*'Product Info'!AH15","v":0},{"$f":"AI14*'Product Info'!AK15","v":0},{"$f":"AI14*'Product Info'!AN15","v":0},{"$f":"AI14*'Product Info'!AQ15","v":0},{"$f":"AI14*'Product Info'!AT15","v":0},{"$f":"AI14*'Product Info'!AW15","v":0},{"$f":"AI14*'Product Info'!AZ15","v":0},{"$f":"AI14*'Product Info'!BC15","v":0},{"$f":"AI14*'Product Info'!BF15","v":0},{"$f":"AI14*'Product Info'!BI15","v":0},{"$f":"AI14*'Product Info'!BL15","v":0},{"$f":"AI14*'Product Info'!BO15","v":0},{"$f":"AI14*'Product Info'!BR15","v":0},{"$f":"AI14*'Product Info'!BU15","v":0},{"$f":"AI14*'Product Info'!BX15","v":0}]
[{"$f":"'Product Info'!A16","v":0},{"$f":"'Product Info'!B16","v":0},{"$f":"'Product Info'!C16","v":0},null,null,null,null,null,null,null,null,null,null,null,null,null,null,null,null,null,null,null,null,null,null,null,null,null,null,null,null,null,null,null,0,{"$f":"'Product Info'!F16*('Daily Info (July)'!AI15)","v":0},null,null,{"$f":"AI15*('Product Info'!H16)","v":0},{"$f":"AI15*('Product Info'!M16+'Product Info'!P16+'Product Info'!S16+'Product Info'!V16+'Product Info'!Y16+'Product Info'!AB16+'Product Info'!AE16+'Product Info'!AH16+'Product Info'!AK16+'Product Info'!AN16+'Product Info'!AQ16+'Product Info'!AT16+'Product Info'!AW16+'Product Info'!AZ16+'Product Info'!BC16+'Product Info'!BF16+'Product Info'!BI16+'Product Info'!BL16+'Product Info'!BO16+'Product Info'!BR16+'Product Info'!BU16+'Product Info'!BX16+'Product Info'!CA16+'Product Info'!CD16+'Product Info'!CG16+'Product Info'!CJ16+'Product Info'!CM16+'Product Info'!CP16+'Product Info'!CS16+'Product Info'!CV16+'Product Info'!CY16+'Product Info'!DB16+'Product Info'!DE16+'Product Info'!DH16+'Product Info'!DK16+'Product Info'!DN16+'Product Info'!DQ16+'Product Info'!DT16+'Product Info'!DW16+'Product Info'!DZ16+'Product Info'!EC16+'Product Info'!EF16+'Product Info'!EI16+'Product Info'!EL16+'Product Info'!EO16+'Product Info'!ER16+'Product Info'!EU16+'Product Info'!EX16+'Product Info'!FA16+'Product Info'!FD16)","v":0},{"$f":"AI15*('Product Info'!M16)","v":0},{"$f":"AI15*'Product Info'!P16","v":0},{"$f":"AI15*'Product Info'!S16","v":0},{"$f":"AI15*'Product Info'!V16","v":0},{"$f":"AI15*'Product Info'!Y16","v":0},{"$f":"AI15*'Product Info'!AB16","v":0},{"$f":"AI15*'Product Info'!AE16","v":0},{"$f":"AI15*'Product Info'!AH16","v":0},{"$f":"AI15*'Product Info'!AK16","v":0},{"$f":"AI15*'Product Info'!AN16","v":0},{"$f":"AI15*'Product Info'!AQ16","v":0},{"$f":"AI15*'Product Info'!AT16","v":0},{"$f":"AI15*'Product Info'!AW16","v":0},{"$f":"AI15*'Product Info'!AZ16","v":0},{"$f":"AI15*'Product Info'!BC16","v":0},{"$f":"AI15*'Product Info'!BF16","v":0},{"$f":"AI15*'Product Info'!BI16","v":0},{"$f":"AI15*'Product Info'!BL16","v":0},{"$f":"AI15*'Product Info'!BO16","v":0},{"$f":"AI15*'Product Info'!BR16","v":0},{"$f":"AI15*'Product Info'!BU16","v":0},{"$f":"AI15*'Product Info'!BX16","v":0}]
[{"$f":"'Product Info'!A17","v":0},{"$f":"'Product Info'!B17","v":0},{"$f":"'Product Info'!C17","v":0},null,null,null,null,null,null,null,null,null,null,null,null,null,null,null,null,null,null,null,null,null,null,null,null,null,null,null,null,null,null,null,0,{"$f":"'Product Info'!F17*('Daily Info (July)'!AI16)","v":0},null,null,{"$f":"AI16*('Product Info'!H17)","v":0},{"$f":"AI16*('Product Info'!M17+'Product Info'!P17+'Product Info'!S17+'Product Info'!V17+'Product Info'!Y17+'Product Info'!AB17+'Product Info'!AE17+'Product Info'!AH17+'Product Info'!AK17+'Product Info'!AN17+'Product Info'!AQ17+'Product Info'!AT17+'Product Info'!AW17+'Product Info'!AZ17+'Product Info'!BC17+'Product Info'!BF17+'Product Info'!BI17+'Product Info'!BL17+'Product Info'!BO17+'Product Info'!BR17+'Product Info'!BU17+'Product Info'!BX17+'Product Info'!CA17+'Product Info'!CD17+'Product Info'!CG17+'Product Info'!CJ17+'Product Info'!CM17+'Product Info'!CP17+'Product Info'!CS17+'Product Info'!CV17+'Product Info'!CY17+'Product Info'!DB17+'Product Info'!DE17+'Product Info'!DH17+'Product Info'!DK17+'Product Info'!DN17+'Product Info'!DQ17+'Product Info'!DT17+'Product Info'!DW17+'Product Info'!DZ17+'Product Info'!EC17+'Product Info'!EF17+'Product Info'!EI17+'Product Info'!EL17+'Product Info'!EO17+'Product Info'!ER17+'Product Info'!EU17+'Product Info'!EX17+'Product Info'!FA17+'Product Info'!FD17)","v":0},{"$f":"AI16*('Product Info'!M17)","v":0},{"$f":"AI16*'Product Info'!P17","v":0},{"$f":"AI16*'Product Info'!S17","v":0},{"$f":"AI16*'Product Info'!V17","v":0},{"$f":"AI16*'Product Info'!Y17","v":0},{"$f":"AI16*'Product Info'!AB17","v":0},{"$f":"AI16*'Product Info'!AE17","v":0},{"$f":"AI16*'Product Info'!AH17","v":0},{"$f":"AI16*'Product Info'!AK17","v":0},{"$f":"AI16*'Product Info'!AN17","v":0},{"$f":"AI16*'Product Info'!AQ17","v":0},{"$f":"AI16*'Product Info'!AT17","v":0},{"$f":"AI16*'Product Info'!AW17","v":0},{"$f":"AI16*'Product Info'!AZ17","v":0},{"$f":"AI16*'Product Info'!BC17","v":0},{"$f":"AI16*'Product Info'!BF17","v":0},{"$f":"AI16*'Product Info'!BI17","v":0},{"$f":"AI16*'Product Info'!BL17","v":0},{"$f":"AI16*'Product Info'!BO17","v":0},{"$f":"AI16*'Product Info'!BR17","v":0},{"$f":"AI16*'Product Info'!BU17","v":0},{"$f":"AI16*'Product Info'!BX17","v":0}]
[{"$f":"'Product Info'!A18","v":0},{"$f":"'Product Info'!B18","v":0},{"$f":"'Product Info'!C18","v":0},null,null,null,null,null,null,null,null,null,null,null,null,null,null,null,null,null,null,null,null,null,null,null,null,null,null,null,null,null,null,null,0,{"$f":"'Product Info'!F18*('Daily Info (July)'!AI17)","v":0},null,null,{"$f":"AI17*('Product Info'!H18)","v":0},{"$f":"AI17*('Product Info'!M18+'Product Info'!P18+'Product Info'!S18+'Product Info'!V18+'Product Info'!Y18+'Product Info'!AB18+'Product Info'!AE18+'Product Info'!AH18+'Product Info'!AK18+'Product Info'!AN18+'Product Info'!AQ18+'Product Info'!AT18+'Product Info'!AW18+'Product Info'!AZ18+'Product Info'!BC18+'Product Info'!BF18+'Product Info'!BI18+'Product Info'!BL18+'Product Info'!BO18+'Product Info'!BR18+'Product Info'!BU18+'Product Info'!BX18+'Product Info'!CA18+'Product Info'!CD18+'Product Info'!CG18+'Product Info'!CJ18+'Product Info'!CM18+'Product Info'!CP18+'Product Info'!CS18+'Product Info'!CV18+'Product Info'!CY18+'Product Info'!DB18+'Product Info'!DE18+'Product Info'!DH18+'Product Info'!DK18+'Product Info'!DN18+'Product Info'!DQ18+'Product Info'!DT18+'Product Info'!DW18+'Product Info'!DZ18+'Product Info'!EC18+'Product Info'!EF18+'Product Info'!EI18+'Product Info'!EL18+'Product Info'!EO18+'Product Info'!ER18+'Product Info'!EU18+'Product Info'!EX18+'Product Info'!FA18+'Product Info'!FD18)","v":0},{"$f":"AI17*('Product Info'!M18)","v":0},{"$f":"AI17*'Product Info'!P18","v":0},{"$f":"AI17*'Product Info'!S18","v":0},{"$f":"AI17*'Product Info'!V18","v":0},{"$f":"AI17*'Product Info'!Y18","v":0},{"$f":"AI17*'Product Info'!AB18","v":0},{"$f":"AI17*'Product Info'!AE18","v":0},{"$f":"AI17*'Product Info'!AH18","v":0},{"$f":"AI17*'Product Info'!AK18","v":0},{"$f":"AI17*'Product Info'!AN18","v":0},{"$f":"AI17*'Product Info'!AQ18","v":0},{"$f":"AI17*'Product Info'!AT18","v":0},{"$f":"AI17*'Product Info'!AW18","v":0},{"$f":"AI17*'Product Info'!AZ18","v":0},{"$f":"AI17*'Product Info'!BC18","v":0},{"$f":"AI17*'Product Info'!BF18","v":0},{"$f":"AI17*'Product Info'!BI18","v":0},{"$f":"AI17*'Product Info'!BL18","v":0},{"$f":"AI17*'Product Info'!BO18","v":0},{"$f":"AI17*'Product Info'!BR18","v":0},{"$f":"AI17*'Product Info'!BU18","v":0},{"$f":"AI17*'Product Info'!BX18","v":0}]
[{"$f":"'Product Info'!A19","v":0},{"$f":"'Product Info'!B19","v":0},{"$f":"'Product Info'!C19","v":0},null,null,null,null,null,null,null,null,null,null,null,null,null,null,null,null,null,null,null,null,null,null,null,null,null,null,null,null,null,null,null,0,{"$f":"'Product Info'!F19*('Daily Info (July)'!AI18)","v":0},null,null,{"$f":"AI18*('Product Info'!H19)","v":0},{"$f":"AI18*('Product Info'!M19+'Product Info'!P19+'Product Info'!S19+'Product Info'!V19+'Product Info'!Y19+'Product Info'!AB19+'Product Info'!AE19+'Product Info'!AH19+'Product Info'!AK19+'Product Info'!AN19+'Product Info'!AQ19+'Product Info'!AT19+'Product Info'!AW19+'Product Info'!AZ19+'Product Info'!BC19+'Product Info'!BF19+'Product Info'!BI19+'Product Info'!BL19+'Product Info'!BO19+'Product Info'!BR19+'Product Info'!BU19+'Product Info'!BX19+'Product Info'!CA19+'Product Info'!CD19+'Product Info'!CG19+'Product Info'!CJ19+'Product Info'!CM19+'Product Info'!CP19+'Product Info'!CS19+'Product Info'!CV19+'Product Info'!CY19+'Product Info'!DB19+'Product Info'!DE19+'Product Info'!DH19+'Product Info'!DK19+'Product Info'!DN19+'Product Info'!DQ19+'Product Info'!DT19+'Product Info'!DW19+'Product Info'!DZ19+'Product Info'!EC19+'Product Info'!EF19+'Product Info'!EI19+'Product Info'!EL19+'Product Info'!EO19+'Product Info'!ER19+'Product Info'!EU19+'Product Info'!EX19+'Product Info'!FA19+'Product Info'!FD19)","v":0},{"$f":"AI18*('Product Info'!M19)","v":0},{"$f":"AI18*'Product Info'!P19","v":0},{"$f":"AI18*'Product Info'!S19","v":0},{"$f":"AI18*'Product Info'!V19","v":0},{"$f":"AI18*'Product Info'!Y19","v":0},{"$f":"AI18*'Product Info'!AB19","v":0},{"$f":"AI18*'Product Info'!AE19","v":0},{"$f":"AI18*'Product Info'!AH19","v":0},{"$f":"AI18*'Product Info'!AK19","v":0},{"$f":"AI18*'Product Info'!AN19","v":0},{"$f":"AI18*'Product Info'!AQ19","v":0},{"$f":"AR18*'Product Info'!AF19","v":0},{"$f":"AI18*'Product Info'!AW19","v":0},{"$f":"AI18*'Product Info'!AZ19","v":0},{"$f":"AI18*'Product Info'!BC19","v":0},{"$f":"AI18*'Product Info'!BF19","v":0},{"$f":"AI18*'Product Info'!BI19","v":0},{"$f":"AI18*'Product Info'!BL19","v":0},{"$f":"AI18*'Product Info'!BO19","v":0},{"$f":"AI18*'Product Info'!BR19","v":0},{"$f":"AI18*'Product Info'!BU19","v":0},{"$f":"AI18*'Product Info'!BX19","v":0}]
[{"$f":"'Product Info'!A20","v":0},{"$f":"'Product Info'!B20","v":0},{"$f":"'Product Info'!C20","v":0},null,null,null,null,null,null,null,null,null,null,null,null,null,null,null,null,null,null,null,null,null,null,null,null,null,null,null,null,null,null,null,0,{"$f":"'Product Info'!F20*('Daily Info (July)'!AI19)","v":0},null,null,{"$f":"AI19*('Product Info'!H20)","v":0},{"$f":"AI19*('Product Info'!M20+'Product Info'!P20+'Product Info'!S20+'Product Info'!V20+'Product Info'!Y20+'Product Info'!AB20+'Product Info'!AE20+'Product Info'!AH20+'Product Info'!AK20+'Product Info'!AN20+'Product Info'!AQ20+'Product Info'!AT20+'Product Info'!AW20+'Product Info'!AZ20+'Product Info'!BC20+'Product Info'!BF20+'Product Info'!BI20+'Product Info'!BL20+'Product Info'!BO20+'Product Info'!BR20+'Product Info'!BU20+'Product Info'!BX20+'Product Info'!CA20+'Product Info'!CD20+'Product Info'!CG20+'Product Info'!CJ20+'Product Info'!CM20+'Product Info'!CP20+'Product Info'!CS20+'Product Info'!CV20+'Product Info'!CY20+'Product Info'!DB20+'Product Info'!DE20+'Product Info'!DH20+'Product Info'!DK20+'Product Info'!DN20+'Product Info'!DQ20+'Product Info'!DT20+'Product Info'!DW20+'Product Info'!DZ20+'Product Info'!EC20+'Product Info'!EF20+'Product Info'!EI20+'Product Info'!EL20+'Product Info'!EO20+'Product Info'!ER20+'Product Info'!EU20+'Product Info'!EX20+'Product Info'!FA20+'Product Info'!FD20)","v":0},{"$f":"AI19*('Product Info'!M20)","v":0},{"$f":"AI19*'Product Info'!P20","v":0},{"$f":"AI19*'Product Info'!S20","v":0},{"$f":"AI19*'Product Info'!V20","v":0},{"$f":"AI19*'Product Info'!Y20","v":0},{"$f":"AI19*'Product Info'!AB20","v":0},{"$f":"AI19*'Product Info'!AE20","v":0},{"$f":"AI19*'Product Info'!AH20","v":0},{"$f":"AI19*'Product Info'!AK20","v":0},{"$f":"AI19*'Product Info'!AN20","v":0},{"$f":"AI19*'Product Info'!AQ20","v":0},{"$f":"AR19*'Product Info'!AF20","v":0},{"$f":"AI19*'Product Info'!AW20","v":0},{"$f":"AI19*'Product Info'!AZ20","v":0},{"$f":"AI19*'Product Info'!BC20","v":0},{"$f":"AI19*'Product Info'!BF20","v":0},{"$f":"AI19*'Product Info'!BI20","v":0},{"$f":"AI19*'Product Info'!BL20","v":0},{"$f":"AI19*'Product Info'!BO20","v":0},{"$f":"AI19*'Product Info'!BR20","v":0},{"$f":"AI19*'Product Info'!BU20","v":0},{"$f":"AI19*'Product Info'!BX20","v":0}]
[{"$f":"'Product Info'!A21","v":0},{"$f":"'Product Info'!B21","v":0},{"$f":"'Product Info'!C21","v":0},null,null,null,null,null,null,null,null,null,null,null,null,null,null,null,null,null,null,null,null,null,null,null,null,null,null,null,null,null,null,null,0,{"$f":"'Product Info'!F21*('Daily Info (July)'!AI20)","v":0},null,null,{"$f":"AI20*('Product Info'!H21)","v":0},{"$f":"AI20*('Product Info'!M21+'Product Info'!P21+'Product Info'!S21+'Product Info'!V21+'Product Info'!Y21+'Product Info'!AB21+'Product Info'!AE21+'Product Info'!AH21+'Product Info'!AK21+'Product Info'!AN21+'Product Info'!AQ21+'Product Info'!AT21+'Product Info'!AW21+'Product Info'!AZ21+'Product Info'!BC21+'Product Info'!BF21+'Product Info'!BI21+'Product Info'!BL21+'Product Info'!BO21+'Product Info'!BR21+'Product Info'!BU21+'Product Info'!BX21+'Product Info'!CA21+'Product Info'!CD21+'Product Info'!CG21+'Product Info'!CJ21+'Product Info'!CM21+'Product Info'!CP21+'Product Info'!CS21+'Product Info'!CV21+'Product Info'!CY21+'Product Info'!DB21+'Product Info'!DE21+'Product Info'!DH21+'Product Info'!DK21+'Product Info'!DN21+'Product Info'!DQ21+'Product Info'!DT21+'Product Info'!DW21+'Product Info'!DZ21+'Product Info'!EC21+'Product Info'!EF21+'Product Info'!EI21+'Product Info'!EL21+'Product Info'!EO21+'Product Info'!ER21+'Product Info'!EU21+'Product Info'!EX21+'Product Info'!FA21+'Product Info'!FD21)","v":0},{"$f":"AI20*('Product Info'!M21)","v":0},{"$f":"AI20*'Product Info'!P21","v":0},{"$f":"AI20*'Product Info'!S21","v":0},{"$f":"AI20*'Product Info'!V21","v":0},{"$f":"AI20*'Product Info'!Y21","v":0},{"$f":"AI20*'Product Info'!AB21","v":0},{"$f":"AI20*'Product Info'!AE21","v":0},{"$f":"AI20*'Product Info'!AH21","v":0},{"$f":"AI20*'Product Info'!AK21","v":0},{"$f":"AI20*'Product Info'!AN21","v":0},{"$f":"AI20*'Product Info'!AQ21","v":0},{"$f":"AI20*'Product Info'!AT21","v":0},{"$f":"AI20*'Product Info'!AW21","v":0},{"$f":"AI20*'Product Info'!AZ21","v":0},{"$f":"AI20*'Product Info'!BC21","v":0},{"$f":"AI20*'Product Info'!BF21","v":0},{"$f":"AI20*'Product Info'!BI21","v":0},{"$f":"AI20*'Product Info'!BL21","v":0},{"$f":"AI20*'Product Info'!BO21","v":0},{"$f":"AI20*'Product Info'!BR21","v":0},{"$f":"AI20*'Product Info'!BU21","v":0},{"$f":"AI20*'Product Info'!BX21","v":0}]
[{"$f":"'Product Info'!A22","v":0},{"$f":"'Product Info'!B22","v":0},{"$f":"'Product Info'!C22","v":0},null,null,null,null,null,null,null,null,null,null,null,null,null,null,null,null,null,null,null,null,null,null,null,null,null,null,null,null,null,null,null,0,{"$f":"'Product Info'!F22*('Daily Info (July)'!AI21)","v":0},null,null,{"$f":"AI21*('Product Info'!H22)","v":0},{"$f":"AI21*('Product Info'!M22+'Product Info'!P22+'Product Info'!S22+'Product Info'!V22+'Product Info'!Y22+'Product Info'!AB22+'Product Info'!AE22+'Product Info'!AH22+'Product Info'!AK22+'Product Info'!AN22+'Product Info'!AQ22+'Product Info'!AT22+'Product Info'!AW22+'Product Info'!AZ22+'Product Info'!BC22+'Product Info'!BF22+'Product Info'!BI22+'Product Info'!BL22+'Product Info'!BO22+'Product Info'!BR22+'Product Info'!BU22+'Product Info'!BX22+'Product Info'!CA22+'Product Info'!CD22+'Product Info'!CG22+'Product Info'!CJ22+'Product Info'!CM22+'Product Info'!CP22+'Product Info'!CS22+'Product Info'!CV22+'Product Info'!CY22+'Product Info'!DB22+'Product Info'!DE22+'Product Info'!DH22+'Product Info'!DK22+'Product Info'!DN22+'Product Info'!DQ22+'Product Info'!DT22+'Product Info'!DW22+'Product Info'!DZ22+'Product Info'!EC22+'Product Info'!EF22+'Product Info'!EI22+'Product Info'!EL22+'Product Info'!EO22+'Product Info'!ER22+'Product Info'!EU22+'Product Info'!EX22+'Product Info'!FA22+'Product Info'!FD22)","v":0},{"$f":"AI21*('Product Info'!M22)","v":0},{"$f":"AI21*'Product Info'!P22","v":0},{"$f":"AI21*'Product Info'!S22","v":0},{"$f":"AI21*'Product Info'!V22","v":0},{"$f":"AI21*'Product Info'!Y22","v":0},{"$f":"AI21*'Product Info'!AB22","v":0},{"$f":"AI21*'Product Info'!AE22","v":0},{"$f":"AI21*'Product Info'!AH22","v":0},{"$f":"AI21*'Product Info'!AK22","v":0},{"$f":"AI21*'Product Info'!AN22","v":0},{"$f":"AI21*'Product Info'!AQ22","v":0},{"$f":"AI21*'Product Info'!AT22","v":0},{"$f":"AI21*'Product Info'!AW22","v":0},{"$f":"AI21*'Product Info'!AZ22","v":0},{"$f":"AI21*'Product Info'!BC22","v":0},{"$f":"AI21*'Product Info'!BF22","v":0},{"$f":"AI21*'Product Info'!BI22","v":0},{"$f":"AI21*'Product Info'!BL22","v":0},{"$f":"AI21*'Product Info'!BO22","v":0},{"$f":"AI21*'Product Info'!BR22","v":0},{"$f":"AI21*'Product Info'!BU22","v":0},{"$f":"AI21*'Product Info'!BX22","v":0}]
[{"$f":"'Product Info'!A23","v":0},{"$f":"'Product Info'!B23","v":0},{"$f":"'Product Info'!C23","v":0},null,null,null,null,null,null,null,null,null,null,null,null,null,null,null,null,null,null,null,null,null,null,null,null,null,null,null,null,null,null,null,0,{"$f":"'Product Info'!F23*('Daily Info (July)'!AI22)","v":0},null,null,{"$f":"AI22*('Product Info'!H23)","v":0},{"$f":"AI22*('Product Info'!M23+'Product Info'!P23+'Product Info'!S23+'Product Info'!V23+'Product Info'!Y23+'Product Info'!AB23+'Product Info'!AE23+'Product Info'!AH23+'Product Info'!AK23+'Product Info'!AN23+'Product Info'!AQ23+'Product Info'!AT23+'Product Info'!AW23+'Product Info'!AZ23+'Product Info'!BC23+'Product Info'!BF23+'Product Info'!BI23+'Product Info'!BL23+'Product Info'!BO23+'Product Info'!BR23+'Product Info'!BU23+'Product Info'!BX23+'Product Info'!CA23+'Product Info'!CD23+'Product Info'!CG23+'Product Info'!CJ23+'Product Info'!CM23+'Product Info'!CP23+'Product Info'!CS23+'Product Info'!CV23+'Product Info'!CY23+'Product Info'!DB23+'Product Info'!DE23+'Product Info'!DH23+'Product Info'!DK23+'Product Info'!DN23+'Product Info'!DQ23+'Product Info'!DT23+'Product Info'!DW23+'Product Info'!DZ23+'Product Info'!EC23+'Product Info'!EF23+'Product Info'!EI23+'Product Info'!EL23+'Product Info'!EO23+'Product Info'!ER23+'Product Info'!EU23+'Product Info'!EX23+'Product Info'!FA23+'Product Info'!FD23)","v":0},{"$f":"AI22*('Product Info'!M23)","v":0},{"$f":"AI22*'Product Info'!P23","v":0},{"$f":"AI22*'Product Info'!S23","v":0},{"$f":"AI22*'Product Info'!V23","v":0},{"$f":"AI22*'Product Info'!Y23","v":0},{"$f":"AI22*'Product Info'!AB23","v":0},{"$f":"AI22*'Product Info'!AE23","v":0},{"$f":"AI22*'Product Info'!AH23","v":0},{"$f":"AI22*'Product Info'!AK23","v":0},{"$f":"AI22*'Product Info'!AN23","v":0},{"$f":"AI22*'Product Info'!AQ23","v":0},{"$f":"AI22*'Product Info'!AT23","v":0},{"$f":"AI22*'Product Info'!AW23","v":0},{"$f":"AI22*'Product Info'!AZ23","v":0},{"$f":"AI22*'Product Info'!BC23","v":0},{"$f":"AI22*'Product Info'!BF23","v":0},{"$f":"AI22*'Product Info'!BI23","v":0},{"$f":"AI22*'Product Info'!BL23","v":0},{"$f":"AI22*'Product Info'!BO23","v":0},{"$f":"AI22*'Product Info'!BR23","v":0},{"$f":"AI22*'Product Info'!BU23","v":0},{"$f":"AI22*'Product Info'!BX23","v":0}]
[{"$f":"'Product Info'!A24","v":0},{"$f":"'Product Info'!B24","v":0},{"$f":"'Product Info'!C24","v":0},null,null,null,null,null,null,null,null,null,null,null,null,null,null,null,null,null,null,null,null,null,null,null,null,null,null,null,null,null,null,null,0,{"$f":"'Product Info'!F24*('Daily Info (July)'!AI23)","v":0},null,null,{"$f":"AI23*('Product Info'!H24)","v":0},{"$f":"AI23*('Product Info'!M24+'Product Info'!P24+'Product Info'!S24+'Product Info'!V24+'Product Info'!Y24+'Product Info'!AB24+'Product Info'!AE24+'Product Info'!AH24+'Product Info'!AK24+'Product Info'!AN24+'Product Info'!AQ24+'Product Info'!AT24+'Product Info'!AW24+'Product Info'!AZ24+'Product Info'!BC24+'Product Info'!BF24+'Product Info'!BI24+'Product Info'!BL24+'Product Info'!BO24+'Product Info'!BR24+'Product Info'!BU24+'Product Info'!BX24+'Product Info'!CA24+'Product Info'!CD24+'Product Info'!CG24+'Product Info'!CJ24+'Product Info'!CM24+'Product Info'!CP24+'Product Info'!CS24+'Product Info'!CV24+'Product Info'!CY24+'Product Info'!DB24+'Product Info'!DE24+'Product Info'!DH24+'Product Info'!DK24+'Product Info'!DN24+'Product Info'!DQ24+'Product Info'!DT24+'Product Info'!DW24+'Product Info'!DZ24+'Product Info'!EC24+'Product Info'!EF24+'Product Info'!EI24+'Product Info'!EL24+'Product Info'!EO24+'Product Info'!ER24+'Product Info'!EU24+'Product Info'!EX24+'Product Info'!FA24+'Product Info'!FD24)","v":0},{"$f":"AI23*('Product Info'!M24)","v":0},{"$f":"AI23*'Product Info'!P24","v":0},{"$f":"AI23*'Product Info'!S24","v":0},{"$f":"AI23*'Product Info'!V24","v":0},{"$f":"AI23*'Product Info'!Y24","v":0},{"$f":"AI23*'Product Info'!AB24","v":0},{"$f":"AI23*'Product Info'!AE24","v":0},{"$f":"AI23*'Product Info'!AH24","v":0},{"$f":"AI23*'Product Info'!AK24","v":0},{"$f":"AI23*'Product Info'!AN24","v":0},{"$f":"AI23*'Product Info'!AQ24","v":0},{"$f":"AI23*'Product Info'!AT24","v":0},{"$f":"AI23*'Product Info'!AW24","v":0},{"$f":"AI23*'Product Info'!AZ24","v":0},{"$f":"AI23*'Product Info'!BC24","v":0},{"$f":"AI23*'Product Info'!BF24","v":0},{"$f":"AI23*'Product Info'!BI24","v":0},{"$f":"AI23*'Product Info'!BL24","v":0},{"$f":"AI23*'Product Info'!BO24","v":0},{"$f":"AI23*'Product Info'!BR24","v":0},{"$f":"AI23*'Product Info'!BU24","v":0},{"$f":"AI23*'Product Info'!BX24","v":0}]
[{"$f":"'Product Info'!A25","v":0},{"$f":"'Product Info'!B25","v":0},{"$f":"'Product Info'!C25","v":0},null,null,null,null,null,null,null,null,null,null,null,null,null,null,null,null,null,null,null,null,null,null,null,null,null,null,null,null,null,null,null,0,{"$f":"'Product Info'!F25*('Daily Info (July)'!AI24)","v":0},null,null,{"$f":"AI24*('Product Info'!H25)","v":0},{"$f":"AI24*('Product Info'!M25+'Product Info'!P25+'Product Info'!S25+'Product Info'!V25+'Product Info'!Y25+'Product Info'!AB25+'Product Info'!AE25+'Product Info'!AH25+'Product Info'!AK25+'Product Info'!AN25+'Product Info'!AQ25+'Product Info'!AT25+'Product Info'!AW25+'Product Info'!AZ25+'Product Info'!BC25+'Product Info'!BF25+'Product Info'!BI25+'Product Info'!BL25+'Product Info'!BO25+'Product Info'!BR25+'Product Info'!BU25+'Product Info'!BX25+'Product Info'!CA25+'Product Info'!CD25+'Product Info'!CG25+'Product Info'!CJ25+'Product Info'!CM25+'Product Info'!CP25+'Product Info'!CS25+'Product Info'!CV25+'Product Info'!CY25+'Product Info'!DB25+'Product Info'!DE25+'Product Info'!DH25+'Product Info'!DK25+'Product Info'!DN25+'Product Info'!DQ25+'Product Info'!DT25+'Product Info'!DW25+'Product Info'!DZ25+'Product Info'!EC25+'Product Info'!EF25+'Product Info'!EI25+'Product Info'!EL25+'Product Info'!EO25+'Product Info'!ER25+'Product Info'!EU25+'Product Info'!EX25+'Product Info'!FA25+'Product Info'!FD25)","v":0},{"$f":"AI24*('Product Info'!M25)","v":0},{"$f":"AI24*'Product Info'!P25","v":0},{"$f":"AI24*'Product Info'!S25","v":0},{"$f":"AI24*'Product Info'!V25","v":0},{"$f":"AI24*'Product Info'!Y25","v":0},{"$f":"AI24*'Product Info'!AB25","v":0},{"$f":"AI24*'Product Info'!AE25","v":0},{"$f":"AI24*'Product Info'!AH25","v":0},{"$f":"AI24*'Product Info'!AK25","v":0},{"$f":"AI24*'Product Info'!AN25","v":0},{"$f":"AI24*'Product Info'!AQ25","v":0},{"$f":"AI24*'Product Info'!AT25","v":0},{"$f":"AI24*'Product Info'!AW25","v":0},{"$f":"AI24*'Product Info'!AZ25","v":0},{"$f":"AI24*'Product Info'!BC25","v":0},{"$f":"AI24*'Product Info'!BF25","v":0},{"$f":"AI24*'Product Info'!BI25","v":0},{"$f":"AI24*'Product Info'!BL25","v":0},{"$f":"AI24*'Product Info'!BO25","v":0},{"$f":"AI24*'Product Info'!BR25","v":0},{"$f":"AI24*'Product Info'!BU25","v":0},{"$f":"AI24*'Product Info'!BX25","v":0}]
[{"$f":"'Product Info'!A26","v":0},{"$f":"'Product Info'!B26","v":0},{"$f":"'Product Info'!C26","v":0},null,null,null,null,null,null,null,null,null,null,null,null,null,null,null,null,null,null,null,null,null,null,null,null,null,null,null,null,null,null,null,0,{"$f":"'Product Info'!F26*('Daily Info (July)'!AI25)","v":0},null,null,{"$f":"AI25*('Product Info'!H26)","v":0},{"$f":"AI25*('Product Info'!M26+'Product Info'!P26+'Product Info'!S26+'Product Info'!V26+'Product Info'!Y26+'Product Info'!AB26+'Product Info'!AE26+'Product Info'!AH26+'Product Info'!AK26+'Product Info'!AN26+'Product Info'!AQ26+'Product Info'!AT26+'Product Info'!AW26+'Product Info'!AZ26+'Product Info'!BC26+'Product Info'!BF26+'Product Info'!BI26+'Product Info'!BL26+'Product Info'!BO26+'Product Info'!BR26+'Product Info'!BU26+'Product Info'!BX26+'Product Info'!CA26+'Product Info'!CD26+'Product Info'!CG26+'Product Info'!CJ26+'Product Info'!CM26+'Product Info'!CP26+'Product Info'!CS26+'Product Info'!CV26+'Product Info'!CY26+'Product Info'!DB26+'Product Info'!DE26+'Product Info'!DH26+'Product Info'!DK26+'Product Info'!DN26+'Product Info'!DQ26+'Product Info'!DT26+'Product Info'!DW26+'Product Info'!DZ26+'Product Info'!EC26+'Product Info'!EF26+'Product Info'!EI26+'Product Info'!EL26+'Product Info'!EO26+'Product Info'!ER26+'Product Info'!EU26+'Product Info'!EX26+'Product Info'!FA26+'Product Info'!FD26)","v":0},{"$f":"AI25*('Product Info'!M26)","v":0},{"$f":"AI25*'Product Info'!P26","v":0},{"$f":"AI25*'Product Info'!S26","v":0},{"$f":"AI25*'Product Info'!V26","v":0},{"$f":"AI25*'Product Info'!Y26","v":0},{"$f":"AI25*'Product Info'!AB26","v":0},{"$f":"AI25*'Product Info'!AE26","v":0},{"$f":"AI25*'Product Info'!AH26","v":0},{"$f":"AI25*'Product Info'!AK26","v":0},{"$f":"AI25*'Product Info'!AN26","v":0},{"$f":"AI25*'Product Info'!AQ26","v":0},{"$f":"AI25*'Product Info'!AT26","v":0},{"$f":"AI25*'Product Info'!AW26","v":0},{"$f":"AI25*'Product Info'!AZ26","v":0},{"$f":"AI25*'Product Info'!BC26","v":0},{"$f":"AI25*'Product Info'!BF26","v":0},{"$f":"AI25*'Product Info'!BI26","v":0},{"$f":"AI25*'Product Info'!BL26","v":0},{"$f":"AI25*'Product Info'!BO26","v":0},{"$f":"AI25*'Product Info'!BR26","v":0},{"$f":"AI25*'Product Info'!BU26","v":0},{"$f":"AI25*'Product Info'!BX26","v":0}]
[{"$f":"'Product Info'!A27","v":0},{"$f":"'Product Info'!B27","v":0},{"$f":"'Product Info'!C27","v":0},null,null,null,null,null,null,null,null,null,null,null,null,null,null,null,null,null,null,null,null,null,null,null,null,null,null,null,null,null,null,null,0,{"$f":"'Product Info'!F27*('Daily Info (July)'!AI26)","v":0},null,null,{"$f":"AI26*('Product Info'!H27)","v":0},{"$f":"AI26*('Product Info'!M27+'Product Info'!P27+'Product Info'!S27+'Product Info'!V27+'Product Info'!Y27+'Product Info'!AB27+'Product Info'!AE27+'Product Info'!AH27+'Product Info'!AK27+'Product Info'!AN27+'Product Info'!AQ27+'Product Info'!AT27+'Product Info'!AW27+'Product Info'!AZ27+'Product Info'!BC27+'Product Info'!BF27+'Product Info'!BI27+'Product Info'!BL27+'Product Info'!BO27+'Product Info'!BR27+'Product Info'!BU27+'Product Info'!BX27+'Product Info'!CA27+'Product Info'!CD27+'Product Info'!CG27+'Product Info'!CJ27+'Product Info'!CM27+'Product Info'!CP27+'Product Info'!CS27+'Product Info'!CV27+'Product Info'!CY27+'Product Info'!DB27+'Product Info'!DE27+'Product Info'!DH27+'Product Info'!DK27+'Product Info'!DN27+'Product Info'!DQ27+'Product Info'!DT27+'Product Info'!DW27+'Product Info'!DZ27+'Product Info'!EC27+'Product Info'!EF27+'Product Info'!EI27+'Product Info'!EL27+'Product Info'!EO27+'Product Info'!ER27+'Product Info'!EU27+'Product Info'!EX27+'Product Info'!FA27+'Product Info'!FD27)","v":0},{"$f":"AI26*('Product Info'!M27)","v":0},{"$f":"AI26*'Product Info'!P27","v":0},{"$f":"AI26*'Product Info'!S27","v":0},{"$f":"AI26*'Product Info'!V27","v":0},{"$f":"AI26*'Product Info'!Y27","v":0},{"$f":"AI26*'Product Info'!AB27","v":0},{"$f":"AI26*'Product Info'!AE27","v":0},{"$f":"AI26*'Product Info'!AH27","v":0},{"$f":"AI26*'Product Info'!AK27","v":0},{"$f":"AI26*'Product Info'!AN27","v":0},{"$f":"AI26*'Product Info'!AQ27","v":0},{"$f":"AI26*'Product Info'!AT27","v":0},{"$f":"AI26*'Product Info'!AW27","v":0},{"$f":"AI26*'Product Info'!AZ27","v":0},{"$f":"AI26*'Product Info'!BC27","v":0},{"$f":"AI26*'Product Info'!BF27","v":0},{"$f":"AI26*'Product Info'!BI27","v":0},{"$f":"AI26*'Product Info'!BL27","v":0},{"$f":"AI26*'Product Info'!BO27","v":0},{"$f":"AI26*'Product Info'!BR27","v":0},{"$f":"AI26*'Product Info'!BU27","v":0},{"$f":"AI26*'Product Info'!BX27","v":0}]
[{"$f":"'Product Info'!A28","v":0},{"$f":"'Product Info'!B28","v":0},{"$f":"'Product Info'!C28","v":0},null,null,null,null,null,null,null,null,null,null,null,null,null,null,null,null,null,null,null,null,null,null,null,null,null,null,null,null,null,null,null,0,{"$f":"'Product Info'!F28*('Daily Info (July)'!AI27)","v":0},null,null,{"$f":"AI27*('Product Info'!H28)","v":0},{"$f":"AI27*('Product Info'!M28+'Product Info'!P28+'Product Info'!S28+'Product Info'!V28+'Product Info'!Y28+'Product Info'!AB28+'Product Info'!AE28+'Product Info'!AH28+'Product Info'!AK28+'Product Info'!AN28+'Product Info'!AQ28+'Product Info'!AT28+'Product Info'!AW28+'Product Info'!AZ28+'Product Info'!BC28+'Product Info'!BF28+'Product Info'!BI28+'Product Info'!BL28+'Product Info'!BO28+'Product Info'!BR28+'Product Info'!BU28+'Product Info'!BX28+'Product Info'!CA28+'Product Info'!CD28+'Product Info'!CG28+'Product Info'!CJ28+'Product Info'!CM28+'Product Info'!CP28+'Product Info'!CS28+'Product Info'!CV28+'Product Info'!CY28+'Product Info'!DB28+'Product Info'!DE28+'Product Info'!DH28+'Product Info'!DK28+'Product Info'!DN28+'Product Info'!DQ28+'Product Info'!DT28+'Product Info'!DW28+'Product Info'!DZ28+'Product Info'!EC28+'Product Info'!EF28+'Product Info'!EI28+'Product Info'!EL28+'Product Info'!EO28+'Product Info'!ER28+'Product Info'!EU28+'Product Info'!EX28+'Product Info'!FA28+'Product Info'!FD28)","v":0},{"$f":"AI27*('Product Info'!M28)","v":0},{"$f":"AI27*'Product Info'!P28","v":0},{"$f":"AI27*'Product Info'!S28","v":0},{"$f":"AI27*'Product Info'!V28","v":0},{"$f":"AI27*'Product Info'!Y28","v":0},{"$f":"AI27*'Product Info'!AB28","v":0},{"$f":"AI27*'Product Info'!AE28","v":0},{"$f":"AI27*'Product Info'!AH28","v":0},{"$f":"AI27*'Product Info'!AK28","v":0},{"$f":"AI27*'Product Info'!AN28","v":0},{"$f":"AI27*'Product Info'!AQ28","v":0},{"$f":"AI27*'Product Info'!AT28","v":0},{"$f":"AI27*'Product Info'!AW28","v":0},{"$f":"AI27*'Product Info'!AZ28","v":0},{"$f":"AI27*'Product Info'!BC28","v":0},{"$f":"AI27*'Product Info'!BF28","v":0},{"$f":"AI27*'Product Info'!BI28","v":0},{"$f":"AI27*'Product Info'!BL28","v":0},{"$f":"AI27*'Product Info'!BO28","v":0},{"$f":"AI27*'Product Info'!BR28","v":0},{"$f":"AI27*'Product Info'!BU28","v":0},{"$f":"AI27*'Product Info'!BX28","v":0}]
[{"$f":"'Product Info'!A29","v":0},{"$f":"'Product Info'!B29","v":0},{"$f":"'Product Info'!C29","v":0},null,null,null,null,null,null,null,null,null,null,null,null,null,null,null,null,null,null,null,null,null,null,null,null,null,null,null,null,null,null,null,0,{"$f":"'Product Info'!F29*('Daily Info (July)'!AI28)","v":0},null,null,{"$f":"AI28*('Product Info'!H29)","v":0},{"$f":"AI28*('Product Info'!M29+'Product Info'!P29+'Product Info'!S29+'Product Info'!V29+'Product Info'!Y29+'Product Info'!AB29+'Product Info'!AE29+'Product Info'!AH29+'Product Info'!AK29+'Product Info'!AN29+'Product Info'!AQ29+'Product Info'!AT29+'Product Info'!AW29+'Product Info'!AZ29+'Product Info'!BC29+'Product Info'!BF29+'Product Info'!BI29+'Product Info'!BL29+'Product Info'!BO29+'Product Info'!BR29+'Product Info'!BU29+'Product Info'!BX29+'Product Info'!CA29+'Product Info'!CD29+'Product Info'!CG29+'Product Info'!CJ29+'Product Info'!CM29+'Product Info'!CP29+'Product Info'!CS29+'Product Info'!CV29+'Product Info'!CY29+'Product Info'!DB29+'Product Info'!DE29+'Product Info'!DH29+'Product Info'!DK29+'Product Info'!DN29+'Product Info'!DQ29+'Product Info'!DT29+'Product Info'!DW29+'Product Info'!DZ29+'Product Info'!EC29+'Product Info'!EF29+'Product Info'!EI29+'Product Info'!EL29+'Product Info'!EO29+'Product Info'!ER29+'Product Info'!EU29+'Product Info'!EX29+'Product Info'!FA29+'Product Info'!FD29)","v":0},{"$f":"AI28*('Product Info'!M29)","v":0},{"$f":"AI28*'Product Info'!P29","v":0},{"$f":"AI28*'Product Info'!S29","v":0},{"$f":"AI28*'Product Info'!V29","v":0},{"$f":"AI28*'Product Info'!Y29","v":0},{"$f":"AI28*'Product Info'!AB29","v":0},{"$f":"AI28*'Product Info'!AE29","v":0},{"$f":"AI28*'Product Info'!AH29","v":0},{"$f":"AI28*'Product Info'!AK29","v":0},{"$f":"AI28*'Product Info'!AN29","v":0},{"$f":"AI28*'Product Info'!AQ29","v":0},{"$f":"AI28*'Product Info'!AT29","v":0},{"$f":"AI28*'Product Info'!AW29","v":0},{"$f":"AI28*'Product Info'!AZ29","v":0},{"$f":"AI28*'Product Info'!BC29","v":0},{"$f":"AI28*'Product Info'!BF29","v":0},{"$f":"AI28*'Product Info'!BI29","v":0},{"$f":"AI28*'Product Info'!BL29","v":0},{"$f":"AI28*'Product Info'!BO29","v":0},{"$f":"AI28*'Product Info'!BR29","v":0},{"$f":"AI28*'Product Info'!BU29","v":0},{"$f":"AI28*'Product Info'!BX29","v":0}]
[{"$f":"'Product Info'!A30","v":0},{"$f":"'Product Info'!B30","v":0},{"$f":"'Product Info'!C30","v":0},null,null,null,null,null,null,null,null,null,null,null,null,null,null,null,null,null,null,null,null,null,null,null,null,null,null,null,null,null,null,null,0,{"$f":"'Product Info'!F30*('Daily Info (July)'!AI29)","v":0},null,null,{"$f":"AI29*('Product Info'!H30)","v":0},{"$f":"AI29*('Product Info'!M30+'Product Info'!P30+'Product Info'!S30+'Product Info'!V30+'Product Info'!Y30+'Product Info'!AB30+'Product Info'!AE30+'Product Info'!AH30+'Product Info'!AK30+'Product Info'!AN30+'Product Info'!AQ30+'Product Info'!AT30+'Product Info'!AW30+'Product Info'!AZ30+'Product Info'!BC30+'Product Info'!BF30+'Product Info'!BI30+'Product Info'!BL30+'Product Info'!BO30+'Product Info'!BR30+'Product Info'!BU30+'Product Info'!BX30+'Product Info'!CA30+'Product Info'!CD30+'Product Info'!CG30+'Product Info'!CJ30+'Product Info'!CM30+'Product Info'!CP30+'Product Info'!CS30+'Product Info'!CV30+'Product Info'!CY30+'Product Info'!DB30+'Product Info'!DE30+'Product Info'!DH30+'Product Info'!DK30+'Product Info'!DN30+'Product Info'!DQ30+'Product Info'!DT30+'Product Info'!DW30+'Product Info'!DZ30+'Product Info'!EC30+'Product Info'!EF30+'Product Info'!EI30+'Product Info'!EL30+'Product Info'!EO30+'Product Info'!ER30+'Product Info'!EU30+'Product Info'!EX30+'Product Info'!FA30+'Product Info'!FD30)","v":0},{"$f":"AI29*('Product Info'!M30)","v":0},{"$f":"AI29*'Product Info'!P30","v":0},{"$f":"AI29*'Product Info'!S30","v":0},{"$f":"AI29*'Product Info'!V30","v":0},{"$f":"AI29*'Product Info'!Y30","v":0},{"$f":"AI29*'Product Info'!AB30","v":0},{"$f":"AI29*'Product Info'!AE30","v":0},{"$f":"AI29*'Product Info'!AH30","v":0},{"$f":"AI29*'Product Info'!AK30","v":0},{"$f":"AI29*'Product Info'!AN30","v":0},{"$f":"AI29*'Product Info'!AQ30","v":0},{"$f":"AI29*'Product Info'!AT30","v":0},{"$f":"AI29*'Product Info'!AW30","v":0},{"$f":"AI29*'Product Info'!AZ30","v":0},{"$f":"AI29*'Product Info'!BC30","v":0},{"$f":"AI29*'Product Info'!BF30","v":0},{"$f":"AI29*'Product Info'!BI30","v":0},{"$f":"AI29*'Product Info'!BL30","v":0},{"$f":"AI29*'Product Info'!BO30","v":0},{"$f":"AI29*'Product Info'!BR30","v":0},{"$f":"AI29*'Product Info'!BU30","v":0},{"$f":"AI29*'Product Info'!BX30","v":0}]
[{"$f":"'Product Info'!A31","v":0},{"$f":"'Product Info'!B31","v":0},{"$f":"'Product Info'!C31","v":0},null,null,null,null,null,null,null,null,null,null,null,null,null,null,null,null,null,null,null,null,null,null,null,null,null,null,null,null,null,null,null,0,{"$f":"'Product Info'!F31*('Daily Info (July)'!AI30)","v":0},null,null,{"$f":"AI30*('Product Info'!H31)","v":0},{"$f":"AI30*('Product Info'!M31+'Product Info'!P31+'Product Info'!S31+'Product Info'!V31+'Product Info'!Y31+'Product Info'!AB31+'Product Info'!AE31+'Product Info'!AH31+'Product Info'!AK31+'Product Info'!AN31+'Product Info'!AQ31+'Product Info'!AT31+'Product Info'!AW31+'Product Info'!AZ31+'Product Info'!BC31+'Product Info'!BF31+'Product Info'!BI31+'Product Info'!BL31+'Product Info'!BO31+'Product Info'!BR31+'Product Info'!BU31+'Product Info'!BX31+'Product Info'!CA31+'Product Info'!CD31+'Product Info'!CG31+'Product Info'!CJ31+'Product Info'!CM31+'Product Info'!CP31+'Product Info'!CS31+'Product Info'!CV31+'Product Info'!CY31+'Product Info'!DB31+'Product Info'!DE31+'Product Info'!DH31+'Product Info'!DK31+'Product Info'!DN31+'Product Info'!DQ31+'Product Info'!DT31+'Product Info'!DW31+'Product Info'!DZ31+'Product Info'!EC31+'Product Info'!EF31+'Product Info'!EI31+'Product Info'!EL31+'Product Info'!EO31+'Product Info'!ER31+'Product Info'!EU31+'Product Info'!EX31+'Product Info'!FA31+'Product Info'!FD31)","v":0},{"$f":"AI30*('Product Info'!M31)","v":0},{"$f":"AI30*'Product Info'!P31","v":0},{"$f":"AI30*'Product Info'!S31","v":0},{"$f":"AI30*'Product Info'!V31","v":0},{"$f":"AI30*'Product Info'!Y31","v":0},{"$f":"AI30*'Product Info'!AB31","v":0},{"$f":"AI30*'Product Info'!AE31","v":0},{"$f":"AI30*'Product Info'!AH31","v":0},{"$f":"AI30*'Product Info'!AK31","v":0},{"$f":"AI30*'Product Info'!AN31","v":0},{"$f":"AI30*'Product Info'!AQ31","v":0},{"$f":"AI30*'Product Info'!AT31","v":0},{"$f":"AI30*'Product Info'!AW31","v":0},{"$f":"AI30*'Product Info'!AZ31","v":0},{"$f":"AI30*'Product Info'!BC31","v":0},{"$f":"AI30*'Product Info'!BF31","v":0},{"$f":"AI30*'Product Info'!BI31","v":0},{"$f":"AI30*'Product Info'!BL31","v":0},{"$f":"AI30*'Product Info'!BO31","v":0},{"$f":"AI30*'Product Info'!BR31","v":0},{"$f":"AI30*'Product Info'!BU31","v":0},{"$f":"AI30*'Product Info'!BX31","v":0}]
[{"$f":"'Product Info'!A32","v":0},{"$f":"'Product Info'!B32","v":0},{"$f":"'Product Info'!C32","v":0},null,null,null,null,null,null,null,null,null,null,null,null,null,null,null,null,null,null,null,null,null,null,null,null,null,null,null,null,null,null,null,0,{"$f":"'Product Info'!F32*('Daily Info (July)'!AI31)","v":0},null,null,{"$f":"AI31*('Product Info'!H32)","v":0},{"$f":"AI31*('Product Info'!M32+'Product Info'!P32+'Product Info'!S32+'Product Info'!V32+'Product Info'!Y32+'Product Info'!AB32+'Product Info'!AE32+'Product Info'!AH32+'Product Info'!AK32+'Product Info'!AN32+'Product Info'!AQ32+'Product Info'!AT32+'Product Info'!AW32+'Product Info'!AZ32+'Product Info'!BC32+'Product Info'!BF32+'Product Info'!BI32+'Product Info'!BL32+'Product Info'!BO32+'Product Info'!BR32+'Product Info'!BU32+'Product Info'!BX32+'Product Info'!CA32+'Product Info'!CD32+'Product Info'!CG32+'Product Info'!CJ32+'Product Info'!CM32+'Product Info'!CP32+'Product Info'!CS32+'Product Info'!CV32+'Product Info'!CY32+'Product Info'!DB32+'Product Info'!DE32+'Product Info'!DH32+'Product Info'!DK32+'Product Info'!DN32+'Product Info'!DQ32+'Product Info'!DT32+'Product Info'!DW32+'Product Info'!DZ32+'Product Info'!EC32+'Product Info'!EF32+'Product Info'!EI32+'Product Info'!EL32+'Product Info'!EO32+'Product Info'!ER32+'Product Info'!EU32+'Product Info'!EX32+'Product Info'!FA32+'Product Info'!FD32)","v":0},{"$f":"AI31*('Product Info'!M32)","v":0},{"$f":"AI31*'Product Info'!P32","v":0},{"$f":"AI31*'Product Info'!S32","v":0},{"$f":"AI31*'Product Info'!V32","v":0},{"$f":"AI31*'Product Info'!Y32","v":0},{"$f":"AI31*'Product Info'!AB32","v":0},{"$f":"AI31*'Product Info'!AE32","v":0},{"$f":"AI31*'Product Info'!AH32","v":0},{"$f":"AI31*'Product Info'!AK32","v":0},{"$f":"AI31*'Product Info'!AN32","v":0},{"$f":"AI31*'Product Info'!AQ32","v":0},{"$f":"AI31*'Product Info'!AT32","v":0},{"$f":"AI31*'Product Info'!AW32","v":0},{"$f":"AI31*'Product Info'!AZ32","v":0},{"$f":"AI31*'Product Info'!BC32","v":0},{"$f":"AI31*'Product Info'!BF32","v":0},{"$f":"AI31*'Product Info'!BI32","v":0},{"$f":"AI31*'Product Info'!BL32","v":0},{"$f":"AI31*'Product Info'!BO32","v":0},{"$f":"AI31*'Product Info'!BR32","v":0},{"$f":"AI31*'Product Info'!BU32","v":0},{"$f":"AI31*'Product Info'!BX32","v":0}]
[{"$f":"'Product Info'!A33","v":0},{"$f":"'Product Info'!B33","v":0},{"$f":"'Product Info'!C33","v":0},null,null,null,null,null,null,null,null,null,null,null,null,null,null,null,null,null,null,null,null,null,null,null,null,null,null,null,null,null,null,null,0,{"$f":"'Product Info'!F33*('Daily Info (July)'!AI32)","v":0},null,null,{"$f":"AI32*('Product Info'!H33)","v":0},{"$f":"AI32*('Product Info'!M33+'Product Info'!P33+'Product Info'!S33+'Product Info'!V33+'Product Info'!Y33+'Product Info'!AB33+'Product Info'!AE33+'Product Info'!AH33+'Product Info'!AK33+'Product Info'!AN33+'Product Info'!AQ33+'Product Info'!AT33+'Product Info'!AW33+'Product Info'!AZ33+'Product Info'!BC33+'Product Info'!BF33+'Product Info'!BI33+'Product Info'!BL33+'Product Info'!BO33+'Product Info'!BR33+'Product Info'!BU33+'Product Info'!BX33+'Product Info'!CA33+'Product Info'!CD33+'Product Info'!CG33+'Product Info'!CJ33+'Product Info'!CM33+'Product Info'!CP33+'Product Info'!CS33+'Product Info'!CV33+'Product Info'!CY33+'Product Info'!DB33+'Product Info'!DE33+'Product Info'!DH33+'Product Info'!DK33+'Product Info'!DN33+'Product Info'!DQ33+'Product Info'!DT33+'Product Info'!DW33+'Product Info'!DZ33+'Product Info'!EC33+'Product Info'!EF33+'Product Info'!EI33+'Product Info'!EL33+'Product Info'!EO33+'Product Info'!ER33+'Product Info'!EU33+'Product Info'!EX33+'Product Info'!FA33+'Product Info'!FD33)","v":0},{"$f":"AI32*('Product Info'!M33)","v":0},{"$f":"AI32*'Product Info'!P33","v":0},{"$f":"AI32*'Product Info'!S33","v":0},{"$f":"AI32*'Product Info'!V33","v":0},{"$f":"AI32*'Product Info'!Y33","v":0},{"$f":"AI32*'Product Info'!AB33","v":0},{"$f":"AI32*'Product Info'!AE33","v":0},{"$f":"AI32*'Product Info'!AH33","v":0},{"$f":"AI32*'Product Info'!AK33","v":0},{"$f":"AI32*'Product Info'!AN33","v":0},{"$f":"AI32*'Product Info'!AQ33","v":0},{"$f":"AI32*'Product Info'!AT33","v":0},{"$f":"AI32*'Product Info'!AW33","v":0},{"$f":"AI32*'Product Info'!AZ33","v":0},{"$f":"AI32*'Product Info'!BC33","v":0},{"$f":"AI32*'Product Info'!BF33","v":0},{"$f":"AI32*'Product Info'!BI33","v":0},{"$f":"AI32*'Product Info'!BL33","v":0},{"$f":"AI32*'Product Info'!BO33","v":0},{"$f":"AI32*'Product Info'!BR33","v":0},{"$f":"AI32*'Product Info'!BU33","v":0},{"$f":"AI32*'Product Info'!BX33","v":0}]
[{"$f":"'Product Info'!A34","v":0},{"$f":"'Product Info'!B34","v":0},{"$f":"'Product Info'!C34","v":0},null,null,null,null,null,null,null,null,null,null,null,null,null,null,null,null,null,null,null,null,null,null,null,null,null,null,null,null,null,null,null,0,{"$f":"'Product Info'!F34*('Daily Info (July)'!AI33)","v":0},null,null,{"$f":"AI33*('Product Info'!H34)","v":0},{"$f":"AI33*('Product Info'!M34+'Product Info'!P34+'Product Info'!S34+'Product Info'!V34+'Product Info'!Y34+'Product Info'!AB34+'Product Info'!AE34+'Product Info'!AH34+'Product Info'!AK34+'Product Info'!AN34+'Product Info'!AQ34+'Product Info'!AT34+'Product Info'!AW34+'Product Info'!AZ34+'Product Info'!BC34+'Product Info'!BF34+'Product Info'!BI34+'Product Info'!BL34+'Product Info'!BO34+'Product Info'!BR34+'Product Info'!BU34+'Product Info'!BX34+'Product Info'!CA34+'Product Info'!CD34+'Product Info'!CG34+'Product Info'!CJ34+'Product Info'!CM34+'Product Info'!CP34+'Product Info'!CS34+'Product Info'!CV34+'Product Info'!CY34+'Product Info'!DB34+'Product Info'!DE34+'Product Info'!DH34+'Product Info'!DK34+'Product Info'!DN34+'Product Info'!DQ34+'Product Info'!DT34+'Product Info'!DW34+'Product Info'!DZ34+'Product Info'!EC34+'Product Info'!EF34+'Product Info'!EI34+'Product Info'!EL34+'Product Info'!EO34+'Product Info'!ER34+'Product Info'!EU34+'Product Info'!EX34+'Product Info'!FA34+'Product Info'!FD34)","v":0},{"$f":"AI33*('Product Info'!M34)","v":0},{"$f":"AI33*'Product Info'!P34","v":0},{"$f":"AI33*'Product Info'!S34","v":0},{"$f":"AI33*'Product Info'!V34","v":0},{"$f":"AI33*'Product Info'!Y34","v":0},{"$f":"AI33*'Product Info'!AB34","v":0},{"$f":"AI33*'Product Info'!AE34","v":0},{"$f":"AI33*'Product Info'!AH34","v":0},{"$f":"AI33*'Product Info'!AK34","v":0},{"$f":"AI33*'Product Info'!AN34","v":0},{"$f":"AI33*'Product Info'!AQ34","v":0},{"$f":"AR33*'Product Info'!AF34","v":0},{"$f":"AI33*'Product Info'!AW34","v":0},{"$f":"AI33*'Product Info'!AZ34","v":0},{"$f":"AI33*'Product Info'!BC34","v":0},{"$f":"AI33*'Product Info'!BF34","v":0},{"$f":"AI33*'Product Info'!BI34","v":0},{"$f":"AI33*'Product Info'!BL34","v":0},{"$f":"AI33*'Product Info'!BO34","v":0},{"$f":"AI33*'Product Info'!BR34","v":0},{"$f":"AI33*'Product Info'!BU34","v":0},{"$f":"AI33*'Product Info'!BX34","v":0}]
[{"$f":"'Product Info'!A35","v":0},{"$f":"'Product Info'!B35","v":0},{"$f":"'Product Info'!C35","v":0},null,null,null,null,null,null,null,null,null,null,null,null,null,null,null,null,null,null,null,null,null,null,null,null,null,null,null,null,null,null,null,0,{"$f":"'Product Info'!F35*('Daily Info (July)'!AI34)","v":0},null,null,{"$f":"AI34*('Product Info'!H35)","v":0},{"$f":"AI34*('Product Info'!M35+'Product Info'!P35+'Product Info'!S35+'Product Info'!V35+'Product Info'!Y35+'Product Info'!AB35+'Product Info'!AE35+'Product Info'!AH35+'Product Info'!AK35+'Product Info'!AN35+'Product Info'!AQ35+'Product Info'!AT35+'Product Info'!AW35+'Product Info'!AZ35+'Product Info'!BC35+'Product Info'!BF35+'Product Info'!BI35+'Product Info'!BL35+'Product Info'!BO35+'Product Info'!BR35+'Product Info'!BU35+'Product Info'!BX35+'Product Info'!CA35+'Product Info'!CD35+'Product Info'!CG35+'Product Info'!CJ35+'Product Info'!CM35+'Product Info'!CP35+'Product Info'!CS35+'Product Info'!CV35+'Product Info'!CY35+'Product Info'!DB35+'Product Info'!DE35+'Product Info'!DH35+'Product Info'!DK35+'Product Info'!DN35+'Product Info'!DQ35+'Product Info'!DT35+'Product Info'!DW35+'Product Info'!DZ35+'Product Info'!EC35+'Product Info'!EF35+'Product Info'!EI35+'Product Info'!EL35+'Product Info'!EO35+'Product Info'!ER35+'Product Info'!EU35+'Product Info'!EX35+'Product Info'!FA35+'Product Info'!FD35)","v":0},{"$f":"AI34*('Product Info'!M35)","v":0},{"$f":"AI34*'Product Info'!P35","v":0},{"$f":"AI34*'Product Info'!S35","v":0},{"$f":"AI34*'Product Info'!V35","v":0},{"$f":"AI34*'Product Info'!Y35","v":0},{"$f":"AI34*'Product Info'!AB35","v":0},{"$f":"AI34*'Product Info'!AE35","v":0},{"$f":"AI34*'Product Info'!AH35","v":0},{"$f":"AI34*'Product Info'!AK35","v":0},{"$f":"AI34*'Product Info'!AN35","v":0},{"$f":"AI34*'Product Info'!AQ35","v":0},{"$f":"AI34*'Product Info'!AT35","v":0},{"$f":"AI34*'Product Info'!AW35","v":0},{"$f":"AI34*'Product Info'!AZ35","v":0},{"$f":"AI34*'Product Info'!BC35","v":0},{"$f":"AI34*'Product Info'!BF35","v":0},{"$f":"AI34*'Product Info'!BI35","v":0},{"$f":"AI34*'Product Info'!BL35","v":0},{"$f":"AI34*'Product Info'!BO35","v":0},{"$f":"AI34*'Product Info'!BR35","v":0},{"$f":"AI34*'Product Info'!BU35","v":0},{"$f":"AI34*'Product Info'!BX35","v":0}]
[{"$f":"'Product Info'!A36","v":0},{"$f":"'Product Info'!B36","v":0},{"$f":"'Product Info'!C36","v":0},null,null,null,null,null,null,null,null,null,null,null,null,null,null,null,null,null,null,null,null,null,null,null,null,null,null,null,null,null,null,null,0,{"$f":"'Product Info'!F36*('Daily Info (July)'!AI35)","v":0},null,null,{"$f":"AI35*('Product Info'!H36)","v":0},{"$f":"AI35*('Product Info'!M36+'Product Info'!P36+'Product Info'!S36+'Product Info'!V36+'Product Info'!Y36+'Product Info'!AB36+'Product Info'!AE36+'Product Info'!AH36+'Product Info'!AK36+'Product Info'!AN36+'Product Info'!AQ36+'Product Info'!AT36+'Product Info'!AW36+'Product Info'!AZ36+'Product Info'!BC36+'Product Info'!BF36+'Product Info'!BI36+'Product Info'!BL36+'Product Info'!BO36+'Product Info'!BR36+'Product Info'!BU36+'Product Info'!BX36+'Product Info'!CA36+'Product Info'!CD36+'Product Info'!CG36+'Product Info'!CJ36+'Product Info'!CM36+'Product Info'!CP36+'Product Info'!CS36+'Product Info'!CV36+'Product Info'!CY36+'Product Info'!DB36+'Product Info'!DE36+'Product Info'!DH36+'Product Info'!DK36+'Product Info'!DN36+'Product Info'!DQ36+'Product Info'!DT36+'Product Info'!DW36+'Product Info'!DZ36+'Product Info'!EC36+'Product Info'!EF36+'Product Info'!EI36+'Product Info'!EL36+'Product Info'!EO36+'Product Info'!ER36+'Product Info'!EU36+'Product Info'!EX36+'Product Info'!FA36+'Product Info'!FD36)","v":0},{"$f":"AI35*('Product Info'!M36)","v":0},{"$f":"AI35*'Product Info'!P36","v":0},{"$f":"AI35*'Product Info'!S36","v":0},{"$f":"AI35*'Product Info'!V36","v":0},{"$f":"AI35*'Product Info'!Y36","v":0},{"$f":"AI35*'Product Info'!AB36","v":0},{"$f":"AI35*'Product Info'!AE36","v":0},{"$f":"AI35*'Product Info'!AH36","v":0},{"$f":"AI35*'Product Info'!AK36","v":0},{"$f":"AI35*'Product Info'!AN36","v":0},{"$f":"AI35*'Product Info'!AQ36","v":0},{"$f":"AI35*'Product Info'!AT36","v":0},{"$f":"AI35*'Product Info'!AW36","v":0},{"$f":"AI35*'Product Info'!AZ36","v":0},{"$f":"AI35*'Product Info'!BC36","v":0},{"$f":"AI35*'Product Info'!BF36","v":0},{"$f":"AI35*'Product Info'!BI36","v":0},{"$f":"AI35*'Product Info'!BL36","v":0},{"$f":"AI35*'Product Info'!BO36","v":0},{"$f":"AI35*'Product Info'!BR36","v":0},{"$f":"AI35*'Product Info'!BU36","v":0},{"$f":"AI35*'Product Info'!BX36","v":0}]
[{"$f":"'Product Info'!A37","v":0},{"$f":"'Product Info'!B37","v":0},{"$f":"'Product Info'!C37","v":0},null,null,null,null,null,null,null,null,null,null,null,null,null,null,null,null,null,null,null,null,null,null,null,null,null,null,null,null,null,null,null,{"$f":"SUM(D36:AH36)","v":0},{"$f":"'Product Info'!F37*('Daily Info (July)'!AI36)","v":0},null,null,{"$f":"AI36*('Product Info'!H37)","v":0},{"$f":"AI36*('Product Info'!M37+'Product Info'!P37+'Product Info'!S37+'Product Info'!V37+'Product Info'!Y37+'Product Info'!AB37+'Product Info'!AE37+'Product Info'!AH37+'Product Info'!AK37+'Product Info'!AN37+'Product Info'!AQ37+'Product Info'!AT37+'Product Info'!AW37+'Product Info'!AZ37+'Product Info'!BC37+'Product Info'!BF37+'Product Info'!BI37+'Product Info'!BL37+'Product Info'!BO37+'Product Info'!BR37+'Product Info'!BU37+'Product Info'!BX37+'Product Info'!CA37+'Product Info'!CD37+'Product Info'!CG37+'Product Info'!CJ37+'Product Info'!CM37+'Product Info'!CP37+'Product Info'!CS37+'Product Info'!CV37+'Product Info'!CY37+'Product Info'!DB37+'Product Info'!DE37+'Product Info'!DH37+'Product Info'!DK37+'Product Info'!DN37+'Product Info'!DQ37+'Product Info'!DT37+'Product Info'!DW37+'Product Info'!DZ37+'Product Info'!EC37+'Product Info'!EF37+'Product Info'!EI37+'Product Info'!EL37+'Product Info'!EO37+'Product Info'!ER37+'Product Info'!EU37+'Product Info'!EX37+'Product Info'!FA37+'Product Info'!FD37)","v":0},{"$f":"AI36*('Product Info'!M37)","v":0},{"$f":"AI36*'Product Info'!P37","v":0},{"$f":"AI36*'Product Info'!S37","v":0},{"$f":"AI36*'Product Info'!V37","v":0},{"$f":"AI36*'Product Info'!Y37","v":0},{"$f":"AI36*'Product Info'!AB37","v":0},{"$f":"AI36*'Product Info'!AE37","v":0},{"$f":"AI36*'Product Info'!AH37","v":0},{"$f":"AI36*'Product Info'!AK37","v":0},{"$f":"AI36*'Product Info'!AN37","v":0},{"$f":"AI36*'Product Info'!AQ37","v":0},{"$f":"AI36*'Product Info'!AT37","v":0},{"$f":"AI36*'Product Info'!AW37","v":0},{"$f":"AI36*'Product Info'!AZ37","v":0},{"$f":"AI36*'Product Info'!BC37","v":0},{"$f":"AI36*'Product Info'!BF37","v":0},{"$f":"AI36*'Product Info'!BI37","v":0},{"$f":"AI36*'Product Info'!BL37","v":0},{"$f":"AI36*'Product Info'!BO37","v":0},{"$f":"AI36*'Product Info'!BR37","v":0},{"$f":"AI36*'Product Info'!BU37","v":0},{"$f":"AI36*'Product Info'!BX37","v":0}]
[{"$f":"'Product Info'!A38","v":0},{"$f":"'Product Info'!B38","v":0},{"$f":"'Product Info'!C38","v":0},null,null,null,null,null,null,null,null,null,null,null,null,null,null,null,null,null,null,null,null,null,null,null,null,null,null,null,null,null,null,null,0,{"$f":"'Product Info'!F38*('Daily Info (July)'!AI37)","v":0},null,null,{"$f":"AI37*('Product Info'!H38)","v":0},{"$f":"AI37*('Product Info'!M38+'Product Info'!P38+'Product Info'!S38+'Product Info'!V38+'Product Info'!Y38+'Product Info'!AB38+'Product Info'!AE38+'Product Info'!AH38+'Product Info'!AK38+'Product Info'!AN38+'Product Info'!AQ38+'Product Info'!AT38+'Product Info'!AW38+'Product Info'!AZ38+'Product Info'!BC38+'Product Info'!BF38+'Product Info'!BI38+'Product Info'!BL38+'Product Info'!BO38+'Product Info'!BR38+'Product Info'!BU38+'Product Info'!BX38+'Product Info'!CA38+'Product Info'!CD38+'Product Info'!CG38+'Product Info'!CJ38+'Product Info'!CM38+'Product Info'!CP38+'Product Info'!CS38+'Product Info'!CV38+'Product Info'!CY38+'Product Info'!DB38+'Product Info'!DE38+'Product Info'!DH38+'Product Info'!DK38+'Product Info'!DN38+'Product Info'!DQ38+'Product Info'!DT38+'Product Info'!DW38+'Product Info'!DZ38+'Product Info'!EC38+'Product Info'!EF38+'Product Info'!EI38+'Product Info'!EL38+'Product Info'!EO38+'Product Info'!ER38+'Product Info'!EU38+'Product Info'!EX38+'Product Info'!FA38+'Product Info'!FD38)","v":0},{"$f":"AI37*('Product Info'!M38)","v":0},{"$f":"AI37*'Product Info'!P38","v":0},{"$f":"AI37*'Product Info'!S38","v":0},{"$f":"AI37*'Product Info'!V38","v":0},{"$f":"AI37*'Product Info'!Y38","v":0},{"$f":"AI37*'Product Info'!AB38","v":0},{"$f":"AI37*'Product Info'!AE38","v":0},{"$f":"AI37*'Product Info'!AH38","v":0},{"$f":"AI37*'Product Info'!AK38","v":0},{"$f":"AI37*'Product Info'!AN38","v":0},{"$f":"AI37*'Product Info'!AQ38","v":0},{"$f":"AI37*'Product Info'!AT38","v":0},{"$f":"AI37*'Product Info'!AW38","v":0},{"$f":"AI37*'Product Info'!AZ38","v":0},{"$f":"AI37*'Product Info'!BC38","v":0},{"$f":"AI37*'Product Info'!BF38","v":0},{"$f":"AI37*'Product Info'!BI38","v":0},{"$f":"AI37*'Product Info'!BL38","v":0},{"$f":"AI37*'Product Info'!BO38","v":0},{"$f":"AI37*'Product Info'!BR38","v":0},{"$f":"AI37*'Product Info'!BU38","v":0},{"$f":"AI37*'Product Info'!BX38","v":0}]
[{"$f":"'Product Info'!A39","v":0},{"$f":"'Product Info'!B39","v":0},{"$f":"'Product Info'!C39","v":0},null,null,null,null,null,null,null,null,null,null,null,null,null,null,null,null,null,null,null,null,null,null,null,null,null,null,null,null,null,null,null,0,{"$f":"'Product Info'!F39*('Daily Info (July)'!AI38)","v":0},null,null,{"$f":"AI38*('Product Info'!H39)","v":0},{"$f":"AI38*('Product Info'!M39+'Product Info'!P39+'Product Info'!S39+'Product Info'!V39+'Product Info'!Y39+'Product Info'!AB39+'Product Info'!AE39+'Product Info'!AH39+'Product Info'!AK39+'Product Info'!AN39+'Product Info'!AQ39+'Product Info'!AT39+'Product Info'!AW39+'Product Info'!AZ39+'Product Info'!BC39+'Product Info'!BF39+'Product Info'!BI39+'Product Info'!BL39+'Product Info'!BO39+'Product Info'!BR39+'Product Info'!BU39+'Product Info'!BX39+'Product Info'!CA39+'Product Info'!CD39+'Product Info'!CG39+'Product Info'!CJ39+'Product Info'!CM39+'Product Info'!CP39+'Product Info'!CS39+'Product Info'!CV39+'Product Info'!CY39+'Product Info'!DB39+'Product Info'!DE39+'Product Info'!DH39+'Product Info'!DK39+'Product Info'!DN39+'Product Info'!DQ39+'Product Info'!DT39+'Product Info'!DW39+'Product Info'!DZ39+'Product Info'!EC39+'Product Info'!EF39+'Product Info'!EI39+'Product Info'!EL39+'Product Info'!EO39+'Product Info'!ER39+'Product Info'!EU39+'Product Info'!EX39+'Product Info'!FA39+'Product Info'!FD39)","v":0},{"$f":"AI38*('Product Info'!M39)","v":0},{"$f":"AI38*'Product Info'!P39","v":0},{"$f":"AI38*'Product Info'!S39","v":0},{"$f":"AI38*'Product Info'!V39","v":0},{"$f":"AI38*'Product Info'!Y39","v":0},{"$f":"AI38*'Product Info'!AB39","v":0},{"$f":"AI38*'Product Info'!AE39","v":0},{"$f":"AI38*'Product Info'!AH39","v":0},{"$f":"AI38*'Product Info'!AK39","v":0},{"$f":"AI38*'Product Info'!AN39","v":0},{"$f":"AI38*'Product Info'!AQ39","v":0},{"$f":"AI38*'Product Info'!AT39","v":0},{"$f":"AI38*'Product Info'!AW39","v":0},{"$f":"AI38*'Product Info'!AZ39","v":0},{"$f":"AI38*'Product Info'!BC39","v":0},{"$f":"AI38*'Product Info'!BF39","v":0},{"$f":"AI38*'Product Info'!BI39","v":0},{"$f":"AI38*'Product Info'!BL39","v":0},{"$f":"AI38*'Product Info'!BO39","v":0},{"$f":"AI38*'Product Info'!BR39","v":0},{"$f":"AI38*'Product Info'!BU39","v":0},{"$f":"AI38*'Product Info'!BX39","v":0}]
[{"$f":"'Product Info'!A40","v":0},{"$f":"'Product Info'!B40","v":0},{"$f":"'Product Info'!C40","v":0},null,null,null,null,null,null,null,null,null,null,null,null,null,null,null,null,null,null,null,null,null,null,null,null,null,null,null,null,null,null,null,0,{"$f":"'Product Info'!F40*('Daily Info (July)'!AI39)","v":0},null,null,{"$f":"AI39*('Product Info'!H40)","v":0},{"$f":"AI39*('Product Info'!M40+'Product Info'!P40+'Product Info'!S40+'Product Info'!V40+'Product Info'!Y40+'Product Info'!AB40+'Product Info'!AE40+'Product Info'!AH40+'Product Info'!AK40+'Product Info'!AN40+'Product Info'!AQ40+'Product Info'!AT40+'Product Info'!AW40+'Product Info'!AZ40+'Product Info'!BC40+'Product Info'!BF40+'Product Info'!BI40+'Product Info'!BL40+'Product Info'!BO40+'Product Info'!BR40+'Product Info'!BU40+'Product Info'!BX40+'Product Info'!CA40+'Product Info'!CD40+'Product Info'!CG40+'Product Info'!CJ40+'Product Info'!CM40+'Product Info'!CP40+'Product Info'!CS40+'Product Info'!CV40+'Product Info'!CY40+'Product Info'!DB40+'Product Info'!DE40+'Product Info'!DH40+'Product Info'!DK40+'Product Info'!DN40+'Product Info'!DQ40+'Product Info'!DT40+'Product Info'!DW40+'Product Info'!DZ40+'Product Info'!EC40+'Product Info'!EF40+'Product Info'!EI40+'Product Info'!EL40+'Product Info'!EO40+'Product Info'!ER40+'Product Info'!EU40+'Product Info'!EX40+'Product Info'!FA40+'Product Info'!FD40)","v":0},{"$f":"AI39*('Product Info'!M40)","v":0},{"$f":"AI39*'Product Info'!P40","v":0},{"$f":"AI39*'Product Info'!S40","v":0},{"$f":"AI39*'Product Info'!V40","v":0},{"$f":"AI39*'Product Info'!Y40","v":0},{"$f":"AI39*'Product Info'!AB40","v":0},{"$f":"AI39*'Product Info'!AE40","v":0},{"$f":"AI39*'Product Info'!AH40","v":0},{"$f":"AI39*'Product Info'!AK40","v":0},{"$f":"AI39*'Product Info'!AN40","v":0},{"$f":"AI39*'Product Info'!AQ40","v":0},{"$f":"AI39*'Product Info'!AT40","v":0},{"$f":"AI39*'Product Info'!AW40","v":0},{"$f":"AI39*'Product Info'!AZ40","v":0},{"$f":"AI39*'Product Info'!BC40","v":0},{"$f":"AI39*'Product Info'!BF40","v":0},{"$f":"AI39*'Product Info'!BI40","v":0},{"$f":"AI39*'Product Info'!BL40","v":0},{"$f":"AI39*'Product Info'!BO40","v":0},{"$f":"AI39*'Product Info'!BR40","v":0},{"$f":"AI39*'Product Info'!BU40","v":0},{"$f":"AI39*'Product Info'!BX40","v":0}]
[{"$f":"'Product Info'!A41","v":0},{"$f":"'Product Info'!B41","v":0},{"$f":"'Product Info'!C41","v":0},null,null,null,null,null,null,null,null,null,null,null,null,null,null,null,null,null,null,null,null,null,null,null,null,null,null,null,null,null,null,null,0,{"$f":"'Product Info'!F41*('Daily Info (July)'!AI40)","v":0},null,null,{"$f":"AI40*('Product Info'!H41)","v":0},{"$f":"AI40*('Product Info'!M41+'Product Info'!P41+'Product Info'!S41+'Product Info'!V41+'Product Info'!Y41+'Product Info'!AB41+'Product Info'!AE41+'Product Info'!AH41+'Product Info'!AK41+'Product Info'!AN41+'Product Info'!AQ41+'Product Info'!AT41+'Product Info'!AW41+'Product Info'!AZ41+'Product Info'!BC41+'Product Info'!BF41+'Product Info'!BI41+'Product Info'!BL41+'Product Info'!BO41+'Product Info'!BR41+'Product Info'!BU41+'Product Info'!BX41+'Product Info'!CA41+'Product Info'!CD41+'Product Info'!CG41+'Product Info'!CJ41+'Product Info'!CM41+'Product Info'!CP41+'Product Info'!CS41+'Product Info'!CV41+'Product Info'!CY41+'Product Info'!DB41+'Product Info'!DE41+'Product Info'!DH41+'Product Info'!DK41+'Product Info'!DN41+'Product Info'!DQ41+'Product Info'!DT41+'Product Info'!DW41+'Product Info'!DZ41+'Product Info'!EC41+'Product Info'!EF41+'Product Info'!EI41+'Product Info'!EL41+'Product Info'!EO41+'Product Info'!ER41+'Product Info'!EU41+'Product Info'!EX41+'Product Info'!FA41+'Product Info'!FD41)","v":0},{"$f":"AI40*('Product Info'!M41)","v":0},{"$f":"AI40*'Product Info'!P41","v":0},{"$f":"AI40*'Product Info'!S41","v":0},{"$f":"AI40*'Product Info'!V41","v":0},{"$f":"AI40*'Product Info'!Y41","v":0},{"$f":"AI40*'Product Info'!AB41","v":0},{"$f":"AI40*'Product Info'!AE41","v":0},{"$f":"AI40*'Product Info'!AH41","v":0},{"$f":"AI40*'Product Info'!AK41","v":0},{"$f":"AI40*'Product Info'!AN41","v":0},{"$f":"AI40*'Product Info'!AQ41","v":0},{"$f":"AI40*'Product Info'!AT41","v":0},{"$f":"AI40*'Product Info'!AW41","v":0},{"$f":"AI40*'Product Info'!AZ41","v":0},{"$f":"AI40*'Product Info'!BC41","v":0},{"$f":"AI40*'Product Info'!BF41","v":0},{"$f":"AI40*'Product Info'!BI41","v":0},{"$f":"AI40*'Product Info'!BL41","v":0},{"$f":"AI40*'Product Info'!BO41","v":0},{"$f":"AI40*'Product Info'!BR41","v":0},{"$f":"AI40*'Product Info'!BU41","v":0},{"$f":"AI40*'Product Info'!BX41","v":0}]
[{"$f":"'Product Info'!A42","v":0},{"$f":"'Product Info'!B42","v":0},{"$f":"'Product Info'!C42","v":0},null,null,null,null,null,null,null,null,null,null,null,null,null,null,null,null,null,null,null,null,null,null,null,null,null,null,null,null,null,null,null,0,{"$f":"'Product Info'!F42*('Daily Info (July)'!AI41)","v":0},null,null,{"$f":"AI41*('Product Info'!H42)","v":0},{"$f":"AI41*('Product Info'!M42+'Product Info'!P42+'Product Info'!S42+'Product Info'!V42+'Product Info'!Y42+'Product Info'!AB42+'Product Info'!AE42+'Product Info'!AH42+'Product Info'!AK42+'Product Info'!AN42+'Product Info'!AQ42+'Product Info'!AT42+'Product Info'!AW42+'Product Info'!AZ42+'Product Info'!BC42+'Product Info'!BF42+'Product Info'!BI42+'Product Info'!BL42+'Product Info'!BO42+'Product Info'!BR42+'Product Info'!BU42+'Product Info'!BX42+'Product Info'!CA42+'Product Info'!CD42+'Product Info'!CG42+'Product Info'!CJ42+'Product Info'!CM42+'Product Info'!CP42+'Product Info'!CS42+'Product Info'!CV42+'Product Info'!CY42+'Product Info'!DB42+'Product Info'!DE42+'Product Info'!DH42+'Product Info'!DK42+'Product Info'!DN42+'Product Info'!DQ42+'Product Info'!DT42+'Product Info'!DW42+'Product Info'!DZ42+'Product Info'!EC42+'Product Info'!EF42+'Product Info'!EI42+'Product Info'!EL42+'Product Info'!EO42+'Product Info'!ER42+'Product Info'!EU42+'Product Info'!EX42+'Product Info'!FA42+'Product Info'!FD42)","v":0},{"$f":"AI41*('Product Info'!M42)","v":0},{"$f":"AI41*'Product Info'!P42","v":0},{"$f":"AI41*'Product Info'!S42","v":0},{"$f":"AI41*'Product Info'!V42","v":0},{"$f":"AI41*'Product Info'!Y42","v":0},{"$f":"AI41*'Product Info'!AB42","v":0},{"$f":"AI41*'Product Info'!AE42","v":0},{"$f":"AI41*'Product Info'!AH42","v":0},{"$f":"AI41*'Product Info'!AK42","v":0},{"$f":"AI41*'Product Info'!AN42","v":0},{"$f":"AI41*'Product Info'!AQ42","v":0},{"$f":"AI41*'Product Info'!AT42","v":0},{"$f":"AI41*'Product Info'!AW42","v":0},{"$f":"AI41*'Product Info'!AZ42","v":0},{"$f":"AI41*'Product Info'!BC42","v":0},{"$f":"AI41*'Product Info'!BF42","v":0},{"$f":"AI41*'Product Info'!BI42","v":0},{"$f":"AI41*'Product Info'!BL42","v":0},{"$f":"AI41*'Product Info'!BO42","v":0},{"$f":"AI41*'Product Info'!BR42","v":0},{"$f":"AI41*'Product Info'!BU42","v":0},{"$f":"AI41*'Product Info'!BX42","v":0}]
[{"$f":"'Product Info'!A43","v":0},{"$f":"'Product Info'!B43","v":0},{"$f":"'Product Info'!C43","v":0},null,null,null,null,null,null,null,null,null,null,null,null,null,null,null,null,null,null,null,null,null,null,null,null,null,null,null,null,null,null,null,0,{"$f":"'Product Info'!F43*('Daily Info (July)'!AI42)","v":0},null,null,{"$f":"AI42*('Product Info'!H43)","v":0},{"$f":"AI42*('Product Info'!M43+'Product Info'!P43+'Product Info'!S43+'Product Info'!V43+'Product Info'!Y43+'Product Info'!AB43+'Product Info'!AE43+'Product Info'!AH43+'Product Info'!AK43+'Product Info'!AN43+'Product Info'!AQ43+'Product Info'!AT43+'Product Info'!AW43+'Product Info'!AZ43+'Product Info'!BC43+'Product Info'!BF43+'Product Info'!BI43+'Product Info'!BL43+'Product Info'!BO43+'Product Info'!BR43+'Product Info'!BU43+'Product Info'!BX43+'Product Info'!CA43+'Product Info'!CD43+'Product Info'!CG43+'Product Info'!CJ43+'Product Info'!CM43+'Product Info'!CP43+'Product Info'!CS43+'Product Info'!CV43+'Product Info'!CY43+'Product Info'!DB43+'Product Info'!DE43+'Product Info'!DH43+'Product Info'!DK43+'Product Info'!DN43+'Product Info'!DQ43+'Product Info'!DT43+'Product Info'!DW43+'Product Info'!DZ43+'Product Info'!EC43+'Product Info'!EF43+'Product Info'!EI43+'Product Info'!EL43+'Product Info'!EO43+'Product Info'!ER43+'Product Info'!EU43+'Product Info'!EX43+'Product Info'!FA43+'Product Info'!FD43)","v":0},{"$f":"AI42*('Product Info'!M43)","v":0},{"$f":"AI42*'Product Info'!P43","v":0},{"$f":"AI42*'Product Info'!S43","v":0},{"$f":"AI42*'Product Info'!V43","v":0},{"$f":"AI42*'Product Info'!Y43","v":0},{"$f":"AI42*'Product Info'!AB43","v":0},{"$f":"AI42*'Product Info'!AE43","v":0},{"$f":"AI42*'Product Info'!AH43","v":0},{"$f":"AI42*'Product Info'!AK43","v":0},{"$f":"AI42*'Product Info'!AN43","v":0},{"$f":"AI42*'Product Info'!AQ43","v":0},{"$f":"AI42*'Product Info'!AT43","v":0},{"$f":"AI42*'Product Info'!AW43","v":0},{"$f":"AI42*'Product Info'!AZ43","v":0},{"$f":"AI42*'Product Info'!BC43","v":0},{"$f":"AI42*'Product Info'!BF43","v":0},{"$f":"AI42*'Product Info'!BI43","v":0},{"$f":"AI42*'Product Info'!BL43","v":0},{"$f":"AI42*'Product Info'!BO43","v":0},{"$f":"AI42*'Product Info'!BR43","v":0},{"$f":"AI42*'Product Info'!BU43","v":0},{"$f":"AI42*'Product Info'!BX43","v":0}]
[{"$f":"'Product Info'!A44","v":0},{"$f":"'Product Info'!B44","v":0},{"$f":"'Product Info'!C44","v":0},null,null,null,null,null,null,null,null,null,null,null,null,null,null,null,null,null,null,null,null,null,null,null,null,null,null,null,null,null,null,null,0,{"$f":"'Product Info'!F44*('Daily Info (July)'!AI43)","v":0},null,null,{"$f":"AI43*('Product Info'!H44)","v":0},{"$f":"AI43*('Product Info'!M44+'Product Info'!P44+'Product Info'!S44+'Product Info'!V44+'Product Info'!Y44+'Product Info'!AB44+'Product Info'!AE44+'Product Info'!AH44+'Product Info'!AK44+'Product Info'!AN44+'Product Info'!AQ44+'Product Info'!AT44+'Product Info'!AW44+'Product Info'!AZ44+'Product Info'!BC44+'Product Info'!BF44+'Product Info'!BI44+'Product Info'!BL44+'Product Info'!BO44+'Product Info'!BR44+'Product Info'!BU44+'Product Info'!BX44+'Product Info'!CA44+'Product Info'!CD44+'Product Info'!CG44+'Product Info'!CJ44+'Product Info'!CM44+'Product Info'!CP44+'Product Info'!CS44+'Product Info'!CV44+'Product Info'!CY44+'Product Info'!DB44+'Product Info'!DE44+'Product Info'!DH44+'Product Info'!DK44+'Product Info'!DN44+'Product Info'!DQ44+'Product Info'!DT44+'Product Info'!DW44+'Product Info'!DZ44+'Product Info'!EC44+'Product Info'!EF44+'Product Info'!EI44+'Product Info'!EL44+'Product Info'!EO44+'Product Info'!ER44+'Product Info'!EU44+'Product Info'!EX44+'Product Info'!FA44+'Product Info'!FD44)","v":0},{"$f":"AI43*('Product Info'!M44)","v":0},{"$f":"AI43*'Product Info'!P44","v":0},{"$f":"AI43*'Product Info'!S44","v":0},{"$f":"AI43*'Product Info'!V44","v":0},{"$f":"AI43*'Product Info'!Y44","v":0},{"$f":"AI43*'Product Info'!AB44","v":0},{"$f":"AI43*'Product Info'!AE44","v":0},{"$f":"AI43*'Product Info'!AH44","v":0},{"$f":"AI43*'Product Info'!AK44","v":0},{"$f":"AI43*'Product Info'!AN44","v":0},{"$f":"AI43*'Product Info'!AQ44","v":0},{"$f":"AI43*'Product Info'!AT44","v":0},{"$f":"AI43*'Product Info'!AW44","v":0},{"$f":"AI43*'Product Info'!AZ44","v":0},{"$f":"AI43*'Product Info'!BC44","v":0},{"$f":"AI43*'Product Info'!BF44","v":0},{"$f":"AI43*'Product Info'!BI44","v":0},{"$f":"AI43*'Product Info'!BL44","v":0},{"$f":"AI43*'Product Info'!BO44","v":0},{"$f":"AI43*'Product Info'!BR44","v":0},{"$f":"AI43*'Product Info'!BU44","v":0},{"$f":"AI43*'Product Info'!BX44","v":0}]
[{"$f":"'Product Info'!A45","v":0},{"$f":"'Product Info'!B45","v":0},{"$f":"'Product Info'!C45","v":0},null,null,null,null,null,null,null,null,null,null,null,null,null,null,null,null,null,null,null,null,null,null,null,null,null,null,null,null,null,null,null,0,{"$f":"'Product Info'!F45*('Daily Info (July)'!AI44)","v":0},null,null,{"$f":"AI44*('Product Info'!H45)","v":0},{"$f":"AI44*('Product Info'!M45+'Product Info'!P45+'Product Info'!S45+'Product Info'!V45+'Product Info'!Y45+'Product Info'!AB45+'Product Info'!AE45+'Product Info'!AH45+'Product Info'!AK45+'Product Info'!AN45+'Product Info'!AQ45+'Product Info'!AT45+'Product Info'!AW45+'Product Info'!AZ45+'Product Info'!BC45+'Product Info'!BF45+'Product Info'!BI45+'Product Info'!BL45+'Product Info'!BO45+'Product Info'!BR45+'Product Info'!BU45+'Product Info'!BX45+'Product Info'!CA45+'Product Info'!CD45+'Product Info'!CG45+'Product Info'!CJ45+'Product Info'!CM45+'Product Info'!CP45+'Product Info'!CS45+'Product Info'!CV45+'Product Info'!CY45+'Product Info'!DB45+'Product Info'!DE45+'Product Info'!DH45+'Product Info'!DK45+'Product Info'!DN45+'Product Info'!DQ45+'Product Info'!DT45+'Product Info'!DW45+'Product Info'!DZ45+'Product Info'!EC45+'Product Info'!EF45+'Product Info'!EI45+'Product Info'!EL45+'Product Info'!EO45+'Product Info'!ER45+'Product Info'!EU45+'Product Info'!EX45+'Product Info'!FA45+'Product Info'!FD45)","v":0},{"$f":"AI44*('Product Info'!M45)","v":0},{"$f":"AI44*'Product Info'!P45","v":0},{"$f":"AI44*'Product Info'!S45","v":0},{"$f":"AI44*'Product Info'!V45","v":0},{"$f":"AI44*'Product Info'!Y45","v":0},{"$f":"AI44*'Product Info'!AB45","v":0},{"$f":"AI44*'Product Info'!AE45","v":0},{"$f":"AI44*'Product Info'!AH45","v":0},{"$f":"AI44*'Product Info'!AK45","v":0},{"$f":"AI44*'Product Info'!AN45","v":0},{"$f":"AI44*'Product Info'!AQ45","v":0},{"$f":"AI44*'Product Info'!AT45","v":0},{"$f":"AI44*'Product Info'!AW45","v":0},{"$f":"AI44*'Product Info'!AZ45","v":0},{"$f":"AI44*'Product Info'!BC45","v":0},{"$f":"AI44*'Product Info'!BF45","v":0},{"$f":"AI44*'Product Info'!BI45","v":0},{"$f":"AI44*'Product Info'!BL45","v":0},{"$f":"AI44*'Product Info'!BO45","v":0},{"$f":"AI44*'Product Info'!BR45","v":0},{"$f":"AI44*'Product Info'!BU45","v":0},{"$f":"AI44*'Product Info'!BX45","v":0}]
[{"$f":"'Product Info'!A46","v":0},{"$f":"'Product Info'!B46","v":0},{"$f":"'Product Info'!C46","v":0},null,null,null,null,null,null,null,null,null,null,null,null,null,null,null,null,null,null,null,null,null,null,null,null,null,null,null,null,null,null,null,0,{"$f":"'Product Info'!F46*('Daily Info (July)'!AI45)","v":0},null,null,{"$f":"AI45*('Product Info'!H46)","v":0},{"$f":"AI45*('Product Info'!M46+'Product Info'!P46+'Product Info'!S46+'Product Info'!V46+'Product Info'!Y46+'Product Info'!AB46+'Product Info'!AE46+'Product Info'!AH46+'Product Info'!AK46+'Product Info'!AN46+'Product Info'!AQ46+'Product Info'!AT46+'Product Info'!AW46+'Product Info'!AZ46+'Product Info'!BC46+'Product Info'!BF46+'Product Info'!BI46+'Product Info'!BL46+'Product Info'!BO46+'Product Info'!BR46+'Product Info'!BU46+'Product Info'!BX46+'Product Info'!CA46+'Product Info'!CD46+'Product Info'!CG46+'Product Info'!CJ46+'Product Info'!CM46+'Product Info'!CP46+'Product Info'!CS46+'Product Info'!CV46+'Product Info'!CY46+'Product Info'!DB46+'Product Info'!DE46+'Product Info'!DH46+'Product Info'!DK46+'Product Info'!DN46+'Product Info'!DQ46+'Product Info'!DT46+'Product Info'!DW46+'Product Info'!DZ46+'Product Info'!EC46+'Product Info'!EF46+'Product Info'!EI46+'Product Info'!EL46+'Product Info'!EO46+'Product Info'!ER46+'Product Info'!EU46+'Product Info'!EX46+'Product Info'!FA46+'Product Info'!FD46)","v":0},{"$f":"AI45*('Product Info'!M46)","v":0},{"$f":"AI45*'Product Info'!P46","v":0},{"$f":"AI45*'Product Info'!S46","v":0},{"$f":"AI45*'Product Info'!V46","v":0},{"$f":"AI45*'Product Info'!Y46","v":0},{"$f":"AI45*'Product Info'!AB46","v":0},{"$f":"AI45*'Product Info'!AE46","v":0},{"$f":"AI45*'Product Info'!AH46","v":0},{"$f":"AI45*'Product Info'!AK46","v":0},{"$f":"AI45*'Product Info'!AN46","v":0},{"$f":"AI45*'Product Info'!AQ46","v":0},{"$f":"AI45*'Product Info'!AT46","v":0},{"$f":"AI45*'Product Info'!AW46","v":0},{"$f":"AI45*'Product Info'!AZ46","v":0},{"$f":"AI45*'Product Info'!BC46","v":0},{"$f":"AI45*'Product Info'!BF46","v":0},{"$f":"AI45*'Product Info'!BI46","v":0},{"$f":"AI45*'Product Info'!BL46","v":0},{"$f":"AI45*'Product Info'!BO46","v":0},{"$f":"AI45*'Product Info'!BR46","v":0},{"$f":"AI45*'Product Info'!BU46","v":0},{"$f":"AI45*'Product Info'!BX46","v":0}]
[{"$f":"'Product Info'!A47","v":0},{"$f":"'Product Info'!B47","v":0},{"$f":"'Product Info'!C47","v":0},null,null,null,null,null,null,null,null,null,null,null,null,null,null,null,null,null,null,null,null,null,null,null,null,null,null,null,null,null,null,null,0,{"$f":"'Product Info'!F47*('Daily Info (July)'!AI46)","v":0},null,null,{"$f":"AI46*('Product Info'!H47)","v":0},{"$f":"AI46*('Product Info'!M47+'Product Info'!P47+'Product Info'!S47+'Product Info'!V47+'Product Info'!Y47+'Product Info'!AB47+'Product Info'!AE47+'Product Info'!AH47+'Product Info'!AK47+'Product Info'!AN47+'Product Info'!AQ47+'Product Info'!AT47+'Product Info'!AW47+'Product Info'!AZ47+'Product Info'!BC47+'Product Info'!BF47+'Product Info'!BI47+'Product Info'!BL47+'Product Info'!BO47+'Product Info'!BR47+'Product Info'!BU47+'Product Info'!BX47+'Product Info'!CA47+'Product Info'!CD47+'Product Info'!CG47+'Product Info'!CJ47+'Product Info'!CM47+'Product Info'!CP47+'Product Info'!CS47+'Product Info'!CV47+'Product Info'!CY47+'Product Info'!DB47+'Product Info'!DE47+'Product Info'!DH47+'Product Info'!DK47+'Product Info'!DN47+'Product Info'!DQ47+'Product Info'!DT47+'Product Info'!DW47+'Product Info'!DZ47+'Product Info'!EC47+'Product Info'!EF47+'Product Info'!EI47+'Product Info'!EL47+'Product Info'!EO47+'Product Info'!ER47+'Product Info'!EU47+'Product Info'!EX47+'Product Info'!FA47+'Product Info'!FD47)","v":0},{"$f":"AI46*('Product Info'!M47)","v":0},{"$f":"AI46*'Product Info'!P47","v":0},{"$f":"AI46*'Product Info'!S47","v":0},{"$f":"AI46*'Product Info'!V47","v":0},{"$f":"AI46*'Product Info'!Y47","v":0},{"$f":"AI46*'Product Info'!AB47","v":0},{"$f":"AI46*'Product Info'!AE47","v":0},{"$f":"AI46*'Product Info'!AH47","v":0},{"$f":"AI46*'Product Info'!AK47","v":0},{"$f":"AI46*'Product Info'!AN47","v":0},{"$f":"AI46*'Product Info'!AQ47","v":0},{"$f":"AI46*'Product Info'!AT47","v":0},{"$f":"AI46*'Product Info'!AW47","v":0},{"$f":"AI46*'Product Info'!AZ47","v":0},{"$f":"AI46*'Product Info'!BC47","v":0},{"$f":"AI46*'Product Info'!BF47","v":0},{"$f":"AI46*'Product Info'!BI47","v":0},{"$f":"AI46*'Product Info'!BL47","v":0},{"$f":"AI46*'Product Info'!BO47","v":0},{"$f":"AI46*'Product Info'!BR47","v":0},{"$f":"AI46*'Product Info'!BU47","v":0},{"$f":"AI46*'Product Info'!BX47","v":0}]
[{"$f":"'Product Info'!A48","v":0},{"$f":"'Product Info'!B48","v":0},{"$f":"'Product Info'!C48","v":0},null,null,null,null,null,null,null,null,null,null,null,null,null,null,null,null,null,null,null,null,null,null,null,null,null,null,null,null,null,null,null,0,{"$f":"'Product Info'!F48*('Daily Info (July)'!AI47)","v":0},null,null,{"$f":"AI47*('Product Info'!H48)","v":0},{"$f":"AI47*('Product Info'!M48+'Product Info'!P48+'Product Info'!S48+'Product Info'!V48+'Product Info'!Y48+'Product Info'!AB48+'Product Info'!AE48+'Product Info'!AH48+'Product Info'!AK48+'Product Info'!AN48+'Product Info'!AQ48+'Product Info'!AT48+'Product Info'!AW48+'Product Info'!AZ48+'Product Info'!BC48+'Product Info'!BF48+'Product Info'!BI48+'Product Info'!BL48+'Product Info'!BO48+'Product Info'!BR48+'Product Info'!BU48+'Product Info'!BX48+'Product Info'!CA48+'Product Info'!CD48+'Product Info'!CG48+'Product Info'!CJ48+'Product Info'!CM48+'Product Info'!CP48+'Product Info'!CS48+'Product Info'!CV48+'Product Info'!CY48+'Product Info'!DB48+'Product Info'!DE48+'Product Info'!DH48+'Product Info'!DK48+'Product Info'!DN48+'Product Info'!DQ48+'Product Info'!DT48+'Product Info'!DW48+'Product Info'!DZ48+'Product Info'!EC48+'Product Info'!EF48+'Product Info'!EI48+'Product Info'!EL48+'Product Info'!EO48+'Product Info'!ER48+'Product Info'!EU48+'Product Info'!EX48+'Product Info'!FA48+'Product Info'!FD48)","v":0},{"$f":"AI47*('Product Info'!M48)","v":0},{"$f":"AI47*'Product Info'!P48","v":0},{"$f":"AI47*'Product Info'!S48","v":0},{"$f":"AI47*'Product Info'!V48","v":0},{"$f":"AI47*'Product Info'!Y48","v":0},{"$f":"AI47*'Product Info'!AB48","v":0},{"$f":"AI47*'Product Info'!AE48","v":0},{"$f":"AI47*'Product Info'!AH48","v":0},{"$f":"AI47*'Product Info'!AK48","v":0},{"$f":"AI47*'Product Info'!AN48","v":0},{"$f":"AI47*'Product Info'!AQ48","v":0},{"$f":"AR47*'Product Info'!AF48","v":0},{"$f":"AI47*'Product Info'!AW48","v":0},{"$f":"AI47*'Product Info'!AZ48","v":0},{"$f":"AI47*'Product Info'!BC48","v":0},{"$f":"AI47*'Product Info'!BF48","v":0},{"$f":"AI47*'Product Info'!BI48","v":0},{"$f":"AI47*'Product Info'!BL48","v":0},{"$f":"AI47*'Product Info'!BO48","v":0},{"$f":"AI47*'Product Info'!BR48","v":0},{"$f":"AI47*'Product Info'!BU48","v":0},{"$f":"AI47*'Product Info'!BX48","v":0}]
[{"$f":"'Product Info'!A49","v":0},{"$f":"'Product Info'!B49","v":0},{"$f":"'Product Info'!C49","v":0},null,null,null,null,null,null,null,null,null,null,null,null,null,null,null,null,null,null,null,null,null,null,null,null,null,null,null,null,null,null,null,0,{"$f":"'Product Info'!F49*('Daily Info (July)'!AI48)","v":0},null,null,{"$f":"AI48*('Product Info'!H49)","v":0},{"$f":"AI48*('Product Info'!M49+'Product Info'!P49+'Product Info'!S49+'Product Info'!V49+'Product Info'!Y49+'Product Info'!AB49+'Product Info'!AE49+'Product Info'!AH49+'Product Info'!AK49+'Product Info'!AN49+'Product Info'!AQ49+'Product Info'!AT49+'Product Info'!AW49+'Product Info'!AZ49+'Product Info'!BC49+'Product Info'!BF49+'Product Info'!BI49+'Product Info'!BL49+'Product Info'!BO49+'Product Info'!BR49+'Product Info'!BU49+'Product Info'!BX49+'Product Info'!CA49+'Product Info'!CD49+'Product Info'!CG49+'Product Info'!CJ49+'Product Info'!CM49+'Product Info'!CP49+'Product Info'!CS49+'Product Info'!CV49+'Product Info'!CY49+'Product Info'!DB49+'Product Info'!DE49+'Product Info'!DH49+'Product Info'!DK49+'Product Info'!DN49+'Product Info'!DQ49+'Product Info'!DT49+'Product Info'!DW49+'Product Info'!DZ49+'Product Info'!EC49+'Product Info'!EF49+'Product Info'!EI49+'Product Info'!EL49+'Product Info'!EO49+'Product Info'!ER49+'Product Info'!EU49+'Product Info'!EX49+'Product Info'!FA49+'Product Info'!FD49)","v":0},{"$f":"AI48*('Product Info'!M49)","v":0},{"$f":"AI48*'Product Info'!P49","v":0},{"$f":"AI48*'Product Info'!S49","v":0},{"$f":"AI48*'Product Info'!V49","v":0},{"$f":"AI48*'Product Info'!Y49","v":0},{"$f":"AI48*'Product Info'!AB49","v":0},{"$f":"AI48*'Product Info'!AE49","v":0},{"$f":"AI48*'Product Info'!AH49","v":0},{"$f":"AI48*'Product Info'!AK49","v":0},{"$f":"AI48*'Product Info'!AN49","v":0},{"$f":"AI48*'Product Info'!AQ49","v":0},{"$f":"AR48*'Product Info'!AF49","v":0},{"$f":"AI48*'Product Info'!AW49","v":0},{"$f":"AI48*'Product Info'!AZ49","v":0},{"$f":"AI48*'Product Info'!BC49","v":0},{"$f":"AI48*'Product Info'!BF49","v":0},{"$f":"AI48*'Product Info'!BI49","v":0},{"$f":"AI48*'Product Info'!BL49","v":0},{"$f":"AI48*'Product Info'!BO49","v":0},{"$f":"AI48*'Product Info'!BR49","v":0},{"$f":"AI48*'Product Info'!BU49","v":0},{"$f":"AI48*'Product Info'!BX49","v":0}]
[{"$f":"'Product Info'!A50","v":0},{"$f":"'Product Info'!B50","v":0},{"$f":"'Product Info'!C50","v":0},null,null,null,null,null,null,null,null,null,null,null,null,null,null,null,null,null,null,null,null,null,null,null,null,null,null,null,null,null,null,null,0,{"$f":"'Product Info'!F50*('Daily Info (July)'!AI49)","v":0},null,null,{"$f":"AI49*('Product Info'!H50)","v":0},{"$f":"AI49*('Product Info'!M50+'Product Info'!P50+'Product Info'!S50+'Product Info'!V50+'Product Info'!Y50+'Product Info'!AB50+'Product Info'!AE50+'Product Info'!AH50+'Product Info'!AK50+'Product Info'!AN50+'Product Info'!AQ50+'Product Info'!AT50+'Product Info'!AW50+'Product Info'!AZ50+'Product Info'!BC50+'Product Info'!BF50+'Product Info'!BI50+'Product Info'!BL50+'Product Info'!BO50+'Product Info'!BR50+'Product Info'!BU50+'Product Info'!BX50+'Product Info'!CA50+'Product Info'!CD50+'Product Info'!CG50+'Product Info'!CJ50+'Product Info'!CM50+'Product Info'!CP50+'Product Info'!CS50+'Product Info'!CV50+'Product Info'!CY50+'Product Info'!DB50+'Product Info'!DE50+'Product Info'!DH50+'Product Info'!DK50+'Product Info'!DN50+'Product Info'!DQ50+'Product Info'!DT50+'Product Info'!DW50+'Product Info'!DZ50+'Product Info'!EC50+'Product Info'!EF50+'Product Info'!EI50+'Product Info'!EL50+'Product Info'!EO50+'Product Info'!ER50+'Product Info'!EU50+'Product Info'!EX50+'Product Info'!FA50+'Product Info'!FD50)","v":0},{"$f":"AI49*('Product Info'!M50)","v":0},{"$f":"AI49*'Product Info'!P50","v":0},{"$f":"AI49*'Product Info'!S50","v":0},{"$f":"AI49*'Product Info'!V50","v":0},{"$f":"AI49*'Product Info'!Y50","v":0},{"$f":"AI49*'Product Info'!AB50","v":0},{"$f":"AI49*'Product Info'!AE50","v":0},{"$f":"AI49*'Product Info'!AH50","v":0},{"$f":"AI49*'Product Info'!AK50","v":0},{"$f":"AI49*'Product Info'!AN50","v":0},{"$f":"AI49*'Product Info'!AQ50","v":0},{"$f":"AI49*'Product Info'!AT50","v":0},{"$f":"AI49*'Product Info'!AW50","v":0},{"$f":"AI49*'Product Info'!AZ50","v":0},{"$f":"AI49*'Product Info'!BC50","v":0},{"$f":"AI49*'Product Info'!BF50","v":0},{"$f":"AI49*'Product Info'!BI50","v":0},{"$f":"AI49*'Product Info'!BL50","v":0},{"$f":"AI49*'Product Info'!BO50","v":0},{"$f":"AI49*'Product Info'!BR50","v":0},{"$f":"AI49*'Product Info'!BU50","v":0},{"$f":"AI49*'Product Info'!BX50","v":0}]
[{"$f":"'Product Info'!A51","v":0},{"$f":"'Product Info'!B51","v":0},{"$f":"'Product Info'!C51","v":0},null,null,null,null,null,null,null,null,null,null,null,null,null,null,null,null,null,null,null,null,null,null,null,null,null,null,null,null,null,null,null,0,{"$f":"'Product Info'!F51*('Daily Info (July)'!AI50)","v":0},null,null,{"$f":"AI50*('Product Info'!H51)","v":0},{"$f":"AI50*('Product Info'!M51+'Product Info'!P51+'Product Info'!S51+'Product Info'!V51+'Product Info'!Y51+'Product Info'!AB51+'Product Info'!AE51+'Product Info'!AH51+'Product Info'!AK51+'Product Info'!AN51+'Product Info'!AQ51+'Product Info'!AT51+'Product Info'!AW51+'Product Info'!AZ51+'Product Info'!BC51+'Product Info'!BF51+'Product Info'!BI51+'Product Info'!BL51+'Product Info'!BO51+'Product Info'!BR51+'Product Info'!BU51+'Product Info'!BX51+'Product Info'!CA51+'Product Info'!CD51+'Product Info'!CG51+'Product Info'!CJ51+'Product Info'!CM51+'Product Info'!CP51+'Product Info'!CS51+'Product Info'!CV51+'Product Info'!CY51+'Product Info'!DB51+'Product Info'!DE51+'Product Info'!DH51+'Product Info'!DK51+'Product Info'!DN51+'Product Info'!DQ51+'Product Info'!DT51+'Product Info'!DW51+'Product Info'!DZ51+'Product Info'!EC51+'Product Info'!EF51+'Product Info'!EI51+'Product Info'!EL51+'Product Info'!EO51+'Product Info'!ER51+'Product Info'!EU51+'Product Info'!EX51+'Product Info'!FA51+'Product Info'!FD51)","v":0},{"$f":"AI50*('Product Info'!M51)","v":0},{"$f":"AI50*'Product Info'!P51","v":0},{"$f":"AI50*'Product Info'!S51","v":0},{"$f":"AI50*'Product Info'!V51","v":0},{"$f":"AI50*'Product Info'!Y51","v":0},{"$f":"AI50*'Product Info'!AB51","v":0},{"$f":"AI50*'Product Info'!AE51","v":0},{"$f":"AI50*'Product Info'!AH51","v":0},{"$f":"AI50*'Product Info'!AK51","v":0},{"$f":"AI50*'Product Info'!AN51","v":0},{"$f":"AI50*'Product Info'!AQ51","v":0},{"$f":"AI50*'Product Info'!AT51","v":0},{"$f":"AI50*'Product Info'!AW51","v":0},{"$f":"AI50*'Product Info'!AZ51","v":0},{"$f":"AI50*'Product Info'!BC51","v":0},{"$f":"AI50*'Product Info'!BF51","v":0},{"$f":"AI50*'Product Info'!BI51","v":0},{"$f":"AI50*'Product Info'!BL51","v":0},{"$f":"AI50*'Product Info'!BO51","v":0},{"$f":"AI50*'Product Info'!BR51","v":0},{"$f":"AI50*'Product Info'!BU51","v":0},{"$f":"AI50*'Product Info'!BX51","v":0}]
[{"$f":"'Product Info'!A52","v":0},{"$f":"'Product Info'!B52","v":0},{"$f":"'Product Info'!C52","v":0},null,null,null,null,null,null,null,null,null,null,null,null,null,null,null,null,null,null,null,null,null,null,null,null,null,null,null,null,null,null,null,0,{"$f":"'Product Info'!F52*('Daily Info (July)'!AI51)","v":0},null,null,{"$f":"AI51*('Product Info'!H52)","v":0},{"$f":"AI51*('Product Info'!M52+'Product Info'!P52+'Product Info'!S52+'Product Info'!V52+'Product Info'!Y52+'Product Info'!AB52+'Product Info'!AE52+'Product Info'!AH52+'Product Info'!AK52+'Product Info'!AN52+'Product Info'!AQ52+'Product Info'!AT52+'Product Info'!AW52+'Product Info'!AZ52+'Product Info'!BC52+'Product Info'!BF52+'Product Info'!BI52+'Product Info'!BL52+'Product Info'!BO52+'Product Info'!BR52+'Product Info'!BU52+'Product Info'!BX52+'Product Info'!CA52+'Product Info'!CD52+'Product Info'!CG52+'Product Info'!CJ52+'Product Info'!CM52+'Product Info'!CP52+'Product Info'!CS52+'Product Info'!CV52+'Product Info'!CY52+'Product Info'!DB52+'Product Info'!DE52+'Product Info'!DH52+'Product Info'!DK52+'Product Info'!DN52+'Product Info'!DQ52+'Product Info'!DT52+'Product Info'!DW52+'Product Info'!DZ52+'Product Info'!EC52+'Product Info'!EF52+'Product Info'!EI52+'Product Info'!EL52+'Product Info'!EO52+'Product Info'!ER52+'Product Info'!EU52+'Product Info'!EX52+'Product Info'!FA52+'Product Info'!FD52)","v":0},{"$f":"AI51*('Product Info'!M52)","v":0},{"$f":"AI51*'Product Info'!P52","v":0},{"$f":"AI51*'Product Info'!S52","v":0},{"$f":"AI51*'Product Info'!V52","v":0},{"$f":"AI51*'Product Info'!Y52","v":0},{"$f":"AI51*'Product Info'!AB52","v":0},{"$f":"AI51*'Product Info'!AE52","v":0},{"$f":"AI51*'Product Info'!AH52","v":0},{"$f":"AI51*'Product Info'!AK52","v":0},{"$f":"AI51*'Product Info'!AN52","v":0},{"$f":"AI51*'Product Info'!AQ52","v":0},{"$f":"AI51*'Product Info'!AT52","v":0},{"$f":"AI51*'Product Info'!AW52","v":0},{"$f":"AI51*'Product Info'!AZ52","v":0},{"$f":"AI51*'Product Info'!BC52","v":0},{"$f":"AI51*'Product Info'!BF52","v":0},{"$f":"AI51*'Product Info'!BI52","v":0},{"$f":"AI51*'Product Info'!BL52","v":0},{"$f":"AI51*'Product Info'!BO52","v":0},{"$f":"AI51*'Product Info'!BR52","v":0},{"$f":"AI51*'Product Info'!BU52","v":0},{"$f":"AI51*'Product Info'!BX52","v":0}]
[{"$f":"'Product Info'!A53","v":0},{"$f":"'Product Info'!B53","v":0},{"$f":"'Product Info'!C53","v":0},null,null,null,null,null,null,null,null,null,null,null,null,null,null,null,null,null,null,null,null,null,null,null,null,null,null,null,null,null,null,null,0,{"$f":"'Product Info'!F53*('Daily Info (July)'!AI52)","v":0},null,null,{"$f":"AI52*('Product Info'!H53)","v":0},{"$f":"AI52*('Product Info'!M53+'Product Info'!P53+'Product Info'!S53+'Product Info'!V53+'Product Info'!Y53+'Product Info'!AB53+'Product Info'!AE53+'Product Info'!AH53+'Product Info'!AK53+'Product Info'!AN53+'Product Info'!AQ53+'Product Info'!AT53+'Product Info'!AW53+'Product Info'!AZ53+'Product Info'!BC53+'Product Info'!BF53+'Product Info'!BI53+'Product Info'!BL53+'Product Info'!BO53+'Product Info'!BR53+'Product Info'!BU53+'Product Info'!BX53+'Product Info'!CA53+'Product Info'!CD53+'Product Info'!CG53+'Product Info'!CJ53+'Product Info'!CM53+'Product Info'!CP53+'Product Info'!CS53+'Product Info'!CV53+'Product Info'!CY53+'Product Info'!DB53+'Product Info'!DE53+'Product Info'!DH53+'Product Info'!DK53+'Product Info'!DN53+'Product Info'!DQ53+'Product Info'!DT53+'Product Info'!DW53+'Product Info'!DZ53+'Product Info'!EC53+'Product Info'!EF53+'Product Info'!EI53+'Product Info'!EL53+'Product Info'!EO53+'Product Info'!ER53+'Product Info'!EU53+'Product Info'!EX53+'Product Info'!FA53+'Product Info'!FD53)","v":0},{"$f":"AI52*('Product Info'!M53)","v":0},{"$f":"AI52*'Product Info'!P53","v":0},{"$f":"AI52*'Product Info'!S53","v":0},{"$f":"AI52*'Product Info'!V53","v":0},{"$f":"AI52*'Product Info'!Y53","v":0},{"$f":"AI52*'Product Info'!AB53","v":0},{"$f":"AI52*'Product Info'!AE53","v":0},{"$f":"AI52*'Product Info'!AH53","v":0},{"$f":"AI52*'Product Info'!AK53","v":0},{"$f":"AI52*'Product Info'!AN53","v":0},{"$f":"AI52*'Product Info'!AQ53","v":0},{"$f":"AI52*'Product Info'!AT53","v":0},{"$f":"AI52*'Product Info'!AW53","v":0},{"$f":"AI52*'Product Info'!AZ53","v":0},{"$f":"AI52*'Product Info'!BC53","v":0},{"$f":"AI52*'Product Info'!BF53","v":0},{"$f":"AI52*'Product Info'!BI53","v":0},{"$f":"AI52*'Product Info'!BL53","v":0},{"$f":"AI52*'Product Info'!BO53","v":0},{"$f":"AI52*'Product Info'!BR53","v":0},{"$f":"AI52*'Product Info'!BU53","v":0},{"$f":"AI52*'Product Info'!BX53","v":0}]
[{"$f":"'Product Info'!A54","v":0},{"$f":"'Product Info'!B54","v":0},{"$f":"'Product Info'!C54","v":0},null,null,null,null,null,null,null,null,null,null,null,null,null,null,null,null,null,null,null,null,null,null,null,null,null,null,null,null,null,null,null,0,{"$f":"'Product Info'!F54*('Daily Info (July)'!AI53)","v":0},null,null,{"$f":"AI53*('Product Info'!H54)","v":0},{"$f":"AI53*('Product Info'!M54+'Product Info'!P54+'Product Info'!S54+'Product Info'!V54+'Product Info'!Y54+'Product Info'!AB54+'Product Info'!AE54+'Product Info'!AH54+'Product Info'!AK54+'Product Info'!AN54+'Product Info'!AQ54+'Product Info'!AT54+'Product Info'!AW54+'Product Info'!AZ54+'Product Info'!BC54+'Product Info'!BF54+'Product Info'!BI54+'Product Info'!BL54+'Product Info'!BO54+'Product Info'!BR54+'Product Info'!BU54+'Product Info'!BX54+'Product Info'!CA54+'Product Info'!CD54+'Product Info'!CG54+'Product Info'!CJ54+'Product Info'!CM54+'Product Info'!CP54+'Product Info'!CS54+'Product Info'!CV54+'Product Info'!CY54+'Product Info'!DB54+'Product Info'!DE54+'Product Info'!DH54+'Product Info'!DK54+'Product Info'!DN54+'Product Info'!DQ54+'Product Info'!DT54+'Product Info'!DW54+'Product Info'!DZ54+'Product Info'!EC54+'Product Info'!EF54+'Product Info'!EI54+'Product Info'!EL54+'Product Info'!EO54+'Product Info'!ER54+'Product Info'!EU54+'Product Info'!EX54+'Product Info'!FA54+'Product Info'!FD54)","v":0},{"$f":"AI53*('Product Info'!M54)","v":0},{"$f":"AI53*'Product Info'!P54","v":0},{"$f":"AI53*'Product Info'!S54","v":0},{"$f":"AI53*'Product Info'!V54","v":0},{"$f":"AI53*'Product Info'!Y54","v":0},{"$f":"AI53*'Product Info'!AB54","v":0},{"$f":"AI53*'Product Info'!AE54","v":0},{"$f":"AI53*'Product Info'!AH54","v":0},{"$f":"AI53*'Product Info'!AK54","v":0},{"$f":"AI53*'Product Info'!AN54","v":0},{"$f":"AI53*'Product Info'!AQ54","v":0},{"$f":"AI53*'Product Info'!AT54","v":0},{"$f":"AI53*'Product Info'!AW54","v":0},{"$f":"AI53*'Product Info'!AZ54","v":0},{"$f":"AI53*'Product Info'!BC54","v":0},{"$f":"AI53*'Product Info'!BF54","v":0},{"$f":"AI53*'Product Info'!BI54","v":0},{"$f":"AI53*'Product Info'!BL54","v":0},{"$f":"AI53*'Product Info'!BO54","v":0},{"$f":"AI53*'Product Info'!BR54","v":0},{"$f":"AI53*'Product Info'!BU54","v":0},{"$f":"AI53*'Product Info'!BX54","v":0}]
[{"$f":"'Product Info'!A55","v":0},{"$f":"'Product Info'!B55","v":0},{"$f":"'Product Info'!C55","v":0},null,null,null,null,null,null,null,null,null,null,null,null,null,null,null,null,null,null,null,null,null,null,null,null,null,null,null,null,null,null,null,0,{"$f":"'Product Info'!F55*('Daily Info (July)'!AI54)","v":0},null,null,{"$f":"AI54*('Product Info'!H55)","v":0},{"$f":"AI54*('Product Info'!M55+'Product Info'!P55+'Product Info'!S55+'Product Info'!V55+'Product Info'!Y55+'Product Info'!AB55+'Product Info'!AE55+'Product Info'!AH55+'Product Info'!AK55+'Product Info'!AN55+'Product Info'!AQ55+'Product Info'!AT55+'Product Info'!AW55+'Product Info'!AZ55+'Product Info'!BC55+'Product Info'!BF55+'Product Info'!BI55+'Product Info'!BL55+'Product Info'!BO55+'Product Info'!BR55+'Product Info'!BU55+'Product Info'!BX55+'Product Info'!CA55+'Product Info'!CD55+'Product Info'!CG55+'Product Info'!CJ55+'Product Info'!CM55+'Product Info'!CP55+'Product Info'!CS55+'Product Info'!CV55+'Product Info'!CY55+'Product Info'!DB55+'Product Info'!DE55+'Product Info'!DH55+'Product Info'!DK55+'Product Info'!DN55+'Product Info'!DQ55+'Product Info'!DT55+'Product Info'!DW55+'Product Info'!DZ55+'Product Info'!EC55+'Product Info'!EF55+'Product Info'!EI55+'Product Info'!EL55+'Product Info'!EO55+'Product Info'!ER55+'Product Info'!EU55+'Product Info'!EX55+'Product Info'!FA55+'Product Info'!FD55)","v":0},{"$f":"AI54*('Product Info'!M55)","v":0},{"$f":"AI54*'Product Info'!P55","v":0},{"$f":"AI54*'Product Info'!S55","v":0},{"$f":"AI54*'Product Info'!V55","v":0},{"$f":"AI54*'Product Info'!Y55","v":0},{"$f":"AI54*'Product Info'!AB55","v":0},{"$f":"AI54*'Product Info'!AE55","v":0},{"$f":"AI54*'Product Info'!AH55","v":0},{"$f":"AI54*'Product Info'!AK55","v":0},{"$f":"AI54*'Product Info'!AN55","v":0},{"$f":"AI54*'Product Info'!AQ55","v":0},{"$f":"AI54*'Product Info'!AT55","v":0},{"$f":"AI54*'Product Info'!AW55","v":0},{"$f":"AI54*'Product Info'!AZ55","v":0},{"$f":"AI54*'Product Info'!BC55","v":0},{"$f":"AI54*'Product Info'!BF55","v":0},{"$f":"AI54*'Product Info'!BI55","v":0},{"$f":"AI54*'Product Info'!BL55","v":0},{"$f":"AI54*'Product Info'!BO55","v":0},{"$f":"AI54*'Product Info'!BR55","v":0},{"$f":"AI54*'Product Info'!BU55","v":0},{"$f":"AI54*'Product Info'!BX55","v":0}]
[{"$f":"'Product Info'!A56","v":0},{"$f":"'Product Info'!B56","v":0},{"$f":"'Product Info'!C56","v":0},null,null,null,null,null,null,null,null,null,null,null,null,null,null,null,null,null,null,null,null,null,null,null,null,null,null,null,null,null,null,null,0,{"$f":"'Product Info'!F56*('Daily Info (July)'!AI55)","v":0},null,null,{"$f":"AI55*('Product Info'!H56)","v":0},{"$f":"AI55*('Product Info'!M56+'Product Info'!P56+'Product Info'!S56+'Product Info'!V56+'Product Info'!Y56+'Product Info'!AB56+'Product Info'!AE56+'Product Info'!AH56+'Product Info'!AK56+'Product Info'!AN56+'Product Info'!AQ56+'Product Info'!AT56+'Product Info'!AW56+'Product Info'!AZ56+'Product Info'!BC56+'Product Info'!BF56+'Product Info'!BI56+'Product Info'!BL56+'Product Info'!BO56+'Product Info'!BR56+'Product Info'!BU56+'Product Info'!BX56+'Product Info'!CA56+'Product Info'!CD56+'Product Info'!CG56+'Product Info'!CJ56+'Product Info'!CM56+'Product Info'!CP56+'Product Info'!CS56+'Product Info'!CV56+'Product Info'!CY56+'Product Info'!DB56+'Product Info'!DE56+'Product Info'!DH56+'Product Info'!DK56+'Product Info'!DN56+'Product Info'!DQ56+'Product Info'!DT56+'Product Info'!DW56+'Product Info'!DZ56+'Product Info'!EC56+'Product Info'!EF56+'Product Info'!EI56+'Product Info'!EL56+'Product Info'!EO56+'Product Info'!ER56+'Product Info'!EU56+'Product Info'!EX56+'Product Info'!FA56+'Product Info'!FD56)","v":0},{"$f":"AI55*('Product Info'!M56)","v":0},{"$f":"AI55*'Product Info'!P56","v":0},{"$f":"AI55*'Product Info'!S56","v":0},{"$f":"AI55*'Product Info'!V56","v":0},{"$f":"AI55*'Product Info'!Y56","v":0},{"$f":"AI55*'Product Info'!AB56","v":0},{"$f":"AI55*'Product Info'!AE56","v":0},{"$f":"AI55*'Product Info'!AH56","v":0},{"$f":"AI55*'Product Info'!AK56","v":0},{"$f":"AI55*'Product Info'!AN56","v":0},{"$f":"AI55*'Product Info'!AQ56","v":0},{"$f":"AI55*'Product Info'!AT56","v":0},{"$f":"AI55*'Product Info'!AW56","v":0},{"$f":"AI55*'Product Info'!AZ56","v":0},{"$f":"AI55*'Product Info'!BC56","v":0},{"$f":"AI55*'Product Info'!BF56","v":0},{"$f":"AI55*'Product Info'!BI56","v":0},{"$f":"AI55*'Product Info'!BL56","v":0},{"$f":"AI55*'Product Info'!BO56","v":0},{"$f":"AI55*'Product Info'!BR56","v":0},{"$f":"AI55*'Product Info'!BU56","v":0},{"$f":"AI55*'Product Info'!BX56","v":0}]
[{"$f":"'Product Info'!A57","v":0},{"$f":"'Product Info'!B57","v":0},{"$f":"'Product Info'!C57","v":0},null,null,null,null,null,null,null,null,null,null,null,null,null,null,null,null,null,null,null,null,null,null,null,null,null,null,null,null,null,null,null,0,{"$f":"'Product Info'!F57*('Daily Info (July)'!AI56)","v":0},null,null,{"$f":"AI56*('Product Info'!H57)","v":0},{"$f":"AI56*('Product Info'!M57+'Product Info'!P57+'Product Info'!S57+'Product Info'!V57+'Product Info'!Y57+'Product Info'!AB57+'Product Info'!AE57+'Product Info'!AH57+'Product Info'!AK57+'Product Info'!AN57+'Product Info'!AQ57+'Product Info'!AT57+'Product Info'!AW57+'Product Info'!AZ57+'Product Info'!BC57+'Product Info'!BF57+'Product Info'!BI57+'Product Info'!BL57+'Product Info'!BO57+'Product Info'!BR57+'Product Info'!BU57+'Product Info'!BX57+'Product Info'!CA57+'Product Info'!CD57+'Product Info'!CG57+'Product Info'!CJ57+'Product Info'!CM57+'Product Info'!CP57+'Product Info'!CS57+'Product Info'!CV57+'Product Info'!CY57+'Product Info'!DB57+'Product Info'!DE57+'Product Info'!DH57+'Product Info'!DK57+'Product Info'!DN57+'Product Info'!DQ57+'Product Info'!DT57+'Product Info'!DW57+'Product Info'!DZ57+'Product Info'!EC57+'Product Info'!EF57+'Product Info'!EI57+'Product Info'!EL57+'Product Info'!EO57+'Product Info'!ER57+'Product Info'!EU57+'Product Info'!EX57+'Product Info'!FA57+'Product Info'!FD57)","v":0},{"$f":"AI56*('Product Info'!M57)","v":0},{"$f":"AI56*'Product Info'!P57","v":0},{"$f":"AI56*'Product Info'!S57","v":0},{"$f":"AI56*'Product Info'!V57","v":0},{"$f":"AI56*'Product Info'!Y57","v":0},{"$f":"AI56*'Product Info'!AB57","v":0},{"$f":"AI56*'Product Info'!AE57","v":0},{"$f":"AI56*'Product Info'!AH57","v":0},{"$f":"AI56*'Product Info'!AK57","v":0},{"$f":"AI56*'Product Info'!AN57","v":0},{"$f":"AI56*'Product Info'!AQ57","v":0},{"$f":"AI56*'Product Info'!AT57","v":0},{"$f":"AI56*'Product Info'!AW57","v":0},{"$f":"AI56*'Product Info'!AZ57","v":0},{"$f":"AI56*'Product Info'!BC57","v":0},{"$f":"AI56*'Product Info'!BF57","v":0},{"$f":"AI56*'Product Info'!BI57","v":0},{"$f":"AI56*'Product Info'!BL57","v":0},{"$f":"AI56*'Product Info'!BO57","v":0},{"$f":"AI56*'Product Info'!BR57","v":0},{"$f":"AI56*'Product Info'!BU57","v":0},{"$f":"AI56*'Product Info'!BX57","v":0}]
[{"$f":"'Product Info'!A58","v":0},{"$f":"'Product Info'!B58","v":0},{"$f":"'Product Info'!C58","v":0},null,null,null,null,null,null,null,null,null,null,null,null,null,null,null,null,null,null,null,null,null,null,null,null,null,null,null,null,null,null,null,0,{"$f":"'Product Info'!F58*('Daily Info (July)'!AI57)","v":0},null,null,{"$f":"AI57*('Product Info'!H58)","v":0},{"$f":"AI57*('Product Info'!M58+'Product Info'!P58+'Product Info'!S58+'Product Info'!V58+'Product Info'!Y58+'Product Info'!AB58+'Product Info'!AE58+'Product Info'!AH58+'Product Info'!AK58+'Product Info'!AN58+'Product Info'!AQ58+'Product Info'!AT58+'Product Info'!AW58+'Product Info'!AZ58+'Product Info'!BC58+'Product Info'!BF58+'Product Info'!BI58+'Product Info'!BL58+'Product Info'!BO58+'Product Info'!BR58+'Product Info'!BU58+'Product Info'!BX58+'Product Info'!CA58+'Product Info'!CD58+'Product Info'!CG58+'Product Info'!CJ58+'Product Info'!CM58+'Product Info'!CP58+'Product Info'!CS58+'Product Info'!CV58+'Product Info'!CY58+'Product Info'!DB58+'Product Info'!DE58+'Product Info'!DH58+'Product Info'!DK58+'Product Info'!DN58+'Product Info'!DQ58+'Product Info'!DT58+'Product Info'!DW58+'Product Info'!DZ58+'Product Info'!EC58+'Product Info'!EF58+'Product Info'!EI58+'Product Info'!EL58+'Product Info'!EO58+'Product Info'!ER58+'Product Info'!EU58+'Product Info'!EX58+'Product Info'!FA58+'Product Info'!FD58)","v":0},{"$f":"AI57*('Product Info'!M58)","v":0},{"$f":"AI57*'Product Info'!P58","v":0},{"$f":"AI57*'Product Info'!S58","v":0},{"$f":"AI57*'Product Info'!V58","v":0},{"$f":"AI57*'Product Info'!Y58","v":0},{"$f":"AI57*'Product Info'!AB58","v":0},{"$f":"AI57*'Product Info'!AE58","v":0},{"$f":"AI57*'Product Info'!AH58","v":0},{"$f":"AI57*'Product Info'!AK58","v":0},{"$f":"AI57*'Product Info'!AN58","v":0},{"$f":"AI57*'Product Info'!AQ58","v":0},{"$f":"AI57*'Product Info'!AT58","v":0},{"$f":"AI57*'Product Info'!AW58","v":0},{"$f":"AI57*'Product Info'!AZ58","v":0},{"$f":"AI57*'Product Info'!BC58","v":0},{"$f":"AI57*'Product Info'!BF58","v":0},{"$f":"AI57*'Product Info'!BI58","v":0},{"$f":"AI57*'Product Info'!BL58","v":0},{"$f":"AI57*'Product Info'!BO58","v":0},{"$f":"AI57*'Product Info'!BR58","v":0},{"$f":"AI57*'Product Info'!BU58","v":0},{"$f":"AI57*'Product Info'!BX58","v":0}]
[{"$f":"'Product Info'!A59","v":0},{"$f":"'Product Info'!B59","v":0},{"$f":"'Product Info'!C59","v":0},null,null,null,null,null,null,null,null,null,null,null,null,null,null,null,null,null,null,null,null,null,null,null,null,null,null,null,null,null,null,null,0,{"$f":"'Product Info'!F59*('Daily Info (July)'!AI58)","v":0},null,null,{"$f":"AI58*('Product Info'!H59)","v":0},{"$f":"AI58*('Product Info'!M59+'Product Info'!P59+'Product Info'!S59+'Product Info'!V59+'Product Info'!Y59+'Product Info'!AB59+'Product Info'!AE59+'Product Info'!AH59+'Product Info'!AK59+'Product Info'!AN59+'Product Info'!AQ59+'Product Info'!AT59+'Product Info'!AW59+'Product Info'!AZ59+'Product Info'!BC59+'Product Info'!BF59+'Product Info'!BI59+'Product Info'!BL59+'Product Info'!BO59+'Product Info'!BR59+'Product Info'!BU59+'Product Info'!BX59+'Product Info'!CA59+'Product Info'!CD59+'Product Info'!CG59+'Product Info'!CJ59+'Product Info'!CM59+'Product Info'!CP59+'Product Info'!CS59+'Product Info'!CV59+'Product Info'!CY59+'Product Info'!DB59+'Product Info'!DE59+'Product Info'!DH59+'Product Info'!DK59+'Product Info'!DN59+'Product Info'!DQ59+'Product Info'!DT59+'Product Info'!DW59+'Product Info'!DZ59+'Product Info'!EC59+'Product Info'!EF59+'Product Info'!EI59+'Product Info'!EL59+'Product Info'!EO59+'Product Info'!ER59+'Product Info'!EU59+'Product Info'!EX59+'Product Info'!FA59+'Product Info'!FD59)","v":0},{"$f":"AI58*('Product Info'!M59)","v":0},{"$f":"AI58*'Product Info'!P59","v":0},{"$f":"AI58*'Product Info'!S59","v":0},{"$f":"AI58*'Product Info'!V59","v":0},{"$f":"AI58*'Product Info'!Y59","v":0},{"$f":"AI58*'Product Info'!AB59","v":0},{"$f":"AI58*'Product Info'!AE59","v":0},{"$f":"AI58*'Product Info'!AH59","v":0},{"$f":"AI58*'Product Info'!AK59","v":0},{"$f":"AI58*'Product Info'!AN59","v":0},{"$f":"AI58*'Product Info'!AQ59","v":0},{"$f":"AI58*'Product Info'!AT59","v":0},{"$f":"AI58*'Product Info'!AW59","v":0},{"$f":"AI58*'Product Info'!AZ59","v":0},{"$f":"AI58*'Product Info'!BC59","v":0},{"$f":"AI58*'Product Info'!BF59","v":0},{"$f":"AI58*'Product Info'!BI59","v":0},{"$f":"AI58*'Product Info'!BL59","v":0},{"$f":"AI58*'Product Info'!BO59","v":0},{"$f":"AI58*'Product Info'!BR59","v":0},{"$f":"AI58*'Product Info'!BU59","v":0},{"$f":"AI58*'Product Info'!BX59","v":0}]
[{"$f":"'Product Info'!A60","v":0},{"$f":"'Product Info'!B60","v":0},{"$f":"'Product Info'!C60","v":0},null,null,null,null,null,null,null,null,null,null,null,null,null,null,null,null,null,null,null,null,null,null,null,null,null,null,null,null,null,null,null,0,{"$f":"'Product Info'!F60*('Daily Info (July)'!AI59)","v":0},null,null,{"$f":"AI59*('Product Info'!H60)","v":0},{"$f":"AI59*('Product Info'!M60+'Product Info'!P60+'Product Info'!S60+'Product Info'!V60+'Product Info'!Y60+'Product Info'!AB60+'Product Info'!AE60+'Product Info'!AH60+'Product Info'!AK60+'Product Info'!AN60+'Product Info'!AQ60+'Product Info'!AT60+'Product Info'!AW60+'Product Info'!AZ60+'Product Info'!BC60+'Product Info'!BF60+'Product Info'!BI60+'Product Info'!BL60+'Product Info'!BO60+'Product Info'!BR60+'Product Info'!BU60+'Product Info'!BX60+'Product Info'!CA60+'Product Info'!CD60+'Product Info'!CG60+'Product Info'!CJ60+'Product Info'!CM60+'Product Info'!CP60+'Product Info'!CS60+'Product Info'!CV60+'Product Info'!CY60+'Product Info'!DB60+'Product Info'!DE60+'Product Info'!DH60+'Product Info'!DK60+'Product Info'!DN60+'Product Info'!DQ60+'Product Info'!DT60+'Product Info'!DW60+'Product Info'!DZ60+'Product Info'!EC60+'Product Info'!EF60+'Product Info'!EI60+'Product Info'!EL60+'Product Info'!EO60+'Product Info'!ER60+'Product Info'!EU60+'Product Info'!EX60+'Product Info'!FA60+'Product Info'!FD60)","v":0},{"$f":"AI59*('Product Info'!M60)","v":0},{"$f":"AI59*'Product Info'!P60","v":0},{"$f":"AI59*'Product Info'!S60","v":0},{"$f":"AI59*'Product Info'!V60","v":0},{"$f":"AI59*'Product Info'!Y60","v":0},{"$f":"AI59*'Product Info'!AB60","v":0},{"$f":"AI59*'Product Info'!AE60","v":0},{"$f":"AI59*'Product Info'!AH60","v":0},{"$f":"AI59*'Product Info'!AK60","v":0},{"$f":"AI59*'Product Info'!AN60","v":0},{"$f":"AI59*'Product Info'!AQ60","v":0},{"$f":"AI59*'Product Info'!AT60","v":0},{"$f":"AI59*'Product Info'!AW60","v":0},{"$f":"AI59*'Product Info'!AZ60","v":0},{"$f":"AI59*'Product Info'!BC60","v":0},{"$f":"AI59*'Product Info'!BF60","v":0},{"$f":"AI59*'Product Info'!BI60","v":0},{"$f":"AI59*'Product Info'!BL60","v":0},{"$f":"AI59*'Product Info'!BO60","v":0},{"$f":"AI59*'Product Info'!BR60","v":0},{"$f":"AI59*'Product Info'!BU60","v":0},{"$f":"AI59*'Product Info'!BX60","v":0}]
[{"$f":"'Product Info'!A61","v":0},{"$f":"'Product Info'!B61","v":0},{"$f":"'Product Info'!C61","v":0},null,null,null,null,null,null,null,null,null,null,null,null,null,null,null,null,null,null,null,null,null,null,null,null,null,null,null,null,null,null,null,0,{"$f":"'Product Info'!F61*('Daily Info (July)'!AI60)","v":0},null,null,{"$f":"AI60*('Product Info'!H61)","v":0},{"$f":"AI60*('Product Info'!M61+'Product Info'!P61+'Product Info'!S61+'Product Info'!V61+'Product Info'!Y61+'Product Info'!AB61+'Product Info'!AE61+'Product Info'!AH61+'Product Info'!AK61+'Product Info'!AN61+'Product Info'!AQ61+'Product Info'!AT61+'Product Info'!AW61+'Product Info'!AZ61+'Product Info'!BC61+'Product Info'!BF61+'Product Info'!BI61+'Product Info'!BL61+'Product Info'!BO61+'Product Info'!BR61+'Product Info'!BU61+'Product Info'!BX61+'Product Info'!CA61+'Product Info'!CD61+'Product Info'!CG61+'Product Info'!CJ61+'Product Info'!CM61+'Product Info'!CP61+'Product Info'!CS61+'Product Info'!CV61+'Product Info'!CY61+'Product Info'!DB61+'Product Info'!DE61+'Product Info'!DH61+'Product Info'!DK61+'Product Info'!DN61+'Product Info'!DQ61+'Product Info'!DT61+'Product Info'!DW61+'Product Info'!DZ61+'Product Info'!EC61+'Product Info'!EF61+'Product Info'!EI61+'Product Info'!EL61+'Product Info'!EO61+'Product Info'!ER61+'Product Info'!EU61+'Product Info'!EX61+'Product Info'!FA61+'Product Info'!FD61)","v":0},{"$f":"AI60*('Product Info'!M61)","v":0},{"$f":"AI60*'Product Info'!P61","v":0},{"$f":"AI60*'Product Info'!S61","v":0},{"$f":"AI60*'Product Info'!V61","v":0},{"$f":"AI60*'Product Info'!Y61","v":0},{"$f":"AI60*'Product Info'!AB61","v":0},{"$f":"AI60*'Product Info'!AE61","v":0},{"$f":"AI60*'Product Info'!AH61","v":0},{"$f":"AI60*'Product Info'!AK61","v":0},{"$f":"AI60*'Product Info'!AN61","v":0},{"$f":"AI60*'Product Info'!AQ61","v":0},{"$f":"AI60*'Product Info'!AT61","v":0},{"$f":"AI60*'Product Info'!AW61","v":0},{"$f":"AI60*'Product Info'!AZ61","v":0},{"$f":"AI60*'Product Info'!BC61","v":0},{"$f":"AI60*'Product Info'!BF61","v":0},{"$f":"AI60*'Product Info'!BI61","v":0},{"$f":"AI60*'Product Info'!BL61","v":0},{"$f":"AI60*'Product Info'!BO61","v":0},{"$f":"AI60*'Product Info'!BR61","v":0},{"$f":"AI60*'Product Info'!BU61","v":0},{"$f":"AI60*'Product Info'!BX61","v":0}]
[{"$f":"'Product Info'!A62","v":0},{"$f":"'Product Info'!B62","v":0},{"$f":"'Product Info'!C62","v":0},null,null,null,null,null,null,null,null,null,null,null,null,null,null,null,null,null,null,null,null,null,null,null,null,null,null,null,null,null,null,null,0,{"$f":"'Product Info'!F62*('Daily Info (July)'!AI61)","v":0},null,null,{"$f":"AI61*('Product Info'!H62)","v":0},{"$f":"AI61*('Product Info'!M62+'Product Info'!P62+'Product Info'!S62+'Product Info'!V62+'Product Info'!Y62+'Product Info'!AB62+'Product Info'!AE62+'Product Info'!AH62+'Product Info'!AK62+'Product Info'!AN62+'Product Info'!AQ62+'Product Info'!AT62+'Product Info'!AW62+'Product Info'!AZ62+'Product Info'!BC62+'Product Info'!BF62+'Product Info'!BI62+'Product Info'!BL62+'Product Info'!BO62+'Product Info'!BR62+'Product Info'!BU62+'Product Info'!BX62+'Product Info'!CA62+'Product Info'!CD62+'Product Info'!CG62+'Product Info'!CJ62+'Product Info'!CM62+'Product Info'!CP62+'Product Info'!CS62+'Product Info'!CV62+'Product Info'!CY62+'Product Info'!DB62+'Product Info'!DE62+'Product Info'!DH62+'Product Info'!DK62+'Product Info'!DN62+'Product Info'!DQ62+'Product Info'!DT62+'Product Info'!DW62+'Product Info'!DZ62+'Product Info'!EC62+'Product Info'!EF62+'Product Info'!EI62+'Product Info'!EL62+'Product Info'!EO62+'Product Info'!ER62+'Product Info'!EU62+'Product Info'!EX62+'Product Info'!FA62+'Product Info'!FD62)","v":0},{"$f":"AI61*('Product Info'!M62)","v":0},{"$f":"AI61*'Product Info'!P62","v":0},{"$f":"AI61*'Product Info'!S62","v":0},{"$f":"AI61*'Product Info'!V62","v":0},{"$f":"AI61*'Product Info'!Y62","v":0},{"$f":"AI61*'Product Info'!AB62","v":0},{"$f":"AI61*'Product Info'!AE62","v":0},{"$f":"AI61*'Product Info'!AH62","v":0},{"$f":"AI61*'Product Info'!AK62","v":0},{"$f":"AI61*'Product Info'!AN62","v":0},{"$f":"AI61*'Product Info'!AQ62","v":0},{"$f":"AI61*'Product Info'!AT62","v":0},{"$f":"AI61*'Product Info'!AW62","v":0},{"$f":"AI61*'Product Info'!AZ62","v":0},{"$f":"AI61*'Product Info'!BC62","v":0},{"$f":"AI61*'Product Info'!BF62","v":0},{"$f":"AI61*'Product Info'!BI62","v":0},{"$f":"AI61*'Product Info'!BL62","v":0},{"$f":"AI61*'Product Info'!BO62","v":0},{"$f":"AI61*'Product Info'!BR62","v":0},{"$f":"AI61*'Product Info'!BU62","v":0},{"$f":"AI61*'Product Info'!BX62","v":0}]
["TOTALS for July",null,null,null,null,null,null,null,null,null,null,null,null,null,null,null,null,null,null,null,null,null,null,null,null,null,null,null,null,null,null,null,null,null,{"$f":"SUM(AI4:AI18)","v":0},{"$f":"SUM(AJ4:AJ18)","v":0},null,null,{"$f":"SUM(AM4:AM18)","v":0},{"$f":"SUM(AN4:AN18)","v":0},0,0,0,0,0,0,0,0,0,0,0,0,0,0,0,0,0,0,0,0,0,0]

{"sheet":"Daily Info (August)","index":9,"n_rows":62,"n_cols":62,"rows_kept":62,"cut":false,"hidden":false,"merged":[[0,3,0,12],[0,38,0,39],[61,0,61,1],[61,3,61,33],[3,35,3,36],[4,35,4,36],[1,35,1,36],[5,35,5,36],[6,35,6,36],[7,35,7,36],[19,35,19,36],[8,35,8,36],[9,35,9,36],[10,35,10,36],[11,35,11,36],[12,35,12,36],[13,35,13,36],[14,35,14,36],[15,35,15,36],[16,35,16,36],[17,35,17,36],[18,35,18,36],[31,35,31,36],[20,35,20,36],[21,35,21,36],[22,35,22,36],[23,35,23,36],[24,35,24,36],[25,35,25,36],[26,35,26,36],[27,35,27,36],[28,35,28,36],[29,35,29,36],[30,35,30,36],[43,35,43,36],[32,35,32,36],[33,35,33,36],[34,35,34,36],[35,35,35,36],[36,35,36,36],[37,35,37,36],[38,35,38,36],[39,35,39,36],[40,35,40,36],[41,35,41,36],[42,35,42,36],[55,35,55,36],[44,35,44,36],[45,35,45,36],[46,35,46,36],[47,35,47,36],[48,35,48,36],[49,35,49,36],[50,35,50,36],[51,35,51,36],[52,35,52,36],[53,35,53,36],[54,35,54,36],[60,35,60,36],[61,35,61,36],[56,35,56,36],[57,35,57,36],[58,35,58,36],[59,35,59,36]]}
["Main Menu","VOC Product Information",null,"Daily Usage (gal)",null,null,null,null,null,null,null,null,null,null,null,null,null,null,null,null,null,null,null,null,null,"Daily Usage (gal)",null,null,null,null,null,null,null,null,null,null,null,null,"Emissions"]
["Product Number","Product Name","Product Type","2006-08-01","2006-08-02","2006-08-03","2006-08-04","2006-08-05","2006-08-06","2006-08-07","2006-08-08","2006-08-09","2006-08-10","2006-08-11","2006-08-12","2006-08-13","2006-08-14","2006-08-15","2006-08-16","2006-08-17","2006-08-18","2006-08-19","2006-08-20","2006-08-21","2006-08-22","2006-08-23","2006-08-24","2006-08-25","2006-08-26","2006-08-27","2006-08-28","2006-08-29","2006-08-30","2006-08-31","Total Usage (gal)","Total Usage (lbs)",null,null,"Pounds VOCs Emitted","Pounds Total HAPs Emitted",{"$f":"'Product Info'!K3","v":0},{"$f":"'Product Info'!N3","v":0},{"$f":"'Product Info'!Q3","v":0},{"$f":"'Product Info'!T3","v":0},{"$f":"'Product Info'!W3","v":0},{"$f":"'Product Info'!Z3","v":0},{"$f":"'Product Info'!AC3","v":0},{"$f":"'Product Info'!AF3","v":0},{"$f":"'Product Info'!AI3","v":0},{"$f":"'Product Info'!AL3","v":0},{"$f":"'Product Info'!AO3","v":0},{"$f":"'Product Info'!AR3","v":0},{"$f":"'Product Info'!AU3","v":0},{"$f":"'Product Info'!AX3","v":0},{"$f":"'Product Info'!BA3","v":0},{"$f":"'Product Info'!BD3","v":0},{"$f":"'Product Info'!BG3","v":0},{"$f":"'Product Info'!BJ3","v":0},{"$f":"'Product Info'!BM3","v":0},{"$f":"'Product Info'!BP3","v":0},{"$f":"'Product Info'!BS3","v":0},{"$f":"'Product Info'!BV3","v":0}]
[]
[{"$f":"'Product Info'!A5","v":0},{"$f":"'Product Info'!B5","v":0},{"$f":"'Product Info'!C5","v":0},null,null,null,null,null,null,null,null,null,null,null,null,null,null,null,null,null,null,null,null,null,null,null,null,null,null,null,null,null,null,null,{"$f":"SUM(D4:AH4)","v":0},{"$f":"'Product Info'!F5*('Daily Info (August)'!AI4)","v":0},null,null,{"$f":"AI4*('Product Info'!H5)","v":0},{"$f":"AI4*('Product Info'!M5+'Product Info'!P5+'Product Info'!S5+'Product Info'!V5+'Product Info'!Y5+'Product Info'!AB5+'Product Info'!AE5+'Product Info'!AH5+'Product Info'!AK5+'Product Info'!AN5+'Product Info'!AQ5+'Product Info'!AT5+'Product Info'!AW5+'Product Info'!AZ5+'Product Info'!BC5+'Product Info'!BF5+'Product Info'!BI5+'Product Info'!BL5+'Product Info'!BO5+'Product Info'!BR5+'Product Info'!BU5+'Product Info'!BX5+'Product Info'!CA5+'Product Info'!CD5+'Product Info'!CG5+'Product Info'!CJ5+'Product Info'!CM5+'Product Info'!CP5+'Product Info'!CS5+'Product Info'!CV5+'Product Info'!CY5+'Product Info'!DB5+'Product Info'!DE5+'Product Info'!DH5+'Product Info'!DK5+'Product Info'!DN5+'Product Info'!DQ5+'Product Info'!DT5+'Product Info'!DW5+'Product Info'!DZ5+'Product Info'!EC5+'Product Info'!EF5+'Product Info'!EI5+'Product Info'!EL5+'Product Info'!EO5+'Product Info'!ER5+'Product Info'!EU5+'Product Info'!EX5+'Product Info'!FA5+'Product Info'!FD5)","v":0},{"$f":"AI4*('Product Info'!M5)","v":0},{"$f":"AI4*'Product Info'!P5","v":0},{"$f":"AI4*'Product Info'!S5","v":0},{"$f":"AI4*'Product Info'!V5","v":0},{"$f":"AI4*'Product Info'!Y5","v":0},{"$f":"AI4*'Product Info'!AB5","v":0},{"$f":"AI4*'Product Info'!AE5","v":0},{"$f":"AI4*'Product Info'!AH5","v":0},{"$f":"AI4*'Product Info'!AK5","v":0},{"$f":"AI4*'Product Info'!AN5","v":0},{"$f":"AI4*'Product Info'!AQ5","v":0},{"$f":"AI4*'Product Info'!AT5","v":0},{"$f":"AI4*'Product Info'!AW5","v":0},{"$f":"AI4*'Product Info'!AZ5","v":0},{"$f":"AI4*'Product Info'!BC5","v":0},{"$f":"AI4*'Product Info'!BF5","v":0},{"$f":"AI4*'Product Info'!BI5","v":0},{"$f":"AI4*'Product Info'!BL5","v":0},{"$f":"AI4*'Product Info'!BO5","v":0},{"$f":"AI4*'Product Info'!BR5","v":0},{"$f":"AI4*'Product Info'!BU5","v":0},{"$f":"AI4*'Product Info'!BX5","v":0}]
[{"$f":"'Product Info'!A6","v":0},{"$f":"'Product Info'!B6","v":0},{"$f":"'Product Info'!C6","v":0},null,null,null,null,null,null,null,null,null,null,null,null,null,null,null,null,null,null,null,null,null,null,null,null,null,null,null,null,null,null,null,0,{"$f":"'Product Info'!F6*('Daily Info (August)'!AI5)","v":0},null,null,{"$f":"AI5*('Product Info'!H6)","v":0},{"$f":"AI5*('Product Info'!M6+'Product Info'!P6+'Product Info'!S6+'Product Info'!V6+'Product Info'!Y6+'Product Info'!AB6+'Product Info'!AE6+'Product Info'!AH6+'Product Info'!AK6+'Product Info'!AN6+'Product Info'!AQ6+'Product Info'!AT6+'Product Info'!AW6+'Product Info'!AZ6+'Product Info'!BC6+'Product Info'!BF6+'Product Info'!BI6+'Product Info'!BL6+'Product Info'!BO6+'Product Info'!BR6+'Product Info'!BU6+'Product Info'!BX6+'Product Info'!CA6+'Product Info'!CD6+'Product Info'!CG6+'Product Info'!CJ6+'Product Info'!CM6+'Product Info'!CP6+'Product Info'!CS6+'Product Info'!CV6+'Product Info'!CY6+'Product Info'!DB6+'Product Info'!DE6+'Product Info'!DH6+'Product Info'!DK6+'Product Info'!DN6+'Product Info'!DQ6+'Product Info'!DT6+'Product Info'!DW6+'Product Info'!DZ6+'Product Info'!EC6+'Product Info'!EF6+'Product Info'!EI6+'Product Info'!EL6+'Product Info'!EO6+'Product Info'!ER6+'Product Info'!EU6+'Product Info'!EX6+'Product Info'!FA6+'Product Info'!FD6)","v":0},{"$f":"AI5*('Product Info'!M6)","v":0},{"$f":"AI5*'Product Info'!P6","v":0},{"$f":"AI5*'Product Info'!S6","v":0},{"$f":"AI5*'Product Info'!V6","v":0},{"$f":"AI5*'Product Info'!Y6","v":0},{"$f":"AI5*'Product Info'!AB6","v":0},{"$f":"AI5*'Product Info'!AE6","v":0},{"$f":"AI5*'Product Info'!AH6","v":0},{"$f":"AI5*'Product Info'!AK6","v":0},{"$f":"AI5*'Product Info'!AN6","v":0},{"$f":"AI5*'Product Info'!AQ6","v":0},{"$f":"AI5*'Product Info'!AT6","v":0},{"$f":"AI5*'Product Info'!AW6","v":0},{"$f":"AI5*'Product Info'!AZ6","v":0},{"$f":"AI5*'Product Info'!BC6","v":0},{"$f":"AI5*'Product Info'!BF6","v":0},{"$f":"AI5*'Product Info'!BI6","v":0},{"$f":"AI5*'Product Info'!BL6","v":0},{"$f":"AI5*'Product Info'!BO6","v":0},{"$f":"AI5*'Product Info'!BR6","v":0},{"$f":"AI5*'Product Info'!BU6","v":0},{"$f":"AI5*'Product Info'!BX6","v":0}]
[{"$f":"'Product Info'!A7","v":0},{"$f":"'Product Info'!B7","v":0},{"$f":"'Product Info'!C7","v":0},null,null,null,null,null,null,null,null,null,null,null,null,null,null,null,null,null,null,null,null,null,null,null,null,null,null,null,null,null,null,null,0,{"$f":"'Product Info'!F7*('Daily Info (August)'!AI6)","v":0},null,null,{"$f":"AI6*('Product Info'!H7)","v":0},{"$f":"AI6*('Product Info'!M7+'Product Info'!P7+'Product Info'!S7+'Product Info'!V7+'Product Info'!Y7+'Product Info'!AB7+'Product Info'!AE7+'Product Info'!AH7+'Product Info'!AK7+'Product Info'!AN7+'Product Info'!AQ7+'Product Info'!AT7+'Product Info'!AW7+'Product Info'!AZ7+'Product Info'!BC7+'Product Info'!BF7+'Product Info'!BI7+'Product Info'!BL7+'Product Info'!BO7+'Product Info'!BR7+'Product Info'!BU7+'Product Info'!BX7+'Product Info'!CA7+'Product Info'!CD7+'Product Info'!CG7+'Product Info'!CJ7+'Product Info'!CM7+'Product Info'!CP7+'Product Info'!CS7+'Product Info'!CV7+'Product Info'!CY7+'Product Info'!DB7+'Product Info'!DE7+'Product Info'!DH7+'Product Info'!DK7+'Product Info'!DN7+'Product Info'!DQ7+'Product Info'!DT7+'Product Info'!DW7+'Product Info'!DZ7+'Product Info'!EC7+'Product Info'!EF7+'Product Info'!EI7+'Product Info'!EL7+'Product Info'!EO7+'Product Info'!ER7+'Product Info'!EU7+'Product Info'!EX7+'Product Info'!FA7+'Product Info'!FD7)","v":0},{"$f":"AI6*('Product Info'!M7)","v":0},{"$f":"AI6*'Product Info'!P7","v":0},{"$f":"AI6*'Product Info'!S7","v":0},{"$f":"AI6*'Product Info'!V7","v":0},{"$f":"AI6*'Product Info'!Y7","v":0},{"$f":"AI6*'Product Info'!AB7","v":0},{"$f":"AI6*'Product Info'!AE7","v":0},{"$f":"AI6*'Product Info'!AH7","v":0},{"$f":"AI6*'Product Info'!AK7","v":0},{"$f":"AI6*'Product Info'!AN7","v":0},{"$f":"AI6*'Product Info'!AQ7","v":0},{"$f":"AI6*'Product Info'!AT7","v":0},{"$f":"AI6*'Product Info'!AW7","v":0},{"$f":"AI6*'Product Info'!AZ7","v":0},{"$f":"AI6*'Product Info'!BC7","v":0},{"$f":"AI6*'Product Info'!BF7","v":0},{"$f":"AI6*'Product Info'!BI7","v":0},{"$f":"AI6*'Product Info'!BL7","v":0},{"$f":"AI6*'Product Info'!BO7","v":0},{"$f":"AI6*'Product Info'!BR7","v":0},{"$f":"AI6*'Product Info'!BU7","v":0},{"$f":"AI6*'Product Info'!BX7","v":0}]
[{"$f":"'Product Info'!A8","v":0},{"$f":"'Product Info'!B8","v":0},{"$f":"'Product Info'!C8","v":0},null,null,null,null,null,null,null,null,null,null,null,null,null,null,null,null,null,null,null,null,null,null,null,null,null,null,null,null,null,null,null,0,{"$f":"'Product Info'!F8*('Daily Info (August)'!AI7)","v":0},null,null,{"$f":"AI7*('Product Info'!H8)","v":0},{"$f":"AI7*('Product Info'!M8+'Product Info'!P8+'Product Info'!S8+'Product Info'!V8+'Product Info'!Y8+'Product Info'!AB8+'Product Info'!AE8+'Product Info'!AH8+'Product Info'!AK8+'Product Info'!AN8+'Product Info'!AQ8+'Product Info'!AT8+'Product Info'!AW8+'Product Info'!AZ8+'Product Info'!BC8+'Product Info'!BF8+'Product Info'!BI8+'Product Info'!BL8+'Product Info'!BO8+'Product Info'!BR8+'Product Info'!BU8+'Product Info'!BX8+'Product Info'!CA8+'Product Info'!CD8+'Product Info'!CG8+'Product Info'!CJ8+'Product Info'!CM8+'Product Info'!CP8+'Product Info'!CS8+'Product Info'!CV8+'Product Info'!CY8+'Product Info'!DB8+'Product Info'!DE8+'Product Info'!DH8+'Product Info'!DK8+'Product Info'!DN8+'Product Info'!DQ8+'Product Info'!DT8+'Product Info'!DW8+'Product Info'!DZ8+'Product Info'!EC8+'Product Info'!EF8+'Product Info'!EI8+'Product Info'!EL8+'Product Info'!EO8+'Product Info'!ER8+'Product Info'!EU8+'Product Info'!EX8+'Product Info'!FA8+'Product Info'!FD8)","v":0},{"$f":"AI7*('Product Info'!M8)","v":0},{"$f":"AI7*'Product Info'!P8","v":0},{"$f":"AI7*'Product Info'!S8","v":0},{"$f":"AI7*'Product Info'!V8","v":0},{"$f":"AI7*'Product Info'!Y8","v":0},{"$f":"AI7*'Product Info'!AB8","v":0},{"$f":"AI7*'Product Info'!AE8","v":0},{"$f":"AI7*'Product Info'!AH8","v":0},{"$f":"AI7*'Product Info'!AK8","v":0},{"$f":"AI7*'Product Info'!AN8","v":0},{"$f":"AI7*'Product Info'!AQ8","v":0},{"$f":"AI7*'Product Info'!AT8","v":0},{"$f":"AI7*'Product Info'!AW8","v":0},{"$f":"AI7*'Product Info'!AZ8","v":0},{"$f":"AI7*'Product Info'!BC8","v":0},{"$f":"AI7*'Product Info'!BF8","v":0},{"$f":"AI7*'Product Info'!BI8","v":0},{"$f":"AI7*'Product Info'!BL8","v":0},{"$f":"AI7*'Product Info'!BO8","v":0},{"$f":"AI7*'Product Info'!BR8","v":0},{"$f":"AI7*'Product Info'!BU8","v":0},{"$f":"AI7*'Product Info'!BX8","v":0}]
[{"$f":"'Product Info'!A9","v":0},{"$f":"'Product Info'!B9","v":0},{"$f":"'Product Info'!C9","v":0},null,null,null,null,null,null,null,null,null,null,null,null,null,null,null,null,null,null,null,null,null,null,null,null,null,null,null,null,null,null,null,0,{"$f":"'Product Info'!F9*('Daily Info (August)'!AI8)","v":0},null,null,{"$f":"AI8*('Product Info'!H9)","v":0},{"$f":"AI8*('Product Info'!M9+'Product Info'!P9+'Product Info'!S9+'Product Info'!V9+'Product Info'!Y9+'Product Info'!AB9+'Product Info'!AE9+'Product Info'!AH9+'Product Info'!AK9+'Product Info'!AN9+'Product Info'!AQ9+'Product Info'!AT9+'Product Info'!AW9+'Product Info'!AZ9+'Product Info'!BC9+'Product Info'!BF9+'Product Info'!BI9+'Product Info'!BL9+'Product Info'!BO9+'Product Info'!BR9+'Product Info'!BU9+'Product Info'!BX9+'Product Info'!CA9+'Product Info'!CD9+'Product Info'!CG9+'Product Info'!CJ9+'Product Info'!CM9+'Product Info'!CP9+'Product Info'!CS9+'Product Info'!CV9+'Product Info'!CY9+'Product Info'!DB9+'Product Info'!DE9+'Product Info'!DH9+'Product Info'!DK9+'Product Info'!DN9+'Product Info'!DQ9+'Product Info'!DT9+'Product Info'!DW9+'Product Info'!DZ9+'Product Info'!EC9+'Product Info'!EF9+'Product Info'!EI9+'Product Info'!EL9+'Product Info'!EO9+'Product Info'!ER9+'Product Info'!EU9+'Product Info'!EX9+'Product Info'!FA9+'Product Info'!FD9)","v":0},{"$f":"AI8*('Product Info'!M9)","v":0},{"$f":"AI8*'Product Info'!P9","v":0},{"$f":"AI8*'Product Info'!S9","v":0},{"$f":"AI8*'Product Info'!V9","v":0},{"$f":"AI8*'Product Info'!Y9","v":0},{"$f":"AI8*'Product Info'!AB9","v":0},{"$f":"AI8*'Product Info'!AE9","v":0},{"$f":"AI8*'Product Info'!AH9","v":0},{"$f":"AI8*'Product Info'!AK9","v":0},{"$f":"AI8*'Product Info'!AN9","v":0},{"$f":"AI8*'Product Info'!AQ9","v":0},{"$f":"AI8*'Product Info'!AT9","v":0},{"$f":"AI8*'Product Info'!AW9","v":0},{"$f":"AI8*'Product Info'!AZ9","v":0},{"$f":"AI8*'Product Info'!BC9","v":0},{"$f":"AI8*'Product Info'!BF9","v":0},{"$f":"AI8*'Product Info'!BI9","v":0},{"$f":"AI8*'Product Info'!BL9","v":0},{"$f":"AI8*'Product Info'!BO9","v":0},{"$f":"AI8*'Product Info'!BR9","v":0},{"$f":"AI8*'Product Info'!BU9","v":0},{"$f":"AI8*'Product Info'!BX9","v":0}]
[{"$f":"'Product Info'!A10","v":0},{"$f":"'Product Info'!B10","v":0},{"$f":"'Product Info'!C10","v":0},null,null,null,null,null,null,null,null,null,null,null,null,null,null,null,null,null,null,null,null,null,null,null,null,null,null,null,null,null,null,null,0,{"$f":"'Product Info'!F10*('Daily Info (August)'!AI9)","v":0},null,null,{"$f":"AI9*('Product Info'!H10)","v":0},{"$f":"AI9*('Product Info'!M10+'Product Info'!P10+'Product Info'!S10+'Product Info'!V10+'Product Info'!Y10+'Product Info'!AB10+'Product Info'!AE10+'Product Info'!AH10+'Product Info'!AK10+'Product Info'!AN10+'Product Info'!AQ10+'Product Info'!AT10+'Product Info'!AW10+'Product Info'!AZ10+'Product Info'!BC10+'Product Info'!BF10+'Product Info'!BI10+'Product Info'!BL10+'Product Info'!BO10+'Product Info'!BR10+'Product Info'!BU10+'Product Info'!BX10+'Product Info'!CA10+'Product Info'!CD10+'Product Info'!CG10+'Product Info'!CJ10+'Product Info'!CM10+'Product Info'!CP10+'Product Info'!CS10+'Product Info'!CV10+'Product Info'!CY10+'Product Info'!DB10+'Product Info'!DE10+'Product Info'!DH10+'Product Info'!DK10+'Product Info'!DN10+'Product Info'!DQ10+'Product Info'!DT10+'Product Info'!DW10+'Product Info'!DZ10+'Product Info'!EC10+'Product Info'!EF10+'Product Info'!EI10+'Product Info'!EL10+'Product Info'!EO10+'Product Info'!ER10+'Product Info'!EU10+'Product Info'!EX10+'Product Info'!FA10+'Product Info'!FD10)","v":0},{"$f":"AI9*('Product Info'!M10)","v":0},{"$f":"AI9*'Product Info'!P10","v":0},{"$f":"AI9*'Product Info'!S10","v":0},{"$f":"AI9*'Product Info'!V10","v":0},{"$f":"AI9*'Product Info'!Y10","v":0},{"$f":"AI9*'Product Info'!AB10","v":0},{"$f":"AI9*'Product Info'!AE10","v":0},{"$f":"AI9*'Product Info'!AH10","v":0},{"$f":"AI9*'Product Info'!AK10","v":0},{"$f":"AI9*'Product Info'!AN10","v":0},{"$f":"AI9*'Product Info'!AQ10","v":0},{"$f":"AI9*'Product Info'!AT10","v":0},{"$f":"AI9*'Product Info'!AW10","v":0},{"$f":"AI9*'Product Info'!AZ10","v":0},{"$f":"AI9*'Product Info'!BC10","v":0},{"$f":"AI9*'Product Info'!BF10","v":0},{"$f":"AI9*'Product Info'!BI10","v":0},{"$f":"AI9*'Product Info'!BL10","v":0},{"$f":"AI9*'Product Info'!BO10","v":0},{"$f":"AI9*'Product Info'!BR10","v":0},{"$f":"AI9*'Product Info'!BU10","v":0},{"$f":"AI9*'Product Info'!BX10","v":0}]
[{"$f":"'Product Info'!A11","v":0},{"$f":"'Product Info'!B11","v":0},{"$f":"'Product Info'!C11","v":0},null,null,null,null,null,null,null,null,null,null,null,null,null,null,null,null,null,null,null,null,null,null,null,null,null,null,null,null,null,null,null,0,{"$f":"'Product Info'!F11*('Daily Info (August)'!AI10)","v":0},null,null,{"$f":"AI10*('Product Info'!H11)","v":0},{"$f":"AI10*('Product Info'!M11+'Product Info'!P11+'Product Info'!S11+'Product Info'!V11+'Product Info'!Y11+'Product Info'!AB11+'Product Info'!AE11+'Product Info'!AH11+'Product Info'!AK11+'Product Info'!AN11+'Product Info'!AQ11+'Product Info'!AT11+'Product Info'!AW11+'Product Info'!AZ11+'Product Info'!BC11+'Product Info'!BF11+'Product Info'!BI11+'Product Info'!BL11+'Product Info'!BO11+'Product Info'!BR11+'Product Info'!BU11+'Product Info'!BX11+'Product Info'!CA11+'Product Info'!CD11+'Product Info'!CG11+'Product Info'!CJ11+'Product Info'!CM11+'Product Info'!CP11+'Product Info'!CS11+'Product Info'!CV11+'Product Info'!CY11+'Product Info'!DB11+'Product Info'!DE11+'Product Info'!DH11+'Product Info'!DK11+'Product Info'!DN11+'Product Info'!DQ11+'Product Info'!DT11+'Product Info'!DW11+'Product Info'!DZ11+'Product Info'!EC11+'Product Info'!EF11+'Product Info'!EI11+'Product Info'!EL11+'Product Info'!EO11+'Product Info'!ER11+'Product Info'!EU11+'Product Info'!EX11+'Product Info'!FA11+'Product Info'!FD11)","v":0},{"$f":"AI10*('Product Info'!M11)","v":0},{"$f":"AI10*'Product Info'!P11","v":0},{"$f":"AI10*'Product Info'!S11","v":0},{"$f":"AI10*'Product Info'!V11","v":0},{"$f":"AI10*'Product Info'!Y11","v":0},{"$f":"AI10*'Product Info'!AB11","v":0},{"$f":"AI10*'Product Info'!AE11","v":0},{"$f":"AI10*'Product Info'!AH11","v":0},{"$f":"AI10*'Product Info'!AK11","v":0},{"$f":"AI10*'Product Info'!AN11","v":0},{"$f":"AI10*'Product Info'!AQ11","v":0},{"$f":"AI10*'Product Info'!AT11","v":0},{"$f":"AI10*'Product Info'!AW11","v":0},{"$f":"AI10*'Product Info'!AZ11","v":0},{"$f":"AI10*'Product Info'!BC11","v":0},{"$f":"AI10*'Product Info'!BF11","v":0},{"$f":"AI10*'Product Info'!BI11","v":0},{"$f":"AI10*'Product Info'!BL11","v":0},{"$f":"AI10*'Product Info'!BO11","v":0},{"$f":"AI10*'Product Info'!BR11","v":0},{"$f":"AI10*'Product Info'!BU11","v":0},{"$f":"AI10*'Product Info'!BX11","v":0}]
[{"$f":"'Product Info'!A12","v":0},{"$f":"'Product Info'!B12","v":0},{"$f":"'Product Info'!C12","v":0},null,null,null,null,null,null,null,null,null,null,null,null,null,null,null,null,null,null,null,null,null,null,null,null,null,null,null,null,null,null,null,0,{"$f":"'Product Info'!F12*('Daily Info (August)'!AI11)","v":0},null,null,{"$f":"AI11*('Product Info'!H12)","v":0},{"$f":"AI11*('Product Info'!M12+'Product Info'!P12+'Product Info'!S12+'Product Info'!V12+'Product Info'!Y12+'Product Info'!AB12+'Product Info'!AE12+'Product Info'!AH12+'Product Info'!AK12+'Product Info'!AN12+'Product Info'!AQ12+'Product Info'!AT12+'Product Info'!AW12+'Product Info'!AZ12+'Product Info'!BC12+'Product Info'!BF12+'Product Info'!BI12+'Product Info'!BL12+'Product Info'!BO12+'Product Info'!BR12+'Product Info'!BU12+'Product Info'!BX12+'Product Info'!CA12+'Product Info'!CD12+'Product Info'!CG12+'Product Info'!CJ12+'Product Info'!CM12+'Product Info'!CP12+'Product Info'!CS12+'Product Info'!CV12+'Product Info'!CY12+'Product Info'!DB12+'Product Info'!DE12+'Product Info'!DH12+'Product Info'!DK12+'Product Info'!DN12+'Product Info'!DQ12+'Product Info'!DT12+'Product Info'!DW12+'Product Info'!DZ12+'Product Info'!EC12+'Product Info'!EF12+'Product Info'!EI12+'Product Info'!EL12+'Product Info'!EO12+'Product Info'!ER12+'Product Info'!EU12+'Product Info'!EX12+'Product Info'!FA12+'Product Info'!FD12)","v":0},{"$f":"AI11*('Product Info'!M12)","v":0},{"$f":"AI11*'Product Info'!P12","v":0},{"$f":"AI11*'Product Info'!S12","v":0},{"$f":"AI11*'Product Info'!V12","v":0},{"$f":"AI11*'Product Info'!Y12","v":0},{"$f":"AI11*'Product Info'!AB12","v":0},{"$f":"AI11*'Product Info'!AE12","v":0},{"$f":"AI11*'Product Info'!AH12","v":0},{"$f":"AI11*'Product Info'!AK12","v":0},{"$f":"AI11*'Product Info'!AN12","v":0},{"$f":"AI11*'Product Info'!AQ12","v":0},{"$f":"AI11*'Product Info'!AT12","v":0},{"$f":"AI11*'Product Info'!AW12","v":0},{"$f":"AI11*'Product Info'!AZ12","v":0},{"$f":"AI11*'Product Info'!BC12","v":0},{"$f":"AI11*'Product Info'!BF12","v":0},{"$f":"AI11*'Product Info'!BI12","v":0},{"$f":"AI11*'Product Info'!BL12","v":0},{"$f":"AI11*'Product Info'!BO12","v":0},{"$f":"AI11*'Product Info'!BR12","v":0},{"$f":"AI11*'Product Info'!BU12","v":0},{"$f":"AI11*'Product Info'!BX12","v":0}]
[{"$f":"'Product Info'!A13","v":0},{"$f":"'Product Info'!B13","v":0},{"$f":"'Product Info'!C13","v":0},null,null,null,null,null,null,null,null,null,null,null,null,null,null,null,null,null,null,null,null,null,null,null,null,null,null,null,null,null,null,null,0,{"$f":"'Product Info'!F13*('Daily Info (August)'!AI12)","v":0},null,null,{"$f":"AI12*('Product Info'!H13)","v":0},{"$f":"AI12*('Product Info'!M13+'Product Info'!P13+'Product Info'!S13+'Product Info'!V13+'Product Info'!Y13+'Product Info'!AB13+'Product Info'!AE13+'Product Info'!AH13+'Product Info'!AK13+'Product Info'!AN13+'Product Info'!AQ13+'Product Info'!AT13+'Product Info'!AW13+'Product Info'!AZ13+'Product Info'!BC13+'Product Info'!BF13+'Product Info'!BI13+'Product Info'!BL13+'Product Info'!BO13+'Product Info'!BR13+'Product Info'!BU13+'Product Info'!BX13+'Product Info'!CA13+'Product Info'!CD13+'Product Info'!CG13+'Product Info'!CJ13+'Product Info'!CM13+'Product Info'!CP13+'Product Info'!CS13+'Product Info'!CV13+'Product Info'!CY13+'Product Info'!DB13+'Product Info'!DE13+'Product Info'!DH13+'Product Info'!DK13+'Product Info'!DN13+'Product Info'!DQ13+'Product Info'!DT13+'Product Info'!DW13+'Product Info'!DZ13+'Product Info'!EC13+'Product Info'!EF13+'Product Info'!EI13+'Product Info'!EL13+'Product Info'!EO13+'Product Info'!ER13+'Product Info'!EU13+'Product Info'!EX13+'Product Info'!FA13+'Product Info'!FD13)","v":0},{"$f":"AI12*('Product Info'!M13)","v":0},{"$f":"AI12*'Product Info'!P13","v":0},{"$f":"AI12*'Product Info'!S13","v":0},{"$f":"AI12*'Product Info'!V13","v":0},{"$f":"AI12*'Product Info'!Y13","v":0},{"$f":"AI12*'Product Info'!AB13","v":0},{"$f":"AI12*'Product Info'!AE13","v":0},{"$f":"AI12*'Product Info'!AH13","v":0},{"$f":"AI12*'Product Info'!AK13","v":0},{"$f":"AI12*'Product Info'!AN13","v":0},{"$f":"AI12*'Product Info'!AQ13","v":0},{"$f":"AI12*'Product Info'!AT13","v":0},{"$f":"AI12*'Product Info'!AW13","v":0},{"$f":"AI12*'Product Info'!AZ13","v":0},{"$f":"AI12*'Product Info'!BC13","v":0},{"$f":"AI12*'Product Info'!BF13","v":0},{"$f":"AI12*'Product Info'!BI13","v":0},{"$f":"AI12*'Product Info'!BL13","v":0},{"$f":"AI12*'Product Info'!BO13","v":0},{"$f":"AI12*'Product Info'!BR13","v":0},{"$f":"AI12*'Product Info'!BU13","v":0},{"$f":"AI12*'Product Info'!BX13","v":0}]
[{"$f":"'Product Info'!A14","v":0},{"$f":"'Product Info'!B14","v":0},{"$f":"'Product Info'!C14","v":0},null,null,null,null,null,null,null,null,null,null,null,null,null,null,null,null,null,null,null,null,null,null,null,null,null,null,null,null,null,null,null,0,{"$f":"'Product Info'!F14*('Daily Info (August)'!AI13)","v":0},null,null,{"$f":"AI13*('Product Info'!H14)","v":0},{"$f":"AI13*('Product Info'!M14+'Product Info'!P14+'Product Info'!S14+'Product Info'!V14+'Product Info'!Y14+'Product Info'!AB14+'Product Info'!AE14+'Product Info'!AH14+'Product Info'!AK14+'Product Info'!AN14+'Product Info'!AQ14+'Product Info'!AT14+'Product Info'!AW14+'Product Info'!AZ14+'Product Info'!BC14+'Product Info'!BF14+'Product Info'!BI14+'Product Info'!BL14+'Product Info'!BO14+'Product Info'!BR14+'Product Info'!BU14+'Product Info'!BX14+'Product Info'!CA14+'Product Info'!CD14+'Product Info'!CG14+'Product Info'!CJ14+'Product Info'!CM14+'Product Info'!CP14+'Product Info'!CS14+'Product Info'!CV14+'Product Info'!CY14+'Product Info'!DB14+'Product Info'!DE14+'Product Info'!DH14+'Product Info'!DK14+'Product Info'!DN14+'Product Info'!DQ14+'Product Info'!DT14+'Product Info'!DW14+'Product Info'!DZ14+'Product Info'!EC14+'Product Info'!EF14+'Product Info'!EI14+'Product Info'!EL14+'Product Info'!EO14+'Product Info'!ER14+'Product Info'!EU14+'Product Info'!EX14+'Product Info'!FA14+'Product Info'!FD14)","v":0},{"$f":"AI13*('Product Info'!M14)","v":0},{"$f":"AI13*'Product Info'!P14","v":0},{"$f":"AI13*'Product Info'!S14","v":0},{"$f":"AI13*'Product Info'!V14","v":0},{"$f":"AI13*'Product Info'!Y14","v":0},{"$f":"AI13*'Product Info'!AB14","v":0},{"$f":"AI13*'Product Info'!AE14","v":0},{"$f":"AI13*'Product Info'!AH14","v":0},{"$f":"AI13*'Product Info'!AK14","v":0},{"$f":"AI13*'Product Info'!AN14","v":0},{"$f":"AI13*'Product Info'!AQ14","v":0},{"$f":"AI13*'Product Info'!AT14","v":0},{"$f":"AI13*'Product Info'!AW14","v":0},{"$f":"AI13*'Product Info'!AZ14","v":0},{"$f":"AI13*'Product Info'!BC14","v":0},{"$f":"AI13*'Product Info'!BF14","v":0},{"$f":"AI13*'Product Info'!BI14","v":0},{"$f":"AI13*'Product Info'!BL14","v":0},{"$f":"AI13*'Product Info'!BO14","v":0},{"$f":"AI13*'Product Info'!BR14","v":0},{"$f":"AI13*'Product Info'!BU14","v":0},{"$f":"AI13*'Product Info'!BX14","v":0}]
[{"$f":"'Product Info'!A15","v":0},{"$f":"'Product Info'!B15","v":0},{"$f":"'Product Info'!C15","v":0},null,null,null,null,null,null,null,null,null,null,null,null,null,null,null,null,null,null,null,null,null,null,null,null,null,null,null,null,null,null,null,0,{"$f":"'Product Info'!F15*('Daily Info (August)'!AI14)","v":0},null,null,{"$f":"AI14*('Product Info'!H15)","v":0},{"$f":"AI14*('Product Info'!M15+'Product Info'!P15+'Product Info'!S15+'Product Info'!V15+'Product Info'!Y15+'Product Info'!AB15+'Product Info'!AE15+'Product Info'!AH15+'Product Info'!AK15+'Product Info'!AN15+'Product Info'!AQ15+'Product Info'!AT15+'Product Info'!AW15+'Product Info'!AZ15+'Product Info'!BC15+'Product Info'!BF15+'Product Info'!BI15+'Product Info'!BL15+'Product Info'!BO15+'Product Info'!BR15+'Product Info'!BU15+'Product Info'!BX15+'Product Info'!CA15+'Product Info'!CD15+'Product Info'!CG15+'Product Info'!CJ15+'Product Info'!CM15+'Product Info'!CP15+'Product Info'!CS15+'Product Info'!CV15+'Product Info'!CY15+'Product Info'!DB15+'Product Info'!DE15+'Product Info'!DH15+'Product Info'!DK15+'Product Info'!DN15+'Product Info'!DQ15+'Product Info'!DT15+'Product Info'!DW15+'Product Info'!DZ15+'Product Info'!EC15+'Product Info'!EF15+'Product Info'!EI15+'Product Info'!EL15+'Product Info'!EO15+'Product Info'!ER15+'Product Info'!EU15+'Product Info'!EX15+'Product Info'!FA15+'Product Info'!FD15)","v":0},{"$f":"AI14*('Product Info'!M15)","v":0},{"$f":"AI14*'Product Info'!P15","v":0},{"$f":"AI14*'Product Info'!S15","v":0},{"$f":"AI14*'Product Info'!V15","v":0},{"$f":"AI14*'Product Info'!Y15","v":0},{"$f":"AI14*'Product Info'!AB15","v":0},{"$f":"AI14*'Product Info'!AE15","v":0},{"$f":"AI14*'Product Info'!AH15","v":0},{"$f":"AI14*'Product Info'!AK15","v":0},{"$f":"AI14*'Product Info'!AN15","v":0},{"$f":"AI14*'Product Info'!AQ15","v":0},{"$f":"AI14*'Product Info'!AT15","v":0},{"$f":"AI14*'Product Info'!AW15","v":0},{"$f":"AI14*'Product Info'!AZ15","v":0},{"$f":"AI14*'Product Info'!BC15","v":0},{"$f":"AI14*'Product Info'!BF15","v":0},{"$f":"AI14*'Product Info'!BI15","v":0},{"$f":"AI14*'Product Info'!BL15","v":0},{"$f":"AI14*'Product Info'!BO15","v":0},{"$f":"AI14*'Product Info'!BR15","v":0},{"$f":"AI14*'Product Info'!BU15","v":0},{"$f":"AI14*'Product Info'!BX15","v":0}]
[{"$f":"'Product Info'!A16","v":0},{"$f":"'Product Info'!B16","v":0},{"$f":"'Product Info'!C16","v":0},null,null,null,null,null,null,null,null,null,null,null,null,null,null,null,null,null,null,null,null,null,null,null,null,null,null,null,null,null,null,null,0,{"$f":"'Product Info'!F16*('Daily Info (August)'!AI15)","v":0},null,null,{"$f":"AI15*('Product Info'!H16)","v":0},{"$f":"AI15*('Product Info'!M16+'Product Info'!P16+'Product Info'!S16+'Product Info'!V16+'Product Info'!Y16+'Product Info'!AB16+'Product Info'!AE16+'Product Info'!AH16+'Product Info'!AK16+'Product Info'!AN16+'Product Info'!AQ16+'Product Info'!AT16+'Product Info'!AW16+'Product Info'!AZ16+'Product Info'!BC16+'Product Info'!BF16+'Product Info'!BI16+'Product Info'!BL16+'Product Info'!BO16+'Product Info'!BR16+'Product Info'!BU16+'Product Info'!BX16+'Product Info'!CA16+'Product Info'!CD16+'Product Info'!CG16+'Product Info'!CJ16+'Product Info'!CM16+'Product Info'!CP16+'Product Info'!CS16+'Product Info'!CV16+'Product Info'!CY16+'Product Info'!DB16+'Product Info'!DE16+'Product Info'!DH16+'Product Info'!DK16+'Product Info'!DN16+'Product Info'!DQ16+'Product Info'!DT16+'Product Info'!DW16+'Product Info'!DZ16+'Product Info'!EC16+'Product Info'!EF16+'Product Info'!EI16+'Product Info'!EL16+'Product Info'!EO16+'Product Info'!ER16+'Product Info'!EU16+'Product Info'!EX16+'Product Info'!FA16+'Product Info'!FD16)","v":0},{"$f":"AI15*('Product Info'!M16)","v":0},{"$f":"AI15*'Product Info'!P16","v":0},{"$f":"AI15*'Product Info'!S16","v":0},{"$f":"AI15*'Product Info'!V16","v":0},{"$f":"AI15*'Product Info'!Y16","v":0},{"$f":"AI15*'Product Info'!AB16","v":0},{"$f":"AI15*'Product Info'!AE16","v":0},{"$f":"AI15*'Product Info'!AH16","v":0},{"$f":"AI15*'Product Info'!AK16","v":0},{"$f":"AI15*'Product Info'!AN16","v":0},{"$f":"AI15*'Product Info'!AQ16","v":0},{"$f":"AI15*'Product Info'!AT16","v":0},{"$f":"AI15*'Product Info'!AW16","v":0},{"$f":"AI15*'Product Info'!AZ16","v":0},{"$f":"AI15*'Product Info'!BC16","v":0},{"$f":"AI15*'Product Info'!BF16","v":0},{"$f":"AI15*'Product Info'!BI16","v":0},{"$f":"AI15*'Product Info'!BL16","v":0},{"$f":"AI15*'Product Info'!BO16","v":0},{"$f":"AI15*'Product Info'!BR16","v":0},{"$f":"AI15*'Product Info'!BU16","v":0},{"$f":"AI15*'Product Info'!BX16","v":0}]
[{"$f":"'Product Info'!A17","v":0},{"$f":"'Product Info'!B17","v":0},{"$f":"'Product Info'!C17","v":0},null,null,null,null,null,null,null,null,null,null,null,null,null,null,null,null,null,null,null,null,null,null,null,null,null,null,null,null,null,null,null,0,{"$f":"'Product Info'!F17*('Daily Info (August)'!AI16)","v":0},null,null,{"$f":"AI16*('Product Info'!H17)","v":0},{"$f":"AI16*('Product Info'!M17+'Product Info'!P17+'Product Info'!S17+'Product Info'!V17+'Product Info'!Y17+'Product Info'!AB17+'Product Info'!AE17+'Product Info'!AH17+'Product Info'!AK17+'Product Info'!AN17+'Product Info'!AQ17+'Product Info'!AT17+'Product Info'!AW17+'Product Info'!AZ17+'Product Info'!BC17+'Product Info'!BF17+'Product Info'!BI17+'Product Info'!BL17+'Product Info'!BO17+'Product Info'!BR17+'Product Info'!BU17+'Product Info'!BX17+'Product Info'!CA17+'Product Info'!CD17+'Product Info'!CG17+'Product Info'!CJ17+'Product Info'!CM17+'Product Info'!CP17+'Product Info'!CS17+'Product Info'!CV17+'Product Info'!CY17+'Product Info'!DB17+'Product Info'!DE17+'Product Info'!DH17+'Product Info'!DK17+'Product Info'!DN17+'Product Info'!DQ17+'Product Info'!DT17+'Product Info'!DW17+'Product Info'!DZ17+'Product Info'!EC17+'Product Info'!EF17+'Product Info'!EI17+'Product Info'!EL17+'Product Info'!EO17+'Product Info'!ER17+'Product Info'!EU17+'Product Info'!EX17+'Product Info'!FA17+'Product Info'!FD17)","v":0},{"$f":"AI16*('Product Info'!M17)","v":0},{"$f":"AI16*'Product Info'!P17","v":0},{"$f":"AI16*'Product Info'!S17","v":0},{"$f":"AI16*'Product Info'!V17","v":0},{"$f":"AI16*'Product Info'!Y17","v":0},{"$f":"AI16*'Product Info'!AB17","v":0},{"$f":"AI16*'Product Info'!AE17","v":0},{"$f":"AI16*'Product Info'!AH17","v":0},{"$f":"AI16*'Product Info'!AK17","v":0},{"$f":"AI16*'Product Info'!AN17","v":0},{"$f":"AI16*'Product Info'!AQ17","v":0},{"$f":"AI16*'Product Info'!AT17","v":0},{"$f":"AI16*'Product Info'!AW17","v":0},{"$f":"AI16*'Product Info'!AZ17","v":0},{"$f":"AI16*'Product Info'!BC17","v":0},{"$f":"AI16*'Product Info'!BF17","v":0},{"$f":"AI16*'Product Info'!BI17","v":0},{"$f":"AI16*'Product Info'!BL17","v":0},{"$f":"AI16*'Product Info'!BO17","v":0},{"$f":"AI16*'Product Info'!BR17","v":0},{"$f":"AI16*'Product Info'!BU17","v":0},{"$f":"AI16*'Product Info'!BX17","v":0}]
[{"$f":"'Product Info'!A18","v":0},{"$f":"'Product Info'!B18","v":0},{"$f":"'Product Info'!C18","v":0},null,null,null,null,null,null,null,null,null,null,null,null,null,null,null,null,null,null,null,null,null,null,null,null,null,null,null,null,null,null,null,0,{"$f":"'Product Info'!F18*('Daily Info (August)'!AI17)","v":0},null,null,{"$f":"AI17*('Product Info'!H18)","v":0},{"$f":"AI17*('Product Info'!M18+'Product Info'!P18+'Product Info'!S18+'Product Info'!V18+'Product Info'!Y18+'Product Info'!AB18+'Product Info'!AE18+'Product Info'!AH18+'Product Info'!AK18+'Product Info'!AN18+'Product Info'!AQ18+'Product Info'!AT18+'Product Info'!AW18+'Product Info'!AZ18+'Product Info'!BC18+'Product Info'!BF18+'Product Info'!BI18+'Product Info'!BL18+'Product Info'!BO18+'Product Info'!BR18+'Product Info'!BU18+'Product Info'!BX18+'Product Info'!CA18+'Product Info'!CD18+'Product Info'!CG18+'Product Info'!CJ18+'Product Info'!CM18+'Product Info'!CP18+'Product Info'!CS18+'Product Info'!CV18+'Product Info'!CY18+'Product Info'!DB18+'Product Info'!DE18+'Product Info'!DH18+'Product Info'!DK18+'Product Info'!DN18+'Product Info'!DQ18+'Product Info'!DT18+'Product Info'!DW18+'Product Info'!DZ18+'Product Info'!EC18+'Product Info'!EF18+'Product Info'!EI18+'Product Info'!EL18+'Product Info'!EO18+'Product Info'!ER18+'Product Info'!EU18+'Product Info'!EX18+'Product Info'!FA18+'Product Info'!FD18)","v":0},{"$f":"AI17*('Product Info'!M18)","v":0},{"$f":"AI17*'Product Info'!P18","v":0},{"$f":"AI17*'Product Info'!S18","v":0},{"$f":"AI17*'Product Info'!V18","v":0},{"$f":"AI17*'Product Info'!Y18","v":0},{"$f":"AI17*'Product Info'!AB18","v":0},{"$f":"AI17*'Product Info'!AE18","v":0},{"$f":"AI17*'Product Info'!AH18","v":0},{"$f":"AI17*'Product Info'!AK18","v":0},{"$f":"AI17*'Product Info'!AN18","v":0},{"$f":"AI17*'Product Info'!AQ18","v":0},{"$f":"AI17*'Product Info'!AT18","v":0},{"$f":"AI17*'Product Info'!AW18","v":0},{"$f":"AI17*'Product Info'!AZ18","v":0},{"$f":"AI17*'Product Info'!BC18","v":0},{"$f":"AI17*'Product Info'!BF18","v":0},{"$f":"AI17*'Product Info'!BI18","v":0},{"$f":"AI17*'Product Info'!BL18","v":0},{"$f":"AI17*'Product Info'!BO18","v":0},{"$f":"AI17*'Product Info'!BR18","v":0},{"$f":"AI17*'Product Info'!BU18","v":0},{"$f":"AI17*'Product Info'!BX18","v":0}]
[{"$f":"'Product Info'!A19","v":0},{"$f":"'Product Info'!B19","v":0},{"$f":"'Product Info'!C19","v":0},null,null,null,null,null,null,null,null,null,null,null,null,null,null,null,null,null,null,null,null,null,null,null,null,null,null,null,null,null,null,null,0,{"$f":"'Product Info'!F19*('Daily Info (August)'!AI18)","v":0},null,null,{"$f":"AI18*('Product Info'!H19)","v":0},{"$f":"AI18*('Product Info'!M19+'Product Info'!P19+'Product Info'!S19+'Product Info'!V19+'Product Info'!Y19+'Product Info'!AB19+'Product Info'!AE19+'Product Info'!AH19+'Product Info'!AK19+'Product Info'!AN19+'Product Info'!AQ19+'Product Info'!AT19+'Product Info'!AW19+'Product Info'!AZ19+'Product Info'!BC19+'Product Info'!BF19+'Product Info'!BI19+'Product Info'!BL19+'Product Info'!BO19+'Product Info'!BR19+'Product Info'!BU19+'Product Info'!BX19+'Product Info'!CA19+'Product Info'!CD19+'Product Info'!CG19+'Product Info'!CJ19+'Product Info'!CM19+'Product Info'!CP19+'Product Info'!CS19+'Product Info'!CV19+'Product Info'!CY19+'Product Info'!DB19+'Product Info'!DE19+'Product Info'!DH19+'Product Info'!DK19+'Product Info'!DN19+'Product Info'!DQ19+'Product Info'!DT19+'Product Info'!DW19+'Product Info'!DZ19+'Product Info'!EC19+'Product Info'!EF19+'Product Info'!EI19+'Product Info'!EL19+'Product Info'!EO19+'Product Info'!ER19+'Product Info'!EU19+'Product Info'!EX19+'Product Info'!FA19+'Product Info'!FD19)","v":0},{"$f":"AI18*('Product Info'!M19)","v":0},{"$f":"AI18*'Product Info'!P19","v":0},{"$f":"AI18*'Product Info'!S19","v":0},{"$f":"AI18*'Product Info'!V19","v":0},{"$f":"AI18*'Product Info'!Y19","v":0},{"$f":"AI18*'Product Info'!AB19","v":0},{"$f":"AI18*'Product Info'!AE19","v":0},{"$f":"AI18*'Product Info'!AH19","v":0},{"$f":"AI18*'Product Info'!AK19","v":0},{"$f":"AI18*'Product Info'!AN19","v":0},{"$f":"AI18*'Product Info'!AQ19","v":0},{"$f":"AR18*'Product Info'!AF19","v":0},{"$f":"AI18*'Product Info'!AW19","v":0},{"$f":"AI18*'Product Info'!AZ19","v":0},{"$f":"AI18*'Product Info'!BC19","v":0},{"$f":"AI18*'Product Info'!BF19","v":0},{"$f":"AI18*'Product Info'!BI19","v":0},{"$f":"AI18*'Product Info'!BL19","v":0},{"$f":"AI18*'Product Info'!BO19","v":0},{"$f":"AI18*'Product Info'!BR19","v":0},{"$f":"AI18*'Product Info'!BU19","v":0},{"$f":"AI18*'Product Info'!BX19","v":0}]
[{"$f":"'Product Info'!A20","v":0},{"$f":"'Product Info'!B20","v":0},{"$f":"'Product Info'!C20","v":0},null,null,null,null,null,null,null,null,null,null,null,null,null,null,null,null,null,null,null,null,null,null,null,null,null,null,null,null,null,null,null,0,{"$f":"'Product Info'!F20*('Daily Info (August)'!AI19)","v":0},null,null,{"$f":"AI19*('Product Info'!H20)","v":0},{"$f":"AI19*('Product Info'!M20+'Product Info'!P20+'Product Info'!S20+'Product Info'!V20+'Product Info'!Y20+'Product Info'!AB20+'Product Info'!AE20+'Product Info'!AH20+'Product Info'!AK20+'Product Info'!AN20+'Product Info'!AQ20+'Product Info'!AT20+'Product Info'!AW20+'Product Info'!AZ20+'Product Info'!BC20+'Product Info'!BF20+'Product Info'!BI20+'Product Info'!BL20+'Product Info'!BO20+'Product Info'!BR20+'Product Info'!BU20+'Product Info'!BX20+'Product Info'!CA20+'Product Info'!CD20+'Product Info'!CG20+'Product Info'!CJ20+'Product Info'!CM20+'Product Info'!CP20+'Product Info'!CS20+'Product Info'!CV20+'Product Info'!CY20+'Product Info'!DB20+'Product Info'!DE20+'Product Info'!DH20+'Product Info'!DK20+'Product Info'!DN20+'Product Info'!DQ20+'Product Info'!DT20+'Product Info'!DW20+'Product Info'!DZ20+'Product Info'!EC20+'Product Info'!EF20+'Product Info'!EI20+'Product Info'!EL20+'Product Info'!EO20+'Product Info'!ER20+'Product Info'!EU20+'Product Info'!EX20+'Product Info'!FA20+'Product Info'!FD20)","v":0},{"$f":"AI19*('Product Info'!M20)","v":0},{"$f":"AI19*'Product Info'!P20","v":0},{"$f":"AI19*'Product Info'!S20","v":0},{"$f":"AI19*'Product Info'!V20","v":0},{"$f":"AI19*'Product Info'!Y20","v":0},{"$f":"AI19*'Product Info'!AB20","v":0},{"$f":"AI19*'Product Info'!AE20","v":0},{"$f":"AI19*'Product Info'!AH20","v":0},{"$f":"AI19*'Product Info'!AK20","v":0},{"$f":"AI19*'Product Info'!AN20","v":0},{"$f":"AI19*'Product Info'!AQ20","v":0},{"$f":"AR19*'Product Info'!AF20","v":0},{"$f":"AI19*'Product Info'!AW20","v":0},{"$f":"AI19*'Product Info'!AZ20","v":0},{"$f":"AI19*'Product Info'!BC20","v":0},{"$f":"AI19*'Product Info'!BF20","v":0},{"$f":"AI19*'Product Info'!BI20","v":0},{"$f":"AI19*'Product Info'!BL20","v":0},{"$f":"AI19*'Product Info'!BO20","v":0},{"$f":"AI19*'Product Info'!BR20","v":0},{"$f":"AI19*'Product Info'!BU20","v":0},{"$f":"AI19*'Product Info'!BX20","v":0}]
[{"$f":"'Product Info'!A21","v":0},{"$f":"'Product Info'!B21","v":0},{"$f":"'Product Info'!C21","v":0},null,null,null,null,null,null,null,null,null,null,null,null,null,null,null,null,null,null,null,null,null,null,null,null,null,null,null,null,null,null,null,0,{"$f":"'Product Info'!F21*('Daily Info (August)'!AI20)","v":0},null,null,{"$f":"AI20*('Product Info'!H21)","v":0},{"$f":"AI20*('Product Info'!M21+'Product Info'!P21+'Product Info'!S21+'Product Info'!V21+'Product Info'!Y21+'Product Info'!AB21+'Product Info'!AE21+'Product Info'!AH21+'Product Info'!AK21+'Product Info'!AN21+'Product Info'!AQ21+'Product Info'!AT21+'Product Info'!AW21+'Product Info'!AZ21+'Product Info'!BC21+'Product Info'!BF21+'Product Info'!BI21+'Product Info'!BL21+'Product Info'!BO21+'Product Info'!BR21+'Product Info'!BU21+'Product Info'!BX21+'Product Info'!CA21+'Product Info'!CD21+'Product Info'!CG21+'Product Info'!CJ21+'Product Info'!CM21+'Product Info'!CP21+'Product Info'!CS21+'Product Info'!CV21+'Product Info'!CY21+'Product Info'!DB21+'Product Info'!DE21+'Product Info'!DH21+'Product Info'!DK21+'Product Info'!DN21+'Product Info'!DQ21+'Product Info'!DT21+'Product Info'!DW21+'Product Info'!DZ21+'Product Info'!EC21+'Product Info'!EF21+'Product Info'!EI21+'Product Info'!EL21+'Product Info'!EO21+'Product Info'!ER21+'Product Info'!EU21+'Product Info'!EX21+'Product Info'!FA21+'Product Info'!FD21)","v":0},{"$f":"AI20*('Product Info'!M21)","v":0},{"$f":"AI20*'Product Info'!P21","v":0},{"$f":"AI20*'Product Info'!S21","v":0},{"$f":"AI20*'Product Info'!V21","v":0},{"$f":"AI20*'Product Info'!Y21","v":0},{"$f":"AI20*'Product Info'!AB21","v":0},{"$f":"AI20*'Product Info'!AE21","v":0},{"$f":"AI20*'Product Info'!AH21","v":0},{"$f":"AI20*'Product Info'!AK21","v":0},{"$f":"AI20*'Product Info'!AN21","v":0},{"$f":"AI20*'Product Info'!AQ21","v":0},{"$f":"AI20*'Product Info'!AT21","v":0},{"$f":"AI20*'Product Info'!AW21","v":0},{"$f":"AI20*'Product Info'!AZ21","v":0},{"$f":"AI20*'Product Info'!BC21","v":0},{"$f":"AI20*'Product Info'!BF21","v":0},{"$f":"AI20*'Product Info'!BI21","v":0},{"$f":"AI20*'Product Info'!BL21","v":0},{"$f":"AI20*'Product Info'!BO21","v":0},{"$f":"AI20*'Product Info'!BR21","v":0},{"$f":"AI20*'Product Info'!BU21","v":0},{"$f":"AI20*'Product Info'!BX21","v":0}]
[{"$f":"'Product Info'!A22","v":0},{"$f":"'Product Info'!B22","v":0},{"$f":"'Product Info'!C22","v":0},null,null,null,null,null,null,null,null,null,null,null,null,null,null,null,null,null,null,null,null,null,null,null,null,null,null,null,null,null,null,null,0,{"$f":"'Product Info'!F22*('Daily Info (August)'!AI21)","v":0},null,null,{"$f":"AI21*('Product Info'!H22)","v":0},{"$f":"AI21*('Product Info'!M22+'Product Info'!P22+'Product Info'!S22+'Product Info'!V22+'Product Info'!Y22+'Product Info'!AB22+'Product Info'!AE22+'Product Info'!AH22+'Product Info'!AK22+'Product Info'!AN22+'Product Info'!AQ22+'Product Info'!AT22+'Product Info'!AW22+'Product Info'!AZ22+'Product Info'!BC22+'Product Info'!BF22+'Product Info'!BI22+'Product Info'!BL22+'Product Info'!BO22+'Product Info'!BR22+'Product Info'!BU22+'Product Info'!BX22+'Product Info'!CA22+'Product Info'!CD22+'Product Info'!CG22+'Product Info'!CJ22+'Product Info'!CM22+'Product Info'!CP22+'Product Info'!CS22+'Product Info'!CV22+'Product Info'!CY22+'Product Info'!DB22+'Product Info'!DE22+'Product Info'!DH22+'Product Info'!DK22+'Product Info'!DN22+'Product Info'!DQ22+'Product Info'!DT22+'Product Info'!DW22+'Product Info'!DZ22+'Product Info'!EC22+'Product Info'!EF22+'Product Info'!EI22+'Product Info'!EL22+'Product Info'!EO22+'Product Info'!ER22+'Product Info'!EU22+'Product Info'!EX22+'Product Info'!FA22+'Product Info'!FD22)","v":0},{"$f":"AI21*('Product Info'!M22)","v":0},{"$f":"AI21*'Product Info'!P22","v":0},{"$f":"AI21*'Product Info'!S22","v":0},{"$f":"AI21*'Product Info'!V22","v":0},{"$f":"AI21*'Product Info'!Y22","v":0},{"$f":"AI21*'Product Info'!AB22","v":0},{"$f":"AI21*'Product Info'!AE22","v":0},{"$f":"AI21*'Product Info'!AH22","v":0},{"$f":"AI21*'Product Info'!AK22","v":0},{"$f":"AI21*'Product Info'!AN22","v":0},{"$f":"AI21*'Product Info'!AQ22","v":0},{"$f":"AI21*'Product Info'!AT22","v":0},{"$f":"AI21*'Product Info'!AW22","v":0},{"$f":"AI21*'Product Info'!AZ22","v":0},{"$f":"AI21*'Product Info'!BC22","v":0},{"$f":"AI21*'Product Info'!BF22","v":0},{"$f":"AI21*'Product Info'!BI22","v":0},{"$f":"AI21*'Product Info'!BL22","v":0},{"$f":"AI21*'Product Info'!BO22","v":0},{"$f":"AI21*'Product Info'!BR22","v":0},{"$f":"AI21*'Product Info'!BU22","v":0},{"$f":"AI21*'Product Info'!BX22","v":0}]
[{"$f":"'Product Info'!A23","v":0},{"$f":"'Product Info'!B23","v":0},{"$f":"'Product Info'!C23","v":0},null,null,null,null,null,null,null,null,null,null,null,null,null,null,null,null,null,null,null,null,null,null,null,null,null,null,null,null,null,null,null,0,{"$f":"'Product Info'!F23*('Daily Info (August)'!AI22)","v":0},null,null,{"$f":"AI22*('Product Info'!H23)","v":0},{"$f":"AI22*('Product Info'!M23+'Product Info'!P23+'Product Info'!S23+'Product Info'!V23+'Product Info'!Y23+'Product Info'!AB23+'Product Info'!AE23+'Product Info'!AH23+'Product Info'!AK23+'Product Info'!AN23+'Product Info'!AQ23+'Product Info'!AT23+'Product Info'!AW23+'Product Info'!AZ23+'Product Info'!BC23+'Product Info'!BF23+'Product Info'!BI23+'Product Info'!BL23+'Product Info'!BO23+'Product Info'!BR23+'Product Info'!BU23+'Product Info'!BX23+'Product Info'!CA23+'Product Info'!CD23+'Product Info'!CG23+'Product Info'!CJ23+'Product Info'!CM23+'Product Info'!CP23+'Product Info'!CS23+'Product Info'!CV23+'Product Info'!CY23+'Product Info'!DB23+'Product Info'!DE23+'Product Info'!DH23+'Product Info'!DK23+'Product Info'!DN23+'Product Info'!DQ23+'Product Info'!DT23+'Product Info'!DW23+'Product Info'!DZ23+'Product Info'!EC23+'Product Info'!EF23+'Product Info'!EI23+'Product Info'!EL23+'Product Info'!EO23+'Product Info'!ER23+'Product Info'!EU23+'Product Info'!EX23+'Product Info'!FA23+'Product Info'!FD23)","v":0},{"$f":"AI22*('Product Info'!M23)","v":0},{"$f":"AI22*'Product Info'!P23","v":0},{"$f":"AI22*'Product Info'!S23","v":0},{"$f":"AI22*'Product Info'!V23","v":0},{"$f":"AI22*'Product Info'!Y23","v":0},{"$f":"AI22*'Product Info'!AB23","v":0},{"$f":"AI22*'Product Info'!AE23","v":0},{"$f":"AI22*'Product Info'!AH23","v":0},{"$f":"AI22*'Product Info'!AK23","v":0},{"$f":"AI22*'Product Info'!AN23","v":0},{"$f":"AI22*'Product Info'!AQ23","v":0},{"$f":"AI22*'Product Info'!AT23","v":0},{"$f":"AI22*'Product Info'!AW23","v":0},{"$f":"AI22*'Product Info'!AZ23","v":0},{"$f":"AI22*'Product Info'!BC23","v":0},{"$f":"AI22*'Product Info'!BF23","v":0},{"$f":"AI22*'Product Info'!BI23","v":0},{"$f":"AI22*'Product Info'!BL23","v":0},{"$f":"AI22*'Product Info'!BO23","v":0},{"$f":"AI22*'Product Info'!BR23","v":0},{"$f":"AI22*'Product Info'!BU23","v":0},{"$f":"AI22*'Product Info'!BX23","v":0}]
[{"$f":"'Product Info'!A24","v":0},{"$f":"'Product Info'!B24","v":0},{"$f":"'Product Info'!C24","v":0},null,null,null,null,null,null,null,null,null,null,null,null,null,null,null,null,null,null,null,null,null,null,null,null,null,null,null,null,null,null,null,0,{"$f":"'Product Info'!F24*('Daily Info (August)'!AI23)","v":0},null,null,{"$f":"AI23*('Product Info'!H24)","v":0},{"$f":"AI23*('Product Info'!M24+'Product Info'!P24+'Product Info'!S24+'Product Info'!V24+'Product Info'!Y24+'Product Info'!AB24+'Product Info'!AE24+'Product Info'!AH24+'Product Info'!AK24+'Product Info'!AN24+'Product Info'!AQ24+'Product Info'!AT24+'Product Info'!AW24+'Product Info'!AZ24+'Product Info'!BC24+'Product Info'!BF24+'Product Info'!BI24+'Product Info'!BL24+'Product Info'!BO24+'Product Info'!BR24+'Product Info'!BU24+'Product Info'!BX24+'Product Info'!CA24+'Product Info'!CD24+'Product Info'!CG24+'Product Info'!CJ24+'Product Info'!CM24+'Product Info'!CP24+'Product Info'!CS24+'Product Info'!CV24+'Product Info'!CY24+'Product Info'!DB24+'Product Info'!DE24+'Product Info'!DH24+'Product Info'!DK24+'Product Info'!DN24+'Product Info'!DQ24+'Product Info'!DT24+'Product Info'!DW24+'Product Info'!DZ24+'Product Info'!EC24+'Product Info'!EF24+'Product Info'!EI24+'Product Info'!EL24+'Product Info'!EO24+'Product Info'!ER24+'Product Info'!EU24+'Product Info'!EX24+'Product Info'!FA24+'Product Info'!FD24)","v":0},{"$f":"AI23*('Product Info'!M24)","v":0},{"$f":"AI23*'Product Info'!P24","v":0},{"$f":"AI23*'Product Info'!S24","v":0},{"$f":"AI23*'Product Info'!V24","v":0},{"$f":"AI23*'Product Info'!Y24","v":0},{"$f":"AI23*'Product Info'!AB24","v":0},{"$f":"AI23*'Product Info'!AE24","v":0},{"$f":"AI23*'Product Info'!AH24","v":0},{"$f":"AI23*'Product Info'!AK24","v":0},{"$f":"AI23*'Product Info'!AN24","v":0},{"$f":"AI23*'Product Info'!AQ24","v":0},{"$f":"AI23*'Product Info'!AT24","v":0},{"$f":"AI23*'Product Info'!AW24","v":0},{"$f":"AI23*'Product Info'!AZ24","v":0},{"$f":"AI23*'Product Info'!BC24","v":0},{"$f":"AI23*'Product Info'!BF24","v":0},{"$f":"AI23*'Product Info'!BI24","v":0},{"$f":"AI23*'Product Info'!BL24","v":0},{"$f":"AI23*'Product Info'!BO24","v":0},{"$f":"AI23*'Product Info'!BR24","v":0},{"$f":"AI23*'Product Info'!BU24","v":0},{"$f":"AI23*'Product Info'!BX24","v":0}]
[{"$f":"'Product Info'!A25","v":0},{"$f":"'Product Info'!B25","v":0},{"$f":"'Product Info'!C25","v":0},null,null,null,null,null,null,null,null,null,null,null,null,null,null,null,null,null,null,null,null,null,null,null,null,null,null,null,null,null,null,null,0,{"$f":"'Product Info'!F25*('Daily Info (August)'!AI24)","v":0},null,null,{"$f":"AI24*('Product Info'!H25)","v":0},{"$f":"AI24*('Product Info'!M25+'Product Info'!P25+'Product Info'!S25+'Product Info'!V25+'Product Info'!Y25+'Product Info'!AB25+'Product Info'!AE25+'Product Info'!AH25+'Product Info'!AK25+'Product Info'!AN25+'Product Info'!AQ25+'Product Info'!AT25+'Product Info'!AW25+'Product Info'!AZ25+'Product Info'!BC25+'Product Info'!BF25+'Product Info'!BI25+'Product Info'!BL25+'Product Info'!BO25+'Product Info'!BR25+'Product Info'!BU25+'Product Info'!BX25+'Product Info'!CA25+'Product Info'!CD25+'Product Info'!CG25+'Product Info'!CJ25+'Product Info'!CM25+'Product Info'!CP25+'Product Info'!CS25+'Product Info'!CV25+'Product Info'!CY25+'Product Info'!DB25+'Product Info'!DE25+'Product Info'!DH25+'Product Info'!DK25+'Product Info'!DN25+'Product Info'!DQ25+'Product Info'!DT25+'Product Info'!DW25+'Product Info'!DZ25+'Product Info'!EC25+'Product Info'!EF25+'Product Info'!EI25+'Product Info'!EL25+'Product Info'!EO25+'Product Info'!ER25+'Product Info'!EU25+'Product Info'!EX25+'Product Info'!FA25+'Product Info'!FD25)","v":0},{"$f":"AI24*('Product Info'!M25)","v":0},{"$f":"AI24*'Product Info'!P25","v":0},{"$f":"AI24*'Product Info'!S25","v":0},{"$f":"AI24*'Product Info'!V25","v":0},{"$f":"AI24*'Product Info'!Y25","v":0},{"$f":"AI24*'Product Info'!AB25","v":0},{"$f":"AI24*'Product Info'!AE25","v":0},{"$f":"AI24*'Product Info'!AH25","v":0},{"$f":"AI24*'Product Info'!AK25","v":0},{"$f":"AI24*'Product Info'!AN25","v":0},{"$f":"AI24*'Product Info'!AQ25","v":0},{"$f":"AI24*'Product Info'!AT25","v":0},{"$f":"AI24*'Product Info'!AW25","v":0},{"$f":"AI24*'Product Info'!AZ25","v":0},{"$f":"AI24*'Product Info'!BC25","v":0},{"$f":"AI24*'Product Info'!BF25","v":0},{"$f":"AI24*'Product Info'!BI25","v":0},{"$f":"AI24*'Product Info'!BL25","v":0},{"$f":"AI24*'Product Info'!BO25","v":0},{"$f":"AI24*'Product Info'!BR25","v":0},{"$f":"AI24*'Product Info'!BU25","v":0},{"$f":"AI24*'Product Info'!BX25","v":0}]
[{"$f":"'Product Info'!A26","v":0},{"$f":"'Product Info'!B26","v":0},{"$f":"'Product Info'!C26","v":0},null,null,null,null,null,null,null,null,null,null,null,null,null,null,null,null,null,null,null,null,null,null,null,null,null,null,null,null,null,null,null,0,{"$f":"'Product Info'!F26*('Daily Info (August)'!AI25)","v":0},null,null,{"$f":"AI25*('Product Info'!H26)","v":0},{"$f":"AI25*('Product Info'!M26+'Product Info'!P26+'Product Info'!S26+'Product Info'!V26+'Product Info'!Y26+'Product Info'!AB26+'Product Info'!AE26+'Product Info'!AH26+'Product Info'!AK26+'Product Info'!AN26+'Product Info'!AQ26+'Product Info'!AT26+'Product Info'!AW26+'Product Info'!AZ26+'Product Info'!BC26+'Product Info'!BF26+'Product Info'!BI26+'Product Info'!BL26+'Product Info'!BO26+'Product Info'!BR26+'Product Info'!BU26+'Product Info'!BX26+'Product Info'!CA26+'Product Info'!CD26+'Product Info'!CG26+'Product Info'!CJ26+'Product Info'!CM26+'Product Info'!CP26+'Product Info'!CS26+'Product Info'!CV26+'Product Info'!CY26+'Product Info'!DB26+'Product Info'!DE26+'Product Info'!DH26+'Product Info'!DK26+'Product Info'!DN26+'Product Info'!DQ26+'Product Info'!DT26+'Product Info'!DW26+'Product Info'!DZ26+'Product Info'!EC26+'Product Info'!EF26+'Product Info'!EI26+'Product Info'!EL26+'Product Info'!EO26+'Product Info'!ER26+'Product Info'!EU26+'Product Info'!EX26+'Product Info'!FA26+'Product Info'!FD26)","v":0},{"$f":"AI25*('Product Info'!M26)","v":0},{"$f":"AI25*'Product Info'!P26","v":0},{"$f":"AI25*'Product Info'!S26","v":0},{"$f":"AI25*'Product Info'!V26","v":0},{"$f":"AI25*'Product Info'!Y26","v":0},{"$f":"AI25*'Product Info'!AB26","v":0},{"$f":"AI25*'Product Info'!AE26","v":0},{"$f":"AI25*'Product Info'!AH26","v":0},{"$f":"AI25*'Product Info'!AK26","v":0},{"$f":"AI25*'Product Info'!AN26","v":0},{"$f":"AI25*'Product Info'!AQ26","v":0},{"$f":"AI25*'Product Info'!AT26","v":0},{"$f":"AI25*'Product Info'!AW26","v":0},{"$f":"AI25*'Product Info'!AZ26","v":0},{"$f":"AI25*'Product Info'!BC26","v":0},{"$f":"AI25*'Product Info'!BF26","v":0},{"$f":"AI25*'Product Info'!BI26","v":0},{"$f":"AI25*'Product Info'!BL26","v":0},{"$f":"AI25*'Product Info'!BO26","v":0},{"$f":"AI25*'Product Info'!BR26","v":0},{"$f":"AI25*'Product Info'!BU26","v":0},{"$f":"AI25*'Product Info'!BX26","v":0}]
[{"$f":"'Product Info'!A27","v":0},{"$f":"'Product Info'!B27","v":0},{"$f":"'Product Info'!C27","v":0},null,null,null,null,null,null,null,null,null,null,null,null,null,null,null,null,null,null,null,null,null,null,null,null,null,null,null,null,null,null,null,0,{"$f":"'Product Info'!F27*('Daily Info (August)'!AI26)","v":0},null,null,{"$f":"AI26*('Product Info'!H27)","v":0},{"$f":"AI26*('Product Info'!M27+'Product Info'!P27+'Product Info'!S27+'Product Info'!V27+'Product Info'!Y27+'Product Info'!AB27+'Product Info'!AE27+'Product Info'!AH27+'Product Info'!AK27+'Product Info'!AN27+'Product Info'!AQ27+'Product Info'!AT27+'Product Info'!AW27+'Product Info'!AZ27+'Product Info'!BC27+'Product Info'!BF27+'Product Info'!BI27+'Product Info'!BL27+'Product Info'!BO27+'Product Info'!BR27+'Product Info'!BU27+'Product Info'!BX27+'Product Info'!CA27+'Product Info'!CD27+'Product Info'!CG27+'Product Info'!CJ27+'Product Info'!CM27+'Product Info'!CP27+'Product Info'!CS27+'Product Info'!CV27+'Product Info'!CY27+'Product Info'!DB27+'Product Info'!DE27+'Product Info'!DH27+'Product Info'!DK27+'Product Info'!DN27+'Product Info'!DQ27+'Product Info'!DT27+'Product Info'!DW27+'Product Info'!DZ27+'Product Info'!EC27+'Product Info'!EF27+'Product Info'!EI27+'Product Info'!EL27+'Product Info'!EO27+'Product Info'!ER27+'Product Info'!EU27+'Product Info'!EX27+'Product Info'!FA27+'Product Info'!FD27)","v":0},{"$f":"AI26*('Product Info'!M27)","v":0},{"$f":"AI26*'Product Info'!P27","v":0},{"$f":"AI26*'Product Info'!S27","v":0},{"$f":"AI26*'Product Info'!V27","v":0},{"$f":"AI26*'Product Info'!Y27","v":0},{"$f":"AI26*'Product Info'!AB27","v":0},{"$f":"AI26*'Product Info'!AE27","v":0},{"$f":"AI26*'Product Info'!AH27","v":0},{"$f":"AI26*'Product Info'!AK27","v":0},{"$f":"AI26*'Product Info'!AN27","v":0},{"$f":"AI26*'Product Info'!AQ27","v":0},{"$f":"AI26*'Product Info'!AT27","v":0},{"$f":"AI26*'Product Info'!AW27","v":0},{"$f":"AI26*'Product Info'!AZ27","v":0},{"$f":"AI26*'Product Info'!BC27","v":0},{"$f":"AI26*'Product Info'!BF27","v":0},{"$f":"AI26*'Product Info'!BI27","v":0},{"$f":"AI26*'Product Info'!BL27","v":0},{"$f":"AI26*'Product Info'!BO27","v":0},{"$f":"AI26*'Product Info'!BR27","v":0},{"$f":"AI26*'Product Info'!BU27","v":0},{"$f":"AI26*'Product Info'!BX27","v":0}]
[{"$f":"'Product Info'!A28","v":0},{"$f":"'Product Info'!B28","v":0},{"$f":"'Product Info'!C28","v":0},null,null,null,null,null,null,null,null,null,null,null,null,null,null,null,null,null,null,null,null,null,null,null,null,null,null,null,null,null,null,null,0,{"$f":"'Product Info'!F28*('Daily Info (August)'!AI27)","v":0},null,null,{"$f":"AI27*('Product Info'!H28)","v":0},{"$f":"AI27*('Product Info'!M28+'Product Info'!P28+'Product Info'!S28+'Product Info'!V28+'Product Info'!Y28+'Product Info'!AB28+'Product Info'!AE28+'Product Info'!AH28+'Product Info'!AK28+'Product Info'!AN28+'Product Info'!AQ28+'Product Info'!AT28+'Product Info'!AW28+'Product Info'!AZ28+'Product Info'!BC28+'Product Info'!BF28+'Product Info'!BI28+'Product Info'!BL28+'Product Info'!BO28+'Product Info'!BR28+'Product Info'!BU28+'Product Info'!BX28+'Product Info'!CA28+'Product Info'!CD28+'Product Info'!CG28+'Product Info'!CJ28+'Product Info'!CM28+'Product Info'!CP28+'Product Info'!CS28+'Product Info'!CV28+'Product Info'!CY28+'Product Info'!DB28+'Product Info'!DE28+'Product Info'!DH28+'Product Info'!DK28+'Product Info'!DN28+'Product Info'!DQ28+'Product Info'!DT28+'Product Info'!DW28+'Product Info'!DZ28+'Product Info'!EC28+'Product Info'!EF28+'Product Info'!EI28+'Product Info'!EL28+'Product Info'!EO28+'Product Info'!ER28+'Product Info'!EU28+'Product Info'!EX28+'Product Info'!FA28+'Product Info'!FD28)","v":0},{"$f":"AI27*('Product Info'!M28)","v":0},{"$f":"AI27*'Product Info'!P28","v":0},{"$f":"AI27*'Product Info'!S28","v":0},{"$f":"AI27*'Product Info'!V28","v":0},{"$f":"AI27*'Product Info'!Y28","v":0},{"$f":"AI27*'Product Info'!AB28","v":0},{"$f":"AI27*'Product Info'!AE28","v":0},{"$f":"AI27*'Product Info'!AH28","v":0},{"$f":"AI27*'Product Info'!AK28","v":0},{"$f":"AI27*'Product Info'!AN28","v":0},{"$f":"AI27*'Product Info'!AQ28","v":0},{"$f":"AI27*'Product Info'!AT28","v":0},{"$f":"AI27*'Product Info'!AW28","v":0},{"$f":"AI27*'Product Info'!AZ28","v":0},{"$f":"AI27*'Product Info'!BC28","v":0},{"$f":"AI27*'Product Info'!BF28","v":0},{"$f":"AI27*'Product Info'!BI28","v":0},{"$f":"AI27*'Product Info'!BL28","v":0},{"$f":"AI27*'Product Info'!BO28","v":0},{"$f":"AI27*'Product Info'!BR28","v":0},{"$f":"AI27*'Product Info'!BU28","v":0},{"$f":"AI27*'Product Info'!BX28","v":0}]
[{"$f":"'Product Info'!A29","v":0},{"$f":"'Product Info'!B29","v":0},{"$f":"'Product Info'!C29","v":0},null,null,null,null,null,null,null,null,null,null,null,null,null,null,null,null,null,null,null,null,null,null,null,null,null,null,null,null,null,null,null,0,{"$f":"'Product Info'!F29*('Daily Info (August)'!AI28)","v":0},null,null,{"$f":"AI28*('Product Info'!H29)","v":0},{"$f":"AI28*('Product Info'!M29+'Product Info'!P29+'Product Info'!S29+'Product Info'!V29+'Product Info'!Y29+'Product Info'!AB29+'Product Info'!AE29+'Product Info'!AH29+'Product Info'!AK29+'Product Info'!AN29+'Product Info'!AQ29+'Product Info'!AT29+'Product Info'!AW29+'Product Info'!AZ29+'Product Info'!BC29+'Product Info'!BF29+'Product Info'!BI29+'Product Info'!BL29+'Product Info'!BO29+'Product Info'!BR29+'Product Info'!BU29+'Product Info'!BX29+'Product Info'!CA29+'Product Info'!CD29+'Product Info'!CG29+'Product Info'!CJ29+'Product Info'!CM29+'Product Info'!CP29+'Product Info'!CS29+'Product Info'!CV29+'Product Info'!CY29+'Product Info'!DB29+'Product Info'!DE29+'Product Info'!DH29+'Product Info'!DK29+'Product Info'!DN29+'Product Info'!DQ29+'Product Info'!DT29+'Product Info'!DW29+'Product Info'!DZ29+'Product Info'!EC29+'Product Info'!EF29+'Product Info'!EI29+'Product Info'!EL29+'Product Info'!EO29+'Product Info'!ER29+'Product Info'!EU29+'Product Info'!EX29+'Product Info'!FA29+'Product Info'!FD29)","v":0},{"$f":"AI28*('Product Info'!M29)","v":0},{"$f":"AI28*'Product Info'!P29","v":0},{"$f":"AI28*'Product Info'!S29","v":0},{"$f":"AI28*'Product Info'!V29","v":0},{"$f":"AI28*'Product Info'!Y29","v":0},{"$f":"AI28*'Product Info'!AB29","v":0},{"$f":"AI28*'Product Info'!AE29","v":0},{"$f":"AI28*'Product Info'!AH29","v":0},{"$f":"AI28*'Product Info'!AK29","v":0},{"$f":"AI28*'Product Info'!AN29","v":0},{"$f":"AI28*'Product Info'!AQ29","v":0},{"$f":"AI28*'Product Info'!AT29","v":0},{"$f":"AI28*'Product Info'!AW29","v":0},{"$f":"AI28*'Product Info'!AZ29","v":0},{"$f":"AI28*'Product Info'!BC29","v":0},{"$f":"AI28*'Product Info'!BF29","v":0},{"$f":"AI28*'Product Info'!BI29","v":0},{"$f":"AI28*'Product Info'!BL29","v":0},{"$f":"AI28*'Product Info'!BO29","v":0},{"$f":"AI28*'Product Info'!BR29","v":0},{"$f":"AI28*'Product Info'!BU29","v":0},{"$f":"AI28*'Product Info'!BX29","v":0}]
[{"$f":"'Product Info'!A30","v":0},{"$f":"'Product Info'!B30","v":0},{"$f":"'Product Info'!C30","v":0},null,null,null,null,null,null,null,null,null,null,null,null,null,null,null,null,null,null,null,null,null,null,null,null,null,null,null,null,null,null,null,0,{"$f":"'Product Info'!F30*('Daily Info (August)'!AI29)","v":0},null,null,{"$f":"AI29*('Product Info'!H30)","v":0},{"$f":"AI29*('Product Info'!M30+'Product Info'!P30+'Product Info'!S30+'Product Info'!V30+'Product Info'!Y30+'Product Info'!AB30+'Product Info'!AE30+'Product Info'!AH30+'Product Info'!AK30+'Product Info'!AN30+'Product Info'!AQ30+'Product Info'!AT30+'Product Info'!AW30+'Product Info'!AZ30+'Product Info'!BC30+'Product Info'!BF30+'Product Info'!BI30+'Product Info'!BL30+'Product Info'!BO30+'Product Info'!BR30+'Product Info'!BU30+'Product Info'!BX30+'Product Info'!CA30+'Product Info'!CD30+'Product Info'!CG30+'Product Info'!CJ30+'Product Info'!CM30+'Product Info'!CP30+'Product Info'!CS30+'Product Info'!CV30+'Product Info'!CY30+'Product Info'!DB30+'Product Info'!DE30+'Product Info'!DH30+'Product Info'!DK30+'Product Info'!DN30+'Product Info'!DQ30+'Product Info'!DT30+'Product Info'!DW30+'Product Info'!DZ30+'Product Info'!EC30+'Product Info'!EF30+'Product Info'!EI30+'Product Info'!EL30+'Product Info'!EO30+'Product Info'!ER30+'Product Info'!EU30+'Product Info'!EX30+'Product Info'!FA30+'Product Info'!FD30)","v":0},{"$f":"AI29*('Product Info'!M30)","v":0},{"$f":"AI29*'Product Info'!P30","v":0},{"$f":"AI29*'Product Info'!S30","v":0},{"$f":"AI29*'Product Info'!V30","v":0},{"$f":"AI29*'Product Info'!Y30","v":0},{"$f":"AI29*'Product Info'!AB30","v":0},{"$f":"AI29*'Product Info'!AE30","v":0},{"$f":"AI29*'Product Info'!AH30","v":0},{"$f":"AI29*'Product Info'!AK30","v":0},{"$f":"AI29*'Product Info'!AN30","v":0},{"$f":"AI29*'Product Info'!AQ30","v":0},{"$f":"AI29*'Product Info'!AT30","v":0},{"$f":"AI29*'Product Info'!AW30","v":0},{"$f":"AI29*'Product Info'!AZ30","v":0},{"$f":"AI29*'Product Info'!BC30","v":0},{"$f":"AI29*'Product Info'!BF30","v":0},{"$f":"AI29*'Product Info'!BI30","v":0},{"$f":"AI29*'Product Info'!BL30","v":0},{"$f":"AI29*'Product Info'!BO30","v":0},{"$f":"AI29*'Product Info'!BR30","v":0},{"$f":"AI29*'Product Info'!BU30","v":0},{"$f":"AI29*'Product Info'!BX30","v":0}]
[{"$f":"'Product Info'!A31","v":0},{"$f":"'Product Info'!B31","v":0},{"$f":"'Product Info'!C31","v":0},null,null,null,null,null,null,null,null,null,null,null,null,null,null,null,null,null,null,null,null,null,null,null,null,null,null,null,null,null,null,null,0,{"$f":"'Product Info'!F31*('Daily Info (August)'!AI30)","v":0},null,null,{"$f":"AI30*('Product Info'!H31)","v":0},{"$f":"AI30*('Product Info'!M31+'Product Info'!P31+'Product Info'!S31+'Product Info'!V31+'Product Info'!Y31+'Product Info'!AB31+'Product Info'!AE31+'Product Info'!AH31+'Product Info'!AK31+'Product Info'!AN31+'Product Info'!AQ31+'Product Info'!AT31+'Product Info'!AW31+'Product Info'!AZ31+'Product Info'!BC31+'Product Info'!BF31+'Product Info'!BI31+'Product Info'!BL31+'Product Info'!BO31+'Product Info'!BR31+'Product Info'!BU31+'Product Info'!BX31+'Product Info'!CA31+'Product Info'!CD31+'Product Info'!CG31+'Product Info'!CJ31+'Product Info'!CM31+'Product Info'!CP31+'Product Info'!CS31+'Product Info'!CV31+'Product Info'!CY31+'Product Info'!DB31+'Product Info'!DE31+'Product Info'!DH31+'Product Info'!DK31+'Product Info'!DN31+'Product Info'!DQ31+'Product Info'!DT31+'Product Info'!DW31+'Product Info'!DZ31+'Product Info'!EC31+'Product Info'!EF31+'Product Info'!EI31+'Product Info'!EL31+'Product Info'!EO31+'Product Info'!ER31+'Product Info'!EU31+'Product Info'!EX31+'Product Info'!FA31+'Product Info'!FD31)","v":0},{"$f":"AI30*('Product Info'!M31)","v":0},{"$f":"AI30*'Product Info'!P31","v":0},{"$f":"AI30*'Product Info'!S31","v":0},{"$f":"AI30*'Product Info'!V31","v":0},{"$f":"AI30*'Product Info'!Y31","v":0},{"$f":"AI30*'Product Info'!AB31","v":0},{"$f":"AI30*'Product Info'!AE31","v":0},{"$f":"AI30*'Product Info'!AH31","v":0},{"$f":"AI30*'Product Info'!AK31","v":0},{"$f":"AI30*'Product Info'!AN31","v":0},{"$f":"AI30*'Product Info'!AQ31","v":0},{"$f":"AI30*'Product Info'!AT31","v":0},{"$f":"AI30*'Product Info'!AW31","v":0},{"$f":"AI30*'Product Info'!AZ31","v":0},{"$f":"AI30*'Product Info'!BC31","v":0},{"$f":"AI30*'Product Info'!BF31","v":0},{"$f":"AI30*'Product Info'!BI31","v":0},{"$f":"AI30*'Product Info'!BL31","v":0},{"$f":"AI30*'Product Info'!BO31","v":0},{"$f":"AI30*'Product Info'!BR31","v":0},{"$f":"AI30*'Product Info'!BU31","v":0},{"$f":"AI30*'Product Info'!BX31","v":0}]
[{"$f":"'Product Info'!A32","v":0},{"$f":"'Product Info'!B32","v":0},{"$f":"'Product Info'!C32","v":0},null,null,null,null,null,null,null,null,null,null,null,null,null,null,null,null,null,null,null,null,null,null,null,null,null,null,null,null,null,null,null,0,{"$f":"'Product Info'!F32*('Daily Info (August)'!AI31)","v":0},null,null,{"$f":"AI31*('Product Info'!H32)","v":0},{"$f":"AI31*('Product Info'!M32+'Product Info'!P32+'Product Info'!S32+'Product Info'!V32+'Product Info'!Y32+'Product Info'!AB32+'Product Info'!AE32+'Product Info'!AH32+'Product Info'!AK32+'Product Info'!AN32+'Product Info'!AQ32+'Product Info'!AT32+'Product Info'!AW32+'Product Info'!AZ32+'Product Info'!BC32+'Product Info'!BF32+'Product Info'!BI32+'Product Info'!BL32+'Product Info'!BO32+'Product Info'!BR32+'Product Info'!BU32+'Product Info'!BX32+'Product Info'!CA32+'Product Info'!CD32+'Product Info'!CG32+'Product Info'!CJ32+'Product Info'!CM32+'Product Info'!CP32+'Product Info'!CS32+'Product Info'!CV32+'Product Info'!CY32+'Product Info'!DB32+'Product Info'!DE32+'Product Info'!DH32+'Product Info'!DK32+'Product Info'!DN32+'Product Info'!DQ32+'Product Info'!DT32+'Product Info'!DW32+'Product Info'!DZ32+'Product Info'!EC32+'Product Info'!EF32+'Product Info'!EI32+'Product Info'!EL32+'Product Info'!EO32+'Product Info'!ER32+'Product Info'!EU32+'Product Info'!EX32+'Product Info'!FA32+'Product Info'!FD32)","v":0},{"$f":"AI31*('Product Info'!M32)","v":0},{"$f":"AI31*'Product Info'!P32","v":0},{"$f":"AI31*'Product Info'!S32","v":0},{"$f":"AI31*'Product Info'!V32","v":0},{"$f":"AI31*'Product Info'!Y32","v":0},{"$f":"AI31*'Product Info'!AB32","v":0},{"$f":"AI31*'Product Info'!AE32","v":0},{"$f":"AI31*'Product Info'!AH32","v":0},{"$f":"AI31*'Product Info'!AK32","v":0},{"$f":"AI31*'Product Info'!AN32","v":0},{"$f":"AI31*'Product Info'!AQ32","v":0},{"$f":"AI31*'Product Info'!AT32","v":0},{"$f":"AI31*'Product Info'!AW32","v":0},{"$f":"AI31*'Product Info'!AZ32","v":0},{"$f":"AI31*'Product Info'!BC32","v":0},{"$f":"AI31*'Product Info'!BF32","v":0},{"$f":"AI31*'Product Info'!BI32","v":0},{"$f":"AI31*'Product Info'!BL32","v":0},{"$f":"AI31*'Product Info'!BO32","v":0},{"$f":"AI31*'Product Info'!BR32","v":0},{"$f":"AI31*'Product Info'!BU32","v":0},{"$f":"AI31*'Product Info'!BX32","v":0}]
[{"$f":"'Product Info'!A33","v":0},{"$f":"'Product Info'!B33","v":0},{"$f":"'Product Info'!C33","v":0},null,null,null,null,null,null,null,null,null,null,null,null,null,null,null,null,null,null,null,null,null,null,null,null,null,null,null,null,null,null,null,0,{"$f":"'Product Info'!F33*('Daily Info (August)'!AI32)","v":0},null,null,{"$f":"AI32*('Product Info'!H33)","v":0},{"$f":"AI32*('Product Info'!M33+'Product Info'!P33+'Product Info'!S33+'Product Info'!V33+'Product Info'!Y33+'Product Info'!AB33+'Product Info'!AE33+'Product Info'!AH33+'Product Info'!AK33+'Product Info'!AN33+'Product Info'!AQ33+'Product Info'!AT33+'Product Info'!AW33+'Product Info'!AZ33+'Product Info'!BC33+'Product Info'!BF33+'Product Info'!BI33+'Product Info'!BL33+'Product Info'!BO33+'Product Info'!BR33+'Product Info'!BU33+'Product Info'!BX33+'Product Info'!CA33+'Product Info'!CD33+'Product Info'!CG33+'Product Info'!CJ33+'Product Info'!CM33+'Product Info'!CP33+'Product Info'!CS33+'Product Info'!CV33+'Product Info'!CY33+'Product Info'!DB33+'Product Info'!DE33+'Product Info'!DH33+'Product Info'!DK33+'Product Info'!DN33+'Product Info'!DQ33+'Product Info'!DT33+'Product Info'!DW33+'Product Info'!DZ33+'Product Info'!EC33+'Product Info'!EF33+'Product Info'!EI33+'Product Info'!EL33+'Product Info'!EO33+'Product Info'!ER33+'Product Info'!EU33+'Product Info'!EX33+'Product Info'!FA33+'Product Info'!FD33)","v":0},{"$f":"AI32*('Product Info'!M33)","v":0},{"$f":"AI32*'Product Info'!P33","v":0},{"$f":"AI32*'Product Info'!S33","v":0},{"$f":"AI32*'Product Info'!V33","v":0},{"$f":"AI32*'Product Info'!Y33","v":0},{"$f":"AI32*'Product Info'!AB33","v":0},{"$f":"AI32*'Product Info'!AE33","v":0},{"$f":"AI32*'Product Info'!AH33","v":0},{"$f":"AI32*'Product Info'!AK33","v":0},{"$f":"AI32*'Product Info'!AN33","v":0},{"$f":"AI32*'Product Info'!AQ33","v":0},{"$f":"AI32*'Product Info'!AT33","v":0},{"$f":"AI32*'Product Info'!AW33","v":0},{"$f":"AI32*'Product Info'!AZ33","v":0},{"$f":"AI32*'Product Info'!BC33","v":0},{"$f":"AI32*'Product Info'!BF33","v":0},{"$f":"AI32*'Product Info'!BI33","v":0},{"$f":"AI32*'Product Info'!BL33","v":0},{"$f":"AI32*'Product Info'!BO33","v":0},{"$f":"AI32*'Product Info'!BR33","v":0},{"$f":"AI32*'Product Info'!BU33","v":0},{"$f":"AI32*'Product Info'!BX33","v":0}]
[{"$f":"'Product Info'!A34","v":0},{"$f":"'Product Info'!B34","v":0},{"$f":"'Product Info'!C34","v":0},null,null,null,null,null,null,null,null,null,null,null,null,null,null,null,null,null,null,null,null,null,null,null,null,null,null,null,null,null,null,null,0,{"$f":"'Product Info'!F34*('Daily Info (August)'!AI33)","v":0},null,null,{"$f":"AI33*('Product Info'!H34)","v":0},{"$f":"AI33*('Product Info'!M34+'Product Info'!P34+'Product Info'!S34+'Product Info'!V34+'Product Info'!Y34+'Product Info'!AB34+'Product Info'!AE34+'Product Info'!AH34+'Product Info'!AK34+'Product Info'!AN34+'Product Info'!AQ34+'Product Info'!AT34+'Product Info'!AW34+'Product Info'!AZ34+'Product Info'!BC34+'Product Info'!BF34+'Product Info'!BI34+'Product Info'!BL34+'Product Info'!BO34+'Product Info'!BR34+'Product Info'!BU34+'Product Info'!BX34+'Product Info'!CA34+'Product Info'!CD34+'Product Info'!CG34+'Product Info'!CJ34+'Product Info'!CM34+'Product Info'!CP34+'Product Info'!CS34+'Product Info'!CV34+'Product Info'!CY34+'Product Info'!DB34+'Product Info'!DE34+'Product Info'!DH34+'Product Info'!DK34+'Product Info'!DN34+'Product Info'!DQ34+'Product Info'!DT34+'Product Info'!DW34+'Product Info'!DZ34+'Product Info'!EC34+'Product Info'!EF34+'Product Info'!EI34+'Product Info'!EL34+'Product Info'!EO34+'Product Info'!ER34+'Product Info'!EU34+'Product Info'!EX34+'Product Info'!FA34+'Product Info'!FD34)","v":0},{"$f":"AI33*('Product Info'!M34)","v":0},{"$f":"AI33*'Product Info'!P34","v":0},{"$f":"AI33*'Product Info'!S34","v":0},{"$f":"AI33*'Product Info'!V34","v":0},{"$f":"AI33*'Product Info'!Y34","v":0},{"$f":"AI33*'Product Info'!AB34","v":0},{"$f":"AI33*'Product Info'!AE34","v":0},{"$f":"AI33*'Product Info'!AH34","v":0},{"$f":"AI33*'Product Info'!AK34","v":0},{"$f":"AI33*'Product Info'!AN34","v":0},{"$f":"AI33*'Product Info'!AQ34","v":0},{"$f":"AR33*'Product Info'!AF34","v":0},{"$f":"AI33*'Product Info'!AW34","v":0},{"$f":"AI33*'Product Info'!AZ34","v":0},{"$f":"AI33*'Product Info'!BC34","v":0},{"$f":"AI33*'Product Info'!BF34","v":0},{"$f":"AI33*'Product Info'!BI34","v":0},{"$f":"AI33*'Product Info'!BL34","v":0},{"$f":"AI33*'Product Info'!BO34","v":0},{"$f":"AI33*'Product Info'!BR34","v":0},{"$f":"AI33*'Product Info'!BU34","v":0},{"$f":"AI33*'Product Info'!BX34","v":0}]
[{"$f":"'Product Info'!A35","v":0},{"$f":"'Product Info'!B35","v":0},{"$f":"'Product Info'!C35","v":0},null,null,null,null,null,null,null,null,null,null,null,null,null,null,null,null,null,null,null,null,null,null,null,null,null,null,null,null,null,null,null,0,{"$f":"'Product Info'!F35*('Daily Info (August)'!AI34)","v":0},null,null,{"$f":"AI34*('Product Info'!H35)","v":0},{"$f":"AI34*('Product Info'!M35+'Product Info'!P35+'Product Info'!S35+'Product Info'!V35+'Product Info'!Y35+'Product Info'!AB35+'Product Info'!AE35+'Product Info'!AH35+'Product Info'!AK35+'Product Info'!AN35+'Product Info'!AQ35+'Product Info'!AT35+'Product Info'!AW35+'Product Info'!AZ35+'Product Info'!BC35+'Product Info'!BF35+'Product Info'!BI35+'Product Info'!BL35+'Product Info'!BO35+'Product Info'!BR35+'Product Info'!BU35+'Product Info'!BX35+'Product Info'!CA35+'Product Info'!CD35+'Product Info'!CG35+'Product Info'!CJ35+'Product Info'!CM35+'Product Info'!CP35+'Product Info'!CS35+'Product Info'!CV35+'Product Info'!CY35+'Product Info'!DB35+'Product Info'!DE35+'Product Info'!DH35+'Product Info'!DK35+'Product Info'!DN35+'Product Info'!DQ35+'Product Info'!DT35+'Product Info'!DW35+'Product Info'!DZ35+'Product Info'!EC35+'Product Info'!EF35+'Product Info'!EI35+'Product Info'!EL35+'Product Info'!EO35+'Product Info'!ER35+'Product Info'!EU35+'Product Info'!EX35+'Product Info'!FA35+'Product Info'!FD35)","v":0},{"$f":"AI34*('Product Info'!M35)","v":0},{"$f":"AI34*'Product Info'!P35","v":0},{"$f":"AI34*'Product Info'!S35","v":0},{"$f":"AI34*'Product Info'!V35","v":0},{"$f":"AI34*'Product Info'!Y35","v":0},{"$f":"AI34*'Product Info'!AB35","v":0},{"$f":"AI34*'Product Info'!AE35","v":0},{"$f":"AI34*'Product Info'!AH35","v":0},{"$f":"AI34*'Product Info'!AK35","v":0},{"$f":"AI34*'Product Info'!AN35","v":0},{"$f":"AI34*'Product Info'!AQ35","v":0},{"$f":"AI34*'Product Info'!AT35","v":0},{"$f":"AI34*'Product Info'!AW35","v":0},{"$f":"AI34*'Product Info'!AZ35","v":0},{"$f":"AI34*'Product Info'!BC35","v":0},{"$f":"AI34*'Product Info'!BF35","v":0},{"$f":"AI34*'Product Info'!BI35","v":0},{"$f":"AI34*'Product Info'!BL35","v":0},{"$f":"AI34*'Product Info'!BO35","v":0},{"$f":"AI34*'Product Info'!BR35","v":0},{"$f":"AI34*'Product Info'!BU35","v":0},{"$f":"AI34*'Product Info'!BX35","v":0}]
[{"$f":"'Product Info'!A36","v":0},{"$f":"'Product Info'!B36","v":0},{"$f":"'Product Info'!C36","v":0},null,null,null,null,null,null,null,null,null,null,null,null,null,null,null,null,null,null,null,null,null,null,null,null,null,null,null,null,null,null,null,0,{"$f":"'Product Info'!F36*('Daily Info (August)'!AI35)","v":0},null,null,{"$f":"AI35*('Product Info'!H36)","v":0},{"$f":"AI35*('Product Info'!M36+'Product Info'!P36+'Product Info'!S36+'Product Info'!V36+'Product Info'!Y36+'Product Info'!AB36+'Product Info'!AE36+'Product Info'!AH36+'Product Info'!AK36+'Product Info'!AN36+'Product Info'!AQ36+'Product Info'!AT36+'Product Info'!AW36+'Product Info'!AZ36+'Product Info'!BC36+'Product Info'!BF36+'Product Info'!BI36+'Product Info'!BL36+'Product Info'!BO36+'Product Info'!BR36+'Product Info'!BU36+'Product Info'!BX36+'Product Info'!CA36+'Product Info'!CD36+'Product Info'!CG36+'Product Info'!CJ36+'Product Info'!CM36+'Product Info'!CP36+'Product Info'!CS36+'Product Info'!CV36+'Product Info'!CY36+'Product Info'!DB36+'Product Info'!DE36+'Product Info'!DH36+'Product Info'!DK36+'Product Info'!DN36+'Product Info'!DQ36+'Product Info'!DT36+'Product Info'!DW36+'Product Info'!DZ36+'Product Info'!EC36+'Product Info'!EF36+'Product Info'!EI36+'Product Info'!EL36+'Product Info'!EO36+'Product Info'!ER36+'Product Info'!EU36+'Product Info'!EX36+'Product Info'!FA36+'Product Info'!FD36)","v":0},{"$f":"AI35*('Product Info'!M36)","v":0},{"$f":"AI35*'Product Info'!P36","v":0},{"$f":"AI35*'Product Info'!S36","v":0},{"$f":"AI35*'Product Info'!V36","v":0},{"$f":"AI35*'Product Info'!Y36","v":0},{"$f":"AI35*'Product Info'!AB36","v":0},{"$f":"AI35*'Product Info'!AE36","v":0},{"$f":"AI35*'Product Info'!AH36","v":0},{"$f":"AI35*'Product Info'!AK36","v":0},{"$f":"AI35*'Product Info'!AN36","v":0},{"$f":"AI35*'Product Info'!AQ36","v":0},{"$f":"AI35*'Product Info'!AT36","v":0},{"$f":"AI35*'Product Info'!AW36","v":0},{"$f":"AI35*'Product Info'!AZ36","v":0},{"$f":"AI35*'Product Info'!BC36","v":0},{"$f":"AI35*'Product Info'!BF36","v":0},{"$f":"AI35*'Product Info'!BI36","v":0},{"$f":"AI35*'Product Info'!BL36","v":0},{"$f":"AI35*'Product Info'!BO36","v":0},{"$f":"AI35*'Product Info'!BR36","v":0},{"$f":"AI35*'Product Info'!BU36","v":0},{"$f":"AI35*'Product Info'!BX36","v":0}]
[{"$f":"'Product Info'!A37","v":0},{"$f":"'Product Info'!B37","v":0},{"$f":"'Product Info'!C37","v":0},null,null,null,null,null,null,null,null,null,null,null,null,null,null,null,null,null,null,null,null,null,null,null,null,null,null,null,null,null,null,null,{"$f":"SUM(D36:AH36)","v":0},{"$f":"'Product Info'!F37*('Daily Info (August)'!AI36)","v":0},null,null,{"$f":"AI36*('Product Info'!H37)","v":0},{"$f":"AI36*('Product Info'!M37+'Product Info'!P37+'Product Info'!S37+'Product Info'!V37+'Product Info'!Y37+'Product Info'!AB37+'Product Info'!AE37+'Product Info'!AH37+'Product Info'!AK37+'Product Info'!AN37+'Product Info'!AQ37+'Product Info'!AT37+'Product Info'!AW37+'Product Info'!AZ37+'Product Info'!BC37+'Product Info'!BF37+'Product Info'!BI37+'Product Info'!BL37+'Product Info'!BO37+'Product Info'!BR37+'Product Info'!BU37+'Product Info'!BX37+'Product Info'!CA37+'Product Info'!CD37+'Product Info'!CG37+'Product Info'!CJ37+'Product Info'!CM37+'Product Info'!CP37+'Product Info'!CS37+'Product Info'!CV37+'Product Info'!CY37+'Product Info'!DB37+'Product Info'!DE37+'Product Info'!DH37+'Product Info'!DK37+'Product Info'!DN37+'Product Info'!DQ37+'Product Info'!DT37+'Product Info'!DW37+'Product Info'!DZ37+'Product Info'!EC37+'Product Info'!EF37+'Product Info'!EI37+'Product Info'!EL37+'Product Info'!EO37+'Product Info'!ER37+'Product Info'!EU37+'Product Info'!EX37+'Product Info'!FA37+'Product Info'!FD37)","v":0},{"$f":"AI36*('Product Info'!M37)","v":0},{"$f":"AI36*'Product Info'!P37","v":0},{"$f":"AI36*'Product Info'!S37","v":0},{"$f":"AI36*'Product Info'!V37","v":0},{"$f":"AI36*'Product Info'!Y37","v":0},{"$f":"AI36*'Product Info'!AB37","v":0},{"$f":"AI36*'Product Info'!AE37","v":0},{"$f":"AI36*'Product Info'!AH37","v":0},{"$f":"AI36*'Product Info'!AK37","v":0},{"$f":"AI36*'Product Info'!AN37","v":0},{"$f":"AI36*'Product Info'!AQ37","v":0},{"$f":"AI36*'Product Info'!AT37","v":0},{"$f":"AI36*'Product Info'!AW37","v":0},{"$f":"AI36*'Product Info'!AZ37","v":0},{"$f":"AI36*'Product Info'!BC37","v":0},{"$f":"AI36*'Product Info'!BF37","v":0},{"$f":"AI36*'Product Info'!BI37","v":0},{"$f":"AI36*'Product Info'!BL37","v":0},{"$f":"AI36*'Product Info'!BO37","v":0},{"$f":"AI36*'Product Info'!BR37","v":0},{"$f":"AI36*'Product Info'!BU37","v":0},{"$f":"AI36*'Product Info'!BX37","v":0}]
[{"$f":"'Product Info'!A38","v":0},{"$f":"'Product Info'!B38","v":0},{"$f":"'Product Info'!C38","v":0},null,null,null,null,null,null,null,null,null,null,null,null,null,null,null,null,null,null,null,null,null,null,null,null,null,null,null,null,null,null,null,0,{"$f":"'Product Info'!F38*('Daily Info (August)'!AI37)","v":0},null,null,{"$f":"AI37*('Product Info'!H38)","v":0},{"$f":"AI37*('Product Info'!M38+'Product Info'!P38+'Product Info'!S38+'Product Info'!V38+'Product Info'!Y38+'Product Info'!AB38+'Product Info'!AE38+'Product Info'!AH38+'Product Info'!AK38+'Product Info'!AN38+'Product Info'!AQ38+'Product Info'!AT38+'Product Info'!AW38+'Product Info'!AZ38+'Product Info'!BC38+'Product Info'!BF38+'Product Info'!BI38+'Product Info'!BL38+'Product Info'!BO38+'Product Info'!BR38+'Product Info'!BU38+'Product Info'!BX38+'Product Info'!CA38+'Product Info'!CD38+'Product Info'!CG38+'Product Info'!CJ38+'Product Info'!CM38+'Product Info'!CP38+'Product Info'!CS38+'Product Info'!CV38+'Product Info'!CY38+'Product Info'!DB38+'Product Info'!DE38+'Product Info'!DH38+'Product Info'!DK38+'Product Info'!DN38+'Product Info'!DQ38+'Product Info'!DT38+'Product Info'!DW38+'Product Info'!DZ38+'Product Info'!EC38+'Product Info'!EF38+'Product Info'!EI38+'Product Info'!EL38+'Product Info'!EO38+'Product Info'!ER38+'Product Info'!EU38+'Product Info'!EX38+'Product Info'!FA38+'Product Info'!FD38)","v":0},{"$f":"AI37*('Product Info'!M38)","v":0},{"$f":"AI37*'Product Info'!P38","v":0},{"$f":"AI37*'Product Info'!S38","v":0},{"$f":"AI37*'Product Info'!V38","v":0},{"$f":"AI37*'Product Info'!Y38","v":0},{"$f":"AI37*'Product Info'!AB38","v":0},{"$f":"AI37*'Product Info'!AE38","v":0},{"$f":"AI37*'Product Info'!AH38","v":0},{"$f":"AI37*'Product Info'!AK38","v":0},{"$f":"AI37*'Product Info'!AN38","v":0},{"$f":"AI37*'Product Info'!AQ38","v":0},{"$f":"AI37*'Product Info'!AT38","v":0},{"$f":"AI37*'Product Info'!AW38","v":0},{"$f":"AI37*'Product Info'!AZ38","v":0},{"$f":"AI37*'Product Info'!BC38","v":0},{"$f":"AI37*'Product Info'!BF38","v":0},{"$f":"AI37*'Product Info'!BI38","v":0},{"$f":"AI37*'Product Info'!BL38","v":0},{"$f":"AI37*'Product Info'!BO38","v":0},{"$f":"AI37*'Product Info'!BR38","v":0},{"$f":"AI37*'Product Info'!BU38","v":0},{"$f":"AI37*'Product Info'!BX38","v":0}]
[{"$f":"'Product Info'!A39","v":0},{"$f":"'Product Info'!B39","v":0},{"$f":"'Product Info'!C39","v":0},null,null,null,null,null,null,null,null,null,null,null,null,null,null,null,null,null,null,null,null,null,null,null,null,null,null,null,null,null,null,null,0,{"$f":"'Product Info'!F39*('Daily Info (August)'!AI38)","v":0},null,null,{"$f":"AI38*('Product Info'!H39)","v":0},{"$f":"AI38*('Product Info'!M39+'Product Info'!P39+'Product Info'!S39+'Product Info'!V39+'Product Info'!Y39+'Product Info'!AB39+'Product Info'!AE39+'Product Info'!AH39+'Product Info'!AK39+'Product Info'!AN39+'Product Info'!AQ39+'Product Info'!AT39+'Product Info'!AW39+'Product Info'!AZ39+'Product Info'!BC39+'Product Info'!BF39+'Product Info'!BI39+'Product Info'!BL39+'Product Info'!BO39+'Product Info'!BR39+'Product Info'!BU39+'Product Info'!BX39+'Product Info'!CA39+'Product Info'!CD39+'Product Info'!CG39+'Product Info'!CJ39+'Product Info'!CM39+'Product Info'!CP39+'Product Info'!CS39+'Product Info'!CV39+'Product Info'!CY39+'Product Info'!DB39+'Product Info'!DE39+'Product Info'!DH39+'Product Info'!DK39+'Product Info'!DN39+'Product Info'!DQ39+'Product Info'!DT39+'Product Info'!DW39+'Product Info'!DZ39+'Product Info'!EC39+'Product Info'!EF39+'Product Info'!EI39+'Product Info'!EL39+'Product Info'!EO39+'Product Info'!ER39+'Product Info'!EU39+'Product Info'!EX39+'Product Info'!FA39+'Product Info'!FD39)","v":0},{"$f":"AI38*('Product Info'!M39)","v":0},{"$f":"AI38*'Product Info'!P39","v":0},{"$f":"AI38*'Product Info'!S39","v":0},{"$f":"AI38*'Product Info'!V39","v":0},{"$f":"AI38*'Product Info'!Y39","v":0},{"$f":"AI38*'Product Info'!AB39","v":0},{"$f":"AI38*'Product Info'!AE39","v":0},{"$f":"AI38*'Product Info'!AH39","v":0},{"$f":"AI38*'Product Info'!AK39","v":0},{"$f":"AI38*'Product Info'!AN39","v":0},{"$f":"AI38*'Product Info'!AQ39","v":0},{"$f":"AI38*'Product Info'!AT39","v":0},{"$f":"AI38*'Product Info'!AW39","v":0},{"$f":"AI38*'Product Info'!AZ39","v":0},{"$f":"AI38*'Product Info'!BC39","v":0},{"$f":"AI38*'Product Info'!BF39","v":0},{"$f":"AI38*'Product Info'!BI39","v":0},{"$f":"AI38*'Product Info'!BL39","v":0},{"$f":"AI38*'Product Info'!BO39","v":0},{"$f":"AI38*'Product Info'!BR39","v":0},{"$f":"AI38*'Product Info'!BU39","v":0},{"$f":"AI38*'Product Info'!BX39","v":0}]
[{"$f":"'Product Info'!A40","v":0},{"$f":"'Product Info'!B40","v":0},{"$f":"'Product Info'!C40","v":0},null,null,null,null,null,null,null,null,null,null,null,null,null,null,null,null,null,null,null,null,null,null,null,null,null,null,null,null,null,null,null,0,{"$f":"'Product Info'!F40*('Daily Info (August)'!AI39)","v":0},null,null,{"$f":"AI39*('Product Info'!H40)","v":0},{"$f":"AI39*('Product Info'!M40+'Product Info'!P40+'Product Info'!S40+'Product Info'!V40+'Product Info'!Y40+'Product Info'!AB40+'Product Info'!AE40+'Product Info'!AH40+'Product Info'!AK40+'Product Info'!AN40+'Product Info'!AQ40+'Product Info'!AT40+'Product Info'!AW40+'Product Info'!AZ40+'Product Info'!BC40+'Product Info'!BF40+'Product Info'!BI40+'Product Info'!BL40+'Product Info'!BO40+'Product Info'!BR40+'Product Info'!BU40+'Product Info'!BX40+'Product Info'!CA40+'Product Info'!CD40+'Product Info'!CG40+'Product Info'!CJ40+'Product Info'!CM40+'Product Info'!CP40+'Product Info'!CS40+'Product Info'!CV40+'Product Info'!CY40+'Product Info'!DB40+'Product Info'!DE40+'Product Info'!DH40+'Product Info'!DK40+'Product Info'!DN40+'Product Info'!DQ40+'Product Info'!DT40+'Product Info'!DW40+'Product Info'!DZ40+'Product Info'!EC40+'Product Info'!EF40+'Product Info'!EI40+'Product Info'!EL40+'Product Info'!EO40+'Product Info'!ER40+'Product Info'!EU40+'Product Info'!EX40+'Product Info'!FA40+'Product Info'!FD40)","v":0},{"$f":"AI39*('Product Info'!M40)","v":0},{"$f":"AI39*'Product Info'!P40","v":0},{"$f":"AI39*'Product Info'!S40","v":0},{"$f":"AI39*'Product Info'!V40","v":0},{"$f":"AI39*'Product Info'!Y40","v":0},{"$f":"AI39*'Product Info'!AB40","v":0},{"$f":"AI39*'Product Info'!AE40","v":0},{"$f":"AI39*'Product Info'!AH40","v":0},{"$f":"AI39*'Product Info'!AK40","v":0},{"$f":"AI39*'Product Info'!AN40","v":0},{"$f":"AI39*'Product Info'!AQ40","v":0},{"$f":"AI39*'Product Info'!AT40","v":0},{"$f":"AI39*'Product Info'!AW40","v":0},{"$f":"AI39*'Product Info'!AZ40","v":0},{"$f":"AI39*'Product Info'!BC40","v":0},{"$f":"AI39*'Product Info'!BF40","v":0},{"$f":"AI39*'Product Info'!BI40","v":0},{"$f":"AI39*'Product Info'!BL40","v":0},{"$f":"AI39*'Product Info'!BO40","v":0},{"$f":"AI39*'Product Info'!BR40","v":0},{"$f":"AI39*'Product Info'!BU40","v":0},{"$f":"AI39*'Product Info'!BX40","v":0}]
[{"$f":"'Product Info'!A41","v":0},{"$f":"'Product Info'!B41","v":0},{"$f":"'Product Info'!C41","v":0},null,null,null,null,null,null,null,null,null,null,null,null,null,null,null,null,null,null,null,null,null,null,null,null,null,null,null,null,null,null,null,0,{"$f":"'Product Info'!F41*('Daily Info (August)'!AI40)","v":0},null,null,{"$f":"AI40*('Product Info'!H41)","v":0},{"$f":"AI40*('Product Info'!M41+'Product Info'!P41+'Product Info'!S41+'Product Info'!V41+'Product Info'!Y41+'Product Info'!AB41+'Product Info'!AE41+'Product Info'!AH41+'Product Info'!AK41+'Product Info'!AN41+'Product Info'!AQ41+'Product Info'!AT41+'Product Info'!AW41+'Product Info'!AZ41+'Product Info'!BC41+'Product Info'!BF41+'Product Info'!BI41+'Product Info'!BL41+'Product Info'!BO41+'Product Info'!BR41+'Product Info'!BU41+'Product Info'!BX41+'Product Info'!CA41+'Product Info'!CD41+'Product Info'!CG41+'Product Info'!CJ41+'Product Info'!CM41+'Product Info'!CP41+'Product Info'!CS41+'Product Info'!CV41+'Product Info'!CY41+'Product Info'!DB41+'Product Info'!DE41+'Product Info'!DH41+'Product Info'!DK41+'Product Info'!DN41+'Product Info'!DQ41+'Product Info'!DT41+'Product Info'!DW41+'Product Info'!DZ41+'Product Info'!EC41+'Product Info'!EF41+'Product Info'!EI41+'Product Info'!EL41+'Product Info'!EO41+'Product Info'!ER41+'Product Info'!EU41+'Product Info'!EX41+'Product Info'!FA41+'Product Info'!FD41)","v":0},{"$f":"AI40*('Product Info'!M41)","v":0},{"$f":"AI40*'Product Info'!P41","v":0},{"$f":"AI40*'Product Info'!S41","v":0},{"$f":"AI40*'Product Info'!V41","v":0},{"$f":"AI40*'Product Info'!Y41","v":0},{"$f":"AI40*'Product Info'!AB41","v":0},{"$f":"AI40*'Product Info'!AE41","v":0},{"$f":"AI40*'Product Info'!AH41","v":0},{"$f":"AI40*'Product Info'!AK41","v":0},{"$f":"AI40*'Product Info'!AN41","v":0},{"$f":"AI40*'Product Info'!AQ41","v":0},{"$f":"AI40*'Product Info'!AT41","v":0},{"$f":"AI40*'Product Info'!AW41","v":0},{"$f":"AI40*'Product Info'!AZ41","v":0},{"$f":"AI40*'Product Info'!BC41","v":0},{"$f":"AI40*'Product Info'!BF41","v":0},{"$f":"AI40*'Product Info'!BI41","v":0},{"$f":"AI40*'Product Info'!BL41","v":0},{"$f":"AI40*'Product Info'!BO41","v":0},{"$f":"AI40*'Product Info'!BR41","v":0},{"$f":"AI40*'Product Info'!BU41","v":0},{"$f":"AI40*'Product Info'!BX41","v":0}]
[{"$f":"'Product Info'!A42","v":0},{"$f":"'Product Info'!B42","v":0},{"$f":"'Product Info'!C42","v":0},null,null,null,null,null,null,null,null,null,null,null,null,null,null,null,null,null,null,null,null,null,null,null,null,null,null,null,null,null,null,null,0,{"$f":"'Product Info'!F42*('Daily Info (August)'!AI41)","v":0},null,null,{"$f":"AI41*('Product Info'!H42)","v":0},{"$f":"AI41*('Product Info'!M42+'Product Info'!P42+'Product Info'!S42+'Product Info'!V42+'Product Info'!Y42+'Product Info'!AB42+'Product Info'!AE42+'Product Info'!AH42+'Product Info'!AK42+'Product Info'!AN42+'Product Info'!AQ42+'Product Info'!AT42+'Product Info'!AW42+'Product Info'!AZ42+'Product Info'!BC42+'Product Info'!BF42+'Product Info'!BI42+'Product Info'!BL42+'Product Info'!BO42+'Product Info'!BR42+'Product Info'!BU42+'Product Info'!BX42+'Product Info'!CA42+'Product Info'!CD42+'Product Info'!CG42+'Product Info'!CJ42+'Product Info'!CM42+'Product Info'!CP42+'Product Info'!CS42+'Product Info'!CV42+'Product Info'!CY42+'Product Info'!DB42+'Product Info'!DE42+'Product Info'!DH42+'Product Info'!DK42+'Product Info'!DN42+'Product Info'!DQ42+'Product Info'!DT42+'Product Info'!DW42+'Product Info'!DZ42+'Product Info'!EC42+'Product Info'!EF42+'Product Info'!EI42+'Product Info'!EL42+'Product Info'!EO42+'Product Info'!ER42+'Product Info'!EU42+'Product Info'!EX42+'Product Info'!FA42+'Product Info'!FD42)","v":0},{"$f":"AI41*('Product Info'!M42)","v":0},{"$f":"AI41*'Product Info'!P42","v":0},{"$f":"AI41*'Product Info'!S42","v":0},{"$f":"AI41*'Product Info'!V42","v":0},{"$f":"AI41*'Product Info'!Y42","v":0},{"$f":"AI41*'Product Info'!AB42","v":0},{"$f":"AI41*'Product Info'!AE42","v":0},{"$f":"AI41*'Product Info'!AH42","v":0},{"$f":"AI41*'Product Info'!AK42","v":0},{"$f":"AI41*'Product Info'!AN42","v":0},{"$f":"AI41*'Product Info'!AQ42","v":0},{"$f":"AI41*'Product Info'!AT42","v":0},{"$f":"AI41*'Product Info'!AW42","v":0},{"$f":"AI41*'Product Info'!AZ42","v":0},{"$f":"AI41*'Product Info'!BC42","v":0},{"$f":"AI41*'Product Info'!BF42","v":0},{"$f":"AI41*'Product Info'!BI42","v":0},{"$f":"AI41*'Product Info'!BL42","v":0},{"$f":"AI41*'Product Info'!BO42","v":0},{"$f":"AI41*'Product Info'!BR42","v":0},{"$f":"AI41*'Product Info'!BU42","v":0},{"$f":"AI41*'Product Info'!BX42","v":0}]
[{"$f":"'Product Info'!A43","v":0},{"$f":"'Product Info'!B43","v":0},{"$f":"'Product Info'!C43","v":0},null,null,null,null,null,null,null,null,null,null,null,null,null,null,null,null,null,null,null,null,null,null,null,null,null,null,null,null,null,null,null,0,{"$f":"'Product Info'!F43*('Daily Info (August)'!AI42)","v":0},null,null,{"$f":"AI42*('Product Info'!H43)","v":0},{"$f":"AI42*('Product Info'!M43+'Product Info'!P43+'Product Info'!S43+'Product Info'!V43+'Product Info'!Y43+'Product Info'!AB43+'Product Info'!AE43+'Product Info'!AH43+'Product Info'!AK43+'Product Info'!AN43+'Product Info'!AQ43+'Product Info'!AT43+'Product Info'!AW43+'Product Info'!AZ43+'Product Info'!BC43+'Product Info'!BF43+'Product Info'!BI43+'Product Info'!BL43+'Product Info'!BO43+'Product Info'!BR43+'Product Info'!BU43+'Product Info'!BX43+'Product Info'!CA43+'Product Info'!CD43+'Product Info'!CG43+'Product Info'!CJ43+'Product Info'!CM43+'Product Info'!CP43+'Product Info'!CS43+'Product Info'!CV43+'Product Info'!CY43+'Product Info'!DB43+'Product Info'!DE43+'Product Info'!DH43+'Product Info'!DK43+'Product Info'!DN43+'Product Info'!DQ43+'Product Info'!DT43+'Product Info'!DW43+'Product Info'!DZ43+'Product Info'!EC43+'Product Info'!EF43+'Product Info'!EI43+'Product Info'!EL43+'Product Info'!EO43+'Product Info'!ER43+'Product Info'!EU43+'Product Info'!EX43+'Product Info'!FA43+'Product Info'!FD43)","v":0},{"$f":"AI42*('Product Info'!M43)","v":0},{"$f":"AI42*'Product Info'!P43","v":0},{"$f":"AI42*'Product Info'!S43","v":0},{"$f":"AI42*'Product Info'!V43","v":0},{"$f":"AI42*'Product Info'!Y43","v":0},{"$f":"AI42*'Product Info'!AB43","v":0},{"$f":"AI42*'Product Info'!AE43","v":0},{"$f":"AI42*'Product Info'!AH43","v":0},{"$f":"AI42*'Product Info'!AK43","v":0},{"$f":"AI42*'Product Info'!AN43","v":0},{"$f":"AI42*'Product Info'!AQ43","v":0},{"$f":"AI42*'Product Info'!AT43","v":0},{"$f":"AI42*'Product Info'!AW43","v":0},{"$f":"AI42*'Product Info'!AZ43","v":0},{"$f":"AI42*'Product Info'!BC43","v":0},{"$f":"AI42*'Product Info'!BF43","v":0},{"$f":"AI42*'Product Info'!BI43","v":0},{"$f":"AI42*'Product Info'!BL43","v":0},{"$f":"AI42*'Product Info'!BO43","v":0},{"$f":"AI42*'Product Info'!BR43","v":0},{"$f":"AI42*'Product Info'!BU43","v":0},{"$f":"AI42*'Product Info'!BX43","v":0}]
[{"$f":"'Product Info'!A44","v":0},{"$f":"'Product Info'!B44","v":0},{"$f":"'Product Info'!C44","v":0},null,null,null,null,null,null,null,null,null,null,null,null,null,null,null,null,null,null,null,null,null,null,null,null,null,null,null,null,null,null,null,0,{"$f":"'Product Info'!F44*('Daily Info (August)'!AI43)","v":0},null,null,{"$f":"AI43*('Product Info'!H44)","v":0},{"$f":"AI43*('Product Info'!M44+'Product Info'!P44+'Product Info'!S44+'Product Info'!V44+'Product Info'!Y44+'Product Info'!AB44+'Product Info'!AE44+'Product Info'!AH44+'Product Info'!AK44+'Product Info'!AN44+'Product Info'!AQ44+'Product Info'!AT44+'Product Info'!AW44+'Product Info'!AZ44+'Product Info'!BC44+'Product Info'!BF44+'Product Info'!BI44+'Product Info'!BL44+'Product Info'!BO44+'Product Info'!BR44+'Product Info'!BU44+'Product Info'!BX44+'Product Info'!CA44+'Product Info'!CD44+'Product Info'!CG44+'Product Info'!CJ44+'Product Info'!CM44+'Product Info'!CP44+'Product Info'!CS44+'Product Info'!CV44+'Product Info'!CY44+'Product Info'!DB44+'Product Info'!DE44+'Product Info'!DH44+'Product Info'!DK44+'Product Info'!DN44+'Product Info'!DQ44+'Product Info'!DT44+'Product Info'!DW44+'Product Info'!DZ44+'Product Info'!EC44+'Product Info'!EF44+'Product Info'!EI44+'Product Info'!EL44+'Product Info'!EO44+'Product Info'!ER44+'Product Info'!EU44+'Product Info'!EX44+'Product Info'!FA44+'Product Info'!FD44)","v":0},{"$f":"AI43*('Product Info'!M44)","v":0},{"$f":"AI43*'Product Info'!P44","v":0},{"$f":"AI43*'Product Info'!S44","v":0},{"$f":"AI43*'Product Info'!V44","v":0},{"$f":"AI43*'Product Info'!Y44","v":0},{"$f":"AI43*'Product Info'!AB44","v":0},{"$f":"AI43*'Product Info'!AE44","v":0},{"$f":"AI43*'Product Info'!AH44","v":0},{"$f":"AI43*'Product Info'!AK44","v":0},{"$f":"AI43*'Product Info'!AN44","v":0},{"$f":"AI43*'Product Info'!AQ44","v":0},{"$f":"AI43*'Product Info'!AT44","v":0},{"$f":"AI43*'Product Info'!AW44","v":0},{"$f":"AI43*'Product Info'!AZ44","v":0},{"$f":"AI43*'Product Info'!BC44","v":0},{"$f":"AI43*'Product Info'!BF44","v":0},{"$f":"AI43*'Product Info'!BI44","v":0},{"$f":"AI43*'Product Info'!BL44","v":0},{"$f":"AI43*'Product Info'!BO44","v":0},{"$f":"AI43*'Product Info'!BR44","v":0},{"$f":"AI43*'Product Info'!BU44","v":0},{"$f":"AI43*'Product Info'!BX44","v":0}]
[{"$f":"'Product Info'!A45","v":0},{"$f":"'Product Info'!B45","v":0},{"$f":"'Product Info'!C45","v":0},null,null,null,null,null,null,null,null,null,null,null,null,null,null,null,null,null,null,null,null,null,null,null,null,null,null,null,null,null,null,null,0,{"$f":"'Product Info'!F45*('Daily Info (August)'!AI44)","v":0},null,null,{"$f":"AI44*('Product Info'!H45)","v":0},{"$f":"AI44*('Product Info'!M45+'Product Info'!P45+'Product Info'!S45+'Product Info'!V45+'Product Info'!Y45+'Product Info'!AB45+'Product Info'!AE45+'Product Info'!AH45+'Product Info'!AK45+'Product Info'!AN45+'Product Info'!AQ45+'Product Info'!AT45+'Product Info'!AW45+'Product Info'!AZ45+'Product Info'!BC45+'Product Info'!BF45+'Product Info'!BI45+'Product Info'!BL45+'Product Info'!BO45+'Product Info'!BR45+'Product Info'!BU45+'Product Info'!BX45+'Product Info'!CA45+'Product Info'!CD45+'Product Info'!CG45+'Product Info'!CJ45+'Product Info'!CM45+'Product Info'!CP45+'Product Info'!CS45+'Product Info'!CV45+'Product Info'!CY45+'Product Info'!DB45+'Product Info'!DE45+'Product Info'!DH45+'Product Info'!DK45+'Product Info'!DN45+'Product Info'!DQ45+'Product Info'!DT45+'Product Info'!DW45+'Product Info'!DZ45+'Product Info'!EC45+'Product Info'!EF45+'Product Info'!EI45+'Product Info'!EL45+'Product Info'!EO45+'Product Info'!ER45+'Product Info'!EU45+'Product Info'!EX45+'Product Info'!FA45+'Product Info'!FD45)","v":0},{"$f":"AI44*('Product Info'!M45)","v":0},{"$f":"AI44*'Product Info'!P45","v":0},{"$f":"AI44*'Product Info'!S45","v":0},{"$f":"AI44*'Product Info'!V45","v":0},{"$f":"AI44*'Product Info'!Y45","v":0},{"$f":"AI44*'Product Info'!AB45","v":0},{"$f":"AI44*'Product Info'!AE45","v":0},{"$f":"AI44*'Product Info'!AH45","v":0},{"$f":"AI44*'Product Info'!AK45","v":0},{"$f":"AI44*'Product Info'!AN45","v":0},{"$f":"AI44*'Product Info'!AQ45","v":0},{"$f":"AI44*'Product Info'!AT45","v":0},{"$f":"AI44*'Product Info'!AW45","v":0},{"$f":"AI44*'Product Info'!AZ45","v":0},{"$f":"AI44*'Product Info'!BC45","v":0},{"$f":"AI44*'Product Info'!BF45","v":0},{"$f":"AI44*'Product Info'!BI45","v":0},{"$f":"AI44*'Product Info'!BL45","v":0},{"$f":"AI44*'Product Info'!BO45","v":0},{"$f":"AI44*'Product Info'!BR45","v":0},{"$f":"AI44*'Product Info'!BU45","v":0},{"$f":"AI44*'Product Info'!BX45","v":0}]
[{"$f":"'Product Info'!A46","v":0},{"$f":"'Product Info'!B46","v":0},{"$f":"'Product Info'!C46","v":0},null,null,null,null,null,null,null,null,null,null,null,null,null,null,null,null,null,null,null,null,null,null,null,null,null,null,null,null,null,null,null,0,{"$f":"'Product Info'!F46*('Daily Info (August)'!AI45)","v":0},null,null,{"$f":"AI45*('Product Info'!H46)","v":0},{"$f":"AI45*('Product Info'!M46+'Product Info'!P46+'Product Info'!S46+'Product Info'!V46+'Product Info'!Y46+'Product Info'!AB46+'Product Info'!AE46+'Product Info'!AH46+'Product Info'!AK46+'Product Info'!AN46+'Product Info'!AQ46+'Product Info'!AT46+'Product Info'!AW46+'Product Info'!AZ46+'Product Info'!BC46+'Product Info'!BF46+'Product Info'!BI46+'Product Info'!BL46+'Product Info'!BO46+'Product Info'!BR46+'Product Info'!BU46+'Product Info'!BX46+'Product Info'!CA46+'Product Info'!CD46+'Product Info'!CG46+'Product Info'!CJ46+'Product Info'!CM46+'Product Info'!CP46+'Product Info'!CS46+'Product Info'!CV46+'Product Info'!CY46+'Product Info'!DB46+'Product Info'!DE46+'Product Info'!DH46+'Product Info'!DK46+'Product Info'!DN46+'Product Info'!DQ46+'Product Info'!DT46+'Product Info'!DW46+'Product Info'!DZ46+'Product Info'!EC46+'Product Info'!EF46+'Product Info'!EI46+'Product Info'!EL46+'Product Info'!EO46+'Product Info'!ER46+'Product Info'!EU46+'Product Info'!EX46+'Product Info'!FA46+'Product Info'!FD46)","v":0},{"$f":"AI45*('Product Info'!M46)","v":0},{"$f":"AI45*'Product Info'!P46","v":0},{"$f":"AI45*'Product Info'!S46","v":0},{"$f":"AI45*'Product Info'!V46","v":0},{"$f":"AI45*'Product Info'!Y46","v":0},{"$f":"AI45*'Product Info'!AB46","v":0},{"$f":"AI45*'Product Info'!AE46","v":0},{"$f":"AI45*'Product Info'!AH46","v":0},{"$f":"AI45*'Product Info'!AK46","v":0},{"$f":"AI45*'Product Info'!AN46","v":0},{"$f":"AI45*'Product Info'!AQ46","v":0},{"$f":"AI45*'Product Info'!AT46","v":0},{"$f":"AI45*'Product Info'!AW46","v":0},{"$f":"AI45*'Product Info'!AZ46","v":0},{"$f":"AI45*'Product Info'!BC46","v":0},{"$f":"AI45*'Product Info'!BF46","v":0},{"$f":"AI45*'Product Info'!BI46","v":0},{"$f":"AI45*'Product Info'!BL46","v":0},{"$f":"AI45*'Product Info'!BO46","v":0},{"$f":"AI45*'Product Info'!BR46","v":0},{"$f":"AI45*'Product Info'!BU46","v":0},{"$f":"AI45*'Product Info'!BX46","v":0}]
[{"$f":"'Product Info'!A47","v":0},{"$f":"'Product Info'!B47","v":0},{"$f":"'Product Info'!C47","v":0},null,null,null,null,null,null,null,null,null,null,null,null,null,null,null,null,null,null,null,null,null,null,null,null,null,null,null,null,null,null,null,0,{"$f":"'Product Info'!F47*('Daily Info (August)'!AI46)","v":0},null,null,{"$f":"AI46*('Product Info'!H47)","v":0},{"$f":"AI46*('Product Info'!M47+'Product Info'!P47+'Product Info'!S47+'Product Info'!V47+'Product Info'!Y47+'Product Info'!AB47+'Product Info'!AE47+'Product Info'!AH47+'Product Info'!AK47+'Product Info'!AN47+'Product Info'!AQ47+'Product Info'!AT47+'Product Info'!AW47+'Product Info'!AZ47+'Product Info'!BC47+'Product Info'!BF47+'Product Info'!BI47+'Product Info'!BL47+'Product Info'!BO47+'Product Info'!BR47+'Product Info'!BU47+'Product Info'!BX47+'Product Info'!CA47+'Product Info'!CD47+'Product Info'!CG47+'Product Info'!CJ47+'Product Info'!CM47+'Product Info'!CP47+'Product Info'!CS47+'Product Info'!CV47+'Product Info'!CY47+'Product Info'!DB47+'Product Info'!DE47+'Product Info'!DH47+'Product Info'!DK47+'Product Info'!DN47+'Product Info'!DQ47+'Product Info'!DT47+'Product Info'!DW47+'Product Info'!DZ47+'Product Info'!EC47+'Product Info'!EF47+'Product Info'!EI47+'Product Info'!EL47+'Product Info'!EO47+'Product Info'!ER47+'Product Info'!EU47+'Product Info'!EX47+'Product Info'!FA47+'Product Info'!FD47)","v":0},{"$f":"AI46*('Product Info'!M47)","v":0},{"$f":"AI46*'Product Info'!P47","v":0},{"$f":"AI46*'Product Info'!S47","v":0},{"$f":"AI46*'Product Info'!V47","v":0},{"$f":"AI46*'Product Info'!Y47","v":0},{"$f":"AI46*'Product Info'!AB47","v":0},{"$f":"AI46*'Product Info'!AE47","v":0},{"$f":"AI46*'Product Info'!AH47","v":0},{"$f":"AI46*'Product Info'!AK47","v":0},{"$f":"AI46*'Product Info'!AN47","v":0},{"$f":"AI46*'Product Info'!AQ47","v":0},{"$f":"AI46*'Product Info'!AT47","v":0},{"$f":"AI46*'Product Info'!AW47","v":0},{"$f":"AI46*'Product Info'!AZ47","v":0},{"$f":"AI46*'Product Info'!BC47","v":0},{"$f":"AI46*'Product Info'!BF47","v":0},{"$f":"AI46*'Product Info'!BI47","v":0},{"$f":"AI46*'Product Info'!BL47","v":0},{"$f":"AI46*'Product Info'!BO47","v":0},{"$f":"AI46*'Product Info'!BR47","v":0},{"$f":"AI46*'Product Info'!BU47","v":0},{"$f":"AI46*'Product Info'!BX47","v":0}]
[{"$f":"'Product Info'!A48","v":0},{"$f":"'Product Info'!B48","v":0},{"$f":"'Product Info'!C48","v":0},null,null,null,null,null,null,null,null,null,null,null,null,null,null,null,null,null,null,null,null,null,null,null,null,null,null,null,null,null,null,null,0,{"$f":"'Product Info'!F48*('Daily Info (August)'!AI47)","v":0},null,null,{"$f":"AI47*('Product Info'!H48)","v":0},{"$f":"AI47*('Product Info'!M48+'Product Info'!P48+'Product Info'!S48+'Product Info'!V48+'Product Info'!Y48+'Product Info'!AB48+'Product Info'!AE48+'Product Info'!AH48+'Product Info'!AK48+'Product Info'!AN48+'Product Info'!AQ48+'Product Info'!AT48+'Product Info'!AW48+'Product Info'!AZ48+'Product Info'!BC48+'Product Info'!BF48+'Product Info'!BI48+'Product Info'!BL48+'Product Info'!BO48+'Product Info'!BR48+'Product Info'!BU48+'Product Info'!BX48+'Product Info'!CA48+'Product Info'!CD48+'Product Info'!CG48+'Product Info'!CJ48+'Product Info'!CM48+'Product Info'!CP48+'Product Info'!CS48+'Product Info'!CV48+'Product Info'!CY48+'Product Info'!DB48+'Product Info'!DE48+'Product Info'!DH48+'Product Info'!DK48+'Product Info'!DN48+'Product Info'!DQ48+'Product Info'!DT48+'Product Info'!DW48+'Product Info'!DZ48+'Product Info'!EC48+'Product Info'!EF48+'Product Info'!EI48+'Product Info'!EL48+'Product Info'!EO48+'Product Info'!ER48+'Product Info'!EU48+'Product Info'!EX48+'Product Info'!FA48+'Product Info'!FD48)","v":0},{"$f":"AI47*('Product Info'!M48)","v":0},{"$f":"AI47*'Product Info'!P48","v":0},{"$f":"AI47*'Product Info'!S48","v":0},{"$f":"AI47*'Product Info'!V48","v":0},{"$f":"AI47*'Product Info'!Y48","v":0},{"$f":"AI47*'Product Info'!AB48","v":0},{"$f":"AI47*'Product Info'!AE48","v":0},{"$f":"AI47*'Product Info'!AH48","v":0},{"$f":"AI47*'Product Info'!AK48","v":0},{"$f":"AI47*'Product Info'!AN48","v":0},{"$f":"AI47*'Product Info'!AQ48","v":0},{"$f":"AR47*'Product Info'!AF48","v":0},{"$f":"AI47*'Product Info'!AW48","v":0},{"$f":"AI47*'Product Info'!AZ48","v":0},{"$f":"AI47*'Product Info'!BC48","v":0},{"$f":"AI47*'Product Info'!BF48","v":0},{"$f":"AI47*'Product Info'!BI48","v":0},{"$f":"AI47*'Product Info'!BL48","v":0},{"$f":"AI47*'Product Info'!BO48","v":0},{"$f":"AI47*'Product Info'!BR48","v":0},{"$f":"AI47*'Product Info'!BU48","v":0},{"$f":"AI47*'Product Info'!BX48","v":0}]
[{"$f":"'Product Info'!A49","v":0},{"$f":"'Product Info'!B49","v":0},{"$f":"'Product Info'!C49","v":0},null,null,null,null,null,null,null,null,null,null,null,null,null,null,null,null,null,null,null,null,null,null,null,null,null,null,null,null,null,null,null,0,{"$f":"'Product Info'!F49*('Daily Info (August)'!AI48)","v":0},null,null,{"$f":"AI48*('Product Info'!H49)","v":0},{"$f":"AI48*('Product Info'!M49+'Product Info'!P49+'Product Info'!S49+'Product Info'!V49+'Product Info'!Y49+'Product Info'!AB49+'Product Info'!AE49+'Product Info'!AH49+'Product Info'!AK49+'Product Info'!AN49+'Product Info'!AQ49+'Product Info'!AT49+'Product Info'!AW49+'Product Info'!AZ49+'Product Info'!BC49+'Product Info'!BF49+'Product Info'!BI49+'Product Info'!BL49+'Product Info'!BO49+'Product Info'!BR49+'Product Info'!BU49+'Product Info'!BX49+'Product Info'!CA49+'Product Info'!CD49+'Product Info'!CG49+'Product Info'!CJ49+'Product Info'!CM49+'Product Info'!CP49+'Product Info'!CS49+'Product Info'!CV49+'Product Info'!CY49+'Product Info'!DB49+'Product Info'!DE49+'Product Info'!DH49+'Product Info'!DK49+'Product Info'!DN49+'Product Info'!DQ49+'Product Info'!DT49+'Product Info'!DW49+'Product Info'!DZ49+'Product Info'!EC49+'Product Info'!EF49+'Product Info'!EI49+'Product Info'!EL49+'Product Info'!EO49+'Product Info'!ER49+'Product Info'!EU49+'Product Info'!EX49+'Product Info'!FA49+'Product Info'!FD49)","v":0},{"$f":"AI48*('Product Info'!M49)","v":0},{"$f":"AI48*'Product Info'!P49","v":0},{"$f":"AI48*'Product Info'!S49","v":0},{"$f":"AI48*'Product Info'!V49","v":0},{"$f":"AI48*'Product Info'!Y49","v":0},{"$f":"AI48*'Product Info'!AB49","v":0},{"$f":"AI48*'Product Info'!AE49","v":0},{"$f":"AI48*'Product Info'!AH49","v":0},{"$f":"AI48*'Product Info'!AK49","v":0},{"$f":"AI48*'Product Info'!AN49","v":0},{"$f":"AI48*'Product Info'!AQ49","v":0},{"$f":"AR48*'Product Info'!AF49","v":0},{"$f":"AI48*'Product Info'!AW49","v":0},{"$f":"AI48*'Product Info'!AZ49","v":0},{"$f":"AI48*'Product Info'!BC49","v":0},{"$f":"AI48*'Product Info'!BF49","v":0},{"$f":"AI48*'Product Info'!BI49","v":0},{"$f":"AI48*'Product Info'!BL49","v":0},{"$f":"AI48*'Product Info'!BO49","v":0},{"$f":"AI48*'Product Info'!BR49","v":0},{"$f":"AI48*'Product Info'!BU49","v":0},{"$f":"AI48*'Product Info'!BX49","v":0}]
[{"$f":"'Product Info'!A50","v":0},{"$f":"'Product Info'!B50","v":0},{"$f":"'Product Info'!C50","v":0},null,null,null,null,null,null,null,null,null,null,null,null,null,null,null,null,null,null,null,null,null,null,null,null,null,null,null,null,null,null,null,0,{"$f":"'Product Info'!F50*('Daily Info (August)'!AI49)","v":0},null,null,{"$f":"AI49*('Product Info'!H50)","v":0},{"$f":"AI49*('Product Info'!M50+'Product Info'!P50+'Product Info'!S50+'Product Info'!V50+'Product Info'!Y50+'Product Info'!AB50+'Product Info'!AE50+'Product Info'!AH50+'Product Info'!AK50+'Product Info'!AN50+'Product Info'!AQ50+'Product Info'!AT50+'Product Info'!AW50+'Product Info'!AZ50+'Product Info'!BC50+'Product Info'!BF50+'Product Info'!BI50+'Product Info'!BL50+'Product Info'!BO50+'Product Info'!BR50+'Product Info'!BU50+'Product Info'!BX50+'Product Info'!CA50+'Product Info'!CD50+'Product Info'!CG50+'Product Info'!CJ50+'Product Info'!CM50+'Product Info'!CP50+'Product Info'!CS50+'Product Info'!CV50+'Product Info'!CY50+'Product Info'!DB50+'Product Info'!DE50+'Product Info'!DH50+'Product Info'!DK50+'Product Info'!DN50+'Product Info'!DQ50+'Product Info'!DT50+'Product Info'!DW50+'Product Info'!DZ50+'Product Info'!EC50+'Product Info'!EF50+'Product Info'!EI50+'Product Info'!EL50+'Product Info'!EO50+'Product Info'!ER50+'Product Info'!EU50+'Product Info'!EX50+'Product Info'!FA50+'Product Info'!FD50)","v":0},{"$f":"AI49*('Product Info'!M50)","v":0},{"$f":"AI49*'Product Info'!P50","v":0},{"$f":"AI49*'Product Info'!S50","v":0},{"$f":"AI49*'Product Info'!V50","v":0},{"$f":"AI49*'Product Info'!Y50","v":0},{"$f":"AI49*'Product Info'!AB50","v":0},{"$f":"AI49*'Product Info'!AE50","v":0},{"$f":"AI49*'Product Info'!AH50","v":0},{"$f":"AI49*'Product Info'!AK50","v":0},{"$f":"AI49*'Product Info'!AN50","v":0},{"$f":"AI49*'Product Info'!AQ50","v":0},{"$f":"AI49*'Product Info'!AT50","v":0},{"$f":"AI49*'Product Info'!AW50","v":0},{"$f":"AI49*'Product Info'!AZ50","v":0},{"$f":"AI49*'Product Info'!BC50","v":0},{"$f":"AI49*'Product Info'!BF50","v":0},{"$f":"AI49*'Product Info'!BI50","v":0},{"$f":"AI49*'Product Info'!BL50","v":0},{"$f":"AI49*'Product Info'!BO50","v":0},{"$f":"AI49*'Product Info'!BR50","v":0},{"$f":"AI49*'Product Info'!BU50","v":0},{"$f":"AI49*'Product Info'!BX50","v":0}]
[{"$f":"'Product Info'!A51","v":0},{"$f":"'Product Info'!B51","v":0},{"$f":"'Product Info'!C51","v":0},null,null,null,null,null,null,null,null,null,null,null,null,null,null,null,null,null,null,null,null,null,null,null,null,null,null,null,null,null,null,null,0,{"$f":"'Product Info'!F51*('Daily Info (August)'!AI50)","v":0},null,null,{"$f":"AI50*('Product Info'!H51)","v":0},{"$f":"AI50*('Product Info'!M51+'Product Info'!P51+'Product Info'!S51+'Product Info'!V51+'Product Info'!Y51+'Product Info'!AB51+'Product Info'!AE51+'Product Info'!AH51+'Product Info'!AK51+'Product Info'!AN51+'Product Info'!AQ51+'Product Info'!AT51+'Product Info'!AW51+'Product Info'!AZ51+'Product Info'!BC51+'Product Info'!BF51+'Product Info'!BI51+'Product Info'!BL51+'Product Info'!BO51+'Product Info'!BR51+'Product Info'!BU51+'Product Info'!BX51+'Product Info'!CA51+'Product Info'!CD51+'Product Info'!CG51+'Product Info'!CJ51+'Product Info'!CM51+'Product Info'!CP51+'Product Info'!CS51+'Product Info'!CV51+'Product Info'!CY51+'Product Info'!DB51+'Product Info'!DE51+'Product Info'!DH51+'Product Info'!DK51+'Product Info'!DN51+'Product Info'!DQ51+'Product Info'!DT51+'Product Info'!DW51+'Product Info'!DZ51+'Product Info'!EC51+'Product Info'!EF51+'Product Info'!EI51+'Product Info'!EL51+'Product Info'!EO51+'Product Info'!ER51+'Product Info'!EU51+'Product Info'!EX51+'Product Info'!FA51+'Product Info'!FD51)","v":0},{"$f":"AI50*('Product Info'!M51)","v":0},{"$f":"AI50*'Product Info'!P51","v":0},{"$f":"AI50*'Product Info'!S51","v":0},{"$f":"AI50*'Product Info'!V51","v":0},{"$f":"AI50*'Product Info'!Y51","v":0},{"$f":"AI50*'Product Info'!AB51","v":0},{"$f":"AI50*'Product Info'!AE51","v":0},{"$f":"AI50*'Product Info'!AH51","v":0},{"$f":"AI50*'Product Info'!AK51","v":0},{"$f":"AI50*'Product Info'!AN51","v":0},{"$f":"AI50*'Product Info'!AQ51","v":0},{"$f":"AI50*'Product Info'!AT51","v":0},{"$f":"AI50*'Product Info'!AW51","v":0},{"$f":"AI50*'Product Info'!AZ51","v":0},{"$f":"AI50*'Product Info'!BC51","v":0},{"$f":"AI50*'Product Info'!BF51","v":0},{"$f":"AI50*'Product Info'!BI51","v":0},{"$f":"AI50*'Product Info'!BL51","v":0},{"$f":"AI50*'Product Info'!BO51","v":0},{"$f":"AI50*'Product Info'!BR51","v":0},{"$f":"AI50*'Product Info'!BU51","v":0},{"$f":"AI50*'Product Info'!BX51","v":0}]
[{"$f":"'Product Info'!A52","v":0},{"$f":"'Product Info'!B52","v":0},{"$f":"'Product Info'!C52","v":0},null,null,null,null,null,null,null,null,null,null,null,null,null,null,null,null,null,null,null,null,null,null,null,null,null,null,null,null,null,null,null,0,{"$f":"'Product Info'!F52*('Daily Info (August)'!AI51)","v":0},null,null,{"$f":"AI51*('Product Info'!H52)","v":0},{"$f":"AI51*('Product Info'!M52+'Product Info'!P52+'Product Info'!S52+'Product Info'!V52+'Product Info'!Y52+'Product Info'!AB52+'Product Info'!AE52+'Product Info'!AH52+'Product Info'!AK52+'Product Info'!AN52+'Product Info'!AQ52+'Product Info'!AT52+'Product Info'!AW52+'Product Info'!AZ52+'Product Info'!BC52+'Product Info'!BF52+'Product Info'!BI52+'Product Info'!BL52+'Product Info'!BO52+'Product Info'!BR52+'Product Info'!BU52+'Product Info'!BX52+'Product Info'!CA52+'Product Info'!CD52+'Product Info'!CG52+'Product Info'!CJ52+'Product Info'!CM52+'Product Info'!CP52+'Product Info'!CS52+'Product Info'!CV52+'Product Info'!CY52+'Product Info'!DB52+'Product Info'!DE52+'Product Info'!DH52+'Product Info'!DK52+'Product Info'!DN52+'Product Info'!DQ52+'Product Info'!DT52+'Product Info'!DW52+'Product Info'!DZ52+'Product Info'!EC52+'Product Info'!EF52+'Product Info'!EI52+'Product Info'!EL52+'Product Info'!EO52+'Product Info'!ER52+'Product Info'!EU52+'Product Info'!EX52+'Product Info'!FA52+'Product Info'!FD52)","v":0},{"$f":"AI51*('Product Info'!M52)","v":0},{"$f":"AI51*'Product Info'!P52","v":0},{"$f":"AI51*'Product Info'!S52","v":0},{"$f":"AI51*'Product Info'!V52","v":0},{"$f":"AI51*'Product Info'!Y52","v":0},{"$f":"AI51*'Product Info'!AB52","v":0},{"$f":"AI51*'Product Info'!AE52","v":0},{"$f":"AI51*'Product Info'!AH52","v":0},{"$f":"AI51*'Product Info'!AK52","v":0},{"$f":"AI51*'Product Info'!AN52","v":0},{"$f":"AI51*'Product Info'!AQ52","v":0},{"$f":"AI51*'Product Info'!AT52","v":0},{"$f":"AI51*'Product Info'!AW52","v":0},{"$f":"AI51*'Product Info'!AZ52","v":0},{"$f":"AI51*'Product Info'!BC52","v":0},{"$f":"AI51*'Product Info'!BF52","v":0},{"$f":"AI51*'Product Info'!BI52","v":0},{"$f":"AI51*'Product Info'!BL52","v":0},{"$f":"AI51*'Product Info'!BO52","v":0},{"$f":"AI51*'Product Info'!BR52","v":0},{"$f":"AI51*'Product Info'!BU52","v":0},{"$f":"AI51*'Product Info'!BX52","v":0}]
[{"$f":"'Product Info'!A53","v":0},{"$f":"'Product Info'!B53","v":0},{"$f":"'Product Info'!C53","v":0},null,null,null,null,null,null,null,null,null,null,null,null,null,null,null,null,null,null,null,null,null,null,null,null,null,null,null,null,null,null,null,0,{"$f":"'Product Info'!F53*('Daily Info (August)'!AI52)","v":0},null,null,{"$f":"AI52*('Product Info'!H53)","v":0},{"$f":"AI52*('Product Info'!M53+'Product Info'!P53+'Product Info'!S53+'Product Info'!V53+'Product Info'!Y53+'Product Info'!AB53+'Product Info'!AE53+'Product Info'!AH53+'Product Info'!AK53+'Product Info'!AN53+'Product Info'!AQ53+'Product Info'!AT53+'Product Info'!AW53+'Product Info'!AZ53+'Product Info'!BC53+'Product Info'!BF53+'Product Info'!BI53+'Product Info'!BL53+'Product Info'!BO53+'Product Info'!BR53+'Product Info'!BU53+'Product Info'!BX53+'Product Info'!CA53+'Product Info'!CD53+'Product Info'!CG53+'Product Info'!CJ53+'Product Info'!CM53+'Product Info'!CP53+'Product Info'!CS53+'Product Info'!CV53+'Product Info'!CY53+'Product Info'!DB53+'Product Info'!DE53+'Product Info'!DH53+'Product Info'!DK53+'Product Info'!DN53+'Product Info'!DQ53+'Product Info'!DT53+'Product Info'!DW53+'Product Info'!DZ53+'Product Info'!EC53+'Product Info'!EF53+'Product Info'!EI53+'Product Info'!EL53+'Product Info'!EO53+'Product Info'!ER53+'Product Info'!EU53+'Product Info'!EX53+'Product Info'!FA53+'Product Info'!FD53)","v":0},{"$f":"AI52*('Product Info'!M53)","v":0},{"$f":"AI52*'Product Info'!P53","v":0},{"$f":"AI52*'Product Info'!S53","v":0},{"$f":"AI52*'Product Info'!V53","v":0},{"$f":"AI52*'Product Info'!Y53","v":0},{"$f":"AI52*'Product Info'!AB53","v":0},{"$f":"AI52*'Product Info'!AE53","v":0},{"$f":"AI52*'Product Info'!AH53","v":0},{"$f":"AI52*'Product Info'!AK53","v":0},{"$f":"AI52*'Product Info'!AN53","v":0},{"$f":"AI52*'Product Info'!AQ53","v":0},{"$f":"AI52*'Product Info'!AT53","v":0},{"$f":"AI52*'Product Info'!AW53","v":0},{"$f":"AI52*'Product Info'!AZ53","v":0},{"$f":"AI52*'Product Info'!BC53","v":0},{"$f":"AI52*'Product Info'!BF53","v":0},{"$f":"AI52*'Product Info'!BI53","v":0},{"$f":"AI52*'Product Info'!BL53","v":0},{"$f":"AI52*'Product Info'!BO53","v":0},{"$f":"AI52*'Product Info'!BR53","v":0},{"$f":"AI52*'Product Info'!BU53","v":0},{"$f":"AI52*'Product Info'!BX53","v":0}]
[{"$f":"'Product Info'!A54","v":0},{"$f":"'Product Info'!B54","v":0},{"$f":"'Product Info'!C54","v":0},null,null,null,null,null,null,null,null,null,null,null,null,null,null,null,null,null,null,null,null,null,null,null,null,null,null,null,null,null,null,null,0,{"$f":"'Product Info'!F54*('Daily Info (August)'!AI53)","v":0},null,null,{"$f":"AI53*('Product Info'!H54)","v":0},{"$f":"AI53*('Product Info'!M54+'Product Info'!P54+'Product Info'!S54+'Product Info'!V54+'Product Info'!Y54+'Product Info'!AB54+'Product Info'!AE54+'Product Info'!AH54+'Product Info'!AK54+'Product Info'!AN54+'Product Info'!AQ54+'Product Info'!AT54+'Product Info'!AW54+'Product Info'!AZ54+'Product Info'!BC54+'Product Info'!BF54+'Product Info'!BI54+'Product Info'!BL54+'Product Info'!BO54+'Product Info'!BR54+'Product Info'!BU54+'Product Info'!BX54+'Product Info'!CA54+'Product Info'!CD54+'Product Info'!CG54+'Product Info'!CJ54+'Product Info'!CM54+'Product Info'!CP54+'Product Info'!CS54+'Product Info'!CV54+'Product Info'!CY54+'Product Info'!DB54+'Product Info'!DE54+'Product Info'!DH54+'Product Info'!DK54+'Product Info'!DN54+'Product Info'!DQ54+'Product Info'!DT54+'Product Info'!DW54+'Product Info'!DZ54+'Product Info'!EC54+'Product Info'!EF54+'Product Info'!EI54+'Product Info'!EL54+'Product Info'!EO54+'Product Info'!ER54+'Product Info'!EU54+'Product Info'!EX54+'Product Info'!FA54+'Product Info'!FD54)","v":0},{"$f":"AI53*('Product Info'!M54)","v":0},{"$f":"AI53*'Product Info'!P54","v":0},{"$f":"AI53*'Product Info'!S54","v":0},{"$f":"AI53*'Product Info'!V54","v":0},{"$f":"AI53*'Product Info'!Y54","v":0},{"$f":"AI53*'Product Info'!AB54","v":0},{"$f":"AI53*'Product Info'!AE54","v":0},{"$f":"AI53*'Product Info'!AH54","v":0},{"$f":"AI53*'Product Info'!AK54","v":0},{"$f":"AI53*'Product Info'!AN54","v":0},{"$f":"AI53*'Product Info'!AQ54","v":0},{"$f":"AI53*'Product Info'!AT54","v":0},{"$f":"AI53*'Product Info'!AW54","v":0},{"$f":"AI53*'Product Info'!AZ54","v":0},{"$f":"AI53*'Product Info'!BC54","v":0},{"$f":"AI53*'Product Info'!BF54","v":0},{"$f":"AI53*'Product Info'!BI54","v":0},{"$f":"AI53*'Product Info'!BL54","v":0},{"$f":"AI53*'Product Info'!BO54","v":0},{"$f":"AI53*'Product Info'!BR54","v":0},{"$f":"AI53*'Product Info'!BU54","v":0},{"$f":"AI53*'Product Info'!BX54","v":0}]
[{"$f":"'Product Info'!A55","v":0},{"$f":"'Product Info'!B55","v":0},{"$f":"'Product Info'!C55","v":0},null,null,null,null,null,null,null,null,null,null,null,null,null,null,null,null,null,null,null,null,null,null,null,null,null,null,null,null,null,null,null,0,{"$f":"'Product Info'!F55*('Daily Info (August)'!AI54)","v":0},null,null,{"$f":"AI54*('Product Info'!H55)","v":0},{"$f":"AI54*('Product Info'!M55+'Product Info'!P55+'Product Info'!S55+'Product Info'!V55+'Product Info'!Y55+'Product Info'!AB55+'Product Info'!AE55+'Product Info'!AH55+'Product Info'!AK55+'Product Info'!AN55+'Product Info'!AQ55+'Product Info'!AT55+'Product Info'!AW55+'Product Info'!AZ55+'Product Info'!BC55+'Product Info'!BF55+'Product Info'!BI55+'Product Info'!BL55+'Product Info'!BO55+'Product Info'!BR55+'Product Info'!BU55+'Product Info'!BX55+'Product Info'!CA55+'Product Info'!CD55+'Product Info'!CG55+'Product Info'!CJ55+'Product Info'!CM55+'Product Info'!CP55+'Product Info'!CS55+'Product Info'!CV55+'Product Info'!CY55+'Product Info'!DB55+'Product Info'!DE55+'Product Info'!DH55+'Product Info'!DK55+'Product Info'!DN55+'Product Info'!DQ55+'Product Info'!DT55+'Product Info'!DW55+'Product Info'!DZ55+'Product Info'!EC55+'Product Info'!EF55+'Product Info'!EI55+'Product Info'!EL55+'Product Info'!EO55+'Product Info'!ER55+'Product Info'!EU55+'Product Info'!EX55+'Product Info'!FA55+'Product Info'!FD55)","v":0},{"$f":"AI54*('Product Info'!M55)","v":0},{"$f":"AI54*'Product Info'!P55","v":0},{"$f":"AI54*'Product Info'!S55","v":0},{"$f":"AI54*'Product Info'!V55","v":0},{"$f":"AI54*'Product Info'!Y55","v":0},{"$f":"AI54*'Product Info'!AB55","v":0},{"$f":"AI54*'Product Info'!AE55","v":0},{"$f":"AI54*'Product Info'!AH55","v":0},{"$f":"AI54*'Product Info'!AK55","v":0},{"$f":"AI54*'Product Info'!AN55","v":0},{"$f":"AI54*'Product Info'!AQ55","v":0},{"$f":"AI54*'Product Info'!AT55","v":0},{"$f":"AI54*'Product Info'!AW55","v":0},{"$f":"AI54*'Product Info'!AZ55","v":0},{"$f":"AI54*'Product Info'!BC55","v":0},{"$f":"AI54*'Product Info'!BF55","v":0},{"$f":"AI54*'Product Info'!BI55","v":0},{"$f":"AI54*'Product Info'!BL55","v":0},{"$f":"AI54*'Product Info'!BO55","v":0},{"$f":"AI54*'Product Info'!BR55","v":0},{"$f":"AI54*'Product Info'!BU55","v":0},{"$f":"AI54*'Product Info'!BX55","v":0}]
[{"$f":"'Product Info'!A56","v":0},{"$f":"'Product Info'!B56","v":0},{"$f":"'Product Info'!C56","v":0},null,null,null,null,null,null,null,null,null,null,null,null,null,null,null,null,null,null,null,null,null,null,null,null,null,null,null,null,null,null,null,0,{"$f":"'Product Info'!F56*('Daily Info (August)'!AI55)","v":0},null,null,{"$f":"AI55*('Product Info'!H56)","v":0},{"$f":"AI55*('Product Info'!M56+'Product Info'!P56+'Product Info'!S56+'Product Info'!V56+'Product Info'!Y56+'Product Info'!AB56+'Product Info'!AE56+'Product Info'!AH56+'Product Info'!AK56+'Product Info'!AN56+'Product Info'!AQ56+'Product Info'!AT56+'Product Info'!AW56+'Product Info'!AZ56+'Product Info'!BC56+'Product Info'!BF56+'Product Info'!BI56+'Product Info'!BL56+'Product Info'!BO56+'Product Info'!BR56+'Product Info'!BU56+'Product Info'!BX56+'Product Info'!CA56+'Product Info'!CD56+'Product Info'!CG56+'Product Info'!CJ56+'Product Info'!CM56+'Product Info'!CP56+'Product Info'!CS56+'Product Info'!CV56+'Product Info'!CY56+'Product Info'!DB56+'Product Info'!DE56+'Product Info'!DH56+'Product Info'!DK56+'Product Info'!DN56+'Product Info'!DQ56+'Product Info'!DT56+'Product Info'!DW56+'Product Info'!DZ56+'Product Info'!EC56+'Product Info'!EF56+'Product Info'!EI56+'Product Info'!EL56+'Product Info'!EO56+'Product Info'!ER56+'Product Info'!EU56+'Product Info'!EX56+'Product Info'!FA56+'Product Info'!FD56)","v":0},{"$f":"AI55*('Product Info'!M56)","v":0},{"$f":"AI55*'Product Info'!P56","v":0},{"$f":"AI55*'Product Info'!S56","v":0},{"$f":"AI55*'Product Info'!V56","v":0},{"$f":"AI55*'Product Info'!Y56","v":0},{"$f":"AI55*'Product Info'!AB56","v":0},{"$f":"AI55*'Product Info'!AE56","v":0},{"$f":"AI55*'Product Info'!AH56","v":0},{"$f":"AI55*'Product Info'!AK56","v":0},{"$f":"AI55*'Product Info'!AN56","v":0},{"$f":"AI55*'Product Info'!AQ56","v":0},{"$f":"AI55*'Product Info'!AT56","v":0},{"$f":"AI55*'Product Info'!AW56","v":0},{"$f":"AI55*'Product Info'!AZ56","v":0},{"$f":"AI55*'Product Info'!BC56","v":0},{"$f":"AI55*'Product Info'!BF56","v":0},{"$f":"AI55*'Product Info'!BI56","v":0},{"$f":"AI55*'Product Info'!BL56","v":0},{"$f":"AI55*'Product Info'!BO56","v":0},{"$f":"AI55*'Product Info'!BR56","v":0},{"$f":"AI55*'Product Info'!BU56","v":0},{"$f":"AI55*'Product Info'!BX56","v":0}]
[{"$f":"'Product Info'!A57","v":0},{"$f":"'Product Info'!B57","v":0},{"$f":"'Product Info'!C57","v":0},null,null,null,null,null,null,null,null,null,null,null,null,null,null,null,null,null,null,null,null,null,null,null,null,null,null,null,null,null,null,null,0,{"$f":"'Product Info'!F57*('Daily Info (August)'!AI56)","v":0},null,null,{"$f":"AI56*('Product Info'!H57)","v":0},{"$f":"AI56*('Product Info'!M57+'Product Info'!P57+'Product Info'!S57+'Product Info'!V57+'Product Info'!Y57+'Product Info'!AB57+'Product Info'!AE57+'Product Info'!AH57+'Product Info'!AK57+'Product Info'!AN57+'Product Info'!AQ57+'Product Info'!AT57+'Product Info'!AW57+'Product Info'!AZ57+'Product Info'!BC57+'Product Info'!BF57+'Product Info'!BI57+'Product Info'!BL57+'Product Info'!BO57+'Product Info'!BR57+'Product Info'!BU57+'Product Info'!BX57+'Product Info'!CA57+'Product Info'!CD57+'Product Info'!CG57+'Product Info'!CJ57+'Product Info'!CM57+'Product Info'!CP57+'Product Info'!CS57+'Product Info'!CV57+'Product Info'!CY57+'Product Info'!DB57+'Product Info'!DE57+'Product Info'!DH57+'Product Info'!DK57+'Product Info'!DN57+'Product Info'!DQ57+'Product Info'!DT57+'Product Info'!DW57+'Product Info'!DZ57+'Product Info'!EC57+'Product Info'!EF57+'Product Info'!EI57+'Product Info'!EL57+'Product Info'!EO57+'Product Info'!ER57+'Product Info'!EU57+'Product Info'!EX57+'Product Info'!FA57+'Product Info'!FD57)","v":0},{"$f":"AI56*('Product Info'!M57)","v":0},{"$f":"AI56*'Product Info'!P57","v":0},{"$f":"AI56*'Product Info'!S57","v":0},{"$f":"AI56*'Product Info'!V57","v":0},{"$f":"AI56*'Product Info'!Y57","v":0},{"$f":"AI56*'Product Info'!AB57","v":0},{"$f":"AI56*'Product Info'!AE57","v":0},{"$f":"AI56*'Product Info'!AH57","v":0},{"$f":"AI56*'Product Info'!AK57","v":0},{"$f":"AI56*'Product Info'!AN57","v":0},{"$f":"AI56*'Product Info'!AQ57","v":0},{"$f":"AI56*'Product Info'!AT57","v":0},{"$f":"AI56*'Product Info'!AW57","v":0},{"$f":"AI56*'Product Info'!AZ57","v":0},{"$f":"AI56*'Product Info'!BC57","v":0},{"$f":"AI56*'Product Info'!BF57","v":0},{"$f":"AI56*'Product Info'!BI57","v":0},{"$f":"AI56*'Product Info'!BL57","v":0},{"$f":"AI56*'Product Info'!BO57","v":0},{"$f":"AI56*'Product Info'!BR57","v":0},{"$f":"AI56*'Product Info'!BU57","v":0},{"$f":"AI56*'Product Info'!BX57","v":0}]
[{"$f":"'Product Info'!A58","v":0},{"$f":"'Product Info'!B58","v":0},{"$f":"'Product Info'!C58","v":0},null,null,null,null,null,null,null,null,null,null,null,null,null,null,null,null,null,null,null,null,null,null,null,null,null,null,null,null,null,null,null,0,{"$f":"'Product Info'!F58*('Daily Info (August)'!AI57)","v":0},null,null,{"$f":"AI57*('Product Info'!H58)","v":0},{"$f":"AI57*('Product Info'!M58+'Product Info'!P58+'Product Info'!S58+'Product Info'!V58+'Product Info'!Y58+'Product Info'!AB58+'Product Info'!AE58+'Product Info'!AH58+'Product Info'!AK58+'Product Info'!AN58+'Product Info'!AQ58+'Product Info'!AT58+'Product Info'!AW58+'Product Info'!AZ58+'Product Info'!BC58+'Product Info'!BF58+'Product Info'!BI58+'Product Info'!BL58+'Product Info'!BO58+'Product Info'!BR58+'Product Info'!BU58+'Product Info'!BX58+'Product Info'!CA58+'Product Info'!CD58+'Product Info'!CG58+'Product Info'!CJ58+'Product Info'!CM58+'Product Info'!CP58+'Product Info'!CS58+'Product Info'!CV58+'Product Info'!CY58+'Product Info'!DB58+'Product Info'!DE58+'Product Info'!DH58+'Product Info'!DK58+'Product Info'!DN58+'Product Info'!DQ58+'Product Info'!DT58+'Product Info'!DW58+'Product Info'!DZ58+'Product Info'!EC58+'Product Info'!EF58+'Product Info'!EI58+'Product Info'!EL58+'Product Info'!EO58+'Product Info'!ER58+'Product Info'!EU58+'Product Info'!EX58+'Product Info'!FA58+'Product Info'!FD58)","v":0},{"$f":"AI57*('Product Info'!M58)","v":0},{"$f":"AI57*'Product Info'!P58","v":0},{"$f":"AI57*'Product Info'!S58","v":0},{"$f":"AI57*'Product Info'!V58","v":0},{"$f":"AI57*'Product Info'!Y58","v":0},{"$f":"AI57*'Product Info'!AB58","v":0},{"$f":"AI57*'Product Info'!AE58","v":0},{"$f":"AI57*'Product Info'!AH58","v":0},{"$f":"AI57*'Product Info'!AK58","v":0},{"$f":"AI57*'Product Info'!AN58","v":0},{"$f":"AI57*'Product Info'!AQ58","v":0},{"$f":"AI57*'Product Info'!AT58","v":0},{"$f":"AI57*'Product Info'!AW58","v":0},{"$f":"AI57*'Product Info'!AZ58","v":0},{"$f":"AI57*'Product Info'!BC58","v":0},{"$f":"AI57*'Product Info'!BF58","v":0},{"$f":"AI57*'Product Info'!BI58","v":0},{"$f":"AI57*'Product Info'!BL58","v":0},{"$f":"AI57*'Product Info'!BO58","v":0},{"$f":"AI57*'Product Info'!BR58","v":0},{"$f":"AI57*'Product Info'!BU58","v":0},{"$f":"AI57*'Product Info'!BX58","v":0}]
[{"$f":"'Product Info'!A59","v":0},{"$f":"'Product Info'!B59","v":0},{"$f":"'Product Info'!C59","v":0},null,null,null,null,null,null,null,null,null,null,null,null,null,null,null,null,null,null,null,null,null,null,null,null,null,null,null,null,null,null,null,0,{"$f":"'Product Info'!F59*('Daily Info (August)'!AI58)","v":0},null,null,{"$f":"AI58*('Product Info'!H59)","v":0},{"$f":"AI58*('Product Info'!M59+'Product Info'!P59+'Product Info'!S59+'Product Info'!V59+'Product Info'!Y59+'Product Info'!AB59+'Product Info'!AE59+'Product Info'!AH59+'Product Info'!AK59+'Product Info'!AN59+'Product Info'!AQ59+'Product Info'!AT59+'Product Info'!AW59+'Product Info'!AZ59+'Product Info'!BC59+'Product Info'!BF59+'Product Info'!BI59+'Product Info'!BL59+'Product Info'!BO59+'Product Info'!BR59+'Product Info'!BU59+'Product Info'!BX59+'Product Info'!CA59+'Product Info'!CD59+'Product Info'!CG59+'Product Info'!CJ59+'Product Info'!CM59+'Product Info'!CP59+'Product Info'!CS59+'Product Info'!CV59+'Product Info'!CY59+'Product Info'!DB59+'Product Info'!DE59+'Product Info'!DH59+'Product Info'!DK59+'Product Info'!DN59+'Product Info'!DQ59+'Product Info'!DT59+'Product Info'!DW59+'Product Info'!DZ59+'Product Info'!EC59+'Product Info'!EF59+'Product Info'!EI59+'Product Info'!EL59+'Product Info'!EO59+'Product Info'!ER59+'Product Info'!EU59+'Product Info'!EX59+'Product Info'!FA59+'Product Info'!FD59)","v":0},{"$f":"AI58*('Product Info'!M59)","v":0},{"$f":"AI58*'Product Info'!P59","v":0},{"$f":"AI58*'Product Info'!S59","v":0},{"$f":"AI58*'Product Info'!V59","v":0},{"$f":"AI58*'Product Info'!Y59","v":0},{"$f":"AI58*'Product Info'!AB59","v":0},{"$f":"AI58*'Product Info'!AE59","v":0},{"$f":"AI58*'Product Info'!AH59","v":0},{"$f":"AI58*'Product Info'!AK59","v":0},{"$f":"AI58*'Product Info'!AN59","v":0},{"$f":"AI58*'Product Info'!AQ59","v":0},{"$f":"AI58*'Product Info'!AT59","v":0},{"$f":"AI58*'Product Info'!AW59","v":0},{"$f":"AI58*'Product Info'!AZ59","v":0},{"$f":"AI58*'Product Info'!BC59","v":0},{"$f":"AI58*'Product Info'!BF59","v":0},{"$f":"AI58*'Product Info'!BI59","v":0},{"$f":"AI58*'Product Info'!BL59","v":0},{"$f":"AI58*'Product Info'!BO59","v":0},{"$f":"AI58*'Product Info'!BR59","v":0},{"$f":"AI58*'Product Info'!BU59","v":0},{"$f":"AI58*'Product Info'!BX59","v":0}]
[{"$f":"'Product Info'!A60","v":0},{"$f":"'Product Info'!B60","v":0},{"$f":"'Product Info'!C60","v":0},null,null,null,null,null,null,null,null,null,null,null,null,null,null,null,null,null,null,null,null,null,null,null,null,null,null,null,null,null,null,null,0,{"$f":"'Product Info'!F60*('Daily Info (August)'!AI59)","v":0},null,null,{"$f":"AI59*('Product Info'!H60)","v":0},{"$f":"AI59*('Product Info'!M60+'Product Info'!P60+'Product Info'!S60+'Product Info'!V60+'Product Info'!Y60+'Product Info'!AB60+'Product Info'!AE60+'Product Info'!AH60+'Product Info'!AK60+'Product Info'!AN60+'Product Info'!AQ60+'Product Info'!AT60+'Product Info'!AW60+'Product Info'!AZ60+'Product Info'!BC60+'Product Info'!BF60+'Product Info'!BI60+'Product Info'!BL60+'Product Info'!BO60+'Product Info'!BR60+'Product Info'!BU60+'Product Info'!BX60+'Product Info'!CA60+'Product Info'!CD60+'Product Info'!CG60+'Product Info'!CJ60+'Product Info'!CM60+'Product Info'!CP60+'Product Info'!CS60+'Product Info'!CV60+'Product Info'!CY60+'Product Info'!DB60+'Product Info'!DE60+'Product Info'!DH60+'Product Info'!DK60+'Product Info'!DN60+'Product Info'!DQ60+'Product Info'!DT60+'Product Info'!DW60+'Product Info'!DZ60+'Product Info'!EC60+'Product Info'!EF60+'Product Info'!EI60+'Product Info'!EL60+'Product Info'!EO60+'Product Info'!ER60+'Product Info'!EU60+'Product Info'!EX60+'Product Info'!FA60+'Product Info'!FD60)","v":0},{"$f":"AI59*('Product Info'!M60)","v":0},{"$f":"AI59*'Product Info'!P60","v":0},{"$f":"AI59*'Product Info'!S60","v":0},{"$f":"AI59*'Product Info'!V60","v":0},{"$f":"AI59*'Product Info'!Y60","v":0},{"$f":"AI59*'Product Info'!AB60","v":0},{"$f":"AI59*'Product Info'!AE60","v":0},{"$f":"AI59*'Product Info'!AH60","v":0},{"$f":"AI59*'Product Info'!AK60","v":0},{"$f":"AI59*'Product Info'!AN60","v":0},{"$f":"AI59*'Product Info'!AQ60","v":0},{"$f":"AI59*'Product Info'!AT60","v":0},{"$f":"AI59*'Product Info'!AW60","v":0},{"$f":"AI59*'Product Info'!AZ60","v":0},{"$f":"AI59*'Product Info'!BC60","v":0},{"$f":"AI59*'Product Info'!BF60","v":0},{"$f":"AI59*'Product Info'!BI60","v":0},{"$f":"AI59*'Product Info'!BL60","v":0},{"$f":"AI59*'Product Info'!BO60","v":0},{"$f":"AI59*'Product Info'!BR60","v":0},{"$f":"AI59*'Product Info'!BU60","v":0},{"$f":"AI59*'Product Info'!BX60","v":0}]
[{"$f":"'Product Info'!A61","v":0},{"$f":"'Product Info'!B61","v":0},{"$f":"'Product Info'!C61","v":0},null,null,null,null,null,null,null,null,null,null,null,null,null,null,null,null,null,null,null,null,null,null,null,null,null,null,null,null,null,null,null,0,{"$f":"'Product Info'!F61*('Daily Info (August)'!AI60)","v":0},null,null,{"$f":"AI60*('Product Info'!H61)","v":0},{"$f":"AI60*('Product Info'!M61+'Product Info'!P61+'Product Info'!S61+'Product Info'!V61+'Product Info'!Y61+'Product Info'!AB61+'Product Info'!AE61+'Product Info'!AH61+'Product Info'!AK61+'Product Info'!AN61+'Product Info'!AQ61+'Product Info'!AT61+'Product Info'!AW61+'Product Info'!AZ61+'Product Info'!BC61+'Product Info'!BF61+'Product Info'!BI61+'Product Info'!BL61+'Product Info'!BO61+'Product Info'!BR61+'Product Info'!BU61+'Product Info'!BX61+'Product Info'!CA61+'Product Info'!CD61+'Product Info'!CG61+'Product Info'!CJ61+'Product Info'!CM61+'Product Info'!CP61+'Product Info'!CS61+'Product Info'!CV61+'Product Info'!CY61+'Product Info'!DB61+'Product Info'!DE61+'Product Info'!DH61+'Product Info'!DK61+'Product Info'!DN61+'Product Info'!DQ61+'Product Info'!DT61+'Product Info'!DW61+'Product Info'!DZ61+'Product Info'!EC61+'Product Info'!EF61+'Product Info'!EI61+'Product Info'!EL61+'Product Info'!EO61+'Product Info'!ER61+'Product Info'!EU61+'Product Info'!EX61+'Product Info'!FA61+'Product Info'!FD61)","v":0},{"$f":"AI60*('Product Info'!M61)","v":0},{"$f":"AI60*'Product Info'!P61","v":0},{"$f":"AI60*'Product Info'!S61","v":0},{"$f":"AI60*'Product Info'!V61","v":0},{"$f":"AI60*'Product Info'!Y61","v":0},{"$f":"AI60*'Product Info'!AB61","v":0},{"$f":"AI60*'Product Info'!AE61","v":0},{"$f":"AI60*'Product Info'!AH61","v":0},{"$f":"AI60*'Product Info'!AK61","v":0},{"$f":"AI60*'Product Info'!AN61","v":0},{"$f":"AI60*'Product Info'!AQ61","v":0},{"$f":"AI60*'Product Info'!AT61","v":0},{"$f":"AI60*'Product Info'!AW61","v":0},{"$f":"AI60*'Product Info'!AZ61","v":0},{"$f":"AI60*'Product Info'!BC61","v":0},{"$f":"AI60*'Product Info'!BF61","v":0},{"$f":"AI60*'Product Info'!BI61","v":0},{"$f":"AI60*'Product Info'!BL61","v":0},{"$f":"AI60*'Product Info'!BO61","v":0},{"$f":"AI60*'Product Info'!BR61","v":0},{"$f":"AI60*'Product Info'!BU61","v":0},{"$f":"AI60*'Product Info'!BX61","v":0}]
[{"$f":"'Product Info'!A62","v":0},{"$f":"'Product Info'!B62","v":0},{"$f":"'Product Info'!C62","v":0},null,null,null,null,null,null,null,null,null,null,null,null,null,null,null,null,null,null,null,null,null,null,null,null,null,null,null,null,null,null,null,0,{"$f":"'Product Info'!F62*('Daily Info (August)'!AI61)","v":0},null,null,{"$f":"AI61*('Product Info'!H62)","v":0},{"$f":"AI61*('Product Info'!M62+'Product Info'!P62+'Product Info'!S62+'Product Info'!V62+'Product Info'!Y62+'Product Info'!AB62+'Product Info'!AE62+'Product Info'!AH62+'Product Info'!AK62+'Product Info'!AN62+'Product Info'!AQ62+'Product Info'!AT62+'Product Info'!AW62+'Product Info'!AZ62+'Product Info'!BC62+'Product Info'!BF62+'Product Info'!BI62+'Product Info'!BL62+'Product Info'!BO62+'Product Info'!BR62+'Product Info'!BU62+'Product Info'!BX62+'Product Info'!CA62+'Product Info'!CD62+'Product Info'!CG62+'Product Info'!CJ62+'Product Info'!CM62+'Product Info'!CP62+'Product Info'!CS62+'Product Info'!CV62+'Product Info'!CY62+'Product Info'!DB62+'Product Info'!DE62+'Product Info'!DH62+'Product Info'!DK62+'Product Info'!DN62+'Product Info'!DQ62+'Product Info'!DT62+'Product Info'!DW62+'Product Info'!DZ62+'Product Info'!EC62+'Product Info'!EF62+'Product Info'!EI62+'Product Info'!EL62+'Product Info'!EO62+'Product Info'!ER62+'Product Info'!EU62+'Product Info'!EX62+'Product Info'!FA62+'Product Info'!FD62)","v":0},{"$f":"AI61*('Product Info'!M62)","v":0},{"$f":"AI61*'Product Info'!P62","v":0},{"$f":"AI61*'Product Info'!S62","v":0},{"$f":"AI61*'Product Info'!V62","v":0},{"$f":"AI61*'Product Info'!Y62","v":0},{"$f":"AI61*'Product Info'!AB62","v":0},{"$f":"AI61*'Product Info'!AE62","v":0},{"$f":"AI61*'Product Info'!AH62","v":0},{"$f":"AI61*'Product Info'!AK62","v":0},{"$f":"AI61*'Product Info'!AN62","v":0},{"$f":"AI61*'Product Info'!AQ62","v":0},{"$f":"AI61*'Product Info'!AT62","v":0},{"$f":"AI61*'Product Info'!AW62","v":0},{"$f":"AI61*'Product Info'!AZ62","v":0},{"$f":"AI61*'Product Info'!BC62","v":0},{"$f":"AI61*'Product Info'!BF62","v":0},{"$f":"AI61*'Product Info'!BI62","v":0},{"$f":"AI61*'Product Info'!BL62","v":0},{"$f":"AI61*'Product Info'!BO62","v":0},{"$f":"AI61*'Product Info'!BR62","v":0},{"$f":"AI61*'Product Info'!BU62","v":0},{"$f":"AI61*'Product Info'!BX62","v":0}]
["TOTALS for August",null,null,null,null,null,null,null,null,null,null,null,null,null,null,null,null,null,null,null,null,null,null,null,null,null,null,null,null,null,null,null,null,null,{"$f":"SUM(AI4:AI18)","v":0},{"$f":"SUM(AJ4:AJ18)","v":0},null,null,{"$f":"SUM(AM4:AM18)","v":0},{"$f":"SUM(AN4:AN18)","v":0},0,0,0,0,0,0,0,0,0,0,0,0,0,0,0,0,0,0,0,0,0,0]

{"sheet":"Daily Info (September)","index":10,"n_rows":62,"n_cols":61,"rows_kept":62,"cut":false,"hidden":false,"merged":[[0,3,0,12],[0,37,0,38],[61,0,61,1],[61,3,61,32],[1,34,1,35],[3,34,3,35],[4,34,4,35],[5,34,5,35],[6,34,6,35],[7,34,7,35],[19,34,19,35],[8,34,8,35],[9,34,9,35],[10,34,10,35],[11,34,11,35],[12,34,12,35],[13,34,13,35],[14,34,14,35],[15,34,15,35],[16,34,16,35],[17,34,17,35],[18,34,18,35],[31,34,31,35],[20,34,20,35],[21,34,21,35],[22,34,22,35],[23,34,23,35],[24,34,24,35],[25,34,25,35],[26,34,26,35],[27,34,27,35],[28,34,28,35],[29,34,29,35],[30,34,30,35],[43,34,43,35],[32,34,32,35],[33,34,33,35],[34,34,34,35],[35,34,35,35],[36,34,36,35],[37,34,37,35],[38,34,38,35],[39,34,39,35],[40,34,40,35],[41,34,41,35],[42,34,42,35],[55,34,55,35],[44,34,44,35],[45,34,45,35],[46,34,46,35],[47,34,47,35],[48,34,48,35],[49,34,49,35],[50,34,50,35],[51,34,51,35],[52,34,52,35],[53,34,53,35],[54,34,54,35],[60,34,60,35],[61,34,61,35],[56,34,56,35],[57,34,57,35],[58,34,58,35],[59,34,59,35]]}
["Main Menu","VOC Product Information",null,"Daily Usage (gal)",null,null,null,null,null,null,null,null,null,null,null,null,null,null,null,null,null,null,null,null,null,"Daily Usage (gal)",null,null,null,null,null,null,null,null,null,null,null,"Emissions"]
["Product Number","Product Name","Product Type","2006-09-01","2006-09-02","2006-09-03","2006-09-04","2006-09-05","2006-09-06","2006-09-07","2006-09-08","2006-09-09","2006-09-10","2006-09-11","2006-09-12","2006-09-13","2006-09-14","2006-09-15","2006-09-16","2006-09-17","2006-09-18","2006-09-19","2006-09-20","2006-09-21","2006-09-22","2006-09-23","2006-09-24","2006-09-25","2006-09-26","2006-09-27","2006-09-28","2006-09-29","2006-09-30","Total Usage (gal)","Total Usage (lbs)",null,null,"Pounds VOCs Emitted","Pounds Total HAPs Emitted",{"$f":"'Product Info'!K3","v":0},{"$f":"'Product Info'!N3","v":0},{"$f":"'Product Info'!Q3","v":0},{"$f":"'Product Info'!T3","v":0},{"$f":"'Product Info'!W3","v":0},{"$f":"'Product Info'!Z3","v":0},{"$f":"'Product Info'!AC3","v":0},{"$f":"'Product Info'!AF3","v":0},{"$f":"'Product Info'!AI3","v":0},{"$f":"'Product Info'!AL3","v":0},{"$f":"'Product Info'!AO3","v":0},{"$f":"'Product Info'!AR3","v":0},{"$f":"'Product Info'!AU3","v":0},{"$f":"'Product Info'!AX3","v":0},{"$f":"'Product Info'!BA3","v":0},{"$f":"'Product Info'!BD3","v":0},{"$f":"'Product Info'!BG3","v":0},{"$f":"'Product Info'!BJ3","v":0},{"$f":"'Product Info'!BM3","v":0},{"$f":"'Product Info'!BP3","v":0},{"$f":"'Product Info'!BS3","v":0},{"$f":"'Product Info'!BV3","v":0}]
[]
[{"$f":"'Product Info'!A5","v":0},{"$f":"'Product Info'!B5","v":0},{"$f":"'Product Info'!C5","v":0},null,null,null,null,null,null,null,null,null,null,null,null,null,null,null,null,null,null,null,null,null,null,null,null,null,null,null,null,null,null,{"$f":"SUM(D4:AG4)","v":0},{"$f":"'Product Info'!F5*('Daily Info (September)'!AH4)","v":0},null,null,{"$f":"AH4*('Product Info'!H5)","v":0},{"$f":"AH4*('Product Info'!M5+'Product Info'!P5+'Product Info'!S5+'Product Info'!V5+'Product Info'!Y5+'Product Info'!AB5+'Product Info'!AE5+'Product Info'!AH5+'Product Info'!AK5+'Product Info'!AN5+'Product Info'!AQ5+'Product Info'!AT5+'Product Info'!AW5+'Product Info'!AZ5+'Product Info'!BC5+'Product Info'!BF5+'Product Info'!BI5+'Product Info'!BL5+'Product Info'!BO5+'Product Info'!BR5+'Product Info'!BU5+'Product Info'!BX5+'Product Info'!CA5+'Product Info'!CD5+'Product Info'!CG5+'Product Info'!CJ5+'Product Info'!CM5+'Product Info'!CP5+'Product Info'!CS5+'Product Info'!CV5+'Product Info'!CY5+'Product Info'!DB5+'Product Info'!DE5+'Product Info'!DH5+'Product Info'!DK5+'Product Info'!DN5+'Product Info'!DQ5+'Product Info'!DT5+'Product Info'!DW5+'Product Info'!DZ5+'Product Info'!EC5+'Product Info'!EF5+'Product Info'!EI5+'Product Info'!EL5+'Product Info'!EO5+'Product Info'!ER5+'Product Info'!EU5+'Product Info'!EX5+'Product Info'!FA5+'Product Info'!FD5)","v":0},{"$f":"AH4*('Product Info'!M5)","v":0},{"$f":"AH4*'Product Info'!P5","v":0},{"$f":"AH4*'Product Info'!S5","v":0},{"$f":"AH4*'Product Info'!V5","v":0},{"$f":"AH4*'Product Info'!Y5","v":0},{"$f":"AH4*'Product Info'!AB5","v":0},{"$f":"AH4*'Product Info'!AE5","v":0},{"$f":"AH4*'Product Info'!AH5","v":0},{"$f":"AH4*'Product Info'!AK5","v":0},{"$f":"AH4*'Product Info'!AN5","v":0},{"$f":"AH4*'Product Info'!AQ5","v":0},{"$f":"AH4*'Product Info'!AT5","v":0},{"$f":"AH4*'Product Info'!AW5","v":0},{"$f":"AH4*'Product Info'!AZ5","v":0},{"$f":"AH4*'Product Info'!BC5","v":0},{"$f":"AH4*'Product Info'!BF5","v":0},{"$f":"AH4*'Product Info'!BI5","v":0},{"$f":"AH4*'Product Info'!BL5","v":0},{"$f":"AH4*'Product Info'!BO5","v":0},{"$f":"AH4*'Product Info'!BR5","v":0},{"$f":"AH4*'Product Info'!BU5","v":0},{"$f":"AH4*'Product Info'!BX5","v":0}]
[{"$f":"'Product Info'!A6","v":0},{"$f":"'Product Info'!B6","v":0},{"$f":"'Product Info'!C6","v":0},null,null,null,null,null,null,null,null,null,null,null,null,null,null,null,null,null,null,null,null,null,null,null,null,null,null,null,null,null,null,0,{"$f":"'Product Info'!F6*('Daily Info (September)'!AH5)","v":0},null,null,{"$f":"AH5*('Product Info'!H6)","v":0},{"$f":"AH5*('Product Info'!M6+'Product Info'!P6+'Product Info'!S6+'Product Info'!V6+'Product Info'!Y6+'Product Info'!AB6+'Product Info'!AE6+'Product Info'!AH6+'Product Info'!AK6+'Product Info'!AN6+'Product Info'!AQ6+'Product Info'!AT6+'Product Info'!AW6+'Product Info'!AZ6+'Product Info'!BC6+'Product Info'!BF6+'Product Info'!BI6+'Product Info'!BL6+'Product Info'!BO6+'Product Info'!BR6+'Product Info'!BU6+'Product Info'!BX6+'Product Info'!CA6+'Product Info'!CD6+'Product Info'!CG6+'Product Info'!CJ6+'Product Info'!CM6+'Product Info'!CP6+'Product Info'!CS6+'Product Info'!CV6+'Product Info'!CY6+'Product Info'!DB6+'Product Info'!DE6+'Product Info'!DH6+'Product Info'!DK6+'Product Info'!DN6+'Product Info'!DQ6+'Product Info'!DT6+'Product Info'!DW6+'Product Info'!DZ6+'Product Info'!EC6+'Product Info'!EF6+'Product Info'!EI6+'Product Info'!EL6+'Product Info'!EO6+'Product Info'!ER6+'Product Info'!EU6+'Product Info'!EX6+'Product Info'!FA6+'Product Info'!FD6)","v":0},{"$f":"AH5*('Product Info'!M6)","v":0},{"$f":"AH5*'Product Info'!P6","v":0},{"$f":"AH5*'Product Info'!S6","v":0},{"$f":"AH5*'Product Info'!V6","v":0},{"$f":"AH5*'Product Info'!Y6","v":0},{"$f":"AH5*'Product Info'!AB6","v":0},{"$f":"AH5*'Product Info'!AE6","v":0},{"$f":"AH5*'Product Info'!AH6","v":0},{"$f":"AH5*'Product Info'!AK6","v":0},{"$f":"AH5*'Product Info'!AN6","v":0},{"$f":"AH5*'Product Info'!AQ6","v":0},{"$f":"AH5*'Product Info'!AT6","v":0},{"$f":"AH5*'Product Info'!AW6","v":0},{"$f":"AH5*'Product Info'!AZ6","v":0},{"$f":"AH5*'Product Info'!BC6","v":0},{"$f":"AH5*'Product Info'!BF6","v":0},{"$f":"AH5*'Product Info'!BI6","v":0},{"$f":"AH5*'Product Info'!BL6","v":0},{"$f":"AH5*'Product Info'!BO6","v":0},{"$f":"AH5*'Product Info'!BR6","v":0},{"$f":"AH5*'Product Info'!BU6","v":0},{"$f":"AH5*'Product Info'!BX6","v":0}]
[{"$f":"'Product Info'!A7","v":0},{"$f":"'Product Info'!B7","v":0},{"$f":"'Product Info'!C7","v":0},null,null,null,null,null,null,null,null,null,null,null,null,null,null,null,null,null,null,null,null,null,null,null,null,null,null,null,null,null,null,0,{"$f":"'Product Info'!F7*('Daily Info (September)'!AH6)","v":0},null,null,{"$f":"AH6*('Product Info'!H7)","v":0},{"$f":"AH6*('Product Info'!M7+'Product Info'!P7+'Product Info'!S7+'Product Info'!V7+'Product Info'!Y7+'Product Info'!AB7+'Product Info'!AE7+'Product Info'!AH7+'Product Info'!AK7+'Product Info'!AN7+'Product Info'!AQ7+'Product Info'!AT7+'Product Info'!AW7+'Product Info'!AZ7+'Product Info'!BC7+'Product Info'!BF7+'Product Info'!BI7+'Product Info'!BL7+'Product Info'!BO7+'Product Info'!BR7+'Product Info'!BU7+'Product Info'!BX7+'Product Info'!CA7+'Product Info'!CD7+'Product Info'!CG7+'Product Info'!CJ7+'Product Info'!CM7+'Product Info'!CP7+'Product Info'!CS7+'Product Info'!CV7+'Product Info'!CY7+'Product Info'!DB7+'Product Info'!DE7+'Product Info'!DH7+'Product Info'!DK7+'Product Info'!DN7+'Product Info'!DQ7+'Product Info'!DT7+'Product Info'!DW7+'Product Info'!DZ7+'Product Info'!EC7+'Product Info'!EF7+'Product Info'!EI7+'Product Info'!EL7+'Product Info'!EO7+'Product Info'!ER7+'Product Info'!EU7+'Product Info'!EX7+'Product Info'!FA7+'Product Info'!FD7)","v":0},{"$f":"AH6*('Product Info'!M7)","v":0},{"$f":"AH6*'Product Info'!P7","v":0},{"$f":"AH6*'Product Info'!S7","v":0},{"$f":"AH6*'Product Info'!V7","v":0},{"$f":"AH6*'Product Info'!Y7","v":0},{"$f":"AH6*'Product Info'!AB7","v":0},{"$f":"AH6*'Product Info'!AE7","v":0},{"$f":"AH6*'Product Info'!AH7","v":0},{"$f":"AH6*'Product Info'!AK7","v":0},{"$f":"AH6*'Product Info'!AN7","v":0},{"$f":"AH6*'Product Info'!AQ7","v":0},{"$f":"AH6*'Product Info'!AT7","v":0},{"$f":"AH6*'Product Info'!AW7","v":0},{"$f":"AH6*'Product Info'!AZ7","v":0},{"$f":"AH6*'Product Info'!BC7","v":0},{"$f":"AH6*'Product Info'!BF7","v":0},{"$f":"AH6*'Product Info'!BI7","v":0},{"$f":"AH6*'Product Info'!BL7","v":0},{"$f":"AH6*'Product Info'!BO7","v":0},{"$f":"AH6*'Product Info'!BR7","v":0},{"$f":"AH6*'Product Info'!BU7","v":0},{"$f":"AH6*'Product Info'!BX7","v":0}]
[{"$f":"'Product Info'!A8","v":0},{"$f":"'Product Info'!B8","v":0},{"$f":"'Product Info'!C8","v":0},null,null,null,null,null,null,null,null,null,null,null,null,null,null,null,null,null,null,null,null,null,null,null,null,null,null,null,null,null,null,0,{"$f":"'Product Info'!F8*('Daily Info (September)'!AH7)","v":0},null,null,{"$f":"AH7*('Product Info'!H8)","v":0},{"$f":"AH7*('Product Info'!M8+'Product Info'!P8+'Product Info'!S8+'Product Info'!V8+'Product Info'!Y8+'Product Info'!AB8+'Product Info'!AE8+'Product Info'!AH8+'Product Info'!AK8+'Product Info'!AN8+'Product Info'!AQ8+'Product Info'!AT8+'Product Info'!AW8+'Product Info'!AZ8+'Product Info'!BC8+'Product Info'!BF8+'Product Info'!BI8+'Product Info'!BL8+'Product Info'!BO8+'Product Info'!BR8+'Product Info'!BU8+'Product Info'!BX8+'Product Info'!CA8+'Product Info'!CD8+'Product Info'!CG8+'Product Info'!CJ8+'Product Info'!CM8+'Product Info'!CP8+'Product Info'!CS8+'Product Info'!CV8+'Product Info'!CY8+'Product Info'!DB8+'Product Info'!DE8+'Product Info'!DH8+'Product Info'!DK8+'Product Info'!DN8+'Product Info'!DQ8+'Product Info'!DT8+'Product Info'!DW8+'Product Info'!DZ8+'Product Info'!EC8+'Product Info'!EF8+'Product Info'!EI8+'Product Info'!EL8+'Product Info'!EO8+'Product Info'!ER8+'Product Info'!EU8+'Product Info'!EX8+'Product Info'!FA8+'Product Info'!FD8)","v":0},{"$f":"AH7*('Product Info'!M8)","v":0},{"$f":"AH7*'Product Info'!P8","v":0},{"$f":"AH7*'Product Info'!S8","v":0},{"$f":"AH7*'Product Info'!V8","v":0},{"$f":"AH7*'Product Info'!Y8","v":0},{"$f":"AH7*'Product Info'!AB8","v":0},{"$f":"AH7*'Product Info'!AE8","v":0},{"$f":"AH7*'Product Info'!AH8","v":0},{"$f":"AH7*'Product Info'!AK8","v":0},{"$f":"AH7*'Product Info'!AN8","v":0},{"$f":"AH7*'Product Info'!AQ8","v":0},{"$f":"AH7*'Product Info'!AT8","v":0},{"$f":"AH7*'Product Info'!AW8","v":0},{"$f":"AH7*'Product Info'!AZ8","v":0},{"$f":"AH7*'Product Info'!BC8","v":0},{"$f":"AH7*'Product Info'!BF8","v":0},{"$f":"AH7*'Product Info'!BI8","v":0},{"$f":"AH7*'Product Info'!BL8","v":0},{"$f":"AH7*'Product Info'!BO8","v":0},{"$f":"AH7*'Product Info'!BR8","v":0},{"$f":"AH7*'Product Info'!BU8","v":0},{"$f":"AH7*'Product Info'!BX8","v":0}]
[{"$f":"'Product Info'!A9","v":0},{"$f":"'Product Info'!B9","v":0},{"$f":"'Product Info'!C9","v":0},null,null,null,null,null,null,null,null,null,null,null,null,null,null,null,null,null,null,null,null,null,null,null,null,null,null,null,null,null,null,0,{"$f":"'Product Info'!F9*('Daily Info (September)'!AH8)","v":0},null,null,{"$f":"AH8*('Product Info'!H9)","v":0},{"$f":"AH8*('Product Info'!M9+'Product Info'!P9+'Product Info'!S9+'Product Info'!V9+'Product Info'!Y9+'Product Info'!AB9+'Product Info'!AE9+'Product Info'!AH9+'Product Info'!AK9+'Product Info'!AN9+'Product Info'!AQ9+'Product Info'!AT9+'Product Info'!AW9+'Product Info'!AZ9+'Product Info'!BC9+'Product Info'!BF9+'Product Info'!BI9+'Product Info'!BL9+'Product Info'!BO9+'Product Info'!BR9+'Product Info'!BU9+'Product Info'!BX9+'Product Info'!CA9+'Product Info'!CD9+'Product Info'!CG9+'Product Info'!CJ9+'Product Info'!CM9+'Product Info'!CP9+'Product Info'!CS9+'Product Info'!CV9+'Product Info'!CY9+'Product Info'!DB9+'Product Info'!DE9+'Product Info'!DH9+'Product Info'!DK9+'Product Info'!DN9+'Product Info'!DQ9+'Product Info'!DT9+'Product Info'!DW9+'Product Info'!DZ9+'Product Info'!EC9+'Product Info'!EF9+'Product Info'!EI9+'Product Info'!EL9+'Product Info'!EO9+'Product Info'!ER9+'Product Info'!EU9+'Product Info'!EX9+'Product Info'!FA9+'Product Info'!FD9)","v":0},{"$f":"AH8*('Product Info'!M9)","v":0},{"$f":"AH8*'Product Info'!P9","v":0},{"$f":"AH8*'Product Info'!S9","v":0},{"$f":"AH8*'Product Info'!V9","v":0},{"$f":"AH8*'Product Info'!Y9","v":0},{"$f":"AH8*'Product Info'!AB9","v":0},{"$f":"AH8*'Product Info'!AE9","v":0},{"$f":"AH8*'Product Info'!AH9","v":0},{"$f":"AH8*'Product Info'!AK9","v":0},{"$f":"AH8*'Product Info'!AN9","v":0},{"$f":"AH8*'Product Info'!AQ9","v":0},{"$f":"AH8*'Product Info'!AT9","v":0},{"$f":"AH8*'Product Info'!AW9","v":0},{"$f":"AH8*'Product Info'!AZ9","v":0},{"$f":"AH8*'Product Info'!BC9","v":0},{"$f":"AH8*'Product Info'!BF9","v":0},{"$f":"AH8*'Product Info'!BI9","v":0},{"$f":"AH8*'Product Info'!BL9","v":0},{"$f":"AH8*'Product Info'!BO9","v":0},{"$f":"AH8*'Product Info'!BR9","v":0},{"$f":"AH8*'Product Info'!BU9","v":0},{"$f":"AH8*'Product Info'!BX9","v":0}]
[{"$f":"'Product Info'!A10","v":0},{"$f":"'Product Info'!B10","v":0},{"$f":"'Product Info'!C10","v":0},null,null,null,null,null,null,null,null,null,null,null,null,null,null,null,null,null,null,null,null,null,null,null,null,null,null,null,null,null,null,0,{"$f":"'Product Info'!F10*('Daily Info (September)'!AH9)","v":0},null,null,{"$f":"AH9*('Product Info'!H10)","v":0},{"$f":"AH9*('Product Info'!M10+'Product Info'!P10+'Product Info'!S10+'Product Info'!V10+'Product Info'!Y10+'Product Info'!AB10+'Product Info'!AE10+'Product Info'!AH10+'Product Info'!AK10+'Product Info'!AN10+'Product Info'!AQ10+'Product Info'!AT10+'Product Info'!AW10+'Product Info'!AZ10+'Product Info'!BC10+'Product Info'!BF10+'Product Info'!BI10+'Product Info'!BL10+'Product Info'!BO10+'Product Info'!BR10+'Product Info'!BU10+'Product Info'!BX10+'Product Info'!CA10+'Product Info'!CD10+'Product Info'!CG10+'Product Info'!CJ10+'Product Info'!CM10+'Product Info'!CP10+'Product Info'!CS10+'Product Info'!CV10+'Product Info'!CY10+'Product Info'!DB10+'Product Info'!DE10+'Product Info'!DH10+'Product Info'!DK10+'Product Info'!DN10+'Product Info'!DQ10+'Product Info'!DT10+'Product Info'!DW10+'Product Info'!DZ10+'Product Info'!EC10+'Product Info'!EF10+'Product Info'!EI10+'Product Info'!EL10+'Product Info'!EO10+'Product Info'!ER10+'Product Info'!EU10+'Product Info'!EX10+'Product Info'!FA10+'Product Info'!FD10)","v":0},{"$f":"AH9*('Product Info'!M10)","v":0},{"$f":"AH9*'Product Info'!P10","v":0},{"$f":"AH9*'Product Info'!S10","v":0},{"$f":"AH9*'Product Info'!V10","v":0},{"$f":"AH9*'Product Info'!Y10","v":0},{"$f":"AH9*'Product Info'!AB10","v":0},{"$f":"AH9*'Product Info'!AE10","v":0},{"$f":"AH9*'Product Info'!AH10","v":0},{"$f":"AH9*'Product Info'!AK10","v":0},{"$f":"AH9*'Product Info'!AN10","v":0},{"$f":"AH9*'Product Info'!AQ10","v":0},{"$f":"AH9*'Product Info'!AT10","v":0},{"$f":"AH9*'Product Info'!AW10","v":0},{"$f":"AH9*'Product Info'!AZ10","v":0},{"$f":"AH9*'Product Info'!BC10","v":0},{"$f":"AH9*'Product Info'!BF10","v":0},{"$f":"AH9*'Product Info'!BI10","v":0},{"$f":"AH9*'Product Info'!BL10","v":0},{"$f":"AH9*'Product Info'!BO10","v":0},{"$f":"AH9*'Product Info'!BR10","v":0},{"$f":"AH9*'Product Info'!BU10","v":0},{"$f":"AH9*'Product Info'!BX10","v":0}]
[{"$f":"'Product Info'!A11","v":0},{"$f":"'Product Info'!B11","v":0},{"$f":"'Product Info'!C11","v":0},null,null,null,null,null,null,null,null,null,null,null,null,null,null,null,null,null,null,null,null,null,null,null,null,null,null,null,null,null,null,0,{"$f":"'Product Info'!F11*('Daily Info (September)'!AH10)","v":0},null,null,{"$f":"AH10*('Product Info'!H11)","v":0},{"$f":"AH10*('Product Info'!M11+'Product Info'!P11+'Product Info'!S11+'Product Info'!V11+'Product Info'!Y11+'Product Info'!AB11+'Product Info'!AE11+'Product Info'!AH11+'Product Info'!AK11+'Product Info'!AN11+'Product Info'!AQ11+'Product Info'!AT11+'Product Info'!AW11+'Product Info'!AZ11+'Product Info'!BC11+'Product Info'!BF11+'Product Info'!BI11+'Product Info'!BL11+'Product Info'!BO11+'Product Info'!BR11+'Product Info'!BU11+'Product Info'!BX11+'Product Info'!CA11+'Product Info'!CD11+'Product Info'!CG11+'Product Info'!CJ11+'Product Info'!CM11+'Product Info'!CP11+'Product Info'!CS11+'Product Info'!CV11+'Product Info'!CY11+'Product Info'!DB11+'Product Info'!DE11+'Product Info'!DH11+'Product Info'!DK11+'Product Info'!DN11+'Product Info'!DQ11+'Product Info'!DT11+'Product Info'!DW11+'Product Info'!DZ11+'Product Info'!EC11+'Product Info'!EF11+'Product Info'!EI11+'Product Info'!EL11+'Product Info'!EO11+'Product Info'!ER11+'Product Info'!EU11+'Product Info'!EX11+'Product Info'!FA11+'Product Info'!FD11)","v":0},{"$f":"AH10*('Product Info'!M11)","v":0},{"$f":"AH10*'Product Info'!P11","v":0},{"$f":"AH10*'Product Info'!S11","v":0},{"$f":"AH10*'Product Info'!V11","v":0},{"$f":"AH10*'Product Info'!Y11","v":0},{"$f":"AH10*'Product Info'!AB11","v":0},{"$f":"AH10*'Product Info'!AE11","v":0},{"$f":"AH10*'Product Info'!AH11","v":0},{"$f":"AH10*'Product Info'!AK11","v":0},{"$f":"AH10*'Product Info'!AN11","v":0},{"$f":"AH10*'Product Info'!AQ11","v":0},{"$f":"AH10*'Product Info'!AT11","v":0},{"$f":"AH10*'Product Info'!AW11","v":0},{"$f":"AH10*'Product Info'!AZ11","v":0},{"$f":"AH10*'Product Info'!BC11","v":0},{"$f":"AH10*'Product Info'!BF11","v":0},{"$f":"AH10*'Product Info'!BI11","v":0},{"$f":"AH10*'Product Info'!BL11","v":0},{"$f":"AH10*'Product Info'!BO11","v":0},{"$f":"AH10*'Product Info'!BR11","v":0},{"$f":"AH10*'Product Info'!BU11","v":0},{"$f":"AH10*'Product Info'!BX11","v":0}]
[{"$f":"'Product Info'!A12","v":0},{"$f":"'Product Info'!B12","v":0},{"$f":"'Product Info'!C12","v":0},null,null,null,null,null,null,null,null,null,null,null,null,null,null,null,null,null,null,null,null,null,null,null,null,null,null,null,null,null,null,0,{"$f":"'Product Info'!F12*('Daily Info (September)'!AH11)","v":0},null,null,{"$f":"AH11*('Product Info'!H12)","v":0},{"$f":"AH11*('Product Info'!M12+'Product Info'!P12+'Product Info'!S12+'Product Info'!V12+'Product Info'!Y12+'Product Info'!AB12+'Product Info'!AE12+'Product Info'!AH12+'Product Info'!AK12+'Product Info'!AN12+'Product Info'!AQ12+'Product Info'!AT12+'Product Info'!AW12+'Product Info'!AZ12+'Product Info'!BC12+'Product Info'!BF12+'Product Info'!BI12+'Product Info'!BL12+'Product Info'!BO12+'Product Info'!BR12+'Product Info'!BU12+'Product Info'!BX12+'Product Info'!CA12+'Product Info'!CD12+'Product Info'!CG12+'Product Info'!CJ12+'Product Info'!CM12+'Product Info'!CP12+'Product Info'!CS12+'Product Info'!CV12+'Product Info'!CY12+'Product Info'!DB12+'Product Info'!DE12+'Product Info'!DH12+'Product Info'!DK12+'Product Info'!DN12+'Product Info'!DQ12+'Product Info'!DT12+'Product Info'!DW12+'Product Info'!DZ12+'Product Info'!EC12+'Product Info'!EF12+'Product Info'!EI12+'Product Info'!EL12+'Product Info'!EO12+'Product Info'!ER12+'Product Info'!EU12+'Product Info'!EX12+'Product Info'!FA12+'Product Info'!FD12)","v":0},{"$f":"AH11*('Product Info'!M12)","v":0},{"$f":"AH11*'Product Info'!P12","v":0},{"$f":"AH11*'Product Info'!S12","v":0},{"$f":"AH11*'Product Info'!V12","v":0},{"$f":"AH11*'Product Info'!Y12","v":0},{"$f":"AH11*'Product Info'!AB12","v":0},{"$f":"AH11*'Product Info'!AE12","v":0},{"$f":"AH11*'Product Info'!AH12","v":0},{"$f":"AH11*'Product Info'!AK12","v":0},{"$f":"AH11*'Product Info'!AN12","v":0},{"$f":"AH11*'Product Info'!AQ12","v":0},{"$f":"AH11*'Product Info'!AT12","v":0},{"$f":"AH11*'Product Info'!AW12","v":0},{"$f":"AH11*'Product Info'!AZ12","v":0},{"$f":"AH11*'Product Info'!BC12","v":0},{"$f":"AH11*'Product Info'!BF12","v":0},{"$f":"AH11*'Product Info'!BI12","v":0},{"$f":"AH11*'Product Info'!BL12","v":0},{"$f":"AH11*'Product Info'!BO12","v":0},{"$f":"AH11*'Product Info'!BR12","v":0},{"$f":"AH11*'Product Info'!BU12","v":0},{"$f":"AH11*'Product Info'!BX12","v":0}]
[{"$f":"'Product Info'!A13","v":0},{"$f":"'Product Info'!B13","v":0},{"$f":"'Product Info'!C13","v":0},null,null,null,null,null,null,null,null,null,null,null,null,null,null,null,null,null,null,null,null,null,null,null,null,null,null,null,null,null,null,0,{"$f":"'Product Info'!F13*('Daily Info (September)'!AH12)","v":0},null,null,{"$f":"AH12*('Product Info'!H13)","v":0},{"$f":"AH12*('Product Info'!M13+'Product Info'!P13+'Product Info'!S13+'Product Info'!V13+'Product Info'!Y13+'Product Info'!AB13+'Product Info'!AE13+'Product Info'!AH13+'Product Info'!AK13+'Product Info'!AN13+'Product Info'!AQ13+'Product Info'!AT13+'Product Info'!AW13+'Product Info'!AZ13+'Product Info'!BC13+'Product Info'!BF13+'Product Info'!BI13+'Product Info'!BL13+'Product Info'!BO13+'Product Info'!BR13+'Product Info'!BU13+'Product Info'!BX13+'Product Info'!CA13+'Product Info'!CD13+'Product Info'!CG13+'Product Info'!CJ13+'Product Info'!CM13+'Product Info'!CP13+'Product Info'!CS13+'Product Info'!CV13+'Product Info'!CY13+'Product Info'!DB13+'Product Info'!DE13+'Product Info'!DH13+'Product Info'!DK13+'Product Info'!DN13+'Product Info'!DQ13+'Product Info'!DT13+'Product Info'!DW13+'Product Info'!DZ13+'Product Info'!EC13+'Product Info'!EF13+'Product Info'!EI13+'Product Info'!EL13+'Product Info'!EO13+'Product Info'!ER13+'Product Info'!EU13+'Product Info'!EX13+'Product Info'!FA13+'Product Info'!FD13)","v":0},{"$f":"AH12*('Product Info'!M13)","v":0},{"$f":"AH12*'Product Info'!P13","v":0},{"$f":"AH12*'Product Info'!S13","v":0},{"$f":"AH12*'Product Info'!V13","v":0},{"$f":"AH12*'Product Info'!Y13","v":0},{"$f":"AH12*'Product Info'!AB13","v":0},{"$f":"AH12*'Product Info'!AE13","v":0},{"$f":"AH12*'Product Info'!AH13","v":0},{"$f":"AH12*'Product Info'!AK13","v":0},{"$f":"AH12*'Product Info'!AN13","v":0},{"$f":"AH12*'Product Info'!AQ13","v":0},{"$f":"AH12*'Product Info'!AT13","v":0},{"$f":"AH12*'Product Info'!AW13","v":0},{"$f":"AH12*'Product Info'!AZ13","v":0},{"$f":"AH12*'Product Info'!BC13","v":0},{"$f":"AH12*'Product Info'!BF13","v":0},{"$f":"AH12*'Product Info'!BI13","v":0},{"$f":"AH12*'Product Info'!BL13","v":0},{"$f":"AH12*'Product Info'!BO13","v":0},{"$f":"AH12*'Product Info'!BR13","v":0},{"$f":"AH12*'Product Info'!BU13","v":0},{"$f":"AH12*'Product Info'!BX13","v":0}]
[{"$f":"'Product Info'!A14","v":0},{"$f":"'Product Info'!B14","v":0},{"$f":"'Product Info'!C14","v":0},null,null,null,null,null,null,null,null,null,null,null,null,null,null,null,null,null,null,null,null,null,null,null,null,null,null,null,null,null,null,0,{"$f":"'Product Info'!F14*('Daily Info (September)'!AH13)","v":0},null,null,{"$f":"AH13*('Product Info'!H14)","v":0},{"$f":"AH13*('Product Info'!M14+'Product Info'!P14+'Product Info'!S14+'Product Info'!V14+'Product Info'!Y14+'Product Info'!AB14+'Product Info'!AE14+'Product Info'!AH14+'Product Info'!AK14+'Product Info'!AN14+'Product Info'!AQ14+'Product Info'!AT14+'Product Info'!AW14+'Product Info'!AZ14+'Product Info'!BC14+'Product Info'!BF14+'Product Info'!BI14+'Product Info'!BL14+'Product Info'!BO14+'Product Info'!BR14+'Product Info'!BU14+'Product Info'!BX14+'Product Info'!CA14+'Product Info'!CD14+'Product Info'!CG14+'Product Info'!CJ14+'Product Info'!CM14+'Product Info'!CP14+'Product Info'!CS14+'Product Info'!CV14+'Product Info'!CY14+'Product Info'!DB14+'Product Info'!DE14+'Product Info'!DH14+'Product Info'!DK14+'Product Info'!DN14+'Product Info'!DQ14+'Product Info'!DT14+'Product Info'!DW14+'Product Info'!DZ14+'Product Info'!EC14+'Product Info'!EF14+'Product Info'!EI14+'Product Info'!EL14+'Product Info'!EO14+'Product Info'!ER14+'Product Info'!EU14+'Product Info'!EX14+'Product Info'!FA14+'Product Info'!FD14)","v":0},{"$f":"AH13*('Product Info'!M14)","v":0},{"$f":"AH13*'Product Info'!P14","v":0},{"$f":"AH13*'Product Info'!S14","v":0},{"$f":"AH13*'Product Info'!V14","v":0},{"$f":"AH13*'Product Info'!Y14","v":0},{"$f":"AH13*'Product Info'!AB14","v":0},{"$f":"AH13*'Product Info'!AE14","v":0},{"$f":"AH13*'Product Info'!AH14","v":0},{"$f":"AH13*'Product Info'!AK14","v":0},{"$f":"AH13*'Product Info'!AN14","v":0},{"$f":"AH13*'Product Info'!AQ14","v":0},{"$f":"AH13*'Product Info'!AT14","v":0},{"$f":"AH13*'Product Info'!AW14","v":0},{"$f":"AH13*'Product Info'!AZ14","v":0},{"$f":"AH13*'Product Info'!BC14","v":0},{"$f":"AH13*'Product Info'!BF14","v":0},{"$f":"AH13*'Product Info'!BI14","v":0},{"$f":"AH13*'Product Info'!BL14","v":0},{"$f":"AH13*'Product Info'!BO14","v":0},{"$f":"AH13*'Product Info'!BR14","v":0},{"$f":"AH13*'Product Info'!BU14","v":0},{"$f":"AH13*'Product Info'!BX14","v":0}]
[{"$f":"'Product Info'!A15","v":0},{"$f":"'Product Info'!B15","v":0},{"$f":"'Product Info'!C15","v":0},null,null,null,null,null,null,null,null,null,null,null,null,null,null,null,null,null,null,null,null,null,null,null,null,null,null,null,null,null,null,0,{"$f":"'Product Info'!F15*('Daily Info (September)'!AH14)","v":0},null,null,{"$f":"AH14*('Product Info'!H15)","v":0},{"$f":"AH14*('Product Info'!M15+'Product Info'!P15+'Product Info'!S15+'Product Info'!V15+'Product Info'!Y15+'Product Info'!AB15+'Product Info'!AE15+'Product Info'!AH15+'Product Info'!AK15+'Product Info'!AN15+'Product Info'!AQ15+'Product Info'!AT15+'Product Info'!AW15+'Product Info'!AZ15+'Product Info'!BC15+'Product Info'!BF15+'Product Info'!BI15+'Product Info'!BL15+'Product Info'!BO15+'Product Info'!BR15+'Product Info'!BU15+'Product Info'!BX15+'Product Info'!CA15+'Product Info'!CD15+'Product Info'!CG15+'Product Info'!CJ15+'Product Info'!CM15+'Product Info'!CP15+'Product Info'!CS15+'Product Info'!CV15+'Product Info'!CY15+'Product Info'!DB15+'Product Info'!DE15+'Product Info'!DH15+'Product Info'!DK15+'Product Info'!DN15+'Product Info'!DQ15+'Product Info'!DT15+'Product Info'!DW15+'Product Info'!DZ15+'Product Info'!EC15+'Product Info'!EF15+'Product Info'!EI15+'Product Info'!EL15+'Product Info'!EO15+'Product Info'!ER15+'Product Info'!EU15+'Product Info'!EX15+'Product Info'!FA15+'Product Info'!FD15)","v":0},{"$f":"AH14*('Product Info'!M15)","v":0},{"$f":"AH14*'Product Info'!P15","v":0},{"$f":"AH14*'Product Info'!S15","v":0},{"$f":"AH14*'Product Info'!V15","v":0},{"$f":"AH14*'Product Info'!Y15","v":0},{"$f":"AH14*'Product Info'!AB15","v":0},{"$f":"AH14*'Product Info'!AE15","v":0},{"$f":"AH14*'Product Info'!AH15","v":0},{"$f":"AH14*'Product Info'!AK15","v":0},{"$f":"AH14*'Product Info'!AN15","v":0},{"$f":"AH14*'Product Info'!AQ15","v":0},{"$f":"AH14*'Product Info'!AT15","v":0},{"$f":"AH14*'Product Info'!AW15","v":0},{"$f":"AH14*'Product Info'!AZ15","v":0},{"$f":"AH14*'Product Info'!BC15","v":0},{"$f":"AH14*'Product Info'!BF15","v":0},{"$f":"AH14*'Product Info'!BI15","v":0},{"$f":"AH14*'Product Info'!BL15","v":0},{"$f":"AH14*'Product Info'!BO15","v":0},{"$f":"AH14*'Product Info'!BR15","v":0},{"$f":"AH14*'Product Info'!BU15","v":0},{"$f":"AH14*'Product Info'!BX15","v":0}]
[{"$f":"'Product Info'!A16","v":0},{"$f":"'Product Info'!B16","v":0},{"$f":"'Product Info'!C16","v":0},null,null,null,null,null,null,null,null,null,null,null,null,null,null,null,null,null,null,null,null,null,null,null,null,null,null,null,null,null,null,0,{"$f":"'Product Info'!F16*('Daily Info (September)'!AH15)","v":0},null,null,{"$f":"AH15*('Product Info'!H16)","v":0},{"$f":"AH15*('Product Info'!M16+'Product Info'!P16+'Product Info'!S16+'Product Info'!V16+'Product Info'!Y16+'Product Info'!AB16+'Product Info'!AE16+'Product Info'!AH16+'Product Info'!AK16+'Product Info'!AN16+'Product Info'!AQ16+'Product Info'!AT16+'Product Info'!AW16+'Product Info'!AZ16+'Product Info'!BC16+'Product Info'!BF16+'Product Info'!BI16+'Product Info'!BL16+'Product Info'!BO16+'Product Info'!BR16+'Product Info'!BU16+'Product Info'!BX16+'Product Info'!CA16+'Product Info'!CD16+'Product Info'!CG16+'Product Info'!CJ16+'Product Info'!CM16+'Product Info'!CP16+'Product Info'!CS16+'Product Info'!CV16+'Product Info'!CY16+'Product Info'!DB16+'Product Info'!DE16+'Product Info'!DH16+'Product Info'!DK16+'Product Info'!DN16+'Product Info'!DQ16+'Product Info'!DT16+'Product Info'!DW16+'Product Info'!DZ16+'Product Info'!EC16+'Product Info'!EF16+'Product Info'!EI16+'Product Info'!EL16+'Product Info'!EO16+'Product Info'!ER16+'Product Info'!EU16+'Product Info'!EX16+'Product Info'!FA16+'Product Info'!FD16)","v":0},{"$f":"AH15*('Product Info'!M16)","v":0},{"$f":"AH15*'Product Info'!P16","v":0},{"$f":"AH15*'Product Info'!S16","v":0},{"$f":"AH15*'Product Info'!V16","v":0},{"$f":"AH15*'Product Info'!Y16","v":0},{"$f":"AH15*'Product Info'!AB16","v":0},{"$f":"AH15*'Product Info'!AE16","v":0},{"$f":"AH15*'Product Info'!AH16","v":0},{"$f":"AH15*'Product Info'!AK16","v":0},{"$f":"AH15*'Product Info'!AN16","v":0},{"$f":"AH15*'Product Info'!AQ16","v":0},{"$f":"AH15*'Product Info'!AT16","v":0},{"$f":"AH15*'Product Info'!AW16","v":0},{"$f":"AH15*'Product Info'!AZ16","v":0},{"$f":"AH15*'Product Info'!BC16","v":0},{"$f":"AH15*'Product Info'!BF16","v":0},{"$f":"AH15*'Product Info'!BI16","v":0},{"$f":"AH15*'Product Info'!BL16","v":0},{"$f":"AH15*'Product Info'!BO16","v":0},{"$f":"AH15*'Product Info'!BR16","v":0},{"$f":"AH15*'Product Info'!BU16","v":0},{"$f":"AH15*'Product Info'!BX16","v":0}]
[{"$f":"'Product Info'!A17","v":0},{"$f":"'Product Info'!B17","v":0},{"$f":"'Product Info'!C17","v":0},null,null,null,null,null,null,null,null,null,null,null,null,null,null,null,null,null,null,null,null,null,null,null,null,null,null,null,null,null,null,0,{"$f":"'Product Info'!F17*('Daily Info (September)'!AH16)","v":0},null,null,{"$f":"AH16*('Product Info'!H17)","v":0},{"$f":"AH16*('Product Info'!M17+'Product Info'!P17+'Product Info'!S17+'Product Info'!V17+'Product Info'!Y17+'Product Info'!AB17+'Product Info'!AE17+'Product Info'!AH17+'Product Info'!AK17+'Product Info'!AN17+'Product Info'!AQ17+'Product Info'!AT17+'Product Info'!AW17+'Product Info'!AZ17+'Product Info'!BC17+'Product Info'!BF17+'Product Info'!BI17+'Product Info'!BL17+'Product Info'!BO17+'Product Info'!BR17+'Product Info'!BU17+'Product Info'!BX17+'Product Info'!CA17+'Product Info'!CD17+'Product Info'!CG17+'Product Info'!CJ17+'Product Info'!CM17+'Product Info'!CP17+'Product Info'!CS17+'Product Info'!CV17+'Product Info'!CY17+'Product Info'!DB17+'Product Info'!DE17+'Product Info'!DH17+'Product Info'!DK17+'Product Info'!DN17+'Product Info'!DQ17+'Product Info'!DT17+'Product Info'!DW17+'Product Info'!DZ17+'Product Info'!EC17+'Product Info'!EF17+'Product Info'!EI17+'Product Info'!EL17+'Product Info'!EO17+'Product Info'!ER17+'Product Info'!EU17+'Product Info'!EX17+'Product Info'!FA17+'Product Info'!FD17)","v":0},{"$f":"AH16*('Product Info'!M17)","v":0},{"$f":"AH16*'Product Info'!P17","v":0},{"$f":"AH16*'Product Info'!S17","v":0},{"$f":"AH16*'Product Info'!V17","v":0},{"$f":"AH16*'Product Info'!Y17","v":0},{"$f":"AH16*'Product Info'!AB17","v":0},{"$f":"AH16*'Product Info'!AE17","v":0},{"$f":"AH16*'Product Info'!AH17","v":0},{"$f":"AH16*'Product Info'!AK17","v":0},{"$f":"AH16*'Product Info'!AN17","v":0},{"$f":"AH16*'Product Info'!AQ17","v":0},{"$f":"AH16*'Product Info'!AT17","v":0},{"$f":"AH16*'Product Info'!AW17","v":0},{"$f":"AH16*'Product Info'!AZ17","v":0},{"$f":"AH16*'Product Info'!BC17","v":0},{"$f":"AH16*'Product Info'!BF17","v":0},{"$f":"AH16*'Product Info'!BI17","v":0},{"$f":"AH16*'Product Info'!BL17","v":0},{"$f":"AH16*'Product Info'!BO17","v":0},{"$f":"AH16*'Product Info'!BR17","v":0},{"$f":"AH16*'Product Info'!BU17","v":0},{"$f":"AH16*'Product Info'!BX17","v":0}]
[{"$f":"'Product Info'!A18","v":0},{"$f":"'Product Info'!B18","v":0},{"$f":"'Product Info'!C18","v":0},null,null,null,null,null,null,null,null,null,null,null,null,null,null,null,null,null,null,null,null,null,null,null,null,null,null,null,null,null,null,0,{"$f":"'Product Info'!F18*('Daily Info (September)'!AH17)","v":0},null,null,{"$f":"AH17*('Product Info'!H18)","v":0},{"$f":"AH17*('Product Info'!M18+'Product Info'!P18+'Product Info'!S18+'Product Info'!V18+'Product Info'!Y18+'Product Info'!AB18+'Product Info'!AE18+'Product Info'!AH18+'Product Info'!AK18+'Product Info'!AN18+'Product Info'!AQ18+'Product Info'!AT18+'Product Info'!AW18+'Product Info'!AZ18+'Product Info'!BC18+'Product Info'!BF18+'Product Info'!BI18+'Product Info'!BL18+'Product Info'!BO18+'Product Info'!BR18+'Product Info'!BU18+'Product Info'!BX18+'Product Info'!CA18+'Product Info'!CD18+'Product Info'!CG18+'Product Info'!CJ18+'Product Info'!CM18+'Product Info'!CP18+'Product Info'!CS18+'Product Info'!CV18+'Product Info'!CY18+'Product Info'!DB18+'Product Info'!DE18+'Product Info'!DH18+'Product Info'!DK18+'Product Info'!DN18+'Product Info'!DQ18+'Product Info'!DT18+'Product Info'!DW18+'Product Info'!DZ18+'Product Info'!EC18+'Product Info'!EF18+'Product Info'!EI18+'Product Info'!EL18+'Product Info'!EO18+'Product Info'!ER18+'Product Info'!EU18+'Product Info'!EX18+'Product Info'!FA18+'Product Info'!FD18)","v":0},{"$f":"AH17*('Product Info'!M18)","v":0},{"$f":"AH17*'Product Info'!P18","v":0},{"$f":"AH17*'Product Info'!S18","v":0},{"$f":"AH17*'Product Info'!V18","v":0},{"$f":"AH17*'Product Info'!Y18","v":0},{"$f":"AH17*'Product Info'!AB18","v":0},{"$f":"AH17*'Product Info'!AE18","v":0},{"$f":"AH17*'Product Info'!AH18","v":0},{"$f":"AH17*'Product Info'!AK18","v":0},{"$f":"AH17*'Product Info'!AN18","v":0},{"$f":"AH17*'Product Info'!AQ18","v":0},{"$f":"AH17*'Product Info'!AT18","v":0},{"$f":"AH17*'Product Info'!AW18","v":0},{"$f":"AH17*'Product Info'!AZ18","v":0},{"$f":"AH17*'Product Info'!BC18","v":0},{"$f":"AH17*'Product Info'!BF18","v":0},{"$f":"AH17*'Product Info'!BI18","v":0},{"$f":"AH17*'Product Info'!BL18","v":0},{"$f":"AH17*'Product Info'!BO18","v":0},{"$f":"AH17*'Product Info'!BR18","v":0},{"$f":"AH17*'Product Info'!BU18","v":0},{"$f":"AH17*'Product Info'!BX18","v":0}]
[{"$f":"'Product Info'!A19","v":0},{"$f":"'Product Info'!B19","v":0},{"$f":"'Product Info'!C19","v":0},null,null,null,null,null,null,null,null,null,null,null,null,null,null,null,null,null,null,null,null,null,null,null,null,null,null,null,null,null,null,0,{"$f":"'Product Info'!F19*('Daily Info (September)'!AH18)","v":0},null,null,{"$f":"AH18*('Product Info'!H19)","v":0},{"$f":"AH18*('Product Info'!M19+'Product Info'!P19+'Product Info'!S19+'Product Info'!V19+'Product Info'!Y19+'Product Info'!AB19+'Product Info'!AE19+'Product Info'!AH19+'Product Info'!AK19+'Product Info'!AN19+'Product Info'!AQ19+'Product Info'!AT19+'Product Info'!AW19+'Product Info'!AZ19+'Product Info'!BC19+'Product Info'!BF19+'Product Info'!BI19+'Product Info'!BL19+'Product Info'!BO19+'Product Info'!BR19+'Product Info'!BU19+'Product Info'!BX19+'Product Info'!CA19+'Product Info'!CD19+'Product Info'!CG19+'Product Info'!CJ19+'Product Info'!CM19+'Product Info'!CP19+'Product Info'!CS19+'Product Info'!CV19+'Product Info'!CY19+'Product Info'!DB19+'Product Info'!DE19+'Product Info'!DH19+'Product Info'!DK19+'Product Info'!DN19+'Product Info'!DQ19+'Product Info'!DT19+'Product Info'!DW19+'Product Info'!DZ19+'Product Info'!EC19+'Product Info'!EF19+'Product Info'!EI19+'Product Info'!EL19+'Product Info'!EO19+'Product Info'!ER19+'Product Info'!EU19+'Product Info'!EX19+'Product Info'!FA19+'Product Info'!FD19)","v":0},{"$f":"AH18*('Product Info'!M19)","v":0},{"$f":"AH18*'Product Info'!P19","v":0},{"$f":"AH18*'Product Info'!S19","v":0},{"$f":"AH18*'Product Info'!V19","v":0},{"$f":"AH18*'Product Info'!Y19","v":0},{"$f":"AH18*'Product Info'!AB19","v":0},{"$f":"AH18*'Product Info'!AE19","v":0},{"$f":"AH18*'Product Info'!AH19","v":0},{"$f":"AH18*'Product Info'!AK19","v":0},{"$f":"AH18*'Product Info'!AN19","v":0},{"$f":"AH18*'Product Info'!AQ19","v":0},{"$f":"AQ18*'Product Info'!AF19","v":0},{"$f":"AH18*'Product Info'!AW19","v":0},{"$f":"AH18*'Product Info'!AZ19","v":0},{"$f":"AH18*'Product Info'!BC19","v":0},{"$f":"AH18*'Product Info'!BF19","v":0},{"$f":"AH18*'Product Info'!BI19","v":0},{"$f":"AH18*'Product Info'!BL19","v":0},{"$f":"AH18*'Product Info'!BO19","v":0},{"$f":"AH18*'Product Info'!BR19","v":0},{"$f":"AH18*'Product Info'!BU19","v":0},{"$f":"AH18*'Product Info'!BX19","v":0}]
[{"$f":"'Product Info'!A20","v":0},{"$f":"'Product Info'!B20","v":0},{"$f":"'Product Info'!C20","v":0},null,null,null,null,null,null,null,null,null,null,null,null,null,null,null,null,null,null,null,null,null,null,null,null,null,null,null,null,null,null,0,{"$f":"'Product Info'!F20*('Daily Info (September)'!AH19)","v":0},null,null,{"$f":"AH19*('Product Info'!H20)","v":0},{"$f":"AH19*('Product Info'!M20+'Product Info'!P20+'Product Info'!S20+'Product Info'!V20+'Product Info'!Y20+'Product Info'!AB20+'Product Info'!AE20+'Product Info'!AH20+'Product Info'!AK20+'Product Info'!AN20+'Product Info'!AQ20+'Product Info'!AT20+'Product Info'!AW20+'Product Info'!AZ20+'Product Info'!BC20+'Product Info'!BF20+'Product Info'!BI20+'Product Info'!BL20+'Product Info'!BO20+'Product Info'!BR20+'Product Info'!BU20+'Product Info'!BX20+'Product Info'!CA20+'Product Info'!CD20+'Product Info'!CG20+'Product Info'!CJ20+'Product Info'!CM20+'Product Info'!CP20+'Product Info'!CS20+'Product Info'!CV20+'Product Info'!CY20+'Product Info'!DB20+'Product Info'!DE20+'Product Info'!DH20+'Product Info'!DK20+'Product Info'!DN20+'Product Info'!DQ20+'Product Info'!DT20+'Product Info'!DW20+'Product Info'!DZ20+'Product Info'!EC20+'Product Info'!EF20+'Product Info'!EI20+'Product Info'!EL20+'Product Info'!EO20+'Product Info'!ER20+'Product Info'!EU20+'Product Info'!EX20+'Product Info'!FA20+'Product Info'!FD20)","v":0},{"$f":"AH19*('Product Info'!M20)","v":0},{"$f":"AH19*'Product Info'!P20","v":0},{"$f":"AH19*'Product Info'!S20","v":0},{"$f":"AH19*'Product Info'!V20","v":0},{"$f":"AH19*'Product Info'!Y20","v":0},{"$f":"AH19*'Product Info'!AB20","v":0},{"$f":"AH19*'Product Info'!AE20","v":0},{"$f":"AH19*'Product Info'!AH20","v":0},{"$f":"AH19*'Product Info'!AK20","v":0},{"$f":"AH19*'Product Info'!AN20","v":0},{"$f":"AH19*'Product Info'!AQ20","v":0},{"$f":"AQ19*'Product Info'!AF20","v":0},{"$f":"AH19*'Product Info'!AW20","v":0},{"$f":"AH19*'Product Info'!AZ20","v":0},{"$f":"AH19*'Product Info'!BC20","v":0},{"$f":"AH19*'Product Info'!BF20","v":0},{"$f":"AH19*'Product Info'!BI20","v":0},{"$f":"AH19*'Product Info'!BL20","v":0},{"$f":"AH19*'Product Info'!BO20","v":0},{"$f":"AH19*'Product Info'!BR20","v":0},{"$f":"AH19*'Product Info'!BU20","v":0},{"$f":"AH19*'Product Info'!BX20","v":0}]
[{"$f":"'Product Info'!A21","v":0},{"$f":"'Product Info'!B21","v":0},{"$f":"'Product Info'!C21","v":0},null,null,null,null,null,null,null,null,null,null,null,null,null,null,null,null,null,null,null,null,null,null,null,null,null,null,null,null,null,null,0,{"$f":"'Product Info'!F21*('Daily Info (September)'!AH20)","v":0},null,null,{"$f":"AH20*('Product Info'!H21)","v":0},{"$f":"AH20*('Product Info'!M21+'Product Info'!P21+'Product Info'!S21+'Product Info'!V21+'Product Info'!Y21+'Product Info'!AB21+'Product Info'!AE21+'Product Info'!AH21+'Product Info'!AK21+'Product Info'!AN21+'Product Info'!AQ21+'Product Info'!AT21+'Product Info'!AW21+'Product Info'!AZ21+'Product Info'!BC21+'Product Info'!BF21+'Product Info'!BI21+'Product Info'!BL21+'Product Info'!BO21+'Product Info'!BR21+'Product Info'!BU21+'Product Info'!BX21+'Product Info'!CA21+'Product Info'!CD21+'Product Info'!CG21+'Product Info'!CJ21+'Product Info'!CM21+'Product Info'!CP21+'Product Info'!CS21+'Product Info'!CV21+'Product Info'!CY21+'Product Info'!DB21+'Product Info'!DE21+'Product Info'!DH21+'Product Info'!DK21+'Product Info'!DN21+'Product Info'!DQ21+'Product Info'!DT21+'Product Info'!DW21+'Product Info'!DZ21+'Product Info'!EC21+'Product Info'!EF21+'Product Info'!EI21+'Product Info'!EL21+'Product Info'!EO21+'Product Info'!ER21+'Product Info'!EU21+'Product Info'!EX21+'Product Info'!FA21+'Product Info'!FD21)","v":0},{"$f":"AH20*('Product Info'!M21)","v":0},{"$f":"AH20*'Product Info'!P21","v":0},{"$f":"AH20*'Product Info'!S21","v":0},{"$f":"AH20*'Product Info'!V21","v":0},{"$f":"AH20*'Product Info'!Y21","v":0},{"$f":"AH20*'Product Info'!AB21","v":0},{"$f":"AH20*'Product Info'!AE21","v":0},{"$f":"AH20*'Product Info'!AH21","v":0},{"$f":"AH20*'Product Info'!AK21","v":0},{"$f":"AH20*'Product Info'!AN21","v":0},{"$f":"AH20*'Product Info'!AQ21","v":0},{"$f":"AH20*'Product Info'!AT21","v":0},{"$f":"AH20*'Product Info'!AW21","v":0},{"$f":"AH20*'Product Info'!AZ21","v":0},{"$f":"AH20*'Product Info'!BC21","v":0},{"$f":"AH20*'Product Info'!BF21","v":0},{"$f":"AH20*'Product Info'!BI21","v":0},{"$f":"AH20*'Product Info'!BL21","v":0},{"$f":"AH20*'Product Info'!BO21","v":0},{"$f":"AH20*'Product Info'!BR21","v":0},{"$f":"AH20*'Product Info'!BU21","v":0},{"$f":"AH20*'Product Info'!BX21","v":0}]
[{"$f":"'Product Info'!A22","v":0},{"$f":"'Product Info'!B22","v":0},{"$f":"'Product Info'!C22","v":0},null,null,null,null,null,null,null,null,null,null,null,null,null,null,null,null,null,null,null,null,null,null,null,null,null,null,null,null,null,null,0,{"$f":"'Product Info'!F22*('Daily Info (September)'!AH21)","v":0},null,null,{"$f":"AH21*('Product Info'!H22)","v":0},{"$f":"AH21*('Product Info'!M22+'Product Info'!P22+'Product Info'!S22+'Product Info'!V22+'Product Info'!Y22+'Product Info'!AB22+'Product Info'!AE22+'Product Info'!AH22+'Product Info'!AK22+'Product Info'!AN22+'Product Info'!AQ22+'Product Info'!AT22+'Product Info'!AW22+'Product Info'!AZ22+'Product Info'!BC22+'Product Info'!BF22+'Product Info'!BI22+'Product Info'!BL22+'Product Info'!BO22+'Product Info'!BR22+'Product Info'!BU22+'Product Info'!BX22+'Product Info'!CA22+'Product Info'!CD22+'Product Info'!CG22+'Product Info'!CJ22+'Product Info'!CM22+'Product Info'!CP22+'Product Info'!CS22+'Product Info'!CV22+'Product Info'!CY22+'Product Info'!DB22+'Product Info'!DE22+'Product Info'!DH22+'Product Info'!DK22+'Product Info'!DN22+'Product Info'!DQ22+'Product Info'!DT22+'Product Info'!DW22+'Product Info'!DZ22+'Product Info'!EC22+'Product Info'!EF22+'Product Info'!EI22+'Product Info'!EL22+'Product Info'!EO22+'Product Info'!ER22+'Product Info'!EU22+'Product Info'!EX22+'Product Info'!FA22+'Product Info'!FD22)","v":0},{"$f":"AH21*('Product Info'!M22)","v":0},{"$f":"AH21*'Product Info'!P22","v":0},{"$f":"AH21*'Product Info'!S22","v":0},{"$f":"AH21*'Product Info'!V22","v":0},{"$f":"AH21*'Product Info'!Y22","v":0},{"$f":"AH21*'Product Info'!AB22","v":0},{"$f":"AH21*'Product Info'!AE22","v":0},{"$f":"AH21*'Product Info'!AH22","v":0},{"$f":"AH21*'Product Info'!AK22","v":0},{"$f":"AH21*'Product Info'!AN22","v":0},{"$f":"AH21*'Product Info'!AQ22","v":0},{"$f":"AH21*'Product Info'!AT22","v":0},{"$f":"AH21*'Product Info'!AW22","v":0},{"$f":"AH21*'Product Info'!AZ22","v":0},{"$f":"AH21*'Product Info'!BC22","v":0},{"$f":"AH21*'Product Info'!BF22","v":0},{"$f":"AH21*'Product Info'!BI22","v":0},{"$f":"AH21*'Product Info'!BL22","v":0},{"$f":"AH21*'Product Info'!BO22","v":0},{"$f":"AH21*'Product Info'!BR22","v":0},{"$f":"AH21*'Product Info'!BU22","v":0},{"$f":"AH21*'Product Info'!BX22","v":0}]
[{"$f":"'Product Info'!A23","v":0},{"$f":"'Product Info'!B23","v":0},{"$f":"'Product Info'!C23","v":0},null,null,null,null,null,null,null,null,null,null,null,null,null,null,null,null,null,null,null,null,null,null,null,null,null,null,null,null,null,null,0,{"$f":"'Product Info'!F23*('Daily Info (September)'!AH22)","v":0},null,null,{"$f":"AH22*('Product Info'!H23)","v":0},{"$f":"AH22*('Product Info'!M23+'Product Info'!P23+'Product Info'!S23+'Product Info'!V23+'Product Info'!Y23+'Product Info'!AB23+'Product Info'!AE23+'Product Info'!AH23+'Product Info'!AK23+'Product Info'!AN23+'Product Info'!AQ23+'Product Info'!AT23+'Product Info'!AW23+'Product Info'!AZ23+'Product Info'!BC23+'Product Info'!BF23+'Product Info'!BI23+'Product Info'!BL23+'Product Info'!BO23+'Product Info'!BR23+'Product Info'!BU23+'Product Info'!BX23+'Product Info'!CA23+'Product Info'!CD23+'Product Info'!CG23+'Product Info'!CJ23+'Product Info'!CM23+'Product Info'!CP23+'Product Info'!CS23+'Product Info'!CV23+'Product Info'!CY23+'Product Info'!DB23+'Product Info'!DE23+'Product Info'!DH23+'Product Info'!DK23+'Product Info'!DN23+'Product Info'!DQ23+'Product Info'!DT23+'Product Info'!DW23+'Product Info'!DZ23+'Product Info'!EC23+'Product Info'!EF23+'Product Info'!EI23+'Product Info'!EL23+'Product Info'!EO23+'Product Info'!ER23+'Product Info'!EU23+'Product Info'!EX23+'Product Info'!FA23+'Product Info'!FD23)","v":0},{"$f":"AH22*('Product Info'!M23)","v":0},{"$f":"AH22*'Product Info'!P23","v":0},{"$f":"AH22*'Product Info'!S23","v":0},{"$f":"AH22*'Product Info'!V23","v":0},{"$f":"AH22*'Product Info'!Y23","v":0},{"$f":"AH22*'Product Info'!AB23","v":0},{"$f":"AH22*'Product Info'!AE23","v":0},{"$f":"AH22*'Product Info'!AH23","v":0},{"$f":"AH22*'Product Info'!AK23","v":0},{"$f":"AH22*'Product Info'!AN23","v":0},{"$f":"AH22*'Product Info'!AQ23","v":0},{"$f":"AH22*'Product Info'!AT23","v":0},{"$f":"AH22*'Product Info'!AW23","v":0},{"$f":"AH22*'Product Info'!AZ23","v":0},{"$f":"AH22*'Product Info'!BC23","v":0},{"$f":"AH22*'Product Info'!BF23","v":0},{"$f":"AH22*'Product Info'!BI23","v":0},{"$f":"AH22*'Product Info'!BL23","v":0},{"$f":"AH22*'Product Info'!BO23","v":0},{"$f":"AH22*'Product Info'!BR23","v":0},{"$f":"AH22*'Product Info'!BU23","v":0},{"$f":"AH22*'Product Info'!BX23","v":0}]
[{"$f":"'Product Info'!A24","v":0},{"$f":"'Product Info'!B24","v":0},{"$f":"'Product Info'!C24","v":0},null,null,null,null,null,null,null,null,null,null,null,null,null,null,null,null,null,null,null,null,null,null,null,null,null,null,null,null,null,null,0,{"$f":"'Product Info'!F24*('Daily Info (September)'!AH23)","v":0},null,null,{"$f":"AH23*('Product Info'!H24)","v":0},{"$f":"AH23*('Product Info'!M24+'Product Info'!P24+'Product Info'!S24+'Product Info'!V24+'Product Info'!Y24+'Product Info'!AB24+'Product Info'!AE24+'Product Info'!AH24+'Product Info'!AK24+'Product Info'!AN24+'Product Info'!AQ24+'Product Info'!AT24+'Product Info'!AW24+'Product Info'!AZ24+'Product Info'!BC24+'Product Info'!BF24+'Product Info'!BI24+'Product Info'!BL24+'Product Info'!BO24+'Product Info'!BR24+'Product Info'!BU24+'Product Info'!BX24+'Product Info'!CA24+'Product Info'!CD24+'Product Info'!CG24+'Product Info'!CJ24+'Product Info'!CM24+'Product Info'!CP24+'Product Info'!CS24+'Product Info'!CV24+'Product Info'!CY24+'Product Info'!DB24+'Product Info'!DE24+'Product Info'!DH24+'Product Info'!DK24+'Product Info'!DN24+'Product Info'!DQ24+'Product Info'!DT24+'Product Info'!DW24+'Product Info'!DZ24+'Product Info'!EC24+'Product Info'!EF24+'Product Info'!EI24+'Product Info'!EL24+'Product Info'!EO24+'Product Info'!ER24+'Product Info'!EU24+'Product Info'!EX24+'Product Info'!FA24+'Product Info'!FD24)","v":0},{"$f":"AH23*('Product Info'!M24)","v":0},{"$f":"AH23*'Product Info'!P24","v":0},{"$f":"AH23*'Product Info'!S24","v":0},{"$f":"AH23*'Product Info'!V24","v":0},{"$f":"AH23*'Product Info'!Y24","v":0},{"$f":"AH23*'Product Info'!AB24","v":0},{"$f":"AH23*'Product Info'!AE24","v":0},{"$f":"AH23*'Product Info'!AH24","v":0},{"$f":"AH23*'Product Info'!AK24","v":0},{"$f":"AH23*'Product Info'!AN24","v":0},{"$f":"AH23*'Product Info'!AQ24","v":0},{"$f":"AH23*'Product Info'!AT24","v":0},{"$f":"AH23*'Product Info'!AW24","v":0},{"$f":"AH23*'Product Info'!AZ24","v":0},{"$f":"AH23*'Product Info'!BC24","v":0},{"$f":"AH23*'Product Info'!BF24","v":0},{"$f":"AH23*'Product Info'!BI24","v":0},{"$f":"AH23*'Product Info'!BL24","v":0},{"$f":"AH23*'Product Info'!BO24","v":0},{"$f":"AH23*'Product Info'!BR24","v":0},{"$f":"AH23*'Product Info'!BU24","v":0},{"$f":"AH23*'Product Info'!BX24","v":0}]
[{"$f":"'Product Info'!A25","v":0},{"$f":"'Product Info'!B25","v":0},{"$f":"'Product Info'!C25","v":0},null,null,null,null,null,null,null,null,null,null,null,null,null,null,null,null,null,null,null,null,null,null,null,null,null,null,null,null,null,null,0,{"$f":"'Product Info'!F25*('Daily Info (September)'!AH24)","v":0},null,null,{"$f":"AH24*('Product Info'!H25)","v":0},{"$f":"AH24*('Product Info'!M25+'Product Info'!P25+'Product Info'!S25+'Product Info'!V25+'Product Info'!Y25+'Product Info'!AB25+'Product Info'!AE25+'Product Info'!AH25+'Product Info'!AK25+'Product Info'!AN25+'Product Info'!AQ25+'Product Info'!AT25+'Product Info'!AW25+'Product Info'!AZ25+'Product Info'!BC25+'Product Info'!BF25+'Product Info'!BI25+'Product Info'!BL25+'Product Info'!BO25+'Product Info'!BR25+'Product Info'!BU25+'Product Info'!BX25+'Product Info'!CA25+'Product Info'!CD25+'Product Info'!CG25+'Product Info'!CJ25+'Product Info'!CM25+'Product Info'!CP25+'Product Info'!CS25+'Product Info'!CV25+'Product Info'!CY25+'Product Info'!DB25+'Product Info'!DE25+'Product Info'!DH25+'Product Info'!DK25+'Product Info'!DN25+'Product Info'!DQ25+'Product Info'!DT25+'Product Info'!DW25+'Product Info'!DZ25+'Product Info'!EC25+'Product Info'!EF25+'Product Info'!EI25+'Product Info'!EL25+'Product Info'!EO25+'Product Info'!ER25+'Product Info'!EU25+'Product Info'!EX25+'Product Info'!FA25+'Product Info'!FD25)","v":0},{"$f":"AH24*('Product Info'!M25)","v":0},{"$f":"AH24*'Product Info'!P25","v":0},{"$f":"AH24*'Product Info'!S25","v":0},{"$f":"AH24*'Product Info'!V25","v":0},{"$f":"AH24*'Product Info'!Y25","v":0},{"$f":"AH24*'Product Info'!AB25","v":0},{"$f":"AH24*'Product Info'!AE25","v":0},{"$f":"AH24*'Product Info'!AH25","v":0},{"$f":"AH24*'Product Info'!AK25","v":0},{"$f":"AH24*'Product Info'!AN25","v":0},{"$f":"AH24*'Product Info'!AQ25","v":0},{"$f":"AH24*'Product Info'!AT25","v":0},{"$f":"AH24*'Product Info'!AW25","v":0},{"$f":"AH24*'Product Info'!AZ25","v":0},{"$f":"AH24*'Product Info'!BC25","v":0},{"$f":"AH24*'Product Info'!BF25","v":0},{"$f":"AH24*'Product Info'!BI25","v":0},{"$f":"AH24*'Product Info'!BL25","v":0},{"$f":"AH24*'Product Info'!BO25","v":0},{"$f":"AH24*'Product Info'!BR25","v":0},{"$f":"AH24*'Product Info'!BU25","v":0},{"$f":"AH24*'Product Info'!BX25","v":0}]
[{"$f":"'Product Info'!A26","v":0},{"$f":"'Product Info'!B26","v":0},{"$f":"'Product Info'!C26","v":0},null,null,null,null,null,null,null,null,null,null,null,null,null,null,null,null,null,null,null,null,null,null,null,null,null,null,null,null,null,null,0,{"$f":"'Product Info'!F26*('Daily Info (September)'!AH25)","v":0},null,null,{"$f":"AH25*('Product Info'!H26)","v":0},{"$f":"AH25*('Product Info'!M26+'Product Info'!P26+'Product Info'!S26+'Product Info'!V26+'Product Info'!Y26+'Product Info'!AB26+'Product Info'!AE26+'Product Info'!AH26+'Product Info'!AK26+'Product Info'!AN26+'Product Info'!AQ26+'Product Info'!AT26+'Product Info'!AW26+'Product Info'!AZ26+'Product Info'!BC26+'Product Info'!BF26+'Product Info'!BI26+'Product Info'!BL26+'Product Info'!BO26+'Product Info'!BR26+'Product Info'!BU26+'Product Info'!BX26+'Product Info'!CA26+'Product Info'!CD26+'Product Info'!CG26+'Product Info'!CJ26+'Product Info'!CM26+'Product Info'!CP26+'Product Info'!CS26+'Product Info'!CV26+'Product Info'!CY26+'Product Info'!DB26+'Product Info'!DE26+'Product Info'!DH26+'Product Info'!DK26+'Product Info'!DN26+'Product Info'!DQ26+'Product Info'!DT26+'Product Info'!DW26+'Product Info'!DZ26+'Product Info'!EC26+'Product Info'!EF26+'Product Info'!EI26+'Product Info'!EL26+'Product Info'!EO26+'Product Info'!ER26+'Product Info'!EU26+'Product Info'!EX26+'Product Info'!FA26+'Product Info'!FD26)","v":0},{"$f":"AH25*('Product Info'!M26)","v":0},{"$f":"AH25*'Product Info'!P26","v":0},{"$f":"AH25*'Product Info'!S26","v":0},{"$f":"AH25*'Product Info'!V26","v":0},{"$f":"AH25*'Product Info'!Y26","v":0},{"$f":"AH25*'Product Info'!AB26","v":0},{"$f":"AH25*'Product Info'!AE26","v":0},{"$f":"AH25*'Product Info'!AH26","v":0},{"$f":"AH25*'Product Info'!AK26","v":0},{"$f":"AH25*'Product Info'!AN26","v":0},{"$f":"AH25*'Product Info'!AQ26","v":0},{"$f":"AH25*'Product Info'!AT26","v":0},{"$f":"AH25*'Product Info'!AW26","v":0},{"$f":"AH25*'Product Info'!AZ26","v":0},{"$f":"AH25*'Product Info'!BC26","v":0},{"$f":"AH25*'Product Info'!BF26","v":0},{"$f":"AH25*'Product Info'!BI26","v":0},{"$f":"AH25*'Product Info'!BL26","v":0},{"$f":"AH25*'Product Info'!BO26","v":0},{"$f":"AH25*'Product Info'!BR26","v":0},{"$f":"AH25*'Product Info'!BU26","v":0},{"$f":"AH25*'Product Info'!BX26","v":0}]
[{"$f":"'Product Info'!A27","v":0},{"$f":"'Product Info'!B27","v":0},{"$f":"'Product Info'!C27","v":0},null,null,null,null,null,null,null,null,null,null,null,null,null,null,null,null,null,null,null,null,null,null,null,null,null,null,null,null,null,null,0,{"$f":"'Product Info'!F27*('Daily Info (September)'!AH26)","v":0},null,null,{"$f":"AH26*('Product Info'!H27)","v":0},{"$f":"AH26*('Product Info'!M27+'Product Info'!P27+'Product Info'!S27+'Product Info'!V27+'Product Info'!Y27+'Product Info'!AB27+'Product Info'!AE27+'Product Info'!AH27+'Product Info'!AK27+'Product Info'!AN27+'Product Info'!AQ27+'Product Info'!AT27+'Product Info'!AW27+'Product Info'!AZ27+'Product Info'!BC27+'Product Info'!BF27+'Product Info'!BI27+'Product Info'!BL27+'Product Info'!BO27+'Product Info'!BR27+'Product Info'!BU27+'Product Info'!BX27+'Product Info'!CA27+'Product Info'!CD27+'Product Info'!CG27+'Product Info'!CJ27+'Product Info'!CM27+'Product Info'!CP27+'Product Info'!CS27+'Product Info'!CV27+'Product Info'!CY27+'Product Info'!DB27+'Product Info'!DE27+'Product Info'!DH27+'Product Info'!DK27+'Product Info'!DN27+'Product Info'!DQ27+'Product Info'!DT27+'Product Info'!DW27+'Product Info'!DZ27+'Product Info'!EC27+'Product Info'!EF27+'Product Info'!EI27+'Product Info'!EL27+'Product Info'!EO27+'Product Info'!ER27+'Product Info'!EU27+'Product Info'!EX27+'Product Info'!FA27+'Product Info'!FD27)","v":0},{"$f":"AH26*('Product Info'!M27)","v":0},{"$f":"AH26*'Product Info'!P27","v":0},{"$f":"AH26*'Product Info'!S27","v":0},{"$f":"AH26*'Product Info'!V27","v":0},{"$f":"AH26*'Product Info'!Y27","v":0},{"$f":"AH26*'Product Info'!AB27","v":0},{"$f":"AH26*'Product Info'!AE27","v":0},{"$f":"AH26*'Product Info'!AH27","v":0},{"$f":"AH26*'Product Info'!AK27","v":0},{"$f":"AH26*'Product Info'!AN27","v":0},{"$f":"AH26*'Product Info'!AQ27","v":0},{"$f":"AH26*'Product Info'!AT27","v":0},{"$f":"AH26*'Product Info'!AW27","v":0},{"$f":"AH26*'Product Info'!AZ27","v":0},{"$f":"AH26*'Product Info'!BC27","v":0},{"$f":"AH26*'Product Info'!BF27","v":0},{"$f":"AH26*'Product Info'!BI27","v":0},{"$f":"AH26*'Product Info'!BL27","v":0},{"$f":"AH26*'Product Info'!BO27","v":0},{"$f":"AH26*'Product Info'!BR27","v":0},{"$f":"AH26*'Product Info'!BU27","v":0},{"$f":"AH26*'Product Info'!BX27","v":0}]
[{"$f":"'Product Info'!A28","v":0},{"$f":"'Product Info'!B28","v":0},{"$f":"'Product Info'!C28","v":0},null,null,null,null,null,null,null,null,null,null,null,null,null,null,null,null,null,null,null,null,null,null,null,null,null,null,null,null,null,null,0,{"$f":"'Product Info'!F28*('Daily Info (September)'!AH27)","v":0},null,null,{"$f":"AH27*('Product Info'!H28)","v":0},{"$f":"AH27*('Product Info'!M28+'Product Info'!P28+'Product Info'!S28+'Product Info'!V28+'Product Info'!Y28+'Product Info'!AB28+'Product Info'!AE28+'Product Info'!AH28+'Product Info'!AK28+'Product Info'!AN28+'Product Info'!AQ28+'Product Info'!AT28+'Product Info'!AW28+'Product Info'!AZ28+'Product Info'!BC28+'Product Info'!BF28+'Product Info'!BI28+'Product Info'!BL28+'Product Info'!BO28+'Product Info'!BR28+'Product Info'!BU28+'Product Info'!BX28+'Product Info'!CA28+'Product Info'!CD28+'Product Info'!CG28+'Product Info'!CJ28+'Product Info'!CM28+'Product Info'!CP28+'Product Info'!CS28+'Product Info'!CV28+'Product Info'!CY28+'Product Info'!DB28+'Product Info'!DE28+'Product Info'!DH28+'Product Info'!DK28+'Product Info'!DN28+'Product Info'!DQ28+'Product Info'!DT28+'Product Info'!DW28+'Product Info'!DZ28+'Product Info'!EC28+'Product Info'!EF28+'Product Info'!EI28+'Product Info'!EL28+'Product Info'!EO28+'Product Info'!ER28+'Product Info'!EU28+'Product Info'!EX28+'Product Info'!FA28+'Product Info'!FD28)","v":0},{"$f":"AH27*('Product Info'!M28)","v":0},{"$f":"AH27*'Product Info'!P28","v":0},{"$f":"AH27*'Product Info'!S28","v":0},{"$f":"AH27*'Product Info'!V28","v":0},{"$f":"AH27*'Product Info'!Y28","v":0},{"$f":"AH27*'Product Info'!AB28","v":0},{"$f":"AH27*'Product Info'!AE28","v":0},{"$f":"AH27*'Product Info'!AH28","v":0},{"$f":"AH27*'Product Info'!AK28","v":0},{"$f":"AH27*'Product Info'!AN28","v":0},{"$f":"AH27*'Product Info'!AQ28","v":0},{"$f":"AH27*'Product Info'!AT28","v":0},{"$f":"AH27*'Product Info'!AW28","v":0},{"$f":"AH27*'Product Info'!AZ28","v":0},{"$f":"AH27*'Product Info'!BC28","v":0},{"$f":"AH27*'Product Info'!BF28","v":0},{"$f":"AH27*'Product Info'!BI28","v":0},{"$f":"AH27*'Product Info'!BL28","v":0},{"$f":"AH27*'Product Info'!BO28","v":0},{"$f":"AH27*'Product Info'!BR28","v":0},{"$f":"AH27*'Product Info'!BU28","v":0},{"$f":"AH27*'Product Info'!BX28","v":0}]
[{"$f":"'Product Info'!A29","v":0},{"$f":"'Product Info'!B29","v":0},{"$f":"'Product Info'!C29","v":0},null,null,null,null,null,null,null,null,null,null,null,null,null,null,null,null,null,null,null,null,null,null,null,null,null,null,null,null,null,null,0,{"$f":"'Product Info'!F29*('Daily Info (September)'!AH28)","v":0},null,null,{"$f":"AH28*('Product Info'!H29)","v":0},{"$f":"AH28*('Product Info'!M29+'Product Info'!P29+'Product Info'!S29+'Product Info'!V29+'Product Info'!Y29+'Product Info'!AB29+'Product Info'!AE29+'Product Info'!AH29+'Product Info'!AK29+'Product Info'!AN29+'Product Info'!AQ29+'Product Info'!AT29+'Product Info'!AW29+'Product Info'!AZ29+'Product Info'!BC29+'Product Info'!BF29+'Product Info'!BI29+'Product Info'!BL29+'Product Info'!BO29+'Product Info'!BR29+'Product Info'!BU29+'Product Info'!BX29+'Product Info'!CA29+'Product Info'!CD29+'Product Info'!CG29+'Product Info'!CJ29+'Product Info'!CM29+'Product Info'!CP29+'Product Info'!CS29+'Product Info'!CV29+'Product Info'!CY29+'Product Info'!DB29+'Product Info'!DE29+'Product Info'!DH29+'Product Info'!DK29+'Product Info'!DN29+'Product Info'!DQ29+'Product Info'!DT29+'Product Info'!DW29+'Product Info'!DZ29+'Product Info'!EC29+'Product Info'!EF29+'Product Info'!EI29+'Product Info'!EL29+'Product Info'!EO29+'Product Info'!ER29+'Product Info'!EU29+'Product Info'!EX29+'Product Info'!FA29+'Product Info'!FD29)","v":0},{"$f":"AH28*('Product Info'!M29)","v":0},{"$f":"AH28*'Product Info'!P29","v":0},{"$f":"AH28*'Product Info'!S29","v":0},{"$f":"AH28*'Product Info'!V29","v":0},{"$f":"AH28*'Product Info'!Y29","v":0},{"$f":"AH28*'Product Info'!AB29","v":0},{"$f":"AH28*'Product Info'!AE29","v":0},{"$f":"AH28*'Product Info'!AH29","v":0},{"$f":"AH28*'Product Info'!AK29","v":0},{"$f":"AH28*'Product Info'!AN29","v":0},{"$f":"AH28*'Product Info'!AQ29","v":0},{"$f":"AH28*'Product Info'!AT29","v":0},{"$f":"AH28*'Product Info'!AW29","v":0},{"$f":"AH28*'Product Info'!AZ29","v":0},{"$f":"AH28*'Product Info'!BC29","v":0},{"$f":"AH28*'Product Info'!BF29","v":0},{"$f":"AH28*'Product Info'!BI29","v":0},{"$f":"AH28*'Product Info'!BL29","v":0},{"$f":"AH28*'Product Info'!BO29","v":0},{"$f":"AH28*'Product Info'!BR29","v":0},{"$f":"AH28*'Product Info'!BU29","v":0},{"$f":"AH28*'Product Info'!BX29","v":0}]
[{"$f":"'Product Info'!A30","v":0},{"$f":"'Product Info'!B30","v":0},{"$f":"'Product Info'!C30","v":0},null,null,null,null,null,null,null,null,null,null,null,null,null,null,null,null,null,null,null,null,null,null,null,null,null,null,null,null,null,null,0,{"$f":"'Product Info'!F30*('Daily Info (September)'!AH29)","v":0},null,null,{"$f":"AH29*('Product Info'!H30)","v":0},{"$f":"AH29*('Product Info'!M30+'Product Info'!P30+'Product Info'!S30+'Product Info'!V30+'Product Info'!Y30+'Product Info'!AB30+'Product Info'!AE30+'Product Info'!AH30+'Product Info'!AK30+'Product Info'!AN30+'Product Info'!AQ30+'Product Info'!AT30+'Product Info'!AW30+'Product Info'!AZ30+'Product Info'!BC30+'Product Info'!BF30+'Product Info'!BI30+'Product Info'!BL30+'Product Info'!BO30+'Product Info'!BR30+'Product Info'!BU30+'Product Info'!BX30+'Product Info'!CA30+'Product Info'!CD30+'Product Info'!CG30+'Product Info'!CJ30+'Product Info'!CM30+'Product Info'!CP30+'Product Info'!CS30+'Product Info'!CV30+'Product Info'!CY30+'Product Info'!DB30+'Product Info'!DE30+'Product Info'!DH30+'Product Info'!DK30+'Product Info'!DN30+'Product Info'!DQ30+'Product Info'!DT30+'Product Info'!DW30+'Product Info'!DZ30+'Product Info'!EC30+'Product Info'!EF30+'Product Info'!EI30+'Product Info'!EL30+'Product Info'!EO30+'Product Info'!ER30+'Product Info'!EU30+'Product Info'!EX30+'Product Info'!FA30+'Product Info'!FD30)","v":0},{"$f":"AH29*('Product Info'!M30)","v":0},{"$f":"AH29*'Product Info'!P30","v":0},{"$f":"AH29*'Product Info'!S30","v":0},{"$f":"AH29*'Product Info'!V30","v":0},{"$f":"AH29*'Product Info'!Y30","v":0},{"$f":"AH29*'Product Info'!AB30","v":0},{"$f":"AH29*'Product Info'!AE30","v":0},{"$f":"AH29*'Product Info'!AH30","v":0},{"$f":"AH29*'Product Info'!AK30","v":0},{"$f":"AH29*'Product Info'!AN30","v":0},{"$f":"AH29*'Product Info'!AQ30","v":0},{"$f":"AH29*'Product Info'!AT30","v":0},{"$f":"AH29*'Product Info'!AW30","v":0},{"$f":"AH29*'Product Info'!AZ30","v":0},{"$f":"AH29*'Product Info'!BC30","v":0},{"$f":"AH29*'Product Info'!BF30","v":0},{"$f":"AH29*'Product Info'!BI30","v":0},{"$f":"AH29*'Product Info'!BL30","v":0},{"$f":"AH29*'Product Info'!BO30","v":0},{"$f":"AH29*'Product Info'!BR30","v":0},{"$f":"AH29*'Product Info'!BU30","v":0},{"$f":"AH29*'Product Info'!BX30","v":0}]
[{"$f":"'Product Info'!A31","v":0},{"$f":"'Product Info'!B31","v":0},{"$f":"'Product Info'!C31","v":0},null,null,null,null,null,null,null,null,null,null,null,null,null,null,null,null,null,null,null,null,null,null,null,null,null,null,null,null,null,null,0,{"$f":"'Product Info'!F31*('Daily Info (September)'!AH30)","v":0},null,null,{"$f":"AH30*('Product Info'!H31)","v":0},{"$f":"AH30*('Product Info'!M31+'Product Info'!P31+'Product Info'!S31+'Product Info'!V31+'Product Info'!Y31+'Product Info'!AB31+'Product Info'!AE31+'Product Info'!AH31+'Product Info'!AK31+'Product Info'!AN31+'Product Info'!AQ31+'Product Info'!AT31+'Product Info'!AW31+'Product Info'!AZ31+'Product Info'!BC31+'Product Info'!BF31+'Product Info'!BI31+'Product Info'!BL31+'Product Info'!BO31+'Product Info'!BR31+'Product Info'!BU31+'Product Info'!BX31+'Product Info'!CA31+'Product Info'!CD31+'Product Info'!CG31+'Product Info'!CJ31+'Product Info'!CM31+'Product Info'!CP31+'Product Info'!CS31+'Product Info'!CV31+'Product Info'!CY31+'Product Info'!DB31+'Product Info'!DE31+'Product Info'!DH31+'Product Info'!DK31+'Product Info'!DN31+'Product Info'!DQ31+'Product Info'!DT31+'Product Info'!DW31+'Product Info'!DZ31+'Product Info'!EC31+'Product Info'!EF31+'Product Info'!EI31+'Product Info'!EL31+'Product Info'!EO31+'Product Info'!ER31+'Product Info'!EU31+'Product Info'!EX31+'Product Info'!FA31+'Product Info'!FD31)","v":0},{"$f":"AH30*('Product Info'!M31)","v":0},{"$f":"AH30*'Product Info'!P31","v":0},{"$f":"AH30*'Product Info'!S31","v":0},{"$f":"AH30*'Product Info'!V31","v":0},{"$f":"AH30*'Product Info'!Y31","v":0},{"$f":"AH30*'Product Info'!AB31","v":0},{"$f":"AH30*'Product Info'!AE31","v":0},{"$f":"AH30*'Product Info'!AH31","v":0},{"$f":"AH30*'Product Info'!AK31","v":0},{"$f":"AH30*'Product Info'!AN31","v":0},{"$f":"AH30*'Product Info'!AQ31","v":0},{"$f":"AH30*'Product Info'!AT31","v":0},{"$f":"AH30*'Product Info'!AW31","v":0},{"$f":"AH30*'Product Info'!AZ31","v":0},{"$f":"AH30*'Product Info'!BC31","v":0},{"$f":"AH30*'Product Info'!BF31","v":0},{"$f":"AH30*'Product Info'!BI31","v":0},{"$f":"AH30*'Product Info'!BL31","v":0},{"$f":"AH30*'Product Info'!BO31","v":0},{"$f":"AH30*'Product Info'!BR31","v":0},{"$f":"AH30*'Product Info'!BU31","v":0},{"$f":"AH30*'Product Info'!BX31","v":0}]
[{"$f":"'Product Info'!A32","v":0},{"$f":"'Product Info'!B32","v":0},{"$f":"'Product Info'!C32","v":0},null,null,null,null,null,null,null,null,null,null,null,null,null,null,null,null,null,null,null,null,null,null,null,null,null,null,null,null,null,null,0,{"$f":"'Product Info'!F32*('Daily Info (September)'!AH31)","v":0},null,null,{"$f":"AH31*('Product Info'!H32)","v":0},{"$f":"AH31*('Product Info'!M32+'Product Info'!P32+'Product Info'!S32+'Product Info'!V32+'Product Info'!Y32+'Product Info'!AB32+'Product Info'!AE32+'Product Info'!AH32+'Product Info'!AK32+'Product Info'!AN32+'Product Info'!AQ32+'Product Info'!AT32+'Product Info'!AW32+'Product Info'!AZ32+'Product Info'!BC32+'Product Info'!BF32+'Product Info'!BI32+'Product Info'!BL32+'Product Info'!BO32+'Product Info'!BR32+'Product Info'!BU32+'Product Info'!BX32+'Product Info'!CA32+'Product Info'!CD32+'Product Info'!CG32+'Product Info'!CJ32+'Product Info'!CM32+'Product Info'!CP32+'Product Info'!CS32+'Product Info'!CV32+'Product Info'!CY32+'Product Info'!DB32+'Product Info'!DE32+'Product Info'!DH32+'Product Info'!DK32+'Product Info'!DN32+'Product Info'!DQ32+'Product Info'!DT32+'Product Info'!DW32+'Product Info'!DZ32+'Product Info'!EC32+'Product Info'!EF32+'Product Info'!EI32+'Product Info'!EL32+'Product Info'!EO32+'Product Info'!ER32+'Product Info'!EU32+'Product Info'!EX32+'Product Info'!FA32+'Product Info'!FD32)","v":0},{"$f":"AH31*('Product Info'!M32)","v":0},{"$f":"AH31*'Product Info'!P32","v":0},{"$f":"AH31*'Product Info'!S32","v":0},{"$f":"AH31*'Product Info'!V32","v":0},{"$f":"AH31*'Product Info'!Y32","v":0},{"$f":"AH31*'Product Info'!AB32","v":0},{"$f":"AH31*'Product Info'!AE32","v":0},{"$f":"AH31*'Product Info'!AH32","v":0},{"$f":"AH31*'Product Info'!AK32","v":0},{"$f":"AH31*'Product Info'!AN32","v":0},{"$f":"AH31*'Product Info'!AQ32","v":0},{"$f":"AH31*'Product Info'!AT32","v":0},{"$f":"AH31*'Product Info'!AW32","v":0},{"$f":"AH31*'Product Info'!AZ32","v":0},{"$f":"AH31*'Product Info'!BC32","v":0},{"$f":"AH31*'Product Info'!BF32","v":0},{"$f":"AH31*'Product Info'!BI32","v":0},{"$f":"AH31*'Product Info'!BL32","v":0},{"$f":"AH31*'Product Info'!BO32","v":0},{"$f":"AH31*'Product Info'!BR32","v":0},{"$f":"AH31*'Product Info'!BU32","v":0},{"$f":"AH31*'Product Info'!BX32","v":0}]
[{"$f":"'Product Info'!A33","v":0},{"$f":"'Product Info'!B33","v":0},{"$f":"'Product Info'!C33","v":0},null,null,null,null,null,null,null,null,null,null,null,null,null,null,null,null,null,null,null,null,null,null,null,null,null,null,null,null,null,null,0,{"$f":"'Product Info'!F33*('Daily Info (September)'!AH32)","v":0},null,null,{"$f":"AH32*('Product Info'!H33)","v":0},{"$f":"AH32*('Product Info'!M33+'Product Info'!P33+'Product Info'!S33+'Product Info'!V33+'Product Info'!Y33+'Product Info'!AB33+'Product Info'!AE33+'Product Info'!AH33+'Product Info'!AK33+'Product Info'!AN33+'Product Info'!AQ33+'Product Info'!AT33+'Product Info'!AW33+'Product Info'!AZ33+'Product Info'!BC33+'Product Info'!BF33+'Product Info'!BI33+'Product Info'!BL33+'Product Info'!BO33+'Product Info'!BR33+'Product Info'!BU33+'Product Info'!BX33+'Product Info'!CA33+'Product Info'!CD33+'Product Info'!CG33+'Product Info'!CJ33+'Product Info'!CM33+'Product Info'!CP33+'Product Info'!CS33+'Product Info'!CV33+'Product Info'!CY33+'Product Info'!DB33+'Product Info'!DE33+'Product Info'!DH33+'Product Info'!DK33+'Product Info'!DN33+'Product Info'!DQ33+'Product Info'!DT33+'Product Info'!DW33+'Product Info'!DZ33+'Product Info'!EC33+'Product Info'!EF33+'Product Info'!EI33+'Product Info'!EL33+'Product Info'!EO33+'Product Info'!ER33+'Product Info'!EU33+'Product Info'!EX33+'Product Info'!FA33+'Product Info'!FD33)","v":0},{"$f":"AH32*('Product Info'!M33)","v":0},{"$f":"AH32*'Product Info'!P33","v":0},{"$f":"AH32*'Product Info'!S33","v":0},{"$f":"AH32*'Product Info'!V33","v":0},{"$f":"AH32*'Product Info'!Y33","v":0},{"$f":"AH32*'Product Info'!AB33","v":0},{"$f":"AH32*'Product Info'!AE33","v":0},{"$f":"AH32*'Product Info'!AH33","v":0},{"$f":"AH32*'Product Info'!AK33","v":0},{"$f":"AH32*'Product Info'!AN33","v":0},{"$f":"AH32*'Product Info'!AQ33","v":0},{"$f":"AH32*'Product Info'!AT33","v":0},{"$f":"AH32*'Product Info'!AW33","v":0},{"$f":"AH32*'Product Info'!AZ33","v":0},{"$f":"AH32*'Product Info'!BC33","v":0},{"$f":"AH32*'Product Info'!BF33","v":0},{"$f":"AH32*'Product Info'!BI33","v":0},{"$f":"AH32*'Product Info'!BL33","v":0},{"$f":"AH32*'Product Info'!BO33","v":0},{"$f":"AH32*'Product Info'!BR33","v":0},{"$f":"AH32*'Product Info'!BU33","v":0},{"$f":"AH32*'Product Info'!BX33","v":0}]
[{"$f":"'Product Info'!A34","v":0},{"$f":"'Product Info'!B34","v":0},{"$f":"'Product Info'!C34","v":0},null,null,null,null,null,null,null,null,null,null,null,null,null,null,null,null,null,null,null,null,null,null,null,null,null,null,null,null,null,null,0,{"$f":"'Product Info'!F34*('Daily Info (September)'!AH33)","v":0},null,null,{"$f":"AH33*('Product Info'!H34)","v":0},{"$f":"AH33*('Product Info'!M34+'Product Info'!P34+'Product Info'!S34+'Product Info'!V34+'Product Info'!Y34+'Product Info'!AB34+'Product Info'!AE34+'Product Info'!AH34+'Product Info'!AK34+'Product Info'!AN34+'Product Info'!AQ34+'Product Info'!AT34+'Product Info'!AW34+'Product Info'!AZ34+'Product Info'!BC34+'Product Info'!BF34+'Product Info'!BI34+'Product Info'!BL34+'Product Info'!BO34+'Product Info'!BR34+'Product Info'!BU34+'Product Info'!BX34+'Product Info'!CA34+'Product Info'!CD34+'Product Info'!CG34+'Product Info'!CJ34+'Product Info'!CM34+'Product Info'!CP34+'Product Info'!CS34+'Product Info'!CV34+'Product Info'!CY34+'Product Info'!DB34+'Product Info'!DE34+'Product Info'!DH34+'Product Info'!DK34+'Product Info'!DN34+'Product Info'!DQ34+'Product Info'!DT34+'Product Info'!DW34+'Product Info'!DZ34+'Product Info'!EC34+'Product Info'!EF34+'Product Info'!EI34+'Product Info'!EL34+'Product Info'!EO34+'Product Info'!ER34+'Product Info'!EU34+'Product Info'!EX34+'Product Info'!FA34+'Product Info'!FD34)","v":0},{"$f":"AH33*('Product Info'!M34)","v":0},{"$f":"AH33*'Product Info'!P34","v":0},{"$f":"AH33*'Product Info'!S34","v":0},{"$f":"AH33*'Product Info'!V34","v":0},{"$f":"AH33*'Product Info'!Y34","v":0},{"$f":"AH33*'Product Info'!AB34","v":0},{"$f":"AH33*'Product Info'!AE34","v":0},{"$f":"AH33*'Product Info'!AH34","v":0},{"$f":"AH33*'Product Info'!AK34","v":0},{"$f":"AH33*'Product Info'!AN34","v":0},{"$f":"AH33*'Product Info'!AQ34","v":0},{"$f":"AQ33*'Product Info'!AF34","v":0},{"$f":"AH33*'Product Info'!AW34","v":0},{"$f":"AH33*'Product Info'!AZ34","v":0},{"$f":"AH33*'Product Info'!BC34","v":0},{"$f":"AH33*'Product Info'!BF34","v":0},{"$f":"AH33*'Product Info'!BI34","v":0},{"$f":"AH33*'Product Info'!BL34","v":0},{"$f":"AH33*'Product Info'!BO34","v":0},{"$f":"AH33*'Product Info'!BR34","v":0},{"$f":"AH33*'Product Info'!BU34","v":0},{"$f":"AH33*'Product Info'!BX34","v":0}]
[{"$f":"'Product Info'!A35","v":0},{"$f":"'Product Info'!B35","v":0},{"$f":"'Product Info'!C35","v":0},null,null,null,null,null,null,null,null,null,null,null,null,null,null,null,null,null,null,null,null,null,null,null,null,null,null,null,null,null,null,0,{"$f":"'Product Info'!F35*('Daily Info (September)'!AH34)","v":0},null,null,{"$f":"AH34*('Product Info'!H35)","v":0},{"$f":"AH34*('Product Info'!M35+'Product Info'!P35+'Product Info'!S35+'Product Info'!V35+'Product Info'!Y35+'Product Info'!AB35+'Product Info'!AE35+'Product Info'!AH35+'Product Info'!AK35+'Product Info'!AN35+'Product Info'!AQ35+'Product Info'!AT35+'Product Info'!AW35+'Product Info'!AZ35+'Product Info'!BC35+'Product Info'!BF35+'Product Info'!BI35+'Product Info'!BL35+'Product Info'!BO35+'Product Info'!BR35+'Product Info'!BU35+'Product Info'!BX35+'Product Info'!CA35+'Product Info'!CD35+'Product Info'!CG35+'Product Info'!CJ35+'Product Info'!CM35+'Product Info'!CP35+'Product Info'!CS35+'Product Info'!CV35+'Product Info'!CY35+'Product Info'!DB35+'Product Info'!DE35+'Product Info'!DH35+'Product Info'!DK35+'Product Info'!DN35+'Product Info'!DQ35+'Product Info'!DT35+'Product Info'!DW35+'Product Info'!DZ35+'Product Info'!EC35+'Product Info'!EF35+'Product Info'!EI35+'Product Info'!EL35+'Product Info'!EO35+'Product Info'!ER35+'Product Info'!EU35+'Product Info'!EX35+'Product Info'!FA35+'Product Info'!FD35)","v":0},{"$f":"AH34*('Product Info'!M35)","v":0},{"$f":"AH34*'Product Info'!P35","v":0},{"$f":"AH34*'Product Info'!S35","v":0},{"$f":"AH34*'Product Info'!V35","v":0},{"$f":"AH34*'Product Info'!Y35","v":0},{"$f":"AH34*'Product Info'!AB35","v":0},{"$f":"AH34*'Product Info'!AE35","v":0},{"$f":"AH34*'Product Info'!AH35","v":0},{"$f":"AH34*'Product Info'!AK35","v":0},{"$f":"AH34*'Product Info'!AN35","v":0},{"$f":"AH34*'Product Info'!AQ35","v":0},{"$f":"AH34*'Product Info'!AT35","v":0},{"$f":"AH34*'Product Info'!AW35","v":0},{"$f":"AH34*'Product Info'!AZ35","v":0},{"$f":"AH34*'Product Info'!BC35","v":0},{"$f":"AH34*'Product Info'!BF35","v":0},{"$f":"AH34*'Product Info'!BI35","v":0},{"$f":"AH34*'Product Info'!BL35","v":0},{"$f":"AH34*'Product Info'!BO35","v":0},{"$f":"AH34*'Product Info'!BR35","v":0},{"$f":"AH34*'Product Info'!BU35","v":0},{"$f":"AH34*'Product Info'!BX35","v":0}]
[{"$f":"'Product Info'!A36","v":0},{"$f":"'Product Info'!B36","v":0},{"$f":"'Product Info'!C36","v":0},null,null,null,null,null,null,null,null,null,null,null,null,null,null,null,null,null,null,null,null,null,null,null,null,null,null,null,null,null,null,0,{"$f":"'Product Info'!F36*('Daily Info (September)'!AH35)","v":0},null,null,{"$f":"AH35*('Product Info'!H36)","v":0},{"$f":"AH35*('Product Info'!M36+'Product Info'!P36+'Product Info'!S36+'Product Info'!V36+'Product Info'!Y36+'Product Info'!AB36+'Product Info'!AE36+'Product Info'!AH36+'Product Info'!AK36+'Product Info'!AN36+'Product Info'!AQ36+'Product Info'!AT36+'Product Info'!AW36+'Product Info'!AZ36+'Product Info'!BC36+'Product Info'!BF36+'Product Info'!BI36+'Product Info'!BL36+'Product Info'!BO36+'Product Info'!BR36+'Product Info'!BU36+'Product Info'!BX36+'Product Info'!CA36+'Product Info'!CD36+'Product Info'!CG36+'Product Info'!CJ36+'Product Info'!CM36+'Product Info'!CP36+'Product Info'!CS36+'Product Info'!CV36+'Product Info'!CY36+'Product Info'!DB36+'Product Info'!DE36+'Product Info'!DH36+'Product Info'!DK36+'Product Info'!DN36+'Product Info'!DQ36+'Product Info'!DT36+'Product Info'!DW36+'Product Info'!DZ36+'Product Info'!EC36+'Product Info'!EF36+'Product Info'!EI36+'Product Info'!EL36+'Product Info'!EO36+'Product Info'!ER36+'Product Info'!EU36+'Product Info'!EX36+'Product Info'!FA36+'Product Info'!FD36)","v":0},{"$f":"AH35*('Product Info'!M36)","v":0},{"$f":"AH35*'Product Info'!P36","v":0},{"$f":"AH35*'Product Info'!S36","v":0},{"$f":"AH35*'Product Info'!V36","v":0},{"$f":"AH35*'Product Info'!Y36","v":0},{"$f":"AH35*'Product Info'!AB36","v":0},{"$f":"AH35*'Product Info'!AE36","v":0},{"$f":"AH35*'Product Info'!AH36","v":0},{"$f":"AH35*'Product Info'!AK36","v":0},{"$f":"AH35*'Product Info'!AN36","v":0},{"$f":"AH35*'Product Info'!AQ36","v":0},{"$f":"AH35*'Product Info'!AT36","v":0},{"$f":"AH35*'Product Info'!AW36","v":0},{"$f":"AH35*'Product Info'!AZ36","v":0},{"$f":"AH35*'Product Info'!BC36","v":0},{"$f":"AH35*'Product Info'!BF36","v":0},{"$f":"AH35*'Product Info'!BI36","v":0},{"$f":"AH35*'Product Info'!BL36","v":0},{"$f":"AH35*'Product Info'!BO36","v":0},{"$f":"AH35*'Product Info'!BR36","v":0},{"$f":"AH35*'Product Info'!BU36","v":0},{"$f":"AH35*'Product Info'!BX36","v":0}]
[{"$f":"'Product Info'!A37","v":0},{"$f":"'Product Info'!B37","v":0},{"$f":"'Product Info'!C37","v":0},null,null,null,null,null,null,null,null,null,null,null,null,null,null,null,null,null,null,null,null,null,null,null,null,null,null,null,null,null,null,{"$f":"SUM(D36:AG36)","v":0},{"$f":"'Product Info'!F37*('Daily Info (September)'!AH36)","v":0},null,null,{"$f":"AH36*('Product Info'!H37)","v":0},{"$f":"AH36*('Product Info'!M37+'Product Info'!P37+'Product Info'!S37+'Product Info'!V37+'Product Info'!Y37+'Product Info'!AB37+'Product Info'!AE37+'Product Info'!AH37+'Product Info'!AK37+'Product Info'!AN37+'Product Info'!AQ37+'Product Info'!AT37+'Product Info'!AW37+'Product Info'!AZ37+'Product Info'!BC37+'Product Info'!BF37+'Product Info'!BI37+'Product Info'!BL37+'Product Info'!BO37+'Product Info'!BR37+'Product Info'!BU37+'Product Info'!BX37+'Product Info'!CA37+'Product Info'!CD37+'Product Info'!CG37+'Product Info'!CJ37+'Product Info'!CM37+'Product Info'!CP37+'Product Info'!CS37+'Product Info'!CV37+'Product Info'!CY37+'Product Info'!DB37+'Product Info'!DE37+'Product Info'!DH37+'Product Info'!DK37+'Product Info'!DN37+'Product Info'!DQ37+'Product Info'!DT37+'Product Info'!DW37+'Product Info'!DZ37+'Product Info'!EC37+'Product Info'!EF37+'Product Info'!EI37+'Product Info'!EL37+'Product Info'!EO37+'Product Info'!ER37+'Product Info'!EU37+'Product Info'!EX37+'Product Info'!FA37+'Product Info'!FD37)","v":0},{"$f":"AH36*('Product Info'!M37)","v":0},{"$f":"AH36*'Product Info'!P37","v":0},{"$f":"AH36*'Product Info'!S37","v":0},{"$f":"AH36*'Product Info'!V37","v":0},{"$f":"AH36*'Product Info'!Y37","v":0},{"$f":"AH36*'Product Info'!AB37","v":0},{"$f":"AH36*'Product Info'!AE37","v":0},{"$f":"AH36*'Product Info'!AH37","v":0},{"$f":"AH36*'Product Info'!AK37","v":0},{"$f":"AH36*'Product Info'!AN37","v":0},{"$f":"AH36*'Product Info'!AQ37","v":0},{"$f":"AH36*'Product Info'!AT37","v":0},{"$f":"AH36*'Product Info'!AW37","v":0},{"$f":"AH36*'Product Info'!AZ37","v":0},{"$f":"AH36*'Product Info'!BC37","v":0},{"$f":"AH36*'Product Info'!BF37","v":0},{"$f":"AH36*'Product Info'!BI37","v":0},{"$f":"AH36*'Product Info'!BL37","v":0},{"$f":"AH36*'Product Info'!BO37","v":0},{"$f":"AH36*'Product Info'!BR37","v":0},{"$f":"AH36*'Product Info'!BU37","v":0},{"$f":"AH36*'Product Info'!BX37","v":0}]
[{"$f":"'Product Info'!A38","v":0},{"$f":"'Product Info'!B38","v":0},{"$f":"'Product Info'!C38","v":0},null,null,null,null,null,null,null,null,null,null,null,null,null,null,null,null,null,null,null,null,null,null,null,null,null,null,null,null,null,null,0,{"$f":"'Product Info'!F38*('Daily Info (September)'!AH37)","v":0},null,null,{"$f":"AH37*('Product Info'!H38)","v":0},{"$f":"AH37*('Product Info'!M38+'Product Info'!P38+'Product Info'!S38+'Product Info'!V38+'Product Info'!Y38+'Product Info'!AB38+'Product Info'!AE38+'Product Info'!AH38+'Product Info'!AK38+'Product Info'!AN38+'Product Info'!AQ38+'Product Info'!AT38+'Product Info'!AW38+'Product Info'!AZ38+'Product Info'!BC38+'Product Info'!BF38+'Product Info'!BI38+'Product Info'!BL38+'Product Info'!BO38+'Product Info'!BR38+'Product Info'!BU38+'Product Info'!BX38+'Product Info'!CA38+'Product Info'!CD38+'Product Info'!CG38+'Product Info'!CJ38+'Product Info'!CM38+'Product Info'!CP38+'Product Info'!CS38+'Product Info'!CV38+'Product Info'!CY38+'Product Info'!DB38+'Product Info'!DE38+'Product Info'!DH38+'Product Info'!DK38+'Product Info'!DN38+'Product Info'!DQ38+'Product Info'!DT38+'Product Info'!DW38+'Product Info'!DZ38+'Product Info'!EC38+'Product Info'!EF38+'Product Info'!EI38+'Product Info'!EL38+'Product Info'!EO38+'Product Info'!ER38+'Product Info'!EU38+'Product Info'!EX38+'Product Info'!FA38+'Product Info'!FD38)","v":0},{"$f":"AH37*('Product Info'!M38)","v":0},{"$f":"AH37*'Product Info'!P38","v":0},{"$f":"AH37*'Product Info'!S38","v":0},{"$f":"AH37*'Product Info'!V38","v":0},{"$f":"AH37*'Product Info'!Y38","v":0},{"$f":"AH37*'Product Info'!AB38","v":0},{"$f":"AH37*'Product Info'!AE38","v":0},{"$f":"AH37*'Product Info'!AH38","v":0},{"$f":"AH37*'Product Info'!AK38","v":0},{"$f":"AH37*'Product Info'!AN38","v":0},{"$f":"AH37*'Product Info'!AQ38","v":0},{"$f":"AH37*'Product Info'!AT38","v":0},{"$f":"AH37*'Product Info'!AW38","v":0},{"$f":"AH37*'Product Info'!AZ38","v":0},{"$f":"AH37*'Product Info'!BC38","v":0},{"$f":"AH37*'Product Info'!BF38","v":0},{"$f":"AH37*'Product Info'!BI38","v":0},{"$f":"AH37*'Product Info'!BL38","v":0},{"$f":"AH37*'Product Info'!BO38","v":0},{"$f":"AH37*'Product Info'!BR38","v":0},{"$f":"AH37*'Product Info'!BU38","v":0},{"$f":"AH37*'Product Info'!BX38","v":0}]
[{"$f":"'Product Info'!A39","v":0},{"$f":"'Product Info'!B39","v":0},{"$f":"'Product Info'!C39","v":0},null,null,null,null,null,null,null,null,null,null,null,null,null,null,null,null,null,null,null,null,null,null,null,null,null,null,null,null,null,null,0,{"$f":"'Product Info'!F39*('Daily Info (September)'!AH38)","v":0},null,null,{"$f":"AH38*('Product Info'!H39)","v":0},{"$f":"AH38*('Product Info'!M39+'Product Info'!P39+'Product Info'!S39+'Product Info'!V39+'Product Info'!Y39+'Product Info'!AB39+'Product Info'!AE39+'Product Info'!AH39+'Product Info'!AK39+'Product Info'!AN39+'Product Info'!AQ39+'Product Info'!AT39+'Product Info'!AW39+'Product Info'!AZ39+'Product Info'!BC39+'Product Info'!BF39+'Product Info'!BI39+'Product Info'!BL39+'Product Info'!BO39+'Product Info'!BR39+'Product Info'!BU39+'Product Info'!BX39+'Product Info'!CA39+'Product Info'!CD39+'Product Info'!CG39+'Product Info'!CJ39+'Product Info'!CM39+'Product Info'!CP39+'Product Info'!CS39+'Product Info'!CV39+'Product Info'!CY39+'Product Info'!DB39+'Product Info'!DE39+'Product Info'!DH39+'Product Info'!DK39+'Product Info'!DN39+'Product Info'!DQ39+'Product Info'!DT39+'Product Info'!DW39+'Product Info'!DZ39+'Product Info'!EC39+'Product Info'!EF39+'Product Info'!EI39+'Product Info'!EL39+'Product Info'!EO39+'Product Info'!ER39+'Product Info'!EU39+'Product Info'!EX39+'Product Info'!FA39+'Product Info'!FD39)","v":0},{"$f":"AH38*('Product Info'!M39)","v":0},{"$f":"AH38*'Product Info'!P39","v":0},{"$f":"AH38*'Product Info'!S39","v":0},{"$f":"AH38*'Product Info'!V39","v":0},{"$f":"AH38*'Product Info'!Y39","v":0},{"$f":"AH38*'Product Info'!AB39","v":0},{"$f":"AH38*'Product Info'!AE39","v":0},{"$f":"AH38*'Product Info'!AH39","v":0},{"$f":"AH38*'Product Info'!AK39","v":0},{"$f":"AH38*'Product Info'!AN39","v":0},{"$f":"AH38*'Product Info'!AQ39","v":0},{"$f":"AH38*'Product Info'!AT39","v":0},{"$f":"AH38*'Product Info'!AW39","v":0},{"$f":"AH38*'Product Info'!AZ39","v":0},{"$f":"AH38*'Product Info'!BC39","v":0},{"$f":"AH38*'Product Info'!BF39","v":0},{"$f":"AH38*'Product Info'!BI39","v":0},{"$f":"AH38*'Product Info'!BL39","v":0},{"$f":"AH38*'Product Info'!BO39","v":0},{"$f":"AH38*'Product Info'!BR39","v":0},{"$f":"AH38*'Product Info'!BU39","v":0},{"$f":"AH38*'Product Info'!BX39","v":0}]
[{"$f":"'Product Info'!A40","v":0},{"$f":"'Product Info'!B40","v":0},{"$f":"'Product Info'!C40","v":0},null,null,null,null,null,null,null,null,null,null,null,null,null,null,null,null,null,null,null,null,null,null,null,null,null,null,null,null,null,null,0,{"$f":"'Product Info'!F40*('Daily Info (September)'!AH39)","v":0},null,null,{"$f":"AH39*('Product Info'!H40)","v":0},{"$f":"AH39*('Product Info'!M40+'Product Info'!P40+'Product Info'!S40+'Product Info'!V40+'Product Info'!Y40+'Product Info'!AB40+'Product Info'!AE40+'Product Info'!AH40+'Product Info'!AK40+'Product Info'!AN40+'Product Info'!AQ40+'Product Info'!AT40+'Product Info'!AW40+'Product Info'!AZ40+'Product Info'!BC40+'Product Info'!BF40+'Product Info'!BI40+'Product Info'!BL40+'Product Info'!BO40+'Product Info'!BR40+'Product Info'!BU40+'Product Info'!BX40+'Product Info'!CA40+'Product Info'!CD40+'Product Info'!CG40+'Product Info'!CJ40+'Product Info'!CM40+'Product Info'!CP40+'Product Info'!CS40+'Product Info'!CV40+'Product Info'!CY40+'Product Info'!DB40+'Product Info'!DE40+'Product Info'!DH40+'Product Info'!DK40+'Product Info'!DN40+'Product Info'!DQ40+'Product Info'!DT40+'Product Info'!DW40+'Product Info'!DZ40+'Product Info'!EC40+'Product Info'!EF40+'Product Info'!EI40+'Product Info'!EL40+'Product Info'!EO40+'Product Info'!ER40+'Product Info'!EU40+'Product Info'!EX40+'Product Info'!FA40+'Product Info'!FD40)","v":0},{"$f":"AH39*('Product Info'!M40)","v":0},{"$f":"AH39*'Product Info'!P40","v":0},{"$f":"AH39*'Product Info'!S40","v":0},{"$f":"AH39*'Product Info'!V40","v":0},{"$f":"AH39*'Product Info'!Y40","v":0},{"$f":"AH39*'Product Info'!AB40","v":0},{"$f":"AH39*'Product Info'!AE40","v":0},{"$f":"AH39*'Product Info'!AH40","v":0},{"$f":"AH39*'Product Info'!AK40","v":0},{"$f":"AH39*'Product Info'!AN40","v":0},{"$f":"AH39*'Product Info'!AQ40","v":0},{"$f":"AH39*'Product Info'!AT40","v":0},{"$f":"AH39*'Product Info'!AW40","v":0},{"$f":"AH39*'Product Info'!AZ40","v":0},{"$f":"AH39*'Product Info'!BC40","v":0},{"$f":"AH39*'Product Info'!BF40","v":0},{"$f":"AH39*'Product Info'!BI40","v":0},{"$f":"AH39*'Product Info'!BL40","v":0},{"$f":"AH39*'Product Info'!BO40","v":0},{"$f":"AH39*'Product Info'!BR40","v":0},{"$f":"AH39*'Product Info'!BU40","v":0},{"$f":"AH39*'Product Info'!BX40","v":0}]
[{"$f":"'Product Info'!A41","v":0},{"$f":"'Product Info'!B41","v":0},{"$f":"'Product Info'!C41","v":0},null,null,null,null,null,null,null,null,null,null,null,null,null,null,null,null,null,null,null,null,null,null,null,null,null,null,null,null,null,null,0,{"$f":"'Product Info'!F41*('Daily Info (September)'!AH40)","v":0},null,null,{"$f":"AH40*('Product Info'!H41)","v":0},{"$f":"AH40*('Product Info'!M41+'Product Info'!P41+'Product Info'!S41+'Product Info'!V41+'Product Info'!Y41+'Product Info'!AB41+'Product Info'!AE41+'Product Info'!AH41+'Product Info'!AK41+'Product Info'!AN41+'Product Info'!AQ41+'Product Info'!AT41+'Product Info'!AW41+'Product Info'!AZ41+'Product Info'!BC41+'Product Info'!BF41+'Product Info'!BI41+'Product Info'!BL41+'Product Info'!BO41+'Product Info'!BR41+'Product Info'!BU41+'Product Info'!BX41+'Product Info'!CA41+'Product Info'!CD41+'Product Info'!CG41+'Product Info'!CJ41+'Product Info'!CM41+'Product Info'!CP41+'Product Info'!CS41+'Product Info'!CV41+'Product Info'!CY41+'Product Info'!DB41+'Product Info'!DE41+'Product Info'!DH41+'Product Info'!DK41+'Product Info'!DN41+'Product Info'!DQ41+'Product Info'!DT41+'Product Info'!DW41+'Product Info'!DZ41+'Product Info'!EC41+'Product Info'!EF41+'Product Info'!EI41+'Product Info'!EL41+'Product Info'!EO41+'Product Info'!ER41+'Product Info'!EU41+'Product Info'!EX41+'Product Info'!FA41+'Product Info'!FD41)","v":0},{"$f":"AH40*('Product Info'!M41)","v":0},{"$f":"AH40*'Product Info'!P41","v":0},{"$f":"AH40*'Product Info'!S41","v":0},{"$f":"AH40*'Product Info'!V41","v":0},{"$f":"AH40*'Product Info'!Y41","v":0},{"$f":"AH40*'Product Info'!AB41","v":0},{"$f":"AH40*'Product Info'!AE41","v":0},{"$f":"AH40*'Product Info'!AH41","v":0},{"$f":"AH40*'Product Info'!AK41","v":0},{"$f":"AH40*'Product Info'!AN41","v":0},{"$f":"AH40*'Product Info'!AQ41","v":0},{"$f":"AH40*'Product Info'!AT41","v":0},{"$f":"AH40*'Product Info'!AW41","v":0},{"$f":"AH40*'Product Info'!AZ41","v":0},{"$f":"AH40*'Product Info'!BC41","v":0},{"$f":"AH40*'Product Info'!BF41","v":0},{"$f":"AH40*'Product Info'!BI41","v":0},{"$f":"AH40*'Product Info'!BL41","v":0},{"$f":"AH40*'Product Info'!BO41","v":0},{"$f":"AH40*'Product Info'!BR41","v":0},{"$f":"AH40*'Product Info'!BU41","v":0},{"$f":"AH40*'Product Info'!BX41","v":0}]
[{"$f":"'Product Info'!A42","v":0},{"$f":"'Product Info'!B42","v":0},{"$f":"'Product Info'!C42","v":0},null,null,null,null,null,null,null,null,null,null,null,null,null,null,null,null,null,null,null,null,null,null,null,null,null,null,null,null,null,null,0,{"$f":"'Product Info'!F42*('Daily Info (September)'!AH41)","v":0},null,null,{"$f":"AH41*('Product Info'!H42)","v":0},{"$f":"AH41*('Product Info'!M42+'Product Info'!P42+'Product Info'!S42+'Product Info'!V42+'Product Info'!Y42+'Product Info'!AB42+'Product Info'!AE42+'Product Info'!AH42+'Product Info'!AK42+'Product Info'!AN42+'Product Info'!AQ42+'Product Info'!AT42+'Product Info'!AW42+'Product Info'!AZ42+'Product Info'!BC42+'Product Info'!BF42+'Product Info'!BI42+'Product Info'!BL42+'Product Info'!BO42+'Product Info'!BR42+'Product Info'!BU42+'Product Info'!BX42+'Product Info'!CA42+'Product Info'!CD42+'Product Info'!CG42+'Product Info'!CJ42+'Product Info'!CM42+'Product Info'!CP42+'Product Info'!CS42+'Product Info'!CV42+'Product Info'!CY42+'Product Info'!DB42+'Product Info'!DE42+'Product Info'!DH42+'Product Info'!DK42+'Product Info'!DN42+'Product Info'!DQ42+'Product Info'!DT42+'Product Info'!DW42+'Product Info'!DZ42+'Product Info'!EC42+'Product Info'!EF42+'Product Info'!EI42+'Product Info'!EL42+'Product Info'!EO42+'Product Info'!ER42+'Product Info'!EU42+'Product Info'!EX42+'Product Info'!FA42+'Product Info'!FD42)","v":0},{"$f":"AH41*('Product Info'!M42)","v":0},{"$f":"AH41*'Product Info'!P42","v":0},{"$f":"AH41*'Product Info'!S42","v":0},{"$f":"AH41*'Product Info'!V42","v":0},{"$f":"AH41*'Product Info'!Y42","v":0},{"$f":"AH41*'Product Info'!AB42","v":0},{"$f":"AH41*'Product Info'!AE42","v":0},{"$f":"AH41*'Product Info'!AH42","v":0},{"$f":"AH41*'Product Info'!AK42","v":0},{"$f":"AH41*'Product Info'!AN42","v":0},{"$f":"AH41*'Product Info'!AQ42","v":0},{"$f":"AH41*'Product Info'!AT42","v":0},{"$f":"AH41*'Product Info'!AW42","v":0},{"$f":"AH41*'Product Info'!AZ42","v":0},{"$f":"AH41*'Product Info'!BC42","v":0},{"$f":"AH41*'Product Info'!BF42","v":0},{"$f":"AH41*'Product Info'!BI42","v":0},{"$f":"AH41*'Product Info'!BL42","v":0},{"$f":"AH41*'Product Info'!BO42","v":0},{"$f":"AH41*'Product Info'!BR42","v":0},{"$f":"AH41*'Product Info'!BU42","v":0},{"$f":"AH41*'Product Info'!BX42","v":0}]
[{"$f":"'Product Info'!A43","v":0},{"$f":"'Product Info'!B43","v":0},{"$f":"'Product Info'!C43","v":0},null,null,null,null,null,null,null,null,null,null,null,null,null,null,null,null,null,null,null,null,null,null,null,null,null,null,null,null,null,null,0,{"$f":"'Product Info'!F43*('Daily Info (September)'!AH42)","v":0},null,null,{"$f":"AH42*('Product Info'!H43)","v":0},{"$f":"AH42*('Product Info'!M43+'Product Info'!P43+'Product Info'!S43+'Product Info'!V43+'Product Info'!Y43+'Product Info'!AB43+'Product Info'!AE43+'Product Info'!AH43+'Product Info'!AK43+'Product Info'!AN43+'Product Info'!AQ43+'Product Info'!AT43+'Product Info'!AW43+'Product Info'!AZ43+'Product Info'!BC43+'Product Info'!BF43+'Product Info'!BI43+'Product Info'!BL43+'Product Info'!BO43+'Product Info'!BR43+'Product Info'!BU43+'Product Info'!BX43+'Product Info'!CA43+'Product Info'!CD43+'Product Info'!CG43+'Product Info'!CJ43+'Product Info'!CM43+'Product Info'!CP43+'Product Info'!CS43+'Product Info'!CV43+'Product Info'!CY43+'Product Info'!DB43+'Product Info'!DE43+'Product Info'!DH43+'Product Info'!DK43+'Product Info'!DN43+'Product Info'!DQ43+'Product Info'!DT43+'Product Info'!DW43+'Product Info'!DZ43+'Product Info'!EC43+'Product Info'!EF43+'Product Info'!EI43+'Product Info'!EL43+'Product Info'!EO43+'Product Info'!ER43+'Product Info'!EU43+'Product Info'!EX43+'Product Info'!FA43+'Product Info'!FD43)","v":0},{"$f":"AH42*('Product Info'!M43)","v":0},{"$f":"AH42*'Product Info'!P43","v":0},{"$f":"AH42*'Product Info'!S43","v":0},{"$f":"AH42*'Product Info'!V43","v":0},{"$f":"AH42*'Product Info'!Y43","v":0},{"$f":"AH42*'Product Info'!AB43","v":0},{"$f":"AH42*'Product Info'!AE43","v":0},{"$f":"AH42*'Product Info'!AH43","v":0},{"$f":"AH42*'Product Info'!AK43","v":0},{"$f":"AH42*'Product Info'!AN43","v":0},{"$f":"AH42*'Product Info'!AQ43","v":0},{"$f":"AH42*'Product Info'!AT43","v":0},{"$f":"AH42*'Product Info'!AW43","v":0},{"$f":"AH42*'Product Info'!AZ43","v":0},{"$f":"AH42*'Product Info'!BC43","v":0},{"$f":"AH42*'Product Info'!BF43","v":0},{"$f":"AH42*'Product Info'!BI43","v":0},{"$f":"AH42*'Product Info'!BL43","v":0},{"$f":"AH42*'Product Info'!BO43","v":0},{"$f":"AH42*'Product Info'!BR43","v":0},{"$f":"AH42*'Product Info'!BU43","v":0},{"$f":"AH42*'Product Info'!BX43","v":0}]
[{"$f":"'Product Info'!A44","v":0},{"$f":"'Product Info'!B44","v":0},{"$f":"'Product Info'!C44","v":0},null,null,null,null,null,null,null,null,null,null,null,null,null,null,null,null,null,null,null,null,null,null,null,null,null,null,null,null,null,null,0,{"$f":"'Product Info'!F44*('Daily Info (September)'!AH43)","v":0},null,null,{"$f":"AH43*('Product Info'!H44)","v":0},{"$f":"AH43*('Product Info'!M44+'Product Info'!P44+'Product Info'!S44+'Product Info'!V44+'Product Info'!Y44+'Product Info'!AB44+'Product Info'!AE44+'Product Info'!AH44+'Product Info'!AK44+'Product Info'!AN44+'Product Info'!AQ44+'Product Info'!AT44+'Product Info'!AW44+'Product Info'!AZ44+'Product Info'!BC44+'Product Info'!BF44+'Product Info'!BI44+'Product Info'!BL44+'Product Info'!BO44+'Product Info'!BR44+'Product Info'!BU44+'Product Info'!BX44+'Product Info'!CA44+'Product Info'!CD44+'Product Info'!CG44+'Product Info'!CJ44+'Product Info'!CM44+'Product Info'!CP44+'Product Info'!CS44+'Product Info'!CV44+'Product Info'!CY44+'Product Info'!DB44+'Product Info'!DE44+'Product Info'!DH44+'Product Info'!DK44+'Product Info'!DN44+'Product Info'!DQ44+'Product Info'!DT44+'Product Info'!DW44+'Product Info'!DZ44+'Product Info'!EC44+'Product Info'!EF44+'Product Info'!EI44+'Product Info'!EL44+'Product Info'!EO44+'Product Info'!ER44+'Product Info'!EU44+'Product Info'!EX44+'Product Info'!FA44+'Product Info'!FD44)","v":0},{"$f":"AH43*('Product Info'!M44)","v":0},{"$f":"AH43*'Product Info'!P44","v":0},{"$f":"AH43*'Product Info'!S44","v":0},{"$f":"AH43*'Product Info'!V44","v":0},{"$f":"AH43*'Product Info'!Y44","v":0},{"$f":"AH43*'Product Info'!AB44","v":0},{"$f":"AH43*'Product Info'!AE44","v":0},{"$f":"AH43*'Product Info'!AH44","v":0},{"$f":"AH43*'Product Info'!AK44","v":0},{"$f":"AH43*'Product Info'!AN44","v":0},{"$f":"AH43*'Product Info'!AQ44","v":0},{"$f":"AH43*'Product Info'!AT44","v":0},{"$f":"AH43*'Product Info'!AW44","v":0},{"$f":"AH43*'Product Info'!AZ44","v":0},{"$f":"AH43*'Product Info'!BC44","v":0},{"$f":"AH43*'Product Info'!BF44","v":0},{"$f":"AH43*'Product Info'!BI44","v":0},{"$f":"AH43*'Product Info'!BL44","v":0},{"$f":"AH43*'Product Info'!BO44","v":0},{"$f":"AH43*'Product Info'!BR44","v":0},{"$f":"AH43*'Product Info'!BU44","v":0},{"$f":"AH43*'Product Info'!BX44","v":0}]
[{"$f":"'Product Info'!A45","v":0},{"$f":"'Product Info'!B45","v":0},{"$f":"'Product Info'!C45","v":0},null,null,null,null,null,null,null,null,null,null,null,null,null,null,null,null,null,null,null,null,null,null,null,null,null,null,null,null,null,null,0,{"$f":"'Product Info'!F45*('Daily Info (September)'!AH44)","v":0},null,null,{"$f":"AH44*('Product Info'!H45)","v":0},{"$f":"AH44*('Product Info'!M45+'Product Info'!P45+'Product Info'!S45+'Product Info'!V45+'Product Info'!Y45+'Product Info'!AB45+'Product Info'!AE45+'Product Info'!AH45+'Product Info'!AK45+'Product Info'!AN45+'Product Info'!AQ45+'Product Info'!AT45+'Product Info'!AW45+'Product Info'!AZ45+'Product Info'!BC45+'Product Info'!BF45+'Product Info'!BI45+'Product Info'!BL45+'Product Info'!BO45+'Product Info'!BR45+'Product Info'!BU45+'Product Info'!BX45+'Product Info'!CA45+'Product Info'!CD45+'Product Info'!CG45+'Product Info'!CJ45+'Product Info'!CM45+'Product Info'!CP45+'Product Info'!CS45+'Product Info'!CV45+'Product Info'!CY45+'Product Info'!DB45+'Product Info'!DE45+'Product Info'!DH45+'Product Info'!DK45+'Product Info'!DN45+'Product Info'!DQ45+'Product Info'!DT45+'Product Info'!DW45+'Product Info'!DZ45+'Product Info'!EC45+'Product Info'!EF45+'Product Info'!EI45+'Product Info'!EL45+'Product Info'!EO45+'Product Info'!ER45+'Product Info'!EU45+'Product Info'!EX45+'Product Info'!FA45+'Product Info'!FD45)","v":0},{"$f":"AH44*('Product Info'!M45)","v":0},{"$f":"AH44*'Product Info'!P45","v":0},{"$f":"AH44*'Product Info'!S45","v":0},{"$f":"AH44*'Product Info'!V45","v":0},{"$f":"AH44*'Product Info'!Y45","v":0},{"$f":"AH44*'Product Info'!AB45","v":0},{"$f":"AH44*'Product Info'!AE45","v":0},{"$f":"AH44*'Product Info'!AH45","v":0},{"$f":"AH44*'Product Info'!AK45","v":0},{"$f":"AH44*'Product Info'!AN45","v":0},{"$f":"AH44*'Product Info'!AQ45","v":0},{"$f":"AH44*'Product Info'!AT45","v":0},{"$f":"AH44*'Product Info'!AW45","v":0},{"$f":"AH44*'Product Info'!AZ45","v":0},{"$f":"AH44*'Product Info'!BC45","v":0},{"$f":"AH44*'Product Info'!BF45","v":0},{"$f":"AH44*'Product Info'!BI45","v":0},{"$f":"AH44*'Product Info'!BL45","v":0},{"$f":"AH44*'Product Info'!BO45","v":0},{"$f":"AH44*'Product Info'!BR45","v":0},{"$f":"AH44*'Product Info'!BU45","v":0},{"$f":"AH44*'Product Info'!BX45","v":0}]
[{"$f":"'Product Info'!A46","v":0},{"$f":"'Product Info'!B46","v":0},{"$f":"'Product Info'!C46","v":0},null,null,null,null,null,null,null,null,null,null,null,null,null,null,null,null,null,null,null,null,null,null,null,null,null,null,null,null,null,null,0,{"$f":"'Product Info'!F46*('Daily Info (September)'!AH45)","v":0},null,null,{"$f":"AH45*('Product Info'!H46)","v":0},{"$f":"AH45*('Product Info'!M46+'Product Info'!P46+'Product Info'!S46+'Product Info'!V46+'Product Info'!Y46+'Product Info'!AB46+'Product Info'!AE46+'Product Info'!AH46+'Product Info'!AK46+'Product Info'!AN46+'Product Info'!AQ46+'Product Info'!AT46+'Product Info'!AW46+'Product Info'!AZ46+'Product Info'!BC46+'Product Info'!BF46+'Product Info'!BI46+'Product Info'!BL46+'Product Info'!BO46+'Product Info'!BR46+'Product Info'!BU46+'Product Info'!BX46+'Product Info'!CA46+'Product Info'!CD46+'Product Info'!CG46+'Product Info'!CJ46+'Product Info'!CM46+'Product Info'!CP46+'Product Info'!CS46+'Product Info'!CV46+'Product Info'!CY46+'Product Info'!DB46+'Product Info'!DE46+'Product Info'!DH46+'Product Info'!DK46+'Product Info'!DN46+'Product Info'!DQ46+'Product Info'!DT46+'Product Info'!DW46+'Product Info'!DZ46+'Product Info'!EC46+'Product Info'!EF46+'Product Info'!EI46+'Product Info'!EL46+'Product Info'!EO46+'Product Info'!ER46+'Product Info'!EU46+'Product Info'!EX46+'Product Info'!FA46+'Product Info'!FD46)","v":0},{"$f":"AH45*('Product Info'!M46)","v":0},{"$f":"AH45*'Product Info'!P46","v":0},{"$f":"AH45*'Product Info'!S46","v":0},{"$f":"AH45*'Product Info'!V46","v":0},{"$f":"AH45*'Product Info'!Y46","v":0},{"$f":"AH45*'Product Info'!AB46","v":0},{"$f":"AH45*'Product Info'!AE46","v":0},{"$f":"AH45*'Product Info'!AH46","v":0},{"$f":"AH45*'Product Info'!AK46","v":0},{"$f":"AH45*'Product Info'!AN46","v":0},{"$f":"AH45*'Product Info'!AQ46","v":0},{"$f":"AH45*'Product Info'!AT46","v":0},{"$f":"AH45*'Product Info'!AW46","v":0},{"$f":"AH45*'Product Info'!AZ46","v":0},{"$f":"AH45*'Product Info'!BC46","v":0},{"$f":"AH45*'Product Info'!BF46","v":0},{"$f":"AH45*'Product Info'!BI46","v":0},{"$f":"AH45*'Product Info'!BL46","v":0},{"$f":"AH45*'Product Info'!BO46","v":0},{"$f":"AH45*'Product Info'!BR46","v":0},{"$f":"AH45*'Product Info'!BU46","v":0},{"$f":"AH45*'Product Info'!BX46","v":0}]
[{"$f":"'Product Info'!A47","v":0},{"$f":"'Product Info'!B47","v":0},{"$f":"'Product Info'!C47","v":0},null,null,null,null,null,null,null,null,null,null,null,null,null,null,null,null,null,null,null,null,null,null,null,null,null,null,null,null,null,null,0,{"$f":"'Product Info'!F47*('Daily Info (September)'!AH46)","v":0},null,null,{"$f":"AH46*('Product Info'!H47)","v":0},{"$f":"AH46*('Product Info'!M47+'Product Info'!P47+'Product Info'!S47+'Product Info'!V47+'Product Info'!Y47+'Product Info'!AB47+'Product Info'!AE47+'Product Info'!AH47+'Product Info'!AK47+'Product Info'!AN47+'Product Info'!AQ47+'Product Info'!AT47+'Product Info'!AW47+'Product Info'!AZ47+'Product Info'!BC47+'Product Info'!BF47+'Product Info'!BI47+'Product Info'!BL47+'Product Info'!BO47+'Product Info'!BR47+'Product Info'!BU47+'Product Info'!BX47+'Product Info'!CA47+'Product Info'!CD47+'Product Info'!CG47+'Product Info'!CJ47+'Product Info'!CM47+'Product Info'!CP47+'Product Info'!CS47+'Product Info'!CV47+'Product Info'!CY47+'Product Info'!DB47+'Product Info'!DE47+'Product Info'!DH47+'Product Info'!DK47+'Product Info'!DN47+'Product Info'!DQ47+'Product Info'!DT47+'Product Info'!DW47+'Product Info'!DZ47+'Product Info'!EC47+'Product Info'!EF47+'Product Info'!EI47+'Product Info'!EL47+'Product Info'!EO47+'Product Info'!ER47+'Product Info'!EU47+'Product Info'!EX47+'Product Info'!FA47+'Product Info'!FD47)","v":0},{"$f":"AH46*('Product Info'!M47)","v":0},{"$f":"AH46*'Product Info'!P47","v":0},{"$f":"AH46*'Product Info'!S47","v":0},{"$f":"AH46*'Product Info'!V47","v":0},{"$f":"AH46*'Product Info'!Y47","v":0},{"$f":"AH46*'Product Info'!AB47","v":0},{"$f":"AH46*'Product Info'!AE47","v":0},{"$f":"AH46*'Product Info'!AH47","v":0},{"$f":"AH46*'Product Info'!AK47","v":0},{"$f":"AH46*'Product Info'!AN47","v":0},{"$f":"AH46*'Product Info'!AQ47","v":0},{"$f":"AH46*'Product Info'!AT47","v":0},{"$f":"AH46*'Product Info'!AW47","v":0},{"$f":"AH46*'Product Info'!AZ47","v":0},{"$f":"AH46*'Product Info'!BC47","v":0},{"$f":"AH46*'Product Info'!BF47","v":0},{"$f":"AH46*'Product Info'!BI47","v":0},{"$f":"AH46*'Product Info'!BL47","v":0},{"$f":"AH46*'Product Info'!BO47","v":0},{"$f":"AH46*'Product Info'!BR47","v":0},{"$f":"AH46*'Product Info'!BU47","v":0},{"$f":"AH46*'Product Info'!BX47","v":0}]
[{"$f":"'Product Info'!A48","v":0},{"$f":"'Product Info'!B48","v":0},{"$f":"'Product Info'!C48","v":0},null,null,null,null,null,null,null,null,null,null,null,null,null,null,null,null,null,null,null,null,null,null,null,null,null,null,null,null,null,null,0,{"$f":"'Product Info'!F48*('Daily Info (September)'!AH47)","v":0},null,null,{"$f":"AH47*('Product Info'!H48)","v":0},{"$f":"AH47*('Product Info'!M48+'Product Info'!P48+'Product Info'!S48+'Product Info'!V48+'Product Info'!Y48+'Product Info'!AB48+'Product Info'!AE48+'Product Info'!AH48+'Product Info'!AK48+'Product Info'!AN48+'Product Info'!AQ48+'Product Info'!AT48+'Product Info'!AW48+'Product Info'!AZ48+'Product Info'!BC48+'Product Info'!BF48+'Product Info'!BI48+'Product Info'!BL48+'Product Info'!BO48+'Product Info'!BR48+'Product Info'!BU48+'Product Info'!BX48+'Product Info'!CA48+'Product Info'!CD48+'Product Info'!CG48+'Product Info'!CJ48+'Product Info'!CM48+'Product Info'!CP48+'Product Info'!CS48+'Product Info'!CV48+'Product Info'!CY48+'Product Info'!DB48+'Product Info'!DE48+'Product Info'!DH48+'Product Info'!DK48+'Product Info'!DN48+'Product Info'!DQ48+'Product Info'!DT48+'Product Info'!DW48+'Product Info'!DZ48+'Product Info'!EC48+'Product Info'!EF48+'Product Info'!EI48+'Product Info'!EL48+'Product Info'!EO48+'Product Info'!ER48+'Product Info'!EU48+'Product Info'!EX48+'Product Info'!FA48+'Product Info'!FD48)","v":0},{"$f":"AH47*('Product Info'!M48)","v":0},{"$f":"AH47*'Product Info'!P48","v":0},{"$f":"AH47*'Product Info'!S48","v":0},{"$f":"AH47*'Product Info'!V48","v":0},{"$f":"AH47*'Product Info'!Y48","v":0},{"$f":"AH47*'Product Info'!AB48","v":0},{"$f":"AH47*'Product Info'!AE48","v":0},{"$f":"AH47*'Product Info'!AH48","v":0},{"$f":"AH47*'Product Info'!AK48","v":0},{"$f":"AH47*'Product Info'!AN48","v":0},{"$f":"AH47*'Product Info'!AQ48","v":0},{"$f":"AQ47*'Product Info'!AF48","v":0},{"$f":"AH47*'Product Info'!AW48","v":0},{"$f":"AH47*'Product Info'!AZ48","v":0},{"$f":"AH47*'Product Info'!BC48","v":0},{"$f":"AH47*'Product Info'!BF48","v":0},{"$f":"AH47*'Product Info'!BI48","v":0},{"$f":"AH47*'Product Info'!BL48","v":0},{"$f":"AH47*'Product Info'!BO48","v":0},{"$f":"AH47*'Product Info'!BR48","v":0},{"$f":"AH47*'Product Info'!BU48","v":0},{"$f":"AH47*'Product Info'!BX48","v":0}]
[{"$f":"'Product Info'!A49","v":0},{"$f":"'Product Info'!B49","v":0},{"$f":"'Product Info'!C49","v":0},null,null,null,null,null,null,null,null,null,null,null,null,null,null,null,null,null,null,null,null,null,null,null,null,null,null,null,null,null,null,0,{"$f":"'Product Info'!F49*('Daily Info (September)'!AH48)","v":0},null,null,{"$f":"AH48*('Product Info'!H49)","v":0},{"$f":"AH48*('Product Info'!M49+'Product Info'!P49+'Product Info'!S49+'Product Info'!V49+'Product Info'!Y49+'Product Info'!AB49+'Product Info'!AE49+'Product Info'!AH49+'Product Info'!AK49+'Product Info'!AN49+'Product Info'!AQ49+'Product Info'!AT49+'Product Info'!AW49+'Product Info'!AZ49+'Product Info'!BC49+'Product Info'!BF49+'Product Info'!BI49+'Product Info'!BL49+'Product Info'!BO49+'Product Info'!BR49+'Product Info'!BU49+'Product Info'!BX49+'Product Info'!CA49+'Product Info'!CD49+'Product Info'!CG49+'Product Info'!CJ49+'Product Info'!CM49+'Product Info'!CP49+'Product Info'!CS49+'Product Info'!CV49+'Product Info'!CY49+'Product Info'!DB49+'Product Info'!DE49+'Product Info'!DH49+'Product Info'!DK49+'Product Info'!DN49+'Product Info'!DQ49+'Product Info'!DT49+'Product Info'!DW49+'Product Info'!DZ49+'Product Info'!EC49+'Product Info'!EF49+'Product Info'!EI49+'Product Info'!EL49+'Product Info'!EO49+'Product Info'!ER49+'Product Info'!EU49+'Product Info'!EX49+'Product Info'!FA49+'Product Info'!FD49)","v":0},{"$f":"AH48*('Product Info'!M49)","v":0},{"$f":"AH48*'Product Info'!P49","v":0},{"$f":"AH48*'Product Info'!S49","v":0},{"$f":"AH48*'Product Info'!V49","v":0},{"$f":"AH48*'Product Info'!Y49","v":0},{"$f":"AH48*'Product Info'!AB49","v":0},{"$f":"AH48*'Product Info'!AE49","v":0},{"$f":"AH48*'Product Info'!AH49","v":0},{"$f":"AH48*'Product Info'!AK49","v":0},{"$f":"AH48*'Product Info'!AN49","v":0},{"$f":"AH48*'Product Info'!AQ49","v":0},{"$f":"AQ48*'Product Info'!AF49","v":0},{"$f":"AH48*'Product Info'!AW49","v":0},{"$f":"AH48*'Product Info'!AZ49","v":0},{"$f":"AH48*'Product Info'!BC49","v":0},{"$f":"AH48*'Product Info'!BF49","v":0},{"$f":"AH48*'Product Info'!BI49","v":0},{"$f":"AH48*'Product Info'!BL49","v":0},{"$f":"AH48*'Product Info'!BO49","v":0},{"$f":"AH48*'Product Info'!BR49","v":0},{"$f":"AH48*'Product Info'!BU49","v":0},{"$f":"AH48*'Product Info'!BX49","v":0}]
[{"$f":"'Product Info'!A50","v":0},{"$f":"'Product Info'!B50","v":0},{"$f":"'Product Info'!C50","v":0},null,null,null,null,null,null,null,null,null,null,null,null,null,null,null,null,null,null,null,null,null,null,null,null,null,null,null,null,null,null,0,{"$f":"'Product Info'!F50*('Daily Info (September)'!AH49)","v":0},null,null,{"$f":"AH49*('Product Info'!H50)","v":0},{"$f":"AH49*('Product Info'!M50+'Product Info'!P50+'Product Info'!S50+'Product Info'!V50+'Product Info'!Y50+'Product Info'!AB50+'Product Info'!AE50+'Product Info'!AH50+'Product Info'!AK50+'Product Info'!AN50+'Product Info'!AQ50+'Product Info'!AT50+'Product Info'!AW50+'Product Info'!AZ50+'Product Info'!BC50+'Product Info'!BF50+'Product Info'!BI50+'Product Info'!BL50+'Product Info'!BO50+'Product Info'!BR50+'Product Info'!BU50+'Product Info'!BX50+'Product Info'!CA50+'Product Info'!CD50+'Product Info'!CG50+'Product Info'!CJ50+'Product Info'!CM50+'Product Info'!CP50+'Product Info'!CS50+'Product Info'!CV50+'Product Info'!CY50+'Product Info'!DB50+'Product Info'!DE50+'Product Info'!DH50+'Product Info'!DK50+'Product Info'!DN50+'Product Info'!DQ50+'Product Info'!DT50+'Product Info'!DW50+'Product Info'!DZ50+'Product Info'!EC50+'Product Info'!EF50+'Product Info'!EI50+'Product Info'!EL50+'Product Info'!EO50+'Product Info'!ER50+'Product Info'!EU50+'Product Info'!EX50+'Product Info'!FA50+'Product Info'!FD50)","v":0},{"$f":"AH49*('Product Info'!M50)","v":0},{"$f":"AH49*'Product Info'!P50","v":0},{"$f":"AH49*'Product Info'!S50","v":0},{"$f":"AH49*'Product Info'!V50","v":0},{"$f":"AH49*'Product Info'!Y50","v":0},{"$f":"AH49*'Product Info'!AB50","v":0},{"$f":"AH49*'Product Info'!AE50","v":0},{"$f":"AH49*'Product Info'!AH50","v":0},{"$f":"AH49*'Product Info'!AK50","v":0},{"$f":"AH49*'Product Info'!AN50","v":0},{"$f":"AH49*'Product Info'!AQ50","v":0},{"$f":"AH49*'Product Info'!AT50","v":0},{"$f":"AH49*'Product Info'!AW50","v":0},{"$f":"AH49*'Product Info'!AZ50","v":0},{"$f":"AH49*'Product Info'!BC50","v":0},{"$f":"AH49*'Product Info'!BF50","v":0},{"$f":"AH49*'Product Info'!BI50","v":0},{"$f":"AH49*'Product Info'!BL50","v":0},{"$f":"AH49*'Product Info'!BO50","v":0},{"$f":"AH49*'Product Info'!BR50","v":0},{"$f":"AH49*'Product Info'!BU50","v":0},{"$f":"AH49*'Product Info'!BX50","v":0}]
[{"$f":"'Product Info'!A51","v":0},{"$f":"'Product Info'!B51","v":0},{"$f":"'Product Info'!C51","v":0},null,null,null,null,null,null,null,null,null,null,null,null,null,null,null,null,null,null,null,null,null,null,null,null,null,null,null,null,null,null,0,{"$f":"'Product Info'!F51*('Daily Info (September)'!AH50)","v":0},null,null,{"$f":"AH50*('Product Info'!H51)","v":0},{"$f":"AH50*('Product Info'!M51+'Product Info'!P51+'Product Info'!S51+'Product Info'!V51+'Product Info'!Y51+'Product Info'!AB51+'Product Info'!AE51+'Product Info'!AH51+'Product Info'!AK51+'Product Info'!AN51+'Product Info'!AQ51+'Product Info'!AT51+'Product Info'!AW51+'Product Info'!AZ51+'Product Info'!BC51+'Product Info'!BF51+'Product Info'!BI51+'Product Info'!BL51+'Product Info'!BO51+'Product Info'!BR51+'Product Info'!BU51+'Product Info'!BX51+'Product Info'!CA51+'Product Info'!CD51+'Product Info'!CG51+'Product Info'!CJ51+'Product Info'!CM51+'Product Info'!CP51+'Product Info'!CS51+'Product Info'!CV51+'Product Info'!CY51+'Product Info'!DB51+'Product Info'!DE51+'Product Info'!DH51+'Product Info'!DK51+'Product Info'!DN51+'Product Info'!DQ51+'Product Info'!DT51+'Product Info'!DW51+'Product Info'!DZ51+'Product Info'!EC51+'Product Info'!EF51+'Product Info'!EI51+'Product Info'!EL51+'Product Info'!EO51+'Product Info'!ER51+'Product Info'!EU51+'Product Info'!EX51+'Product Info'!FA51+'Product Info'!FD51)","v":0},{"$f":"AH50*('Product Info'!M51)","v":0},{"$f":"AH50*'Product Info'!P51","v":0},{"$f":"AH50*'Product Info'!S51","v":0},{"$f":"AH50*'Product Info'!V51","v":0},{"$f":"AH50*'Product Info'!Y51","v":0},{"$f":"AH50*'Product Info'!AB51","v":0},{"$f":"AH50*'Product Info'!AE51","v":0},{"$f":"AH50*'Product Info'!AH51","v":0},{"$f":"AH50*'Product Info'!AK51","v":0},{"$f":"AH50*'Product Info'!AN51","v":0},{"$f":"AH50*'Product Info'!AQ51","v":0},{"$f":"AH50*'Product Info'!AT51","v":0},{"$f":"AH50*'Product Info'!AW51","v":0},{"$f":"AH50*'Product Info'!AZ51","v":0},{"$f":"AH50*'Product Info'!BC51","v":0},{"$f":"AH50*'Product Info'!BF51","v":0},{"$f":"AH50*'Product Info'!BI51","v":0},{"$f":"AH50*'Product Info'!BL51","v":0},{"$f":"AH50*'Product Info'!BO51","v":0},{"$f":"AH50*'Product Info'!BR51","v":0},{"$f":"AH50*'Product Info'!BU51","v":0},{"$f":"AH50*'Product Info'!BX51","v":0}]
[{"$f":"'Product Info'!A52","v":0},{"$f":"'Product Info'!B52","v":0},{"$f":"'Product Info'!C52","v":0},null,null,null,null,null,null,null,null,null,null,null,null,null,null,null,null,null,null,null,null,null,null,null,null,null,null,null,null,null,null,0,{"$f":"'Product Info'!F52*('Daily Info (September)'!AH51)","v":0},null,null,{"$f":"AH51*('Product Info'!H52)","v":0},{"$f":"AH51*('Product Info'!M52+'Product Info'!P52+'Product Info'!S52+'Product Info'!V52+'Product Info'!Y52+'Product Info'!AB52+'Product Info'!AE52+'Product Info'!AH52+'Product Info'!AK52+'Product Info'!AN52+'Product Info'!AQ52+'Product Info'!AT52+'Product Info'!AW52+'Product Info'!AZ52+'Product Info'!BC52+'Product Info'!BF52+'Product Info'!BI52+'Product Info'!BL52+'Product Info'!BO52+'Product Info'!BR52+'Product Info'!BU52+'Product Info'!BX52+'Product Info'!CA52+'Product Info'!CD52+'Product Info'!CG52+'Product Info'!CJ52+'Product Info'!CM52+'Product Info'!CP52+'Product Info'!CS52+'Product Info'!CV52+'Product Info'!CY52+'Product Info'!DB52+'Product Info'!DE52+'Product Info'!DH52+'Product Info'!DK52+'Product Info'!DN52+'Product Info'!DQ52+'Product Info'!DT52+'Product Info'!DW52+'Product Info'!DZ52+'Product Info'!EC52+'Product Info'!EF52+'Product Info'!EI52+'Product Info'!EL52+'Product Info'!EO52+'Product Info'!ER52+'Product Info'!EU52+'Product Info'!EX52+'Product Info'!FA52+'Product Info'!FD52)","v":0},{"$f":"AH51*('Product Info'!M52)","v":0},{"$f":"AH51*'Product Info'!P52","v":0},{"$f":"AH51*'Product Info'!S52","v":0},{"$f":"AH51*'Product Info'!V52","v":0},{"$f":"AH51*'Product Info'!Y52","v":0},{"$f":"AH51*'Product Info'!AB52","v":0},{"$f":"AH51*'Product Info'!AE52","v":0},{"$f":"AH51*'Product Info'!AH52","v":0},{"$f":"AH51*'Product Info'!AK52","v":0},{"$f":"AH51*'Product Info'!AN52","v":0},{"$f":"AH51*'Product Info'!AQ52","v":0},{"$f":"AH51*'Product Info'!AT52","v":0},{"$f":"AH51*'Product Info'!AW52","v":0},{"$f":"AH51*'Product Info'!AZ52","v":0},{"$f":"AH51*'Product Info'!BC52","v":0},{"$f":"AH51*'Product Info'!BF52","v":0},{"$f":"AH51*'Product Info'!BI52","v":0},{"$f":"AH51*'Product Info'!BL52","v":0},{"$f":"AH51*'Product Info'!BO52","v":0},{"$f":"AH51*'Product Info'!BR52","v":0},{"$f":"AH51*'Product Info'!BU52","v":0},{"$f":"AH51*'Product Info'!BX52","v":0}]
[{"$f":"'Product Info'!A53","v":0},{"$f":"'Product Info'!B53","v":0},{"$f":"'Product Info'!C53","v":0},null,null,null,null,null,null,null,null,null,null,null,null,null,null,null,null,null,null,null,null,null,null,null,null,null,null,null,null,null,null,0,{"$f":"'Product Info'!F53*('Daily Info (September)'!AH52)","v":0},null,null,{"$f":"AH52*('Product Info'!H53)","v":0},{"$f":"AH52*('Product Info'!M53+'Product Info'!P53+'Product Info'!S53+'Product Info'!V53+'Product Info'!Y53+'Product Info'!AB53+'Product Info'!AE53+'Product Info'!AH53+'Product Info'!AK53+'Product Info'!AN53+'Product Info'!AQ53+'Product Info'!AT53+'Product Info'!AW53+'Product Info'!AZ53+'Product Info'!BC53+'Product Info'!BF53+'Product Info'!BI53+'Product Info'!BL53+'Product Info'!BO53+'Product Info'!BR53+'Product Info'!BU53+'Product Info'!BX53+'Product Info'!CA53+'Product Info'!CD53+'Product Info'!CG53+'Product Info'!CJ53+'Product Info'!CM53+'Product Info'!CP53+'Product Info'!CS53+'Product Info'!CV53+'Product Info'!CY53+'Product Info'!DB53+'Product Info'!DE53+'Product Info'!DH53+'Product Info'!DK53+'Product Info'!DN53+'Product Info'!DQ53+'Product Info'!DT53+'Product Info'!DW53+'Product Info'!DZ53+'Product Info'!EC53+'Product Info'!EF53+'Product Info'!EI53+'Product Info'!EL53+'Product Info'!EO53+'Product Info'!ER53+'Product Info'!EU53+'Product Info'!EX53+'Product Info'!FA53+'Product Info'!FD53)","v":0},{"$f":"AH52*('Product Info'!M53)","v":0},{"$f":"AH52*'Product Info'!P53","v":0},{"$f":"AH52*'Product Info'!S53","v":0},{"$f":"AH52*'Product Info'!V53","v":0},{"$f":"AH52*'Product Info'!Y53","v":0},{"$f":"AH52*'Product Info'!AB53","v":0},{"$f":"AH52*'Product Info'!AE53","v":0},{"$f":"AH52*'Product Info'!AH53","v":0},{"$f":"AH52*'Product Info'!AK53","v":0},{"$f":"AH52*'Product Info'!AN53","v":0},{"$f":"AH52*'Product Info'!AQ53","v":0},{"$f":"AH52*'Product Info'!AT53","v":0},{"$f":"AH52*'Product Info'!AW53","v":0},{"$f":"AH52*'Product Info'!AZ53","v":0},{"$f":"AH52*'Product Info'!BC53","v":0},{"$f":"AH52*'Product Info'!BF53","v":0},{"$f":"AH52*'Product Info'!BI53","v":0},{"$f":"AH52*'Product Info'!BL53","v":0},{"$f":"AH52*'Product Info'!BO53","v":0},{"$f":"AH52*'Product Info'!BR53","v":0},{"$f":"AH52*'Product Info'!BU53","v":0},{"$f":"AH52*'Product Info'!BX53","v":0}]
[{"$f":"'Product Info'!A54","v":0},{"$f":"'Product Info'!B54","v":0},{"$f":"'Product Info'!C54","v":0},null,null,null,null,null,null,null,null,null,null,null,null,null,null,null,null,null,null,null,null,null,null,null,null,null,null,null,null,null,null,0,{"$f":"'Product Info'!F54*('Daily Info (September)'!AH53)","v":0},null,null,{"$f":"AH53*('Product Info'!H54)","v":0},{"$f":"AH53*('Product Info'!M54+'Product Info'!P54+'Product Info'!S54+'Product Info'!V54+'Product Info'!Y54+'Product Info'!AB54+'Product Info'!AE54+'Product Info'!AH54+'Product Info'!AK54+'Product Info'!AN54+'Product Info'!AQ54+'Product Info'!AT54+'Product Info'!AW54+'Product Info'!AZ54+'Product Info'!BC54+'Product Info'!BF54+'Product Info'!BI54+'Product Info'!BL54+'Product Info'!BO54+'Product Info'!BR54+'Product Info'!BU54+'Product Info'!BX54+'Product Info'!CA54+'Product Info'!CD54+'Product Info'!CG54+'Product Info'!CJ54+'Product Info'!CM54+'Product Info'!CP54+'Product Info'!CS54+'Product Info'!CV54+'Product Info'!CY54+'Product Info'!DB54+'Product Info'!DE54+'Product Info'!DH54+'Product Info'!DK54+'Product Info'!DN54+'Product Info'!DQ54+'Product Info'!DT54+'Product Info'!DW54+'Product Info'!DZ54+'Product Info'!EC54+'Product Info'!EF54+'Product Info'!EI54+'Product Info'!EL54+'Product Info'!EO54+'Product Info'!ER54+'Product Info'!EU54+'Product Info'!EX54+'Product Info'!FA54+'Product Info'!FD54)","v":0},{"$f":"AH53*('Product Info'!M54)","v":0},{"$f":"AH53*'Product Info'!P54","v":0},{"$f":"AH53*'Product Info'!S54","v":0},{"$f":"AH53*'Product Info'!V54","v":0},{"$f":"AH53*'Product Info'!Y54","v":0},{"$f":"AH53*'Product Info'!AB54","v":0},{"$f":"AH53*'Product Info'!AE54","v":0},{"$f":"AH53*'Product Info'!AH54","v":0},{"$f":"AH53*'Product Info'!AK54","v":0},{"$f":"AH53*'Product Info'!AN54","v":0},{"$f":"AH53*'Product Info'!AQ54","v":0},{"$f":"AH53*'Product Info'!AT54","v":0},{"$f":"AH53*'Product Info'!AW54","v":0},{"$f":"AH53*'Product Info'!AZ54","v":0},{"$f":"AH53*'Product Info'!BC54","v":0},{"$f":"AH53*'Product Info'!BF54","v":0},{"$f":"AH53*'Product Info'!BI54","v":0},{"$f":"AH53*'Product Info'!BL54","v":0},{"$f":"AH53*'Product Info'!BO54","v":0},{"$f":"AH53*'Product Info'!BR54","v":0},{"$f":"AH53*'Product Info'!BU54","v":0},{"$f":"AH53*'Product Info'!BX54","v":0}]
[{"$f":"'Product Info'!A55","v":0},{"$f":"'Product Info'!B55","v":0},{"$f":"'Product Info'!C55","v":0},null,null,null,null,null,null,null,null,null,null,null,null,null,null,null,null,null,null,null,null,null,null,null,null,null,null,null,null,null,null,0,{"$f":"'Product Info'!F55*('Daily Info (September)'!AH54)","v":0},null,null,{"$f":"AH54*('Product Info'!H55)","v":0},{"$f":"AH54*('Product Info'!M55+'Product Info'!P55+'Product Info'!S55+'Product Info'!V55+'Product Info'!Y55+'Product Info'!AB55+'Product Info'!AE55+'Product Info'!AH55+'Product Info'!AK55+'Product Info'!AN55+'Product Info'!AQ55+'Product Info'!AT55+'Product Info'!AW55+'Product Info'!AZ55+'Product Info'!BC55+'Product Info'!BF55+'Product Info'!BI55+'Product Info'!BL55+'Product Info'!BO55+'Product Info'!BR55+'Product Info'!BU55+'Product Info'!BX55+'Product Info'!CA55+'Product Info'!CD55+'Product Info'!CG55+'Product Info'!CJ55+'Product Info'!CM55+'Product Info'!CP55+'Product Info'!CS55+'Product Info'!CV55+'Product Info'!CY55+'Product Info'!DB55+'Product Info'!DE55+'Product Info'!DH55+'Product Info'!DK55+'Product Info'!DN55+'Product Info'!DQ55+'Product Info'!DT55+'Product Info'!DW55+'Product Info'!DZ55+'Product Info'!EC55+'Product Info'!EF55+'Product Info'!EI55+'Product Info'!EL55+'Product Info'!EO55+'Product Info'!ER55+'Product Info'!EU55+'Product Info'!EX55+'Product Info'!FA55+'Product Info'!FD55)","v":0},{"$f":"AH54*('Product Info'!M55)","v":0},{"$f":"AH54*'Product Info'!P55","v":0},{"$f":"AH54*'Product Info'!S55","v":0},{"$f":"AH54*'Product Info'!V55","v":0},{"$f":"AH54*'Product Info'!Y55","v":0},{"$f":"AH54*'Product Info'!AB55","v":0},{"$f":"AH54*'Product Info'!AE55","v":0},{"$f":"AH54*'Product Info'!AH55","v":0},{"$f":"AH54*'Product Info'!AK55","v":0},{"$f":"AH54*'Product Info'!AN55","v":0},{"$f":"AH54*'Product Info'!AQ55","v":0},{"$f":"AH54*'Product Info'!AT55","v":0},{"$f":"AH54*'Product Info'!AW55","v":0},{"$f":"AH54*'Product Info'!AZ55","v":0},{"$f":"AH54*'Product Info'!BC55","v":0},{"$f":"AH54*'Product Info'!BF55","v":0},{"$f":"AH54*'Product Info'!BI55","v":0},{"$f":"AH54*'Product Info'!BL55","v":0},{"$f":"AH54*'Product Info'!BO55","v":0},{"$f":"AH54*'Product Info'!BR55","v":0},{"$f":"AH54*'Product Info'!BU55","v":0},{"$f":"AH54*'Product Info'!BX55","v":0}]
[{"$f":"'Product Info'!A56","v":0},{"$f":"'Product Info'!B56","v":0},{"$f":"'Product Info'!C56","v":0},null,null,null,null,null,null,null,null,null,null,null,null,null,null,null,null,null,null,null,null,null,null,null,null,null,null,null,null,null,null,0,{"$f":"'Product Info'!F56*('Daily Info (September)'!AH55)","v":0},null,null,{"$f":"AH55*('Product Info'!H56)","v":0},{"$f":"AH55*('Product Info'!M56+'Product Info'!P56+'Product Info'!S56+'Product Info'!V56+'Product Info'!Y56+'Product Info'!AB56+'Product Info'!AE56+'Product Info'!AH56+'Product Info'!AK56+'Product Info'!AN56+'Product Info'!AQ56+'Product Info'!AT56+'Product Info'!AW56+'Product Info'!AZ56+'Product Info'!BC56+'Product Info'!BF56+'Product Info'!BI56+'Product Info'!BL56+'Product Info'!BO56+'Product Info'!BR56+'Product Info'!BU56+'Product Info'!BX56+'Product Info'!CA56+'Product Info'!CD56+'Product Info'!CG56+'Product Info'!CJ56+'Product Info'!CM56+'Product Info'!CP56+'Product Info'!CS56+'Product Info'!CV56+'Product Info'!CY56+'Product Info'!DB56+'Product Info'!DE56+'Product Info'!DH56+'Product Info'!DK56+'Product Info'!DN56+'Product Info'!DQ56+'Product Info'!DT56+'Product Info'!DW56+'Product Info'!DZ56+'Product Info'!EC56+'Product Info'!EF56+'Product Info'!EI56+'Product Info'!EL56+'Product Info'!EO56+'Product Info'!ER56+'Product Info'!EU56+'Product Info'!EX56+'Product Info'!FA56+'Product Info'!FD56)","v":0},{"$f":"AH55*('Product Info'!M56)","v":0},{"$f":"AH55*'Product Info'!P56","v":0},{"$f":"AH55*'Product Info'!S56","v":0},{"$f":"AH55*'Product Info'!V56","v":0},{"$f":"AH55*'Product Info'!Y56","v":0},{"$f":"AH55*'Product Info'!AB56","v":0},{"$f":"AH55*'Product Info'!AE56","v":0},{"$f":"AH55*'Product Info'!AH56","v":0},{"$f":"AH55*'Product Info'!AK56","v":0},{"$f":"AH55*'Product Info'!AN56","v":0},{"$f":"AH55*'Product Info'!AQ56","v":0},{"$f":"AH55*'Product Info'!AT56","v":0},{"$f":"AH55*'Product Info'!AW56","v":0},{"$f":"AH55*'Product Info'!AZ56","v":0},{"$f":"AH55*'Product Info'!BC56","v":0},{"$f":"AH55*'Product Info'!BF56","v":0},{"$f":"AH55*'Product Info'!BI56","v":0},{"$f":"AH55*'Product Info'!BL56","v":0},{"$f":"AH55*'Product Info'!BO56","v":0},{"$f":"AH55*'Product Info'!BR56","v":0},{"$f":"AH55*'Product Info'!BU56","v":0},{"$f":"AH55*'Product Info'!BX56","v":0}]
[{"$f":"'Product Info'!A57","v":0},{"$f":"'Product Info'!B57","v":0},{"$f":"'Product Info'!C57","v":0},null,null,null,null,null,null,null,null,null,null,null,null,null,null,null,null,null,null,null,null,null,null,null,null,null,null,null,null,null,null,0,{"$f":"'Product Info'!F57*('Daily Info (September)'!AH56)","v":0},null,null,{"$f":"AH56*('Product Info'!H57)","v":0},{"$f":"AH56*('Product Info'!M57+'Product Info'!P57+'Product Info'!S57+'Product Info'!V57+'Product Info'!Y57+'Product Info'!AB57+'Product Info'!AE57+'Product Info'!AH57+'Product Info'!AK57+'Product Info'!AN57+'Product Info'!AQ57+'Product Info'!AT57+'Product Info'!AW57+'Product Info'!AZ57+'Product Info'!BC57+'Product Info'!BF57+'Product Info'!BI57+'Product Info'!BL57+'Product Info'!BO57+'Product Info'!BR57+'Product Info'!BU57+'Product Info'!BX57+'Product Info'!CA57+'Product Info'!CD57+'Product Info'!CG57+'Product Info'!CJ57+'Product Info'!CM57+'Product Info'!CP57+'Product Info'!CS57+'Product Info'!CV57+'Product Info'!CY57+'Product Info'!DB57+'Product Info'!DE57+'Product Info'!DH57+'Product Info'!DK57+'Product Info'!DN57+'Product Info'!DQ57+'Product Info'!DT57+'Product Info'!DW57+'Product Info'!DZ57+'Product Info'!EC57+'Product Info'!EF57+'Product Info'!EI57+'Product Info'!EL57+'Product Info'!EO57+'Product Info'!ER57+'Product Info'!EU57+'Product Info'!EX57+'Product Info'!FA57+'Product Info'!FD57)","v":0},{"$f":"AH56*('Product Info'!M57)","v":0},{"$f":"AH56*'Product Info'!P57","v":0},{"$f":"AH56*'Product Info'!S57","v":0},{"$f":"AH56*'Product Info'!V57","v":0},{"$f":"AH56*'Product Info'!Y57","v":0},{"$f":"AH56*'Product Info'!AB57","v":0},{"$f":"AH56*'Product Info'!AE57","v":0},{"$f":"AH56*'Product Info'!AH57","v":0},{"$f":"AH56*'Product Info'!AK57","v":0},{"$f":"AH56*'Product Info'!AN57","v":0},{"$f":"AH56*'Product Info'!AQ57","v":0},{"$f":"AH56*'Product Info'!AT57","v":0},{"$f":"AH56*'Product Info'!AW57","v":0},{"$f":"AH56*'Product Info'!AZ57","v":0},{"$f":"AH56*'Product Info'!BC57","v":0},{"$f":"AH56*'Product Info'!BF57","v":0},{"$f":"AH56*'Product Info'!BI57","v":0},{"$f":"AH56*'Product Info'!BL57","v":0},{"$f":"AH56*'Product Info'!BO57","v":0},{"$f":"AH56*'Product Info'!BR57","v":0},{"$f":"AH56*'Product Info'!BU57","v":0},{"$f":"AH56*'Product Info'!BX57","v":0}]
[{"$f":"'Product Info'!A58","v":0},{"$f":"'Product Info'!B58","v":0},{"$f":"'Product Info'!C58","v":0},null,null,null,null,null,null,null,null,null,null,null,null,null,null,null,null,null,null,null,null,null,null,null,null,null,null,null,null,null,null,0,{"$f":"'Product Info'!F58*('Daily Info (September)'!AH57)","v":0},null,null,{"$f":"AH57*('Product Info'!H58)","v":0},{"$f":"AH57*('Product Info'!M58+'Product Info'!P58+'Product Info'!S58+'Product Info'!V58+'Product Info'!Y58+'Product Info'!AB58+'Product Info'!AE58+'Product Info'!AH58+'Product Info'!AK58+'Product Info'!AN58+'Product Info'!AQ58+'Product Info'!AT58+'Product Info'!AW58+'Product Info'!AZ58+'Product Info'!BC58+'Product Info'!BF58+'Product Info'!BI58+'Product Info'!BL58+'Product Info'!BO58+'Product Info'!BR58+'Product Info'!BU58+'Product Info'!BX58+'Product Info'!CA58+'Product Info'!CD58+'Product Info'!CG58+'Product Info'!CJ58+'Product Info'!CM58+'Product Info'!CP58+'Product Info'!CS58+'Product Info'!CV58+'Product Info'!CY58+'Product Info'!DB58+'Product Info'!DE58+'Product Info'!DH58+'Product Info'!DK58+'Product Info'!DN58+'Product Info'!DQ58+'Product Info'!DT58+'Product Info'!DW58+'Product Info'!DZ58+'Product Info'!EC58+'Product Info'!EF58+'Product Info'!EI58+'Product Info'!EL58+'Product Info'!EO58+'Product Info'!ER58+'Product Info'!EU58+'Product Info'!EX58+'Product Info'!FA58+'Product Info'!FD58)","v":0},{"$f":"AH57*('Product Info'!M58)","v":0},{"$f":"AH57*'Product Info'!P58","v":0},{"$f":"AH57*'Product Info'!S58","v":0},{"$f":"AH57*'Product Info'!V58","v":0},{"$f":"AH57*'Product Info'!Y58","v":0},{"$f":"AH57*'Product Info'!AB58","v":0},{"$f":"AH57*'Product Info'!AE58","v":0},{"$f":"AH57*'Product Info'!AH58","v":0},{"$f":"AH57*'Product Info'!AK58","v":0},{"$f":"AH57*'Product Info'!AN58","v":0},{"$f":"AH57*'Product Info'!AQ58","v":0},{"$f":"AH57*'Product Info'!AT58","v":0},{"$f":"AH57*'Product Info'!AW58","v":0},{"$f":"AH57*'Product Info'!AZ58","v":0},{"$f":"AH57*'Product Info'!BC58","v":0},{"$f":"AH57*'Product Info'!BF58","v":0},{"$f":"AH57*'Product Info'!BI58","v":0},{"$f":"AH57*'Product Info'!BL58","v":0},{"$f":"AH57*'Product Info'!BO58","v":0},{"$f":"AH57*'Product Info'!BR58","v":0},{"$f":"AH57*'Product Info'!BU58","v":0},{"$f":"AH57*'Product Info'!BX58","v":0}]
[{"$f":"'Product Info'!A59","v":0},{"$f":"'Product Info'!B59","v":0},{"$f":"'Product Info'!C59","v":0},null,null,null,null,null,null,null,null,null,null,null,null,null,null,null,null,null,null,null,null,null,null,null,null,null,null,null,null,null,null,0,{"$f":"'Product Info'!F59*('Daily Info (September)'!AH58)","v":0},null,null,{"$f":"AH58*('Product Info'!H59)","v":0},{"$f":"AH58*('Product Info'!M59+'Product Info'!P59+'Product Info'!S59+'Product Info'!V59+'Product Info'!Y59+'Product Info'!AB59+'Product Info'!AE59+'Product Info'!AH59+'Product Info'!AK59+'Product Info'!AN59+'Product Info'!AQ59+'Product Info'!AT59+'Product Info'!AW59+'Product Info'!AZ59+'Product Info'!BC59+'Product Info'!BF59+'Product Info'!BI59+'Product Info'!BL59+'Product Info'!BO59+'Product Info'!BR59+'Product Info'!BU59+'Product Info'!BX59+'Product Info'!CA59+'Product Info'!CD59+'Product Info'!CG59+'Product Info'!CJ59+'Product Info'!CM59+'Product Info'!CP59+'Product Info'!CS59+'Product Info'!CV59+'Product Info'!CY59+'Product Info'!DB59+'Product Info'!DE59+'Product Info'!DH59+'Product Info'!DK59+'Product Info'!DN59+'Product Info'!DQ59+'Product Info'!DT59+'Product Info'!DW59+'Product Info'!DZ59+'Product Info'!EC59+'Product Info'!EF59+'Product Info'!EI59+'Product Info'!EL59+'Product Info'!EO59+'Product Info'!ER59+'Product Info'!EU59+'Product Info'!EX59+'Product Info'!FA59+'Product Info'!FD59)","v":0},{"$f":"AH58*('Product Info'!M59)","v":0},{"$f":"AH58*'Product Info'!P59","v":0},{"$f":"AH58*'Product Info'!S59","v":0},{"$f":"AH58*'Product Info'!V59","v":0},{"$f":"AH58*'Product Info'!Y59","v":0},{"$f":"AH58*'Product Info'!AB59","v":0},{"$f":"AH58*'Product Info'!AE59","v":0},{"$f":"AH58*'Product Info'!AH59","v":0},{"$f":"AH58*'Product Info'!AK59","v":0},{"$f":"AH58*'Product Info'!AN59","v":0},{"$f":"AH58*'Product Info'!AQ59","v":0},{"$f":"AH58*'Product Info'!AT59","v":0},{"$f":"AH58*'Product Info'!AW59","v":0},{"$f":"AH58*'Product Info'!AZ59","v":0},{"$f":"AH58*'Product Info'!BC59","v":0},{"$f":"AH58*'Product Info'!BF59","v":0},{"$f":"AH58*'Product Info'!BI59","v":0},{"$f":"AH58*'Product Info'!BL59","v":0},{"$f":"AH58*'Product Info'!BO59","v":0},{"$f":"AH58*'Product Info'!BR59","v":0},{"$f":"AH58*'Product Info'!BU59","v":0},{"$f":"AH58*'Product Info'!BX59","v":0}]
[{"$f":"'Product Info'!A60","v":0},{"$f":"'Product Info'!B60","v":0},{"$f":"'Product Info'!C60","v":0},null,null,null,null,null,null,null,null,null,null,null,null,null,null,null,null,null,null,null,null,null,null,null,null,null,null,null,null,null,null,0,{"$f":"'Product Info'!F60*('Daily Info (September)'!AH59)","v":0},null,null,{"$f":"AH59*('Product Info'!H60)","v":0},{"$f":"AH59*('Product Info'!M60+'Product Info'!P60+'Product Info'!S60+'Product Info'!V60+'Product Info'!Y60+'Product Info'!AB60+'Product Info'!AE60+'Product Info'!AH60+'Product Info'!AK60+'Product Info'!AN60+'Product Info'!AQ60+'Product Info'!AT60+'Product Info'!AW60+'Product Info'!AZ60+'Product Info'!BC60+'Product Info'!BF60+'Product Info'!BI60+'Product Info'!BL60+'Product Info'!BO60+'Product Info'!BR60+'Product Info'!BU60+'Product Info'!BX60+'Product Info'!CA60+'Product Info'!CD60+'Product Info'!CG60+'Product Info'!CJ60+'Product Info'!CM60+'Product Info'!CP60+'Product Info'!CS60+'Product Info'!CV60+'Product Info'!CY60+'Product Info'!DB60+'Product Info'!DE60+'Product Info'!DH60+'Product Info'!DK60+'Product Info'!DN60+'Product Info'!DQ60+'Product Info'!DT60+'Product Info'!DW60+'Product Info'!DZ60+'Product Info'!EC60+'Product Info'!EF60+'Product Info'!EI60+'Product Info'!EL60+'Product Info'!EO60+'Product Info'!ER60+'Product Info'!EU60+'Product Info'!EX60+'Product Info'!FA60+'Product Info'!FD60)","v":0},{"$f":"AH59*('Product Info'!M60)","v":0},{"$f":"AH59*'Product Info'!P60","v":0},{"$f":"AH59*'Product Info'!S60","v":0},{"$f":"AH59*'Product Info'!V60","v":0},{"$f":"AH59*'Product Info'!Y60","v":0},{"$f":"AH59*'Product Info'!AB60","v":0},{"$f":"AH59*'Product Info'!AE60","v":0},{"$f":"AH59*'Product Info'!AH60","v":0},{"$f":"AH59*'Product Info'!AK60","v":0},{"$f":"AH59*'Product Info'!AN60","v":0},{"$f":"AH59*'Product Info'!AQ60","v":0},{"$f":"AH59*'Product Info'!AT60","v":0},{"$f":"AH59*'Product Info'!AW60","v":0},{"$f":"AH59*'Product Info'!AZ60","v":0},{"$f":"AH59*'Product Info'!BC60","v":0},{"$f":"AH59*'Product Info'!BF60","v":0},{"$f":"AH59*'Product Info'!BI60","v":0},{"$f":"AH59*'Product Info'!BL60","v":0},{"$f":"AH59*'Product Info'!BO60","v":0},{"$f":"AH59*'Product Info'!BR60","v":0},{"$f":"AH59*'Product Info'!BU60","v":0},{"$f":"AH59*'Product Info'!BX60","v":0}]
[{"$f":"'Product Info'!A61","v":0},{"$f":"'Product Info'!B61","v":0},{"$f":"'Product Info'!C61","v":0},null,null,null,null,null,null,null,null,null,null,null,null,null,null,null,null,null,null,null,null,null,null,null,null,null,null,null,null,null,null,0,{"$f":"'Product Info'!F61*('Daily Info (September)'!AH60)","v":0},null,null,{"$f":"AH60*('Product Info'!H61)","v":0},{"$f":"AH60*('Product Info'!M61+'Product Info'!P61+'Product Info'!S61+'Product Info'!V61+'Product Info'!Y61+'Product Info'!AB61+'Product Info'!AE61+'Product Info'!AH61+'Product Info'!AK61+'Product Info'!AN61+'Product Info'!AQ61+'Product Info'!AT61+'Product Info'!AW61+'Product Info'!AZ61+'Product Info'!BC61+'Product Info'!BF61+'Product Info'!BI61+'Product Info'!BL61+'Product Info'!BO61+'Product Info'!BR61+'Product Info'!BU61+'Product Info'!BX61+'Product Info'!CA61+'Product Info'!CD61+'Product Info'!CG61+'Product Info'!CJ61+'Product Info'!CM61+'Product Info'!CP61+'Product Info'!CS61+'Product Info'!CV61+'Product Info'!CY61+'Product Info'!DB61+'Product Info'!DE61+'Product Info'!DH61+'Product Info'!DK61+'Product Info'!DN61+'Product Info'!DQ61+'Product Info'!DT61+'Product Info'!DW61+'Product Info'!DZ61+'Product Info'!EC61+'Product Info'!EF61+'Product Info'!EI61+'Product Info'!EL61+'Product Info'!EO61+'Product Info'!ER61+'Product Info'!EU61+'Product Info'!EX61+'Product Info'!FA61+'Product Info'!FD61)","v":0},{"$f":"AH60*('Product Info'!M61)","v":0},{"$f":"AH60*'Product Info'!P61","v":0},{"$f":"AH60*'Product Info'!S61","v":0},{"$f":"AH60*'Product Info'!V61","v":0},{"$f":"AH60*'Product Info'!Y61","v":0},{"$f":"AH60*'Product Info'!AB61","v":0},{"$f":"AH60*'Product Info'!AE61","v":0},{"$f":"AH60*'Product Info'!AH61","v":0},{"$f":"AH60*'Product Info'!AK61","v":0},{"$f":"AH60*'Product Info'!AN61","v":0},{"$f":"AH60*'Product Info'!AQ61","v":0},{"$f":"AH60*'Product Info'!AT61","v":0},{"$f":"AH60*'Product Info'!AW61","v":0},{"$f":"AH60*'Product Info'!AZ61","v":0},{"$f":"AH60*'Product Info'!BC61","v":0},{"$f":"AH60*'Product Info'!BF61","v":0},{"$f":"AH60*'Product Info'!BI61","v":0},{"$f":"AH60*'Product Info'!BL61","v":0},{"$f":"AH60*'Product Info'!BO61","v":0},{"$f":"AH60*'Product Info'!BR61","v":0},{"$f":"AH60*'Product Info'!BU61","v":0},{"$f":"AH60*'Product Info'!BX61","v":0}]
[{"$f":"'Product Info'!A62","v":0},{"$f":"'Product Info'!B62","v":0},{"$f":"'Product Info'!C62","v":0},null,null,null,null,null,null,null,null,null,null,null,null,null,null,null,null,null,null,null,null,null,null,null,null,null,null,null,null,null,null,0,{"$f":"'Product Info'!F62*('Daily Info (September)'!AH61)","v":0},null,null,{"$f":"AH61*('Product Info'!H62)","v":0},{"$f":"AH61*('Product Info'!M62+'Product Info'!P62+'Product Info'!S62+'Product Info'!V62+'Product Info'!Y62+'Product Info'!AB62+'Product Info'!AE62+'Product Info'!AH62+'Product Info'!AK62+'Product Info'!AN62+'Product Info'!AQ62+'Product Info'!AT62+'Product Info'!AW62+'Product Info'!AZ62+'Product Info'!BC62+'Product Info'!BF62+'Product Info'!BI62+'Product Info'!BL62+'Product Info'!BO62+'Product Info'!BR62+'Product Info'!BU62+'Product Info'!BX62+'Product Info'!CA62+'Product Info'!CD62+'Product Info'!CG62+'Product Info'!CJ62+'Product Info'!CM62+'Product Info'!CP62+'Product Info'!CS62+'Product Info'!CV62+'Product Info'!CY62+'Product Info'!DB62+'Product Info'!DE62+'Product Info'!DH62+'Product Info'!DK62+'Product Info'!DN62+'Product Info'!DQ62+'Product Info'!DT62+'Product Info'!DW62+'Product Info'!DZ62+'Product Info'!EC62+'Product Info'!EF62+'Product Info'!EI62+'Product Info'!EL62+'Product Info'!EO62+'Product Info'!ER62+'Product Info'!EU62+'Product Info'!EX62+'Product Info'!FA62+'Product Info'!FD62)","v":0},{"$f":"AH61*('Product Info'!M62)","v":0},{"$f":"AH61*'Product Info'!P62","v":0},{"$f":"AH61*'Product Info'!S62","v":0},{"$f":"AH61*'Product Info'!V62","v":0},{"$f":"AH61*'Product Info'!Y62","v":0},{"$f":"AH61*'Product Info'!AB62","v":0},{"$f":"AH61*'Product Info'!AE62","v":0},{"$f":"AH61*'Product Info'!AH62","v":0},{"$f":"AH61*'Product Info'!AK62","v":0},{"$f":"AH61*'Product Info'!AN62","v":0},{"$f":"AH61*'Product Info'!AQ62","v":0},{"$f":"AH61*'Product Info'!AT62","v":0},{"$f":"AH61*'Product Info'!AW62","v":0},{"$f":"AH61*'Product Info'!AZ62","v":0},{"$f":"AH61*'Product Info'!BC62","v":0},{"$f":"AH61*'Product Info'!BF62","v":0},{"$f":"AH61*'Product Info'!BI62","v":0},{"$f":"AH61*'Product Info'!BL62","v":0},{"$f":"AH61*'Product Info'!BO62","v":0},{"$f":"AH61*'Product Info'!BR62","v":0},{"$f":"AH61*'Product Info'!BU62","v":0},{"$f":"AH61*'Product Info'!BX62","v":0}]
["TOTALS for September",null,null,null,null,null,null,null,null,null,null,null,null,null,null,null,null,null,null,null,null,null,null,null,null,null,null,null,null,null,null,null,null,{"$f":"SUM(AH4:AH18)","v":0},{"$f":"SUM(AI4:AI18)","v":0},null,null,{"$f":"SUM(AL4:AL18)","v":0},{"$f":"SUM(AM4:AM18)","v":0},0,0,0,0,0,0,0,0,0,0,0,0,0,0,0,0,0,0,0,0,0,0]

{"sheet":"Daily Info (October)","index":11,"n_rows":62,"n_cols":62,"rows_kept":62,"cut":false,"hidden":false,"merged":[[13,35,13,36],[0,3,0,12],[0,38,0,39],[61,0,61,1],[61,3,61,33],[1,35,1,36],[3,35,3,36],[4,35,4,36],[5,35,5,36],[6,35,6,36],[7,35,7,36],[8,35,8,36],[9,35,9,36],[10,35,10,36],[11,35,11,36],[12,35,12,36],[25,35,25,36],[14,35,14,36],[15,35,15,36],[16,35,16,36],[17,35,17,36],[18,35,18,36],[19,35,19,36],[20,35,20,36],[21,35,21,36],[22,35,22,36],[23,35,23,36],[24,35,24,36],[37,35,37,36],[26,35,26,36],[27,35,27,36],[28,35,28,36],[29,35,29,36],[30,35,30,36],[31,35,31,36],[32,35,32,36],[33,35,33,36],[34,35,34,36],[35,35,35,36],[36,35,36,36],[52,35,52,36],[61,35,61,36],[38,35,38,36],[39,35,39,36],[40,35,40,36],[41,35,41,36],[42,35,42,36],[43,35,43,36],[44,35,44,36],[45,35,45,36],[46,35,46,36],[47,35,47,36],[48,35,48,36],[49,35,49,36],[50,35,50,36],[51,35,51,36],[59,35,59,36],[60,35,60,36],[53,35,53,36],[54,35,54,36],[55,35,55,36],[56,35,56,36],[57,35,57,36],[58,35,58,36]]}
["Main Menu","VOC Product Information",null,"Daily Usage (gal)",null,null,null,null,null,null,null,null,null,null,null,null,null,null,null,null,null,null,null,null,null,"Daily Usage (gal)",null,null,null,null,null,null,null,null,null,null,null,null,"Emissions"]
["Product Number","Product Name","Product Type","2006-10-01","2006-10-02","2006-10-03","2006-10-04","2006-10-05","2006-10-06","2006-10-07","2006-10-08","2006-10-09","2006-10-10","2006-10-11","2006-10-12","2006-10-13","2006-10-14","2006-10-15","2006-10-16","2006-10-17","2006-10-18","2006-10-19","2006-10-20","2006-10-21","2006-10-22","2006-10-23","2006-10-24","2006-10-25","2006-10-26","2006-10-27","2006-10-28","2006-10-29","2006-10-30","2006-10-31","Total Usage (gal)","Total Usage (lbs)",null,null,"Pounds VOCs Emitted","Pounds Total HAPs Emitted",{"$f":"'Product Info'!K3","v":0},{"$f":"'Product Info'!N3","v":0},{"$f":"'Product Info'!Q3","v":0},{"$f":"'Product Info'!T3","v":0},{"$f":"'Product Info'!W3","v":0},{"$f":"'Product Info'!Z3","v":0},{"$f":"'Product Info'!AC3","v":0},{"$f":"'Product Info'!AF3","v":0},{"$f":"'Product Info'!AI3","v":0},{"$f":"'Product Info'!AL3","v":0},{"$f":"'Product Info'!AO3","v":0},{"$f":"'Product Info'!AR3","v":0},{"$f":"'Product Info'!AU3","v":0},{"$f":"'Product Info'!AX3","v":0},{"$f":"'Product Info'!BA3","v":0},{"$f":"'Product Info'!BD3","v":0},{"$f":"'Product Info'!BG3","v":0},{"$f":"'Product Info'!BJ3","v":0},{"$f":"'Product Info'!BM3","v":0},{"$f":"'Product Info'!BP3","v":0},{"$f":"'Product Info'!BS3","v":0},{"$f":"'Product Info'!BV3","v":0}]
[]
[{"$f":"'Product Info'!A5","v":0},{"$f":"'Product Info'!B5","v":0},{"$f":"'Product Info'!C5","v":0},null,null,null,null,null,null,null,null,null,null,null,null,null,null,null,null,null,null,null,null,null,null,null,null,null,null,null,null,null,null,null,{"$f":"SUM(D4:AH4)","v":0},{"$f":"'Product Info'!F5*('Daily Info (October)'!AI4)","v":0},null,null,{"$f":"AI4*('Product Info'!H5)","v":0},{"$f":"AI4*('Product Info'!M5+'Product Info'!P5+'Product Info'!S5+'Product Info'!V5+'Product Info'!Y5+'Product Info'!AB5+'Product Info'!AE5+'Product Info'!AH5+'Product Info'!AK5+'Product Info'!AN5+'Product Info'!AQ5+'Product Info'!AT5+'Product Info'!AW5+'Product Info'!AZ5+'Product Info'!BC5+'Product Info'!BF5+'Product Info'!BI5+'Product Info'!BL5+'Product Info'!BO5+'Product Info'!BR5+'Product Info'!BU5+'Product Info'!BX5+'Product Info'!CA5+'Product Info'!CD5+'Product Info'!CG5+'Product Info'!CJ5+'Product Info'!CM5+'Product Info'!CP5+'Product Info'!CS5+'Product Info'!CV5+'Product Info'!CY5+'Product Info'!DB5+'Product Info'!DE5+'Product Info'!DH5+'Product Info'!DK5+'Product Info'!DN5+'Product Info'!DQ5+'Product Info'!DT5+'Product Info'!DW5+'Product Info'!DZ5+'Product Info'!EC5+'Product Info'!EF5+'Product Info'!EI5+'Product Info'!EL5+'Product Info'!EO5+'Product Info'!ER5+'Product Info'!EU5+'Product Info'!EX5+'Product Info'!FA5+'Product Info'!FD5)","v":0},{"$f":"AI4*('Product Info'!M5)","v":0},{"$f":"AI4*'Product Info'!P5","v":0},{"$f":"AI4*'Product Info'!S5","v":0},{"$f":"AI4*'Product Info'!V5","v":0},{"$f":"AI4*'Product Info'!Y5","v":0},{"$f":"AI4*'Product Info'!AB5","v":0},{"$f":"AI4*'Product Info'!AE5","v":0},{"$f":"AI4*'Product Info'!AH5","v":0},{"$f":"AI4*'Product Info'!AK5","v":0},{"$f":"AI4*'Product Info'!AN5","v":0},{"$f":"AI4*'Product Info'!AQ5","v":0},{"$f":"AI4*'Product Info'!AT5","v":0},{"$f":"AI4*'Product Info'!AW5","v":0},{"$f":"AI4*'Product Info'!AZ5","v":0},{"$f":"AI4*'Product Info'!BC5","v":0},{"$f":"AI4*'Product Info'!BF5","v":0},{"$f":"AI4*'Product Info'!BI5","v":0},{"$f":"AI4*'Product Info'!BL5","v":0},{"$f":"AI4*'Product Info'!BO5","v":0},{"$f":"AI4*'Product Info'!BR5","v":0},{"$f":"AI4*'Product Info'!BU5","v":0},{"$f":"AI4*'Product Info'!BX5","v":0}]
[{"$f":"'Product Info'!A6","v":0},{"$f":"'Product Info'!B6","v":0},{"$f":"'Product Info'!C6","v":0},null,null,null,null,null,null,null,null,null,null,null,null,null,null,null,null,null,null,null,null,null,null,null,null,null,null,null,null,null,null,null,0,{"$f":"'Product Info'!F6*('Daily Info (October)'!AI5)","v":0},null,null,{"$f":"AI5*('Product Info'!H6)","v":0},{"$f":"AI5*('Product Info'!M6+'Product Info'!P6+'Product Info'!S6+'Product Info'!V6+'Product Info'!Y6+'Product Info'!AB6+'Product Info'!AE6+'Product Info'!AH6+'Product Info'!AK6+'Product Info'!AN6+'Product Info'!AQ6+'Product Info'!AT6+'Product Info'!AW6+'Product Info'!AZ6+'Product Info'!BC6+'Product Info'!BF6+'Product Info'!BI6+'Product Info'!BL6+'Product Info'!BO6+'Product Info'!BR6+'Product Info'!BU6+'Product Info'!BX6+'Product Info'!CA6+'Product Info'!CD6+'Product Info'!CG6+'Product Info'!CJ6+'Product Info'!CM6+'Product Info'!CP6+'Product Info'!CS6+'Product Info'!CV6+'Product Info'!CY6+'Product Info'!DB6+'Product Info'!DE6+'Product Info'!DH6+'Product Info'!DK6+'Product Info'!DN6+'Product Info'!DQ6+'Product Info'!DT6+'Product Info'!DW6+'Product Info'!DZ6+'Product Info'!EC6+'Product Info'!EF6+'Product Info'!EI6+'Product Info'!EL6+'Product Info'!EO6+'Product Info'!ER6+'Product Info'!EU6+'Product Info'!EX6+'Product Info'!FA6+'Product Info'!FD6)","v":0},{"$f":"AI5*('Product Info'!M6)","v":0},{"$f":"AI5*'Product Info'!P6","v":0},{"$f":"AI5*'Product Info'!S6","v":0},{"$f":"AI5*'Product Info'!V6","v":0},{"$f":"AI5*'Product Info'!Y6","v":0},{"$f":"AI5*'Product Info'!AB6","v":0},{"$f":"AI5*'Product Info'!AE6","v":0},{"$f":"AI5*'Product Info'!AH6","v":0},{"$f":"AI5*'Product Info'!AK6","v":0},{"$f":"AI5*'Product Info'!AN6","v":0},{"$f":"AI5*'Product Info'!AQ6","v":0},{"$f":"AI5*'Product Info'!AT6","v":0},{"$f":"AI5*'Product Info'!AW6","v":0},{"$f":"AI5*'Product Info'!AZ6","v":0},{"$f":"AI5*'Product Info'!BC6","v":0},{"$f":"AI5*'Product Info'!BF6","v":0},{"$f":"AI5*'Product Info'!BI6","v":0},{"$f":"AI5*'Product Info'!BL6","v":0},{"$f":"AI5*'Product Info'!BO6","v":0},{"$f":"AI5*'Product Info'!BR6","v":0},{"$f":"AI5*'Product Info'!BU6","v":0},{"$f":"AI5*'Product Info'!BX6","v":0}]
[{"$f":"'Product Info'!A7","v":0},{"$f":"'Product Info'!B7","v":0},{"$f":"'Product Info'!C7","v":0},null,null,null,null,null,null,null,null,null,null,null,null,null,null,null,null,null,null,null,null,null,null,null,null,null,null,null,null,null,null,null,0,{"$f":"'Product Info'!F7*('Daily Info (October)'!AI6)","v":0},null,null,{"$f":"AI6*('Product Info'!H7)","v":0},{"$f":"AI6*('Product Info'!M7+'Product Info'!P7+'Product Info'!S7+'Product Info'!V7+'Product Info'!Y7+'Product Info'!AB7+'Product Info'!AE7+'Product Info'!AH7+'Product Info'!AK7+'Product Info'!AN7+'Product Info'!AQ7+'Product Info'!AT7+'Product Info'!AW7+'Product Info'!AZ7+'Product Info'!BC7+'Product Info'!BF7+'Product Info'!BI7+'Product Info'!BL7+'Product Info'!BO7+'Product Info'!BR7+'Product Info'!BU7+'Product Info'!BX7+'Product Info'!CA7+'Product Info'!CD7+'Product Info'!CG7+'Product Info'!CJ7+'Product Info'!CM7+'Product Info'!CP7+'Product Info'!CS7+'Product Info'!CV7+'Product Info'!CY7+'Product Info'!DB7+'Product Info'!DE7+'Product Info'!DH7+'Product Info'!DK7+'Product Info'!DN7+'Product Info'!DQ7+'Product Info'!DT7+'Product Info'!DW7+'Product Info'!DZ7+'Product Info'!EC7+'Product Info'!EF7+'Product Info'!EI7+'Product Info'!EL7+'Product Info'!EO7+'Product Info'!ER7+'Product Info'!EU7+'Product Info'!EX7+'Product Info'!FA7+'Product Info'!FD7)","v":0},{"$f":"AI6*('Product Info'!M7)","v":0},{"$f":"AI6*'Product Info'!P7","v":0},{"$f":"AI6*'Product Info'!S7","v":0},{"$f":"AI6*'Product Info'!V7","v":0},{"$f":"AI6*'Product Info'!Y7","v":0},{"$f":"AI6*'Product Info'!AB7","v":0},{"$f":"AI6*'Product Info'!AE7","v":0},{"$f":"AI6*'Product Info'!AH7","v":0},{"$f":"AI6*'Product Info'!AK7","v":0},{"$f":"AI6*'Product Info'!AN7","v":0},{"$f":"AI6*'Product Info'!AQ7","v":0},{"$f":"AI6*'Product Info'!AT7","v":0},{"$f":"AI6*'Product Info'!AW7","v":0},{"$f":"AI6*'Product Info'!AZ7","v":0},{"$f":"AI6*'Product Info'!BC7","v":0},{"$f":"AI6*'Product Info'!BF7","v":0},{"$f":"AI6*'Product Info'!BI7","v":0},{"$f":"AI6*'Product Info'!BL7","v":0},{"$f":"AI6*'Product Info'!BO7","v":0},{"$f":"AI6*'Product Info'!BR7","v":0},{"$f":"AI6*'Product Info'!BU7","v":0},{"$f":"AI6*'Product Info'!BX7","v":0}]
[{"$f":"'Product Info'!A8","v":0},{"$f":"'Product Info'!B8","v":0},{"$f":"'Product Info'!C8","v":0},null,null,null,null,null,null,null,null,null,null,null,null,null,null,null,null,null,null,null,null,null,null,null,null,null,null,null,null,null,null,null,0,{"$f":"'Product Info'!F8*('Daily Info (October)'!AI7)","v":0},null,null,{"$f":"AI7*('Product Info'!H8)","v":0},{"$f":"AI7*('Product Info'!M8+'Product Info'!P8+'Product Info'!S8+'Product Info'!V8+'Product Info'!Y8+'Product Info'!AB8+'Product Info'!AE8+'Product Info'!AH8+'Product Info'!AK8+'Product Info'!AN8+'Product Info'!AQ8+'Product Info'!AT8+'Product Info'!AW8+'Product Info'!AZ8+'Product Info'!BC8+'Product Info'!BF8+'Product Info'!BI8+'Product Info'!BL8+'Product Info'!BO8+'Product Info'!BR8+'Product Info'!BU8+'Product Info'!BX8+'Product Info'!CA8+'Product Info'!CD8+'Product Info'!CG8+'Product Info'!CJ8+'Product Info'!CM8+'Product Info'!CP8+'Product Info'!CS8+'Product Info'!CV8+'Product Info'!CY8+'Product Info'!DB8+'Product Info'!DE8+'Product Info'!DH8+'Product Info'!DK8+'Product Info'!DN8+'Product Info'!DQ8+'Product Info'!DT8+'Product Info'!DW8+'Product Info'!DZ8+'Product Info'!EC8+'Product Info'!EF8+'Product Info'!EI8+'Product Info'!EL8+'Product Info'!EO8+'Product Info'!ER8+'Product Info'!EU8+'Product Info'!EX8+'Product Info'!FA8+'Product Info'!FD8)","v":0},{"$f":"AI7*('Product Info'!M8)","v":0},{"$f":"AI7*'Product Info'!P8","v":0},{"$f":"AI7*'Product Info'!S8","v":0},{"$f":"AI7*'Product Info'!V8","v":0},{"$f":"AI7*'Product Info'!Y8","v":0},{"$f":"AI7*'Product Info'!AB8","v":0},{"$f":"AI7*'Product Info'!AE8","v":0},{"$f":"AI7*'Product Info'!AH8","v":0},{"$f":"AI7*'Product Info'!AK8","v":0},{"$f":"AI7*'Product Info'!AN8","v":0},{"$f":"AI7*'Product Info'!AQ8","v":0},{"$f":"AI7*'Product Info'!AT8","v":0},{"$f":"AI7*'Product Info'!AW8","v":0},{"$f":"AI7*'Product Info'!AZ8","v":0},{"$f":"AI7*'Product Info'!BC8","v":0},{"$f":"AI7*'Product Info'!BF8","v":0},{"$f":"AI7*'Product Info'!BI8","v":0},{"$f":"AI7*'Product Info'!BL8","v":0},{"$f":"AI7*'Product Info'!BO8","v":0},{"$f":"AI7*'Product Info'!BR8","v":0},{"$f":"AI7*'Product Info'!BU8","v":0},{"$f":"AI7*'Product Info'!BX8","v":0}]
[{"$f":"'Product Info'!A9","v":0},{"$f":"'Product Info'!B9","v":0},{"$f":"'Product Info'!C9","v":0},null,null,null,null,null,null,null,null,null,null,null,null,null,null,null,null,null,null,null,null,null,null,null,null,null,null,null,null,null,null,null,0,{"$f":"'Product Info'!F9*('Daily Info (October)'!AI8)","v":0},null,null,{"$f":"AI8*('Product Info'!H9)","v":0},{"$f":"AI8*('Product Info'!M9+'Product Info'!P9+'Product Info'!S9+'Product Info'!V9+'Product Info'!Y9+'Product Info'!AB9+'Product Info'!AE9+'Product Info'!AH9+'Product Info'!AK9+'Product Info'!AN9+'Product Info'!AQ9+'Product Info'!AT9+'Product Info'!AW9+'Product Info'!AZ9+'Product Info'!BC9+'Product Info'!BF9+'Product Info'!BI9+'Product Info'!BL9+'Product Info'!BO9+'Product Info'!BR9+'Product Info'!BU9+'Product Info'!BX9+'Product Info'!CA9+'Product Info'!CD9+'Product Info'!CG9+'Product Info'!CJ9+'Product Info'!CM9+'Product Info'!CP9+'Product Info'!CS9+'Product Info'!CV9+'Product Info'!CY9+'Product Info'!DB9+'Product Info'!DE9+'Product Info'!DH9+'Product Info'!DK9+'Product Info'!DN9+'Product Info'!DQ9+'Product Info'!DT9+'Product Info'!DW9+'Product Info'!DZ9+'Product Info'!EC9+'Product Info'!EF9+'Product Info'!EI9+'Product Info'!EL9+'Product Info'!EO9+'Product Info'!ER9+'Product Info'!EU9+'Product Info'!EX9+'Product Info'!FA9+'Product Info'!FD9)","v":0},{"$f":"AI8*('Product Info'!M9)","v":0},{"$f":"AI8*'Product Info'!P9","v":0},{"$f":"AI8*'Product Info'!S9","v":0},{"$f":"AI8*'Product Info'!V9","v":0},{"$f":"AI8*'Product Info'!Y9","v":0},{"$f":"AI8*'Product Info'!AB9","v":0},{"$f":"AI8*'Product Info'!AE9","v":0},{"$f":"AI8*'Product Info'!AH9","v":0},{"$f":"AI8*'Product Info'!AK9","v":0},{"$f":"AI8*'Product Info'!AN9","v":0},{"$f":"AI8*'Product Info'!AQ9","v":0},{"$f":"AI8*'Product Info'!AT9","v":0},{"$f":"AI8*'Product Info'!AW9","v":0},{"$f":"AI8*'Product Info'!AZ9","v":0},{"$f":"AI8*'Product Info'!BC9","v":0},{"$f":"AI8*'Product Info'!BF9","v":0},{"$f":"AI8*'Product Info'!BI9","v":0},{"$f":"AI8*'Product Info'!BL9","v":0},{"$f":"AI8*'Product Info'!BO9","v":0},{"$f":"AI8*'Product Info'!BR9","v":0},{"$f":"AI8*'Product Info'!BU9","v":0},{"$f":"AI8*'Product Info'!BX9","v":0}]
[{"$f":"'Product Info'!A10","v":0},{"$f":"'Product Info'!B10","v":0},{"$f":"'Product Info'!C10","v":0},null,null,null,null,null,null,null,null,null,null,null,null,null,null,null,null,null,null,null,null,null,null,null,null,null,null,null,null,null,null,null,0,{"$f":"'Product Info'!F10*('Daily Info (October)'!AI9)","v":0},null,null,{"$f":"AI9*('Product Info'!H10)","v":0},{"$f":"AI9*('Product Info'!M10+'Product Info'!P10+'Product Info'!S10+'Product Info'!V10+'Product Info'!Y10+'Product Info'!AB10+'Product Info'!AE10+'Product Info'!AH10+'Product Info'!AK10+'Product Info'!AN10+'Product Info'!AQ10+'Product Info'!AT10+'Product Info'!AW10+'Product Info'!AZ10+'Product Info'!BC10+'Product Info'!BF10+'Product Info'!BI10+'Product Info'!BL10+'Product Info'!BO10+'Product Info'!BR10+'Product Info'!BU10+'Product Info'!BX10+'Product Info'!CA10+'Product Info'!CD10+'Product Info'!CG10+'Product Info'!CJ10+'Product Info'!CM10+'Product Info'!CP10+'Product Info'!CS10+'Product Info'!CV10+'Product Info'!CY10+'Product Info'!DB10+'Product Info'!DE10+'Product Info'!DH10+'Product Info'!DK10+'Product Info'!DN10+'Product Info'!DQ10+'Product Info'!DT10+'Product Info'!DW10+'Product Info'!DZ10+'Product Info'!EC10+'Product Info'!EF10+'Product Info'!EI10+'Product Info'!EL10+'Product Info'!EO10+'Product Info'!ER10+'Product Info'!EU10+'Product Info'!EX10+'Product Info'!FA10+'Product Info'!FD10)","v":0},{"$f":"AI9*('Product Info'!M10)","v":0},{"$f":"AI9*'Product Info'!P10","v":0},{"$f":"AI9*'Product Info'!S10","v":0},{"$f":"AI9*'Product Info'!V10","v":0},{"$f":"AI9*'Product Info'!Y10","v":0},{"$f":"AI9*'Product Info'!AB10","v":0},{"$f":"AI9*'Product Info'!AE10","v":0},{"$f":"AI9*'Product Info'!AH10","v":0},{"$f":"AI9*'Product Info'!AK10","v":0},{"$f":"AI9*'Product Info'!AN10","v":0},{"$f":"AI9*'Product Info'!AQ10","v":0},{"$f":"AI9*'Product Info'!AT10","v":0},{"$f":"AI9*'Product Info'!AW10","v":0},{"$f":"AI9*'Product Info'!AZ10","v":0},{"$f":"AI9*'Product Info'!BC10","v":0},{"$f":"AI9*'Product Info'!BF10","v":0},{"$f":"AI9*'Product Info'!BI10","v":0},{"$f":"AI9*'Product Info'!BL10","v":0},{"$f":"AI9*'Product Info'!BO10","v":0},{"$f":"AI9*'Product Info'!BR10","v":0},{"$f":"AI9*'Product Info'!BU10","v":0},{"$f":"AI9*'Product Info'!BX10","v":0}]
[{"$f":"'Product Info'!A11","v":0},{"$f":"'Product Info'!B11","v":0},{"$f":"'Product Info'!C11","v":0},null,null,null,null,null,null,null,null,null,null,null,null,null,null,null,null,null,null,null,null,null,null,null,null,null,null,null,null,null,null,null,0,{"$f":"'Product Info'!F11*('Daily Info (October)'!AI10)","v":0},null,null,{"$f":"AI10*('Product Info'!H11)","v":0},{"$f":"AI10*('Product Info'!M11+'Product Info'!P11+'Product Info'!S11+'Product Info'!V11+'Product Info'!Y11+'Product Info'!AB11+'Product Info'!AE11+'Product Info'!AH11+'Product Info'!AK11+'Product Info'!AN11+'Product Info'!AQ11+'Product Info'!AT11+'Product Info'!AW11+'Product Info'!AZ11+'Product Info'!BC11+'Product Info'!BF11+'Product Info'!BI11+'Product Info'!BL11+'Product Info'!BO11+'Product Info'!BR11+'Product Info'!BU11+'Product Info'!BX11+'Product Info'!CA11+'Product Info'!CD11+'Product Info'!CG11+'Product Info'!CJ11+'Product Info'!CM11+'Product Info'!CP11+'Product Info'!CS11+'Product Info'!CV11+'Product Info'!CY11+'Product Info'!DB11+'Product Info'!DE11+'Product Info'!DH11+'Product Info'!DK11+'Product Info'!DN11+'Product Info'!DQ11+'Product Info'!DT11+'Product Info'!DW11+'Product Info'!DZ11+'Product Info'!EC11+'Product Info'!EF11+'Product Info'!EI11+'Product Info'!EL11+'Product Info'!EO11+'Product Info'!ER11+'Product Info'!EU11+'Product Info'!EX11+'Product Info'!FA11+'Product Info'!FD11)","v":0},{"$f":"AI10*('Product Info'!M11)","v":0},{"$f":"AI10*'Product Info'!P11","v":0},{"$f":"AI10*'Product Info'!S11","v":0},{"$f":"AI10*'Product Info'!V11","v":0},{"$f":"AI10*'Product Info'!Y11","v":0},{"$f":"AI10*'Product Info'!AB11","v":0},{"$f":"AI10*'Product Info'!AE11","v":0},{"$f":"AI10*'Product Info'!AH11","v":0},{"$f":"AI10*'Product Info'!AK11","v":0},{"$f":"AI10*'Product Info'!AN11","v":0},{"$f":"AI10*'Product Info'!AQ11","v":0},{"$f":"AI10*'Product Info'!AT11","v":0},{"$f":"AI10*'Product Info'!AW11","v":0},{"$f":"AI10*'Product Info'!AZ11","v":0},{"$f":"AI10*'Product Info'!BC11","v":0},{"$f":"AI10*'Product Info'!BF11","v":0},{"$f":"AI10*'Product Info'!BI11","v":0},{"$f":"AI10*'Product Info'!BL11","v":0},{"$f":"AI10*'Product Info'!BO11","v":0},{"$f":"AI10*'Product Info'!BR11","v":0},{"$f":"AI10*'Product Info'!BU11","v":0},{"$f":"AI10*'Product Info'!BX11","v":0}]
[{"$f":"'Product Info'!A12","v":0},{"$f":"'Product Info'!B12","v":0},{"$f":"'Product Info'!C12","v":0},null,null,null,null,null,null,null,null,null,null,null,null,null,null,null,null,null,null,null,null,null,null,null,null,null,null,null,null,null,null,null,0,{"$f":"'Product Info'!F12*('Daily Info (October)'!AI11)","v":0},null,null,{"$f":"AI11*('Product Info'!H12)","v":0},{"$f":"AI11*('Product Info'!M12+'Product Info'!P12+'Product Info'!S12+'Product Info'!V12+'Product Info'!Y12+'Product Info'!AB12+'Product Info'!AE12+'Product Info'!AH12+'Product Info'!AK12+'Product Info'!AN12+'Product Info'!AQ12+'Product Info'!AT12+'Product Info'!AW12+'Product Info'!AZ12+'Product Info'!BC12+'Product Info'!BF12+'Product Info'!BI12+'Product Info'!BL12+'Product Info'!BO12+'Product Info'!BR12+'Product Info'!BU12+'Product Info'!BX12+'Product Info'!CA12+'Product Info'!CD12+'Product Info'!CG12+'Product Info'!CJ12+'Product Info'!CM12+'Product Info'!CP12+'Product Info'!CS12+'Product Info'!CV12+'Product Info'!CY12+'Product Info'!DB12+'Product Info'!DE12+'Product Info'!DH12+'Product Info'!DK12+'Product Info'!DN12+'Product Info'!DQ12+'Product Info'!DT12+'Product Info'!DW12+'Product Info'!DZ12+'Product Info'!EC12+'Product Info'!EF12+'Product Info'!EI12+'Product Info'!EL12+'Product Info'!EO12+'Product Info'!ER12+'Product Info'!EU12+'Product Info'!EX12+'Product Info'!FA12+'Product Info'!FD12)","v":0},{"$f":"AI11*('Product Info'!M12)","v":0},{"$f":"AI11*'Product Info'!P12","v":0},{"$f":"AI11*'Product Info'!S12","v":0},{"$f":"AI11*'Product Info'!V12","v":0},{"$f":"AI11*'Product Info'!Y12","v":0},{"$f":"AI11*'Product Info'!AB12","v":0},{"$f":"AI11*'Product Info'!AE12","v":0},{"$f":"AI11*'Product Info'!AH12","v":0},{"$f":"AI11*'Product Info'!AK12","v":0},{"$f":"AI11*'Product Info'!AN12","v":0},{"$f":"AI11*'Product Info'!AQ12","v":0},{"$f":"AI11*'Product Info'!AT12","v":0},{"$f":"AI11*'Product Info'!AW12","v":0},{"$f":"AI11*'Product Info'!AZ12","v":0},{"$f":"AI11*'Product Info'!BC12","v":0},{"$f":"AI11*'Product Info'!BF12","v":0},{"$f":"AI11*'Product Info'!BI12","v":0},{"$f":"AI11*'Product Info'!BL12","v":0},{"$f":"AI11*'Product Info'!BO12","v":0},{"$f":"AI11*'Product Info'!BR12","v":0},{"$f":"AI11*'Product Info'!BU12","v":0},{"$f":"AI11*'Product Info'!BX12","v":0}]
[{"$f":"'Product Info'!A13","v":0},{"$f":"'Product Info'!B13","v":0},{"$f":"'Product Info'!C13","v":0},null,null,null,null,null,null,null,null,null,null,null,null,null,null,null,null,null,null,null,null,null,null,null,null,null,null,null,null,null,null,null,0,{"$f":"'Product Info'!F13*('Daily Info (October)'!AI12)","v":0},null,null,{"$f":"AI12*('Product Info'!H13)","v":0},{"$f":"AI12*('Product Info'!M13+'Product Info'!P13+'Product Info'!S13+'Product Info'!V13+'Product Info'!Y13+'Product Info'!AB13+'Product Info'!AE13+'Product Info'!AH13+'Product Info'!AK13+'Product Info'!AN13+'Product Info'!AQ13+'Product Info'!AT13+'Product Info'!AW13+'Product Info'!AZ13+'Product Info'!BC13+'Product Info'!BF13+'Product Info'!BI13+'Product Info'!BL13+'Product Info'!BO13+'Product Info'!BR13+'Product Info'!BU13+'Product Info'!BX13+'Product Info'!CA13+'Product Info'!CD13+'Product Info'!CG13+'Product Info'!CJ13+'Product Info'!CM13+'Product Info'!CP13+'Product Info'!CS13+'Product Info'!CV13+'Product Info'!CY13+'Product Info'!DB13+'Product Info'!DE13+'Product Info'!DH13+'Product Info'!DK13+'Product Info'!DN13+'Product Info'!DQ13+'Product Info'!DT13+'Product Info'!DW13+'Product Info'!DZ13+'Product Info'!EC13+'Product Info'!EF13+'Product Info'!EI13+'Product Info'!EL13+'Product Info'!EO13+'Product Info'!ER13+'Product Info'!EU13+'Product Info'!EX13+'Product Info'!FA13+'Product Info'!FD13)","v":0},{"$f":"AI12*('Product Info'!M13)","v":0},{"$f":"AI12*'Product Info'!P13","v":0},{"$f":"AI12*'Product Info'!S13","v":0},{"$f":"AI12*'Product Info'!V13","v":0},{"$f":"AI12*'Product Info'!Y13","v":0},{"$f":"AI12*'Product Info'!AB13","v":0},{"$f":"AI12*'Product Info'!AE13","v":0},{"$f":"AI12*'Product Info'!AH13","v":0},{"$f":"AI12*'Product Info'!AK13","v":0},{"$f":"AI12*'Product Info'!AN13","v":0},{"$f":"AI12*'Product Info'!AQ13","v":0},{"$f":"AI12*'Product Info'!AT13","v":0},{"$f":"AI12*'Product Info'!AW13","v":0},{"$f":"AI12*'Product Info'!AZ13","v":0},{"$f":"AI12*'Product Info'!BC13","v":0},{"$f":"AI12*'Product Info'!BF13","v":0},{"$f":"AI12*'Product Info'!BI13","v":0},{"$f":"AI12*'Product Info'!BL13","v":0},{"$f":"AI12*'Product Info'!BO13","v":0},{"$f":"AI12*'Product Info'!BR13","v":0},{"$f":"AI12*'Product Info'!BU13","v":0},{"$f":"AI12*'Product Info'!BX13","v":0}]
[{"$f":"'Product Info'!A14","v":0},{"$f":"'Product Info'!B14","v":0},{"$f":"'Product Info'!C14","v":0},null,null,null,null,null,null,null,null,null,null,null,null,null,null,null,null,null,null,null,null,null,null,null,null,null,null,null,null,null,null,null,0,{"$f":"'Product Info'!F14*('Daily Info (October)'!AI13)","v":0},null,null,{"$f":"AI13*('Product Info'!H14)","v":0},{"$f":"AI13*('Product Info'!M14+'Product Info'!P14+'Product Info'!S14+'Product Info'!V14+'Product Info'!Y14+'Product Info'!AB14+'Product Info'!AE14+'Product Info'!AH14+'Product Info'!AK14+'Product Info'!AN14+'Product Info'!AQ14+'Product Info'!AT14+'Product Info'!AW14+'Product Info'!AZ14+'Product Info'!BC14+'Product Info'!BF14+'Product Info'!BI14+'Product Info'!BL14+'Product Info'!BO14+'Product Info'!BR14+'Product Info'!BU14+'Product Info'!BX14+'Product Info'!CA14+'Product Info'!CD14+'Product Info'!CG14+'Product Info'!CJ14+'Product Info'!CM14+'Product Info'!CP14+'Product Info'!CS14+'Product Info'!CV14+'Product Info'!CY14+'Product Info'!DB14+'Product Info'!DE14+'Product Info'!DH14+'Product Info'!DK14+'Product Info'!DN14+'Product Info'!DQ14+'Product Info'!DT14+'Product Info'!DW14+'Product Info'!DZ14+'Product Info'!EC14+'Product Info'!EF14+'Product Info'!EI14+'Product Info'!EL14+'Product Info'!EO14+'Product Info'!ER14+'Product Info'!EU14+'Product Info'!EX14+'Product Info'!FA14+'Product Info'!FD14)","v":0},{"$f":"AI13*('Product Info'!M14)","v":0},{"$f":"AI13*'Product Info'!P14","v":0},{"$f":"AI13*'Product Info'!S14","v":0},{"$f":"AI13*'Product Info'!V14","v":0},{"$f":"AI13*'Product Info'!Y14","v":0},{"$f":"AI13*'Product Info'!AB14","v":0},{"$f":"AI13*'Product Info'!AE14","v":0},{"$f":"AI13*'Product Info'!AH14","v":0},{"$f":"AI13*'Product Info'!AK14","v":0},{"$f":"AI13*'Product Info'!AN14","v":0},{"$f":"AI13*'Product Info'!AQ14","v":0},{"$f":"AI13*'Product Info'!AT14","v":0},{"$f":"AI13*'Product Info'!AW14","v":0},{"$f":"AI13*'Product Info'!AZ14","v":0},{"$f":"AI13*'Product Info'!BC14","v":0},{"$f":"AI13*'Product Info'!BF14","v":0},{"$f":"AI13*'Product Info'!BI14","v":0},{"$f":"AI13*'Product Info'!BL14","v":0},{"$f":"AI13*'Product Info'!BO14","v":0},{"$f":"AI13*'Product Info'!BR14","v":0},{"$f":"AI13*'Product Info'!BU14","v":0},{"$f":"AI13*'Product Info'!BX14","v":0}]
[{"$f":"'Product Info'!A15","v":0},{"$f":"'Product Info'!B15","v":0},{"$f":"'Product Info'!C15","v":0},null,null,null,null,null,null,null,null,null,null,null,null,null,null,null,null,null,null,null,null,null,null,null,null,null,null,null,null,null,null,null,0,{"$f":"'Product Info'!F15*('Daily Info (October)'!AI14)","v":0},null,null,{"$f":"AI14*('Product Info'!H15)","v":0},{"$f":"AI14*('Product Info'!M15+'Product Info'!P15+'Product Info'!S15+'Product Info'!V15+'Product Info'!Y15+'Product Info'!AB15+'Product Info'!AE15+'Product Info'!AH15+'Product Info'!AK15+'Product Info'!AN15+'Product Info'!AQ15+'Product Info'!AT15+'Product Info'!AW15+'Product Info'!AZ15+'Product Info'!BC15+'Product Info'!BF15+'Product Info'!BI15+'Product Info'!BL15+'Product Info'!BO15+'Product Info'!BR15+'Product Info'!BU15+'Product Info'!BX15+'Product Info'!CA15+'Product Info'!CD15+'Product Info'!CG15+'Product Info'!CJ15+'Product Info'!CM15+'Product Info'!CP15+'Product Info'!CS15+'Product Info'!CV15+'Product Info'!CY15+'Product Info'!DB15+'Product Info'!DE15+'Product Info'!DH15+'Product Info'!DK15+'Product Info'!DN15+'Product Info'!DQ15+'Product Info'!DT15+'Product Info'!DW15+'Product Info'!DZ15+'Product Info'!EC15+'Product Info'!EF15+'Product Info'!EI15+'Product Info'!EL15+'Product Info'!EO15+'Product Info'!ER15+'Product Info'!EU15+'Product Info'!EX15+'Product Info'!FA15+'Product Info'!FD15)","v":0},{"$f":"AI14*('Product Info'!M15)","v":0},{"$f":"AI14*'Product Info'!P15","v":0},{"$f":"AI14*'Product Info'!S15","v":0},{"$f":"AI14*'Product Info'!V15","v":0},{"$f":"AI14*'Product Info'!Y15","v":0},{"$f":"AI14*'Product Info'!AB15","v":0},{"$f":"AI14*'Product Info'!AE15","v":0},{"$f":"AI14*'Product Info'!AH15","v":0},{"$f":"AI14*'Product Info'!AK15","v":0},{"$f":"AI14*'Product Info'!AN15","v":0},{"$f":"AI14*'Product Info'!AQ15","v":0},{"$f":"AI14*'Product Info'!AT15","v":0},{"$f":"AI14*'Product Info'!AW15","v":0},{"$f":"AI14*'Product Info'!AZ15","v":0},{"$f":"AI14*'Product Info'!BC15","v":0},{"$f":"AI14*'Product Info'!BF15","v":0},{"$f":"AI14*'Product Info'!BI15","v":0},{"$f":"AI14*'Product Info'!BL15","v":0},{"$f":"AI14*'Product Info'!BO15","v":0},{"$f":"AI14*'Product Info'!BR15","v":0},{"$f":"AI14*'Product Info'!BU15","v":0},{"$f":"AI14*'Product Info'!BX15","v":0}]
[{"$f":"'Product Info'!A16","v":0},{"$f":"'Product Info'!B16","v":0},{"$f":"'Product Info'!C16","v":0},null,null,null,null,null,null,null,null,null,null,null,null,null,null,null,null,null,null,null,null,null,null,null,null,null,null,null,null,null,null,null,0,{"$f":"'Product Info'!F16*('Daily Info (October)'!AI15)","v":0},null,null,{"$f":"AI15*('Product Info'!H16)","v":0},{"$f":"AI15*('Product Info'!M16+'Product Info'!P16+'Product Info'!S16+'Product Info'!V16+'Product Info'!Y16+'Product Info'!AB16+'Product Info'!AE16+'Product Info'!AH16+'Product Info'!AK16+'Product Info'!AN16+'Product Info'!AQ16+'Product Info'!AT16+'Product Info'!AW16+'Product Info'!AZ16+'Product Info'!BC16+'Product Info'!BF16+'Product Info'!BI16+'Product Info'!BL16+'Product Info'!BO16+'Product Info'!BR16+'Product Info'!BU16+'Product Info'!BX16+'Product Info'!CA16+'Product Info'!CD16+'Product Info'!CG16+'Product Info'!CJ16+'Product Info'!CM16+'Product Info'!CP16+'Product Info'!CS16+'Product Info'!CV16+'Product Info'!CY16+'Product Info'!DB16+'Product Info'!DE16+'Product Info'!DH16+'Product Info'!DK16+'Product Info'!DN16+'Product Info'!DQ16+'Product Info'!DT16+'Product Info'!DW16+'Product Info'!DZ16+'Product Info'!EC16+'Product Info'!EF16+'Product Info'!EI16+'Product Info'!EL16+'Product Info'!EO16+'Product Info'!ER16+'Product Info'!EU16+'Product Info'!EX16+'Product Info'!FA16+'Product Info'!FD16)","v":0},{"$f":"AI15*('Product Info'!M16)","v":0},{"$f":"AI15*'Product Info'!P16","v":0},{"$f":"AI15*'Product Info'!S16","v":0},{"$f":"AI15*'Product Info'!V16","v":0},{"$f":"AI15*'Product Info'!Y16","v":0},{"$f":"AI15*'Product Info'!AB16","v":0},{"$f":"AI15*'Product Info'!AE16","v":0},{"$f":"AI15*'Product Info'!AH16","v":0},{"$f":"AI15*'Product Info'!AK16","v":0},{"$f":"AI15*'Product Info'!AN16","v":0},{"$f":"AI15*'Product Info'!AQ16","v":0},{"$f":"AI15*'Product Info'!AT16","v":0},{"$f":"AI15*'Product Info'!AW16","v":0},{"$f":"AI15*'Product Info'!AZ16","v":0},{"$f":"AI15*'Product Info'!BC16","v":0},{"$f":"AI15*'Product Info'!BF16","v":0},{"$f":"AI15*'Product Info'!BI16","v":0},{"$f":"AI15*'Product Info'!BL16","v":0},{"$f":"AI15*'Product Info'!BO16","v":0},{"$f":"AI15*'Product Info'!BR16","v":0},{"$f":"AI15*'Product Info'!BU16","v":0},{"$f":"AI15*'Product Info'!BX16","v":0}]
[{"$f":"'Product Info'!A17","v":0},{"$f":"'Product Info'!B17","v":0},{"$f":"'Product Info'!C17","v":0},null,null,null,null,null,null,null,null,null,null,null,null,null,null,null,null,null,null,null,null,null,null,null,null,null,null,null,null,null,null,null,0,{"$f":"'Product Info'!F17*('Daily Info (October)'!AI16)","v":0},null,null,{"$f":"AI16*('Product Info'!H17)","v":0},{"$f":"AI16*('Product Info'!M17+'Product Info'!P17+'Product Info'!S17+'Product Info'!V17+'Product Info'!Y17+'Product Info'!AB17+'Product Info'!AE17+'Product Info'!AH17+'Product Info'!AK17+'Product Info'!AN17+'Product Info'!AQ17+'Product Info'!AT17+'Product Info'!AW17+'Product Info'!AZ17+'Product Info'!BC17+'Product Info'!BF17+'Product Info'!BI17+'Product Info'!BL17+'Product Info'!BO17+'Product Info'!BR17+'Product Info'!BU17+'Product Info'!BX17+'Product Info'!CA17+'Product Info'!CD17+'Product Info'!CG17+'Product Info'!CJ17+'Product Info'!CM17+'Product Info'!CP17+'Product Info'!CS17+'Product Info'!CV17+'Product Info'!CY17+'Product Info'!DB17+'Product Info'!DE17+'Product Info'!DH17+'Product Info'!DK17+'Product Info'!DN17+'Product Info'!DQ17+'Product Info'!DT17+'Product Info'!DW17+'Product Info'!DZ17+'Product Info'!EC17+'Product Info'!EF17+'Product Info'!EI17+'Product Info'!EL17+'Product Info'!EO17+'Product Info'!ER17+'Product Info'!EU17+'Product Info'!EX17+'Product Info'!FA17+'Product Info'!FD17)","v":0},{"$f":"AI16*('Product Info'!M17)","v":0},{"$f":"AI16*'Product Info'!P17","v":0},{"$f":"AI16*'Product Info'!S17","v":0},{"$f":"AI16*'Product Info'!V17","v":0},{"$f":"AI16*'Product Info'!Y17","v":0},{"$f":"AI16*'Product Info'!AB17","v":0},{"$f":"AI16*'Product Info'!AE17","v":0},{"$f":"AI16*'Product Info'!AH17","v":0},{"$f":"AI16*'Product Info'!AK17","v":0},{"$f":"AI16*'Product Info'!AN17","v":0},{"$f":"AI16*'Product Info'!AQ17","v":0},{"$f":"AI16*'Product Info'!AT17","v":0},{"$f":"AI16*'Product Info'!AW17","v":0},{"$f":"AI16*'Product Info'!AZ17","v":0},{"$f":"AI16*'Product Info'!BC17","v":0},{"$f":"AI16*'Product Info'!BF17","v":0},{"$f":"AI16*'Product Info'!BI17","v":0},{"$f":"AI16*'Product Info'!BL17","v":0},{"$f":"AI16*'Product Info'!BO17","v":0},{"$f":"AI16*'Product Info'!BR17","v":0},{"$f":"AI16*'Product Info'!BU17","v":0},{"$f":"AI16*'Product Info'!BX17","v":0}]
[{"$f":"'Product Info'!A18","v":0},{"$f":"'Product Info'!B18","v":0},{"$f":"'Product Info'!C18","v":0},null,null,null,null,null,null,null,null,null,null,null,null,null,null,null,null,null,null,null,null,null,null,null,null,null,null,null,null,null,null,null,0,{"$f":"'Product Info'!F18*('Daily Info (October)'!AI17)","v":0},null,null,{"$f":"AI17*('Product Info'!H18)","v":0},{"$f":"AI17*('Product Info'!M18+'Product Info'!P18+'Product Info'!S18+'Product Info'!V18+'Product Info'!Y18+'Product Info'!AB18+'Product Info'!AE18+'Product Info'!AH18+'Product Info'!AK18+'Product Info'!AN18+'Product Info'!AQ18+'Product Info'!AT18+'Product Info'!AW18+'Product Info'!AZ18+'Product Info'!BC18+'Product Info'!BF18+'Product Info'!BI18+'Product Info'!BL18+'Product Info'!BO18+'Product Info'!BR18+'Product Info'!BU18+'Product Info'!BX18+'Product Info'!CA18+'Product Info'!CD18+'Product Info'!CG18+'Product Info'!CJ18+'Product Info'!CM18+'Product Info'!CP18+'Product Info'!CS18+'Product Info'!CV18+'Product Info'!CY18+'Product Info'!DB18+'Product Info'!DE18+'Product Info'!DH18+'Product Info'!DK18+'Product Info'!DN18+'Product Info'!DQ18+'Product Info'!DT18+'Product Info'!DW18+'Product Info'!DZ18+'Product Info'!EC18+'Product Info'!EF18+'Product Info'!EI18+'Product Info'!EL18+'Product Info'!EO18+'Product Info'!ER18+'Product Info'!EU18+'Product Info'!EX18+'Product Info'!FA18+'Product Info'!FD18)","v":0},{"$f":"AI17*('Product Info'!M18)","v":0},{"$f":"AI17*'Product Info'!P18","v":0},{"$f":"AI17*'Product Info'!S18","v":0},{"$f":"AI17*'Product Info'!V18","v":0},{"$f":"AI17*'Product Info'!Y18","v":0},{"$f":"AI17*'Product Info'!AB18","v":0},{"$f":"AI17*'Product Info'!AE18","v":0},{"$f":"AI17*'Product Info'!AH18","v":0},{"$f":"AI17*'Product Info'!AK18","v":0},{"$f":"AI17*'Product Info'!AN18","v":0},{"$f":"AI17*'Product Info'!AQ18","v":0},{"$f":"AI17*'Product Info'!AT18","v":0},{"$f":"AI17*'Product Info'!AW18","v":0},{"$f":"AI17*'Product Info'!AZ18","v":0},{"$f":"AI17*'Product Info'!BC18","v":0},{"$f":"AI17*'Product Info'!BF18","v":0},{"$f":"AI17*'Product Info'!BI18","v":0},{"$f":"AI17*'Product Info'!BL18","v":0},{"$f":"AI17*'Product Info'!BO18","v":0},{"$f":"AI17*'Product Info'!BR18","v":0},{"$f":"AI17*'Product Info'!BU18","v":0},{"$f":"AI17*'Product Info'!BX18","v":0}]
[{"$f":"'Product Info'!A19","v":0},{"$f":"'Product Info'!B19","v":0},{"$f":"'Product Info'!C19","v":0},null,null,null,null,null,null,null,null,null,null,null,null,null,null,null,null,null,null,null,null,null,null,null,null,null,null,null,null,null,null,null,0,{"$f":"'Product Info'!F19*('Daily Info (October)'!AI18)","v":0},null,null,{"$f":"AI18*('Product Info'!H19)","v":0},{"$f":"AI18*('Product Info'!M19+'Product Info'!P19+'Product Info'!S19+'Product Info'!V19+'Product Info'!Y19+'Product Info'!AB19+'Product Info'!AE19+'Product Info'!AH19+'Product Info'!AK19+'Product Info'!AN19+'Product Info'!AQ19+'Product Info'!AT19+'Product Info'!AW19+'Product Info'!AZ19+'Product Info'!BC19+'Product Info'!BF19+'Product Info'!BI19+'Product Info'!BL19+'Product Info'!BO19+'Product Info'!BR19+'Product Info'!BU19+'Product Info'!BX19+'Product Info'!CA19+'Product Info'!CD19+'Product Info'!CG19+'Product Info'!CJ19+'Product Info'!CM19+'Product Info'!CP19+'Product Info'!CS19+'Product Info'!CV19+'Product Info'!CY19+'Product Info'!DB19+'Product Info'!DE19+'Product Info'!DH19+'Product Info'!DK19+'Product Info'!DN19+'Product Info'!DQ19+'Product Info'!DT19+'Product Info'!DW19+'Product Info'!DZ19+'Product Info'!EC19+'Product Info'!EF19+'Product Info'!EI19+'Product Info'!EL19+'Product Info'!EO19+'Product Info'!ER19+'Product Info'!EU19+'Product Info'!EX19+'Product Info'!FA19+'Product Info'!FD19)","v":0},{"$f":"AI18*('Product Info'!M19)","v":0},{"$f":"AI18*'Product Info'!P19","v":0},{"$f":"AI18*'Product Info'!S19","v":0},{"$f":"AI18*'Product Info'!V19","v":0},{"$f":"AI18*'Product Info'!Y19","v":0},{"$f":"AI18*'Product Info'!AB19","v":0},{"$f":"AI18*'Product Info'!AE19","v":0},{"$f":"AI18*'Product Info'!AH19","v":0},{"$f":"AI18*'Product Info'!AK19","v":0},{"$f":"AI18*'Product Info'!AN19","v":0},{"$f":"AI18*'Product Info'!AQ19","v":0},{"$f":"AR18*'Product Info'!AF19","v":0},{"$f":"AI18*'Product Info'!AW19","v":0},{"$f":"AI18*'Product Info'!AZ19","v":0},{"$f":"AI18*'Product Info'!BC19","v":0},{"$f":"AI18*'Product Info'!BF19","v":0},{"$f":"AI18*'Product Info'!BI19","v":0},{"$f":"AI18*'Product Info'!BL19","v":0},{"$f":"AI18*'Product Info'!BO19","v":0},{"$f":"AI18*'Product Info'!BR19","v":0},{"$f":"AI18*'Product Info'!BU19","v":0},{"$f":"AI18*'Product Info'!BX19","v":0}]
[{"$f":"'Product Info'!A20","v":0},{"$f":"'Product Info'!B20","v":0},{"$f":"'Product Info'!C20","v":0},null,null,null,null,null,null,null,null,null,null,null,null,null,null,null,null,null,null,null,null,null,null,null,null,null,null,null,null,null,null,null,0,{"$f":"'Product Info'!F20*('Daily Info (October)'!AI19)","v":0},null,null,{"$f":"AI19*('Product Info'!H20)","v":0},{"$f":"AI19*('Product Info'!M20+'Product Info'!P20+'Product Info'!S20+'Product Info'!V20+'Product Info'!Y20+'Product Info'!AB20+'Product Info'!AE20+'Product Info'!AH20+'Product Info'!AK20+'Product Info'!AN20+'Product Info'!AQ20+'Product Info'!AT20+'Product Info'!AW20+'Product Info'!AZ20+'Product Info'!BC20+'Product Info'!BF20+'Product Info'!BI20+'Product Info'!BL20+'Product Info'!BO20+'Product Info'!BR20+'Product Info'!BU20+'Product Info'!BX20+'Product Info'!CA20+'Product Info'!CD20+'Product Info'!CG20+'Product Info'!CJ20+'Product Info'!CM20+'Product Info'!CP20+'Product Info'!CS20+'Product Info'!CV20+'Product Info'!CY20+'Product Info'!DB20+'Product Info'!DE20+'Product Info'!DH20+'Product Info'!DK20+'Product Info'!DN20+'Product Info'!DQ20+'Product Info'!DT20+'Product Info'!DW20+'Product Info'!DZ20+'Product Info'!EC20+'Product Info'!EF20+'Product Info'!EI20+'Product Info'!EL20+'Product Info'!EO20+'Product Info'!ER20+'Product Info'!EU20+'Product Info'!EX20+'Product Info'!FA20+'Product Info'!FD20)","v":0},{"$f":"AI19*('Product Info'!M20)","v":0},{"$f":"AI19*'Product Info'!P20","v":0},{"$f":"AI19*'Product Info'!S20","v":0},{"$f":"AI19*'Product Info'!V20","v":0},{"$f":"AI19*'Product Info'!Y20","v":0},{"$f":"AI19*'Product Info'!AB20","v":0},{"$f":"AI19*'Product Info'!AE20","v":0},{"$f":"AI19*'Product Info'!AH20","v":0},{"$f":"AI19*'Product Info'!AK20","v":0},{"$f":"AI19*'Product Info'!AN20","v":0},{"$f":"AI19*'Product Info'!AQ20","v":0},{"$f":"AR19*'Product Info'!AF20","v":0},{"$f":"AI19*'Product Info'!AW20","v":0},{"$f":"AI19*'Product Info'!AZ20","v":0},{"$f":"AI19*'Product Info'!BC20","v":0},{"$f":"AI19*'Product Info'!BF20","v":0},{"$f":"AI19*'Product Info'!BI20","v":0},{"$f":"AI19*'Product Info'!BL20","v":0},{"$f":"AI19*'Product Info'!BO20","v":0},{"$f":"AI19*'Product Info'!BR20","v":0},{"$f":"AI19*'Product Info'!BU20","v":0},{"$f":"AI19*'Product Info'!BX20","v":0}]
[{"$f":"'Product Info'!A21","v":0},{"$f":"'Product Info'!B21","v":0},{"$f":"'Product Info'!C21","v":0},null,null,null,null,null,null,null,null,null,null,null,null,null,null,null,null,null,null,null,null,null,null,null,null,null,null,null,null,null,null,null,0,{"$f":"'Product Info'!F21*('Daily Info (October)'!AI20)","v":0},null,null,{"$f":"AI20*('Product Info'!H21)","v":0},{"$f":"AI20*('Product Info'!M21+'Product Info'!P21+'Product Info'!S21+'Product Info'!V21+'Product Info'!Y21+'Product Info'!AB21+'Product Info'!AE21+'Product Info'!AH21+'Product Info'!AK21+'Product Info'!AN21+'Product Info'!AQ21+'Product Info'!AT21+'Product Info'!AW21+'Product Info'!AZ21+'Product Info'!BC21+'Product Info'!BF21+'Product Info'!BI21+'Product Info'!BL21+'Product Info'!BO21+'Product Info'!BR21+'Product Info'!BU21+'Product Info'!BX21+'Product Info'!CA21+'Product Info'!CD21+'Product Info'!CG21+'Product Info'!CJ21+'Product Info'!CM21+'Product Info'!CP21+'Product Info'!CS21+'Product Info'!CV21+'Product Info'!CY21+'Product Info'!DB21+'Product Info'!DE21+'Product Info'!DH21+'Product Info'!DK21+'Product Info'!DN21+'Product Info'!DQ21+'Product Info'!DT21+'Product Info'!DW21+'Product Info'!DZ21+'Product Info'!EC21+'Product Info'!EF21+'Product Info'!EI21+'Product Info'!EL21+'Product Info'!EO21+'Product Info'!ER21+'Product Info'!EU21+'Product Info'!EX21+'Product Info'!FA21+'Product Info'!FD21)","v":0},{"$f":"AI20*('Product Info'!M21)","v":0},{"$f":"AI20*'Product Info'!P21","v":0},{"$f":"AI20*'Product Info'!S21","v":0},{"$f":"AI20*'Product Info'!V21","v":0},{"$f":"AI20*'Product Info'!Y21","v":0},{"$f":"AI20*'Product Info'!AB21","v":0},{"$f":"AI20*'Product Info'!AE21","v":0},{"$f":"AI20*'Product Info'!AH21","v":0},{"$f":"AI20*'Product Info'!AK21","v":0},{"$f":"AI20*'Product Info'!AN21","v":0},{"$f":"AI20*'Product Info'!AQ21","v":0},{"$f":"AI20*'Product Info'!AT21","v":0},{"$f":"AI20*'Product Info'!AW21","v":0},{"$f":"AI20*'Product Info'!AZ21","v":0},{"$f":"AI20*'Product Info'!BC21","v":0},{"$f":"AI20*'Product Info'!BF21","v":0},{"$f":"AI20*'Product Info'!BI21","v":0},{"$f":"AI20*'Product Info'!BL21","v":0},{"$f":"AI20*'Product Info'!BO21","v":0},{"$f":"AI20*'Product Info'!BR21","v":0},{"$f":"AI20*'Product Info'!BU21","v":0},{"$f":"AI20*'Product Info'!BX21","v":0}]
[{"$f":"'Product Info'!A22","v":0},{"$f":"'Product Info'!B22","v":0},{"$f":"'Product Info'!C22","v":0},null,null,null,null,null,null,null,null,null,null,null,null,null,null,null,null,null,null,null,null,null,null,null,null,null,null,null,null,null,null,null,0,{"$f":"'Product Info'!F22*('Daily Info (October)'!AI21)","v":0},null,null,{"$f":"AI21*('Product Info'!H22)","v":0},{"$f":"AI21*('Product Info'!M22+'Product Info'!P22+'Product Info'!S22+'Product Info'!V22+'Product Info'!Y22+'Product Info'!AB22+'Product Info'!AE22+'Product Info'!AH22+'Product Info'!AK22+'Product Info'!AN22+'Product Info'!AQ22+'Product Info'!AT22+'Product Info'!AW22+'Product Info'!AZ22+'Product Info'!BC22+'Product Info'!BF22+'Product Info'!BI22+'Product Info'!BL22+'Product Info'!BO22+'Product Info'!BR22+'Product Info'!BU22+'Product Info'!BX22+'Product Info'!CA22+'Product Info'!CD22+'Product Info'!CG22+'Product Info'!CJ22+'Product Info'!CM22+'Product Info'!CP22+'Product Info'!CS22+'Product Info'!CV22+'Product Info'!CY22+'Product Info'!DB22+'Product Info'!DE22+'Product Info'!DH22+'Product Info'!DK22+'Product Info'!DN22+'Product Info'!DQ22+'Product Info'!DT22+'Product Info'!DW22+'Product Info'!DZ22+'Product Info'!EC22+'Product Info'!EF22+'Product Info'!EI22+'Product Info'!EL22+'Product Info'!EO22+'Product Info'!ER22+'Product Info'!EU22+'Product Info'!EX22+'Product Info'!FA22+'Product Info'!FD22)","v":0},{"$f":"AI21*('Product Info'!M22)","v":0},{"$f":"AI21*'Product Info'!P22","v":0},{"$f":"AI21*'Product Info'!S22","v":0},{"$f":"AI21*'Product Info'!V22","v":0},{"$f":"AI21*'Product Info'!Y22","v":0},{"$f":"AI21*'Product Info'!AB22","v":0},{"$f":"AI21*'Product Info'!AE22","v":0},{"$f":"AI21*'Product Info'!AH22","v":0},{"$f":"AI21*'Product Info'!AK22","v":0},{"$f":"AI21*'Product Info'!AN22","v":0},{"$f":"AI21*'Product Info'!AQ22","v":0},{"$f":"AI21*'Product Info'!AT22","v":0},{"$f":"AI21*'Product Info'!AW22","v":0},{"$f":"AI21*'Product Info'!AZ22","v":0},{"$f":"AI21*'Product Info'!BC22","v":0},{"$f":"AI21*'Product Info'!BF22","v":0},{"$f":"AI21*'Product Info'!BI22","v":0},{"$f":"AI21*'Product Info'!BL22","v":0},{"$f":"AI21*'Product Info'!BO22","v":0},{"$f":"AI21*'Product Info'!BR22","v":0},{"$f":"AI21*'Product Info'!BU22","v":0},{"$f":"AI21*'Product Info'!BX22","v":0}]
[{"$f":"'Product Info'!A23","v":0},{"$f":"'Product Info'!B23","v":0},{"$f":"'Product Info'!C23","v":0},null,null,null,null,null,null,null,null,null,null,null,null,null,null,null,null,null,null,null,null,null,null,null,null,null,null,null,null,null,null,null,0,{"$f":"'Product Info'!F23*('Daily Info (October)'!AI22)","v":0},null,null,{"$f":"AI22*('Product Info'!H23)","v":0},{"$f":"AI22*('Product Info'!M23+'Product Info'!P23+'Product Info'!S23+'Product Info'!V23+'Product Info'!Y23+'Product Info'!AB23+'Product Info'!AE23+'Product Info'!AH23+'Product Info'!AK23+'Product Info'!AN23+'Product Info'!AQ23+'Product Info'!AT23+'Product Info'!AW23+'Product Info'!AZ23+'Product Info'!BC23+'Product Info'!BF23+'Product Info'!BI23+'Product Info'!BL23+'Product Info'!BO23+'Product Info'!BR23+'Product Info'!BU23+'Product Info'!BX23+'Product Info'!CA23+'Product Info'!CD23+'Product Info'!CG23+'Product Info'!CJ23+'Product Info'!CM23+'Product Info'!CP23+'Product Info'!CS23+'Product Info'!CV23+'Product Info'!CY23+'Product Info'!DB23+'Product Info'!DE23+'Product Info'!DH23+'Product Info'!DK23+'Product Info'!DN23+'Product Info'!DQ23+'Product Info'!DT23+'Product Info'!DW23+'Product Info'!DZ23+'Product Info'!EC23+'Product Info'!EF23+'Product Info'!EI23+'Product Info'!EL23+'Product Info'!EO23+'Product Info'!ER23+'Product Info'!EU23+'Product Info'!EX23+'Product Info'!FA23+'Product Info'!FD23)","v":0},{"$f":"AI22*('Product Info'!M23)","v":0},{"$f":"AI22*'Product Info'!P23","v":0},{"$f":"AI22*'Product Info'!S23","v":0},{"$f":"AI22*'Product Info'!V23","v":0},{"$f":"AI22*'Product Info'!Y23","v":0},{"$f":"AI22*'Product Info'!AB23","v":0},{"$f":"AI22*'Product Info'!AE23","v":0},{"$f":"AI22*'Product Info'!AH23","v":0},{"$f":"AI22*'Product Info'!AK23","v":0},{"$f":"AI22*'Product Info'!AN23","v":0},{"$f":"AI22*'Product Info'!AQ23","v":0},{"$f":"AI22*'Product Info'!AT23","v":0},{"$f":"AI22*'Product Info'!AW23","v":0},{"$f":"AI22*'Product Info'!AZ23","v":0},{"$f":"AI22*'Product Info'!BC23","v":0},{"$f":"AI22*'Product Info'!BF23","v":0},{"$f":"AI22*'Product Info'!BI23","v":0},{"$f":"AI22*'Product Info'!BL23","v":0},{"$f":"AI22*'Product Info'!BO23","v":0},{"$f":"AI22*'Product Info'!BR23","v":0},{"$f":"AI22*'Product Info'!BU23","v":0},{"$f":"AI22*'Product Info'!BX23","v":0}]
[{"$f":"'Product Info'!A24","v":0},{"$f":"'Product Info'!B24","v":0},{"$f":"'Product Info'!C24","v":0},null,null,null,null,null,null,null,null,null,null,null,null,null,null,null,null,null,null,null,null,null,null,null,null,null,null,null,null,null,null,null,0,{"$f":"'Product Info'!F24*('Daily Info (October)'!AI23)","v":0},null,null,{"$f":"AI23*('Product Info'!H24)","v":0},{"$f":"AI23*('Product Info'!M24+'Product Info'!P24+'Product Info'!S24+'Product Info'!V24+'Product Info'!Y24+'Product Info'!AB24+'Product Info'!AE24+'Product Info'!AH24+'Product Info'!AK24+'Product Info'!AN24+'Product Info'!AQ24+'Product Info'!AT24+'Product Info'!AW24+'Product Info'!AZ24+'Product Info'!BC24+'Product Info'!BF24+'Product Info'!BI24+'Product Info'!BL24+'Product Info'!BO24+'Product Info'!BR24+'Product Info'!BU24+'Product Info'!BX24+'Product Info'!CA24+'Product Info'!CD24+'Product Info'!CG24+'Product Info'!CJ24+'Product Info'!CM24+'Product Info'!CP24+'Product Info'!CS24+'Product Info'!CV24+'Product Info'!CY24+'Product Info'!DB24+'Product Info'!DE24+'Product Info'!DH24+'Product Info'!DK24+'Product Info'!DN24+'Product Info'!DQ24+'Product Info'!DT24+'Product Info'!DW24+'Product Info'!DZ24+'Product Info'!EC24+'Product Info'!EF24+'Product Info'!EI24+'Product Info'!EL24+'Product Info'!EO24+'Product Info'!ER24+'Product Info'!EU24+'Product Info'!EX24+'Product Info'!FA24+'Product Info'!FD24)","v":0},{"$f":"AI23*('Product Info'!M24)","v":0},{"$f":"AI23*'Product Info'!P24","v":0},{"$f":"AI23*'Product Info'!S24","v":0},{"$f":"AI23*'Product Info'!V24","v":0},{"$f":"AI23*'Product Info'!Y24","v":0},{"$f":"AI23*'Product Info'!AB24","v":0},{"$f":"AI23*'Product Info'!AE24","v":0},{"$f":"AI23*'Product Info'!AH24","v":0},{"$f":"AI23*'Product Info'!AK24","v":0},{"$f":"AI23*'Product Info'!AN24","v":0},{"$f":"AI23*'Product Info'!AQ24","v":0},{"$f":"AI23*'Product Info'!AT24","v":0},{"$f":"AI23*'Product Info'!AW24","v":0},{"$f":"AI23*'Product Info'!AZ24","v":0},{"$f":"AI23*'Product Info'!BC24","v":0},{"$f":"AI23*'Product Info'!BF24","v":0},{"$f":"AI23*'Product Info'!BI24","v":0},{"$f":"AI23*'Product Info'!BL24","v":0},{"$f":"AI23*'Product Info'!BO24","v":0},{"$f":"AI23*'Product Info'!BR24","v":0},{"$f":"AI23*'Product Info'!BU24","v":0},{"$f":"AI23*'Product Info'!BX24","v":0}]
[{"$f":"'Product Info'!A25","v":0},{"$f":"'Product Info'!B25","v":0},{"$f":"'Product Info'!C25","v":0},null,null,null,null,null,null,null,null,null,null,null,null,null,null,null,null,null,null,null,null,null,null,null,null,null,null,null,null,null,null,null,0,{"$f":"'Product Info'!F25*('Daily Info (October)'!AI24)","v":0},null,null,{"$f":"AI24*('Product Info'!H25)","v":0},{"$f":"AI24*('Product Info'!M25+'Product Info'!P25+'Product Info'!S25+'Product Info'!V25+'Product Info'!Y25+'Product Info'!AB25+'Product Info'!AE25+'Product Info'!AH25+'Product Info'!AK25+'Product Info'!AN25+'Product Info'!AQ25+'Product Info'!AT25+'Product Info'!AW25+'Product Info'!AZ25+'Product Info'!BC25+'Product Info'!BF25+'Product Info'!BI25+'Product Info'!BL25+'Product Info'!BO25+'Product Info'!BR25+'Product Info'!BU25+'Product Info'!BX25+'Product Info'!CA25+'Product Info'!CD25+'Product Info'!CG25+'Product Info'!CJ25+'Product Info'!CM25+'Product Info'!CP25+'Product Info'!CS25+'Product Info'!CV25+'Product Info'!CY25+'Product Info'!DB25+'Product Info'!DE25+'Product Info'!DH25+'Product Info'!DK25+'Product Info'!DN25+'Product Info'!DQ25+'Product Info'!DT25+'Product Info'!DW25+'Product Info'!DZ25+'Product Info'!EC25+'Product Info'!EF25+'Product Info'!EI25+'Product Info'!EL25+'Product Info'!EO25+'Product Info'!ER25+'Product Info'!EU25+'Product Info'!EX25+'Product Info'!FA25+'Product Info'!FD25)","v":0},{"$f":"AI24*('Product Info'!M25)","v":0},{"$f":"AI24*'Product Info'!P25","v":0},{"$f":"AI24*'Product Info'!S25","v":0},{"$f":"AI24*'Product Info'!V25","v":0},{"$f":"AI24*'Product Info'!Y25","v":0},{"$f":"AI24*'Product Info'!AB25","v":0},{"$f":"AI24*'Product Info'!AE25","v":0},{"$f":"AI24*'Product Info'!AH25","v":0},{"$f":"AI24*'Product Info'!AK25","v":0},{"$f":"AI24*'Product Info'!AN25","v":0},{"$f":"AI24*'Product Info'!AQ25","v":0},{"$f":"AI24*'Product Info'!AT25","v":0},{"$f":"AI24*'Product Info'!AW25","v":0},{"$f":"AI24*'Product Info'!AZ25","v":0},{"$f":"AI24*'Product Info'!BC25","v":0},{"$f":"AI24*'Product Info'!BF25","v":0},{"$f":"AI24*'Product Info'!BI25","v":0},{"$f":"AI24*'Product Info'!BL25","v":0},{"$f":"AI24*'Product Info'!BO25","v":0},{"$f":"AI24*'Product Info'!BR25","v":0},{"$f":"AI24*'Product Info'!BU25","v":0},{"$f":"AI24*'Product Info'!BX25","v":0}]
[{"$f":"'Product Info'!A26","v":0},{"$f":"'Product Info'!B26","v":0},{"$f":"'Product Info'!C26","v":0},null,null,null,null,null,null,null,null,null,null,null,null,null,null,null,null,null,null,null,null,null,null,null,null,null,null,null,null,null,null,null,0,{"$f":"'Product Info'!F26*('Daily Info (October)'!AI25)","v":0},null,null,{"$f":"AI25*('Product Info'!H26)","v":0},{"$f":"AI25*('Product Info'!M26+'Product Info'!P26+'Product Info'!S26+'Product Info'!V26+'Product Info'!Y26+'Product Info'!AB26+'Product Info'!AE26+'Product Info'!AH26+'Product Info'!AK26+'Product Info'!AN26+'Product Info'!AQ26+'Product Info'!AT26+'Product Info'!AW26+'Product Info'!AZ26+'Product Info'!BC26+'Product Info'!BF26+'Product Info'!BI26+'Product Info'!BL26+'Product Info'!BO26+'Product Info'!BR26+'Product Info'!BU26+'Product Info'!BX26+'Product Info'!CA26+'Product Info'!CD26+'Product Info'!CG26+'Product Info'!CJ26+'Product Info'!CM26+'Product Info'!CP26+'Product Info'!CS26+'Product Info'!CV26+'Product Info'!CY26+'Product Info'!DB26+'Product Info'!DE26+'Product Info'!DH26+'Product Info'!DK26+'Product Info'!DN26+'Product Info'!DQ26+'Product Info'!DT26+'Product Info'!DW26+'Product Info'!DZ26+'Product Info'!EC26+'Product Info'!EF26+'Product Info'!EI26+'Product Info'!EL26+'Product Info'!EO26+'Product Info'!ER26+'Product Info'!EU26+'Product Info'!EX26+'Product Info'!FA26+'Product Info'!FD26)","v":0},{"$f":"AI25*('Product Info'!M26)","v":0},{"$f":"AI25*'Product Info'!P26","v":0},{"$f":"AI25*'Product Info'!S26","v":0},{"$f":"AI25*'Product Info'!V26","v":0},{"$f":"AI25*'Product Info'!Y26","v":0},{"$f":"AI25*'Product Info'!AB26","v":0},{"$f":"AI25*'Product Info'!AE26","v":0},{"$f":"AI25*'Product Info'!AH26","v":0},{"$f":"AI25*'Product Info'!AK26","v":0},{"$f":"AI25*'Product Info'!AN26","v":0},{"$f":"AI25*'Product Info'!AQ26","v":0},{"$f":"AI25*'Product Info'!AT26","v":0},{"$f":"AI25*'Product Info'!AW26","v":0},{"$f":"AI25*'Product Info'!AZ26","v":0},{"$f":"AI25*'Product Info'!BC26","v":0},{"$f":"AI25*'Product Info'!BF26","v":0},{"$f":"AI25*'Product Info'!BI26","v":0},{"$f":"AI25*'Product Info'!BL26","v":0},{"$f":"AI25*'Product Info'!BO26","v":0},{"$f":"AI25*'Product Info'!BR26","v":0},{"$f":"AI25*'Product Info'!BU26","v":0},{"$f":"AI25*'Product Info'!BX26","v":0}]
[{"$f":"'Product Info'!A27","v":0},{"$f":"'Product Info'!B27","v":0},{"$f":"'Product Info'!C27","v":0},null,null,null,null,null,null,null,null,null,null,null,null,null,null,null,null,null,null,null,null,null,null,null,null,null,null,null,null,null,null,null,0,{"$f":"'Product Info'!F27*('Daily Info (October)'!AI26)","v":0},null,null,{"$f":"AI26*('Product Info'!H27)","v":0},{"$f":"AI26*('Product Info'!M27+'Product Info'!P27+'Product Info'!S27+'Product Info'!V27+'Product Info'!Y27+'Product Info'!AB27+'Product Info'!AE27+'Product Info'!AH27+'Product Info'!AK27+'Product Info'!AN27+'Product Info'!AQ27+'Product Info'!AT27+'Product Info'!AW27+'Product Info'!AZ27+'Product Info'!BC27+'Product Info'!BF27+'Product Info'!BI27+'Product Info'!BL27+'Product Info'!BO27+'Product Info'!BR27+'Product Info'!BU27+'Product Info'!BX27+'Product Info'!CA27+'Product Info'!CD27+'Product Info'!CG27+'Product Info'!CJ27+'Product Info'!CM27+'Product Info'!CP27+'Product Info'!CS27+'Product Info'!CV27+'Product Info'!CY27+'Product Info'!DB27+'Product Info'!DE27+'Product Info'!DH27+'Product Info'!DK27+'Product Info'!DN27+'Product Info'!DQ27+'Product Info'!DT27+'Product Info'!DW27+'Product Info'!DZ27+'Product Info'!EC27+'Product Info'!EF27+'Product Info'!EI27+'Product Info'!EL27+'Product Info'!EO27+'Product Info'!ER27+'Product Info'!EU27+'Product Info'!EX27+'Product Info'!FA27+'Product Info'!FD27)","v":0},{"$f":"AI26*('Product Info'!M27)","v":0},{"$f":"AI26*'Product Info'!P27","v":0},{"$f":"AI26*'Product Info'!S27","v":0},{"$f":"AI26*'Product Info'!V27","v":0},{"$f":"AI26*'Product Info'!Y27","v":0},{"$f":"AI26*'Product Info'!AB27","v":0},{"$f":"AI26*'Product Info'!AE27","v":0},{"$f":"AI26*'Product Info'!AH27","v":0},{"$f":"AI26*'Product Info'!AK27","v":0},{"$f":"AI26*'Product Info'!AN27","v":0},{"$f":"AI26*'Product Info'!AQ27","v":0},{"$f":"AI26*'Product Info'!AT27","v":0},{"$f":"AI26*'Product Info'!AW27","v":0},{"$f":"AI26*'Product Info'!AZ27","v":0},{"$f":"AI26*'Product Info'!BC27","v":0},{"$f":"AI26*'Product Info'!BF27","v":0},{"$f":"AI26*'Product Info'!BI27","v":0},{"$f":"AI26*'Product Info'!BL27","v":0},{"$f":"AI26*'Product Info'!BO27","v":0},{"$f":"AI26*'Product Info'!BR27","v":0},{"$f":"AI26*'Product Info'!BU27","v":0},{"$f":"AI26*'Product Info'!BX27","v":0}]
[{"$f":"'Product Info'!A28","v":0},{"$f":"'Product Info'!B28","v":0},{"$f":"'Product Info'!C28","v":0},null,null,null,null,null,null,null,null,null,null,null,null,null,null,null,null,null,null,null,null,null,null,null,null,null,null,null,null,null,null,null,0,{"$f":"'Product Info'!F28*('Daily Info (October)'!AI27)","v":0},null,null,{"$f":"AI27*('Product Info'!H28)","v":0},{"$f":"AI27*('Product Info'!M28+'Product Info'!P28+'Product Info'!S28+'Product Info'!V28+'Product Info'!Y28+'Product Info'!AB28+'Product Info'!AE28+'Product Info'!AH28+'Product Info'!AK28+'Product Info'!AN28+'Product Info'!AQ28+'Product Info'!AT28+'Product Info'!AW28+'Product Info'!AZ28+'Product Info'!BC28+'Product Info'!BF28+'Product Info'!BI28+'Product Info'!BL28+'Product Info'!BO28+'Product Info'!BR28+'Product Info'!BU28+'Product Info'!BX28+'Product Info'!CA28+'Product Info'!CD28+'Product Info'!CG28+'Product Info'!CJ28+'Product Info'!CM28+'Product Info'!CP28+'Product Info'!CS28+'Product Info'!CV28+'Product Info'!CY28+'Product Info'!DB28+'Product Info'!DE28+'Product Info'!DH28+'Product Info'!DK28+'Product Info'!DN28+'Product Info'!DQ28+'Product Info'!DT28+'Product Info'!DW28+'Product Info'!DZ28+'Product Info'!EC28+'Product Info'!EF28+'Product Info'!EI28+'Product Info'!EL28+'Product Info'!EO28+'Product Info'!ER28+'Product Info'!EU28+'Product Info'!EX28+'Product Info'!FA28+'Product Info'!FD28)","v":0},{"$f":"AI27*('Product Info'!M28)","v":0},{"$f":"AI27*'Product Info'!P28","v":0},{"$f":"AI27*'Product Info'!S28","v":0},{"$f":"AI27*'Product Info'!V28","v":0},{"$f":"AI27*'Product Info'!Y28","v":0},{"$f":"AI27*'Product Info'!AB28","v":0},{"$f":"AI27*'Product Info'!AE28","v":0},{"$f":"AI27*'Product Info'!AH28","v":0},{"$f":"AI27*'Product Info'!AK28","v":0},{"$f":"AI27*'Product Info'!AN28","v":0},{"$f":"AI27*'Product Info'!AQ28","v":0},{"$f":"AI27*'Product Info'!AT28","v":0},{"$f":"AI27*'Product Info'!AW28","v":0},{"$f":"AI27*'Product Info'!AZ28","v":0},{"$f":"AI27*'Product Info'!BC28","v":0},{"$f":"AI27*'Product Info'!BF28","v":0},{"$f":"AI27*'Product Info'!BI28","v":0},{"$f":"AI27*'Product Info'!BL28","v":0},{"$f":"AI27*'Product Info'!BO28","v":0},{"$f":"AI27*'Product Info'!BR28","v":0},{"$f":"AI27*'Product Info'!BU28","v":0},{"$f":"AI27*'Product Info'!BX28","v":0}]
[{"$f":"'Product Info'!A29","v":0},{"$f":"'Product Info'!B29","v":0},{"$f":"'Product Info'!C29","v":0},null,null,null,null,null,null,null,null,null,null,null,null,null,null,null,null,null,null,null,null,null,null,null,null,null,null,null,null,null,null,null,0,{"$f":"'Product Info'!F29*('Daily Info (October)'!AI28)","v":0},null,null,{"$f":"AI28*('Product Info'!H29)","v":0},{"$f":"AI28*('Product Info'!M29+'Product Info'!P29+'Product Info'!S29+'Product Info'!V29+'Product Info'!Y29+'Product Info'!AB29+'Product Info'!AE29+'Product Info'!AH29+'Product Info'!AK29+'Product Info'!AN29+'Product Info'!AQ29+'Product Info'!AT29+'Product Info'!AW29+'Product Info'!AZ29+'Product Info'!BC29+'Product Info'!BF29+'Product Info'!BI29+'Product Info'!BL29+'Product Info'!BO29+'Product Info'!BR29+'Product Info'!BU29+'Product Info'!BX29+'Product Info'!CA29+'Product Info'!CD29+'Product Info'!CG29+'Product Info'!CJ29+'Product Info'!CM29+'Product Info'!CP29+'Product Info'!CS29+'Product Info'!CV29+'Product Info'!CY29+'Product Info'!DB29+'Product Info'!DE29+'Product Info'!DH29+'Product Info'!DK29+'Product Info'!DN29+'Product Info'!DQ29+'Product Info'!DT29+'Product Info'!DW29+'Product Info'!DZ29+'Product Info'!EC29+'Product Info'!EF29+'Product Info'!EI29+'Product Info'!EL29+'Product Info'!EO29+'Product Info'!ER29+'Product Info'!EU29+'Product Info'!EX29+'Product Info'!FA29+'Product Info'!FD29)","v":0},{"$f":"AI28*('Product Info'!M29)","v":0},{"$f":"AI28*'Product Info'!P29","v":0},{"$f":"AI28*'Product Info'!S29","v":0},{"$f":"AI28*'Product Info'!V29","v":0},{"$f":"AI28*'Product Info'!Y29","v":0},{"$f":"AI28*'Product Info'!AB29","v":0},{"$f":"AI28*'Product Info'!AE29","v":0},{"$f":"AI28*'Product Info'!AH29","v":0},{"$f":"AI28*'Product Info'!AK29","v":0},{"$f":"AI28*'Product Info'!AN29","v":0},{"$f":"AI28*'Product Info'!AQ29","v":0},{"$f":"AI28*'Product Info'!AT29","v":0},{"$f":"AI28*'Product Info'!AW29","v":0},{"$f":"AI28*'Product Info'!AZ29","v":0},{"$f":"AI28*'Product Info'!BC29","v":0},{"$f":"AI28*'Product Info'!BF29","v":0},{"$f":"AI28*'Product Info'!BI29","v":0},{"$f":"AI28*'Product Info'!BL29","v":0},{"$f":"AI28*'Product Info'!BO29","v":0},{"$f":"AI28*'Product Info'!BR29","v":0},{"$f":"AI28*'Product Info'!BU29","v":0},{"$f":"AI28*'Product Info'!BX29","v":0}]
[{"$f":"'Product Info'!A30","v":0},{"$f":"'Product Info'!B30","v":0},{"$f":"'Product Info'!C30","v":0},null,null,null,null,null,null,null,null,null,null,null,null,null,null,null,null,null,null,null,null,null,null,null,null,null,null,null,null,null,null,null,0,{"$f":"'Product Info'!F30*('Daily Info (October)'!AI29)","v":0},null,null,{"$f":"AI29*('Product Info'!H30)","v":0},{"$f":"AI29*('Product Info'!M30+'Product Info'!P30+'Product Info'!S30+'Product Info'!V30+'Product Info'!Y30+'Product Info'!AB30+'Product Info'!AE30+'Product Info'!AH30+'Product Info'!AK30+'Product Info'!AN30+'Product Info'!AQ30+'Product Info'!AT30+'Product Info'!AW30+'Product Info'!AZ30+'Product Info'!BC30+'Product Info'!BF30+'Product Info'!BI30+'Product Info'!BL30+'Product Info'!BO30+'Product Info'!BR30+'Product Info'!BU30+'Product Info'!BX30+'Product Info'!CA30+'Product Info'!CD30+'Product Info'!CG30+'Product Info'!CJ30+'Product Info'!CM30+'Product Info'!CP30+'Product Info'!CS30+'Product Info'!CV30+'Product Info'!CY30+'Product Info'!DB30+'Product Info'!DE30+'Product Info'!DH30+'Product Info'!DK30+'Product Info'!DN30+'Product Info'!DQ30+'Product Info'!DT30+'Product Info'!DW30+'Product Info'!DZ30+'Product Info'!EC30+'Product Info'!EF30+'Product Info'!EI30+'Product Info'!EL30+'Product Info'!EO30+'Product Info'!ER30+'Product Info'!EU30+'Product Info'!EX30+'Product Info'!FA30+'Product Info'!FD30)","v":0},{"$f":"AI29*('Product Info'!M30)","v":0},{"$f":"AI29*'Product Info'!P30","v":0},{"$f":"AI29*'Product Info'!S30","v":0},{"$f":"AI29*'Product Info'!V30","v":0},{"$f":"AI29*'Product Info'!Y30","v":0},{"$f":"AI29*'Product Info'!AB30","v":0},{"$f":"AI29*'Product Info'!AE30","v":0},{"$f":"AI29*'Product Info'!AH30","v":0},{"$f":"AI29*'Product Info'!AK30","v":0},{"$f":"AI29*'Product Info'!AN30","v":0},{"$f":"AI29*'Product Info'!AQ30","v":0},{"$f":"AI29*'Product Info'!AT30","v":0},{"$f":"AI29*'Product Info'!AW30","v":0},{"$f":"AI29*'Product Info'!AZ30","v":0},{"$f":"AI29*'Product Info'!BC30","v":0},{"$f":"AI29*'Product Info'!BF30","v":0},{"$f":"AI29*'Product Info'!BI30","v":0},{"$f":"AI29*'Product Info'!BL30","v":0},{"$f":"AI29*'Product Info'!BO30","v":0},{"$f":"AI29*'Product Info'!BR30","v":0},{"$f":"AI29*'Product Info'!BU30","v":0},{"$f":"AI29*'Product Info'!BX30","v":0}]
[{"$f":"'Product Info'!A31","v":0},{"$f":"'Product Info'!B31","v":0},{"$f":"'Product Info'!C31","v":0},null,null,null,null,null,null,null,null,null,null,null,null,null,null,null,null,null,null,null,null,null,null,null,null,null,null,null,null,null,null,null,0,{"$f":"'Product Info'!F31*('Daily Info (October)'!AI30)","v":0},null,null,{"$f":"AI30*('Product Info'!H31)","v":0},{"$f":"AI30*('Product Info'!M31+'Product Info'!P31+'Product Info'!S31+'Product Info'!V31+'Product Info'!Y31+'Product Info'!AB31+'Product Info'!AE31+'Product Info'!AH31+'Product Info'!AK31+'Product Info'!AN31+'Product Info'!AQ31+'Product Info'!AT31+'Product Info'!AW31+'Product Info'!AZ31+'Product Info'!BC31+'Product Info'!BF31+'Product Info'!BI31+'Product Info'!BL31+'Product Info'!BO31+'Product Info'!BR31+'Product Info'!BU31+'Product Info'!BX31+'Product Info'!CA31+'Product Info'!CD31+'Product Info'!CG31+'Product Info'!CJ31+'Product Info'!CM31+'Product Info'!CP31+'Product Info'!CS31+'Product Info'!CV31+'Product Info'!CY31+'Product Info'!DB31+'Product Info'!DE31+'Product Info'!DH31+'Product Info'!DK31+'Product Info'!DN31+'Product Info'!DQ31+'Product Info'!DT31+'Product Info'!DW31+'Product Info'!DZ31+'Product Info'!EC31+'Product Info'!EF31+'Product Info'!EI31+'Product Info'!EL31+'Product Info'!EO31+'Product Info'!ER31+'Product Info'!EU31+'Product Info'!EX31+'Product Info'!FA31+'Product Info'!FD31)","v":0},{"$f":"AI30*('Product Info'!M31)","v":0},{"$f":"AI30*'Product Info'!P31","v":0},{"$f":"AI30*'Product Info'!S31","v":0},{"$f":"AI30*'Product Info'!V31","v":0},{"$f":"AI30*'Product Info'!Y31","v":0},{"$f":"AI30*'Product Info'!AB31","v":0},{"$f":"AI30*'Product Info'!AE31","v":0},{"$f":"AI30*'Product Info'!AH31","v":0},{"$f":"AI30*'Product Info'!AK31","v":0},{"$f":"AI30*'Product Info'!AN31","v":0},{"$f":"AI30*'Product Info'!AQ31","v":0},{"$f":"AI30*'Product Info'!AT31","v":0},{"$f":"AI30*'Product Info'!AW31","v":0},{"$f":"AI30*'Product Info'!AZ31","v":0},{"$f":"AI30*'Product Info'!BC31","v":0},{"$f":"AI30*'Product Info'!BF31","v":0},{"$f":"AI30*'Product Info'!BI31","v":0},{"$f":"AI30*'Product Info'!BL31","v":0},{"$f":"AI30*'Product Info'!BO31","v":0},{"$f":"AI30*'Product Info'!BR31","v":0},{"$f":"AI30*'Product Info'!BU31","v":0},{"$f":"AI30*'Product Info'!BX31","v":0}]
[{"$f":"'Product Info'!A32","v":0},{"$f":"'Product Info'!B32","v":0},{"$f":"'Product Info'!C32","v":0},null,null,null,null,null,null,null,null,null,null,null,null,null,null,null,null,null,null,null,null,null,null,null,null,null,null,null,null,null,null,null,0,{"$f":"'Product Info'!F32*('Daily Info (October)'!AI31)","v":0},null,null,{"$f":"AI31*('Product Info'!H32)","v":0},{"$f":"AI31*('Product Info'!M32+'Product Info'!P32+'Product Info'!S32+'Product Info'!V32+'Product Info'!Y32+'Product Info'!AB32+'Product Info'!AE32+'Product Info'!AH32+'Product Info'!AK32+'Product Info'!AN32+'Product Info'!AQ32+'Product Info'!AT32+'Product Info'!AW32+'Product Info'!AZ32+'Product Info'!BC32+'Product Info'!BF32+'Product Info'!BI32+'Product Info'!BL32+'Product Info'!BO32+'Product Info'!BR32+'Product Info'!BU32+'Product Info'!BX32+'Product Info'!CA32+'Product Info'!CD32+'Product Info'!CG32+'Product Info'!CJ32+'Product Info'!CM32+'Product Info'!CP32+'Product Info'!CS32+'Product Info'!CV32+'Product Info'!CY32+'Product Info'!DB32+'Product Info'!DE32+'Product Info'!DH32+'Product Info'!DK32+'Product Info'!DN32+'Product Info'!DQ32+'Product Info'!DT32+'Product Info'!DW32+'Product Info'!DZ32+'Product Info'!EC32+'Product Info'!EF32+'Product Info'!EI32+'Product Info'!EL32+'Product Info'!EO32+'Product Info'!ER32+'Product Info'!EU32+'Product Info'!EX32+'Product Info'!FA32+'Product Info'!FD32)","v":0},{"$f":"AI31*('Product Info'!M32)","v":0},{"$f":"AI31*'Product Info'!P32","v":0},{"$f":"AI31*'Product Info'!S32","v":0},{"$f":"AI31*'Product Info'!V32","v":0},{"$f":"AI31*'Product Info'!Y32","v":0},{"$f":"AI31*'Product Info'!AB32","v":0},{"$f":"AI31*'Product Info'!AE32","v":0},{"$f":"AI31*'Product Info'!AH32","v":0},{"$f":"AI31*'Product Info'!AK32","v":0},{"$f":"AI31*'Product Info'!AN32","v":0},{"$f":"AI31*'Product Info'!AQ32","v":0},{"$f":"AI31*'Product Info'!AT32","v":0},{"$f":"AI31*'Product Info'!AW32","v":0},{"$f":"AI31*'Product Info'!AZ32","v":0},{"$f":"AI31*'Product Info'!BC32","v":0},{"$f":"AI31*'Product Info'!BF32","v":0},{"$f":"AI31*'Product Info'!BI32","v":0},{"$f":"AI31*'Product Info'!BL32","v":0},{"$f":"AI31*'Product Info'!BO32","v":0},{"$f":"AI31*'Product Info'!BR32","v":0},{"$f":"AI31*'Product Info'!BU32","v":0},{"$f":"AI31*'Product Info'!BX32","v":0}]
[{"$f":"'Product Info'!A33","v":0},{"$f":"'Product Info'!B33","v":0},{"$f":"'Product Info'!C33","v":0},null,null,null,null,null,null,null,null,null,null,null,null,null,null,null,null,null,null,null,null,null,null,null,null,null,null,null,null,null,null,null,0,{"$f":"'Product Info'!F33*('Daily Info (October)'!AI32)","v":0},null,null,{"$f":"AI32*('Product Info'!H33)","v":0},{"$f":"AI32*('Product Info'!M33+'Product Info'!P33+'Product Info'!S33+'Product Info'!V33+'Product Info'!Y33+'Product Info'!AB33+'Product Info'!AE33+'Product Info'!AH33+'Product Info'!AK33+'Product Info'!AN33+'Product Info'!AQ33+'Product Info'!AT33+'Product Info'!AW33+'Product Info'!AZ33+'Product Info'!BC33+'Product Info'!BF33+'Product Info'!BI33+'Product Info'!BL33+'Product Info'!BO33+'Product Info'!BR33+'Product Info'!BU33+'Product Info'!BX33+'Product Info'!CA33+'Product Info'!CD33+'Product Info'!CG33+'Product Info'!CJ33+'Product Info'!CM33+'Product Info'!CP33+'Product Info'!CS33+'Product Info'!CV33+'Product Info'!CY33+'Product Info'!DB33+'Product Info'!DE33+'Product Info'!DH33+'Product Info'!DK33+'Product Info'!DN33+'Product Info'!DQ33+'Product Info'!DT33+'Product Info'!DW33+'Product Info'!DZ33+'Product Info'!EC33+'Product Info'!EF33+'Product Info'!EI33+'Product Info'!EL33+'Product Info'!EO33+'Product Info'!ER33+'Product Info'!EU33+'Product Info'!EX33+'Product Info'!FA33+'Product Info'!FD33)","v":0},{"$f":"AI32*('Product Info'!M33)","v":0},{"$f":"AI32*'Product Info'!P33","v":0},{"$f":"AI32*'Product Info'!S33","v":0},{"$f":"AI32*'Product Info'!V33","v":0},{"$f":"AI32*'Product Info'!Y33","v":0},{"$f":"AI32*'Product Info'!AB33","v":0},{"$f":"AI32*'Product Info'!AE33","v":0},{"$f":"AI32*'Product Info'!AH33","v":0},{"$f":"AI32*'Product Info'!AK33","v":0},{"$f":"AI32*'Product Info'!AN33","v":0},{"$f":"AI32*'Product Info'!AQ33","v":0},{"$f":"AI32*'Product Info'!AT33","v":0},{"$f":"AI32*'Product Info'!AW33","v":0},{"$f":"AI32*'Product Info'!AZ33","v":0},{"$f":"AI32*'Product Info'!BC33","v":0},{"$f":"AI32*'Product Info'!BF33","v":0},{"$f":"AI32*'Product Info'!BI33","v":0},{"$f":"AI32*'Product Info'!BL33","v":0},{"$f":"AI32*'Product Info'!BO33","v":0},{"$f":"AI32*'Product Info'!BR33","v":0},{"$f":"AI32*'Product Info'!BU33","v":0},{"$f":"AI32*'Product Info'!BX33","v":0}]
[{"$f":"'Product Info'!A34","v":0},{"$f":"'Product Info'!B34","v":0},{"$f":"'Product Info'!C34","v":0},null,null,null,null,null,null,null,null,null,null,null,null,null,null,null,null,null,null,null,null,null,null,null,null,null,null,null,null,null,null,null,0,{"$f":"'Product Info'!F34*('Daily Info (October)'!AI33)","v":0},null,null,{"$f":"AI33*('Product Info'!H34)","v":0},{"$f":"AI33*('Product Info'!M34+'Product Info'!P34+'Product Info'!S34+'Product Info'!V34+'Product Info'!Y34+'Product Info'!AB34+'Product Info'!AE34+'Product Info'!AH34+'Product Info'!AK34+'Product Info'!AN34+'Product Info'!AQ34+'Product Info'!AT34+'Product Info'!AW34+'Product Info'!AZ34+'Product Info'!BC34+'Product Info'!BF34+'Product Info'!BI34+'Product Info'!BL34+'Product Info'!BO34+'Product Info'!BR34+'Product Info'!BU34+'Product Info'!BX34+'Product Info'!CA34+'Product Info'!CD34+'Product Info'!CG34+'Product Info'!CJ34+'Product Info'!CM34+'Product Info'!CP34+'Product Info'!CS34+'Product Info'!CV34+'Product Info'!CY34+'Product Info'!DB34+'Product Info'!DE34+'Product Info'!DH34+'Product Info'!DK34+'Product Info'!DN34+'Product Info'!DQ34+'Product Info'!DT34+'Product Info'!DW34+'Product Info'!DZ34+'Product Info'!EC34+'Product Info'!EF34+'Product Info'!EI34+'Product Info'!EL34+'Product Info'!EO34+'Product Info'!ER34+'Product Info'!EU34+'Product Info'!EX34+'Product Info'!FA34+'Product Info'!FD34)","v":0},{"$f":"AI33*('Product Info'!M34)","v":0},{"$f":"AI33*'Product Info'!P34","v":0},{"$f":"AI33*'Product Info'!S34","v":0},{"$f":"AI33*'Product Info'!V34","v":0},{"$f":"AI33*'Product Info'!Y34","v":0},{"$f":"AI33*'Product Info'!AB34","v":0},{"$f":"AI33*'Product Info'!AE34","v":0},{"$f":"AI33*'Product Info'!AH34","v":0},{"$f":"AI33*'Product Info'!AK34","v":0},{"$f":"AI33*'Product Info'!AN34","v":0},{"$f":"AI33*'Product Info'!AQ34","v":0},{"$f":"AR33*'Product Info'!AF34","v":0},{"$f":"AI33*'Product Info'!AW34","v":0},{"$f":"AI33*'Product Info'!AZ34","v":0},{"$f":"AI33*'Product Info'!BC34","v":0},{"$f":"AI33*'Product Info'!BF34","v":0},{"$f":"AI33*'Product Info'!BI34","v":0},{"$f":"AI33*'Product Info'!BL34","v":0},{"$f":"AI33*'Product Info'!BO34","v":0},{"$f":"AI33*'Product Info'!BR34","v":0},{"$f":"AI33*'Product Info'!BU34","v":0},{"$f":"AI33*'Product Info'!BX34","v":0}]
[{"$f":"'Product Info'!A35","v":0},{"$f":"'Product Info'!B35","v":0},{"$f":"'Product Info'!C35","v":0},null,null,null,null,null,null,null,null,null,null,null,null,null,null,null,null,null,null,null,null,null,null,null,null,null,null,null,null,null,null,null,0,{"$f":"'Product Info'!F35*('Daily Info (October)'!AI34)","v":0},null,null,{"$f":"AI34*('Product Info'!H35)","v":0},{"$f":"AI34*('Product Info'!M35+'Product Info'!P35+'Product Info'!S35+'Product Info'!V35+'Product Info'!Y35+'Product Info'!AB35+'Product Info'!AE35+'Product Info'!AH35+'Product Info'!AK35+'Product Info'!AN35+'Product Info'!AQ35+'Product Info'!AT35+'Product Info'!AW35+'Product Info'!AZ35+'Product Info'!BC35+'Product Info'!BF35+'Product Info'!BI35+'Product Info'!BL35+'Product Info'!BO35+'Product Info'!BR35+'Product Info'!BU35+'Product Info'!BX35+'Product Info'!CA35+'Product Info'!CD35+'Product Info'!CG35+'Product Info'!CJ35+'Product Info'!CM35+'Product Info'!CP35+'Product Info'!CS35+'Product Info'!CV35+'Product Info'!CY35+'Product Info'!DB35+'Product Info'!DE35+'Product Info'!DH35+'Product Info'!DK35+'Product Info'!DN35+'Product Info'!DQ35+'Product Info'!DT35+'Product Info'!DW35+'Product Info'!DZ35+'Product Info'!EC35+'Product Info'!EF35+'Product Info'!EI35+'Product Info'!EL35+'Product Info'!EO35+'Product Info'!ER35+'Product Info'!EU35+'Product Info'!EX35+'Product Info'!FA35+'Product Info'!FD35)","v":0},{"$f":"AI34*('Product Info'!M35)","v":0},{"$f":"AI34*'Product Info'!P35","v":0},{"$f":"AI34*'Product Info'!S35","v":0},{"$f":"AI34*'Product Info'!V35","v":0},{"$f":"AI34*'Product Info'!Y35","v":0},{"$f":"AI34*'Product Info'!AB35","v":0},{"$f":"AI34*'Product Info'!AE35","v":0},{"$f":"AI34*'Product Info'!AH35","v":0},{"$f":"AI34*'Product Info'!AK35","v":0},{"$f":"AI34*'Product Info'!AN35","v":0},{"$f":"AI34*'Product Info'!AQ35","v":0},{"$f":"AI34*'Product Info'!AT35","v":0},{"$f":"AI34*'Product Info'!AW35","v":0},{"$f":"AI34*'Product Info'!AZ35","v":0},{"$f":"AI34*'Product Info'!BC35","v":0},{"$f":"AI34*'Product Info'!BF35","v":0},{"$f":"AI34*'Product Info'!BI35","v":0},{"$f":"AI34*'Product Info'!BL35","v":0},{"$f":"AI34*'Product Info'!BO35","v":0},{"$f":"AI34*'Product Info'!BR35","v":0},{"$f":"AI34*'Product Info'!BU35","v":0},{"$f":"AI34*'Product Info'!BX35","v":0}]
[{"$f":"'Product Info'!A36","v":0},{"$f":"'Product Info'!B36","v":0},{"$f":"'Product Info'!C36","v":0},null,null,null,null,null,null,null,null,null,null,null,null,null,null,null,null,null,null,null,null,null,null,null,null,null,null,null,null,null,null,null,0,{"$f":"'Product Info'!F36*('Daily Info (October)'!AI35)","v":0},null,null,{"$f":"AI35*('Product Info'!H36)","v":0},{"$f":"AI35*('Product Info'!M36+'Product Info'!P36+'Product Info'!S36+'Product Info'!V36+'Product Info'!Y36+'Product Info'!AB36+'Product Info'!AE36+'Product Info'!AH36+'Product Info'!AK36+'Product Info'!AN36+'Product Info'!AQ36+'Product Info'!AT36+'Product Info'!AW36+'Product Info'!AZ36+'Product Info'!BC36+'Product Info'!BF36+'Product Info'!BI36+'Product Info'!BL36+'Product Info'!BO36+'Product Info'!BR36+'Product Info'!BU36+'Product Info'!BX36+'Product Info'!CA36+'Product Info'!CD36+'Product Info'!CG36+'Product Info'!CJ36+'Product Info'!CM36+'Product Info'!CP36+'Product Info'!CS36+'Product Info'!CV36+'Product Info'!CY36+'Product Info'!DB36+'Product Info'!DE36+'Product Info'!DH36+'Product Info'!DK36+'Product Info'!DN36+'Product Info'!DQ36+'Product Info'!DT36+'Product Info'!DW36+'Product Info'!DZ36+'Product Info'!EC36+'Product Info'!EF36+'Product Info'!EI36+'Product Info'!EL36+'Product Info'!EO36+'Product Info'!ER36+'Product Info'!EU36+'Product Info'!EX36+'Product Info'!FA36+'Product Info'!FD36)","v":0},{"$f":"AI35*('Product Info'!M36)","v":0},{"$f":"AI35*'Product Info'!P36","v":0},{"$f":"AI35*'Product Info'!S36","v":0},{"$f":"AI35*'Product Info'!V36","v":0},{"$f":"AI35*'Product Info'!Y36","v":0},{"$f":"AI35*'Product Info'!AB36","v":0},{"$f":"AI35*'Product Info'!AE36","v":0},{"$f":"AI35*'Product Info'!AH36","v":0},{"$f":"AI35*'Product Info'!AK36","v":0},{"$f":"AI35*'Product Info'!AN36","v":0},{"$f":"AI35*'Product Info'!AQ36","v":0},{"$f":"AI35*'Product Info'!AT36","v":0},{"$f":"AI35*'Product Info'!AW36","v":0},{"$f":"AI35*'Product Info'!AZ36","v":0},{"$f":"AI35*'Product Info'!BC36","v":0},{"$f":"AI35*'Product Info'!BF36","v":0},{"$f":"AI35*'Product Info'!BI36","v":0},{"$f":"AI35*'Product Info'!BL36","v":0},{"$f":"AI35*'Product Info'!BO36","v":0},{"$f":"AI35*'Product Info'!BR36","v":0},{"$f":"AI35*'Product Info'!BU36","v":0},{"$f":"AI35*'Product Info'!BX36","v":0}]
[{"$f":"'Product Info'!A37","v":0},{"$f":"'Product Info'!B37","v":0},{"$f":"'Product Info'!C37","v":0},null,null,null,null,null,null,null,null,null,null,null,null,null,null,null,null,null,null,null,null,null,null,null,null,null,null,null,null,null,null,null,{"$f":"SUM(D36:AH36)","v":0},{"$f":"'Product Info'!F37*('Daily Info (October)'!AI36)","v":0},null,null,{"$f":"AI36*('Product Info'!H37)","v":0},{"$f":"AI36*('Product Info'!M37+'Product Info'!P37+'Product Info'!S37+'Product Info'!V37+'Product Info'!Y37+'Product Info'!AB37+'Product Info'!AE37+'Product Info'!AH37+'Product Info'!AK37+'Product Info'!AN37+'Product Info'!AQ37+'Product Info'!AT37+'Product Info'!AW37+'Product Info'!AZ37+'Product Info'!BC37+'Product Info'!BF37+'Product Info'!BI37+'Product Info'!BL37+'Product Info'!BO37+'Product Info'!BR37+'Product Info'!BU37+'Product Info'!BX37+'Product Info'!CA37+'Product Info'!CD37+'Product Info'!CG37+'Product Info'!CJ37+'Product Info'!CM37+'Product Info'!CP37+'Product Info'!CS37+'Product Info'!CV37+'Product Info'!CY37+'Product Info'!DB37+'Product Info'!DE37+'Product Info'!DH37+'Product Info'!DK37+'Product Info'!DN37+'Product Info'!DQ37+'Product Info'!DT37+'Product Info'!DW37+'Product Info'!DZ37+'Product Info'!EC37+'Product Info'!EF37+'Product Info'!EI37+'Product Info'!EL37+'Product Info'!EO37+'Product Info'!ER37+'Product Info'!EU37+'Product Info'!EX37+'Product Info'!FA37+'Product Info'!FD37)","v":0},{"$f":"AI36*('Product Info'!M37)","v":0},{"$f":"AI36*'Product Info'!P37","v":0},{"$f":"AI36*'Product Info'!S37","v":0},{"$f":"AI36*'Product Info'!V37","v":0},{"$f":"AI36*'Product Info'!Y37","v":0},{"$f":"AI36*'Product Info'!AB37","v":0},{"$f":"AI36*'Product Info'!AE37","v":0},{"$f":"AI36*'Product Info'!AH37","v":0},{"$f":"AI36*'Product Info'!AK37","v":0},{"$f":"AI36*'Product Info'!AN37","v":0},{"$f":"AI36*'Product Info'!AQ37","v":0},{"$f":"AI36*'Product Info'!AT37","v":0},{"$f":"AI36*'Product Info'!AW37","v":0},{"$f":"AI36*'Product Info'!AZ37","v":0},{"$f":"AI36*'Product Info'!BC37","v":0},{"$f":"AI36*'Product Info'!BF37","v":0},{"$f":"AI36*'Product Info'!BI37","v":0},{"$f":"AI36*'Product Info'!BL37","v":0},{"$f":"AI36*'Product Info'!BO37","v":0},{"$f":"AI36*'Product Info'!BR37","v":0},{"$f":"AI36*'Product Info'!BU37","v":0},{"$f":"AI36*'Product Info'!BX37","v":0}]
[{"$f":"'Product Info'!A38","v":0},{"$f":"'Product Info'!B38","v":0},{"$f":"'Product Info'!C38","v":0},null,null,null,null,null,null,null,null,null,null,null,null,null,null,null,null,null,null,null,null,null,null,null,null,null,null,null,null,null,null,null,0,{"$f":"'Product Info'!F38*('Daily Info (October)'!AI37)","v":0},null,null,{"$f":"AI37*('Product Info'!H38)","v":0},{"$f":"AI37*('Product Info'!M38+'Product Info'!P38+'Product Info'!S38+'Product Info'!V38+'Product Info'!Y38+'Product Info'!AB38+'Product Info'!AE38+'Product Info'!AH38+'Product Info'!AK38+'Product Info'!AN38+'Product Info'!AQ38+'Product Info'!AT38+'Product Info'!AW38+'Product Info'!AZ38+'Product Info'!BC38+'Product Info'!BF38+'Product Info'!BI38+'Product Info'!BL38+'Product Info'!BO38+'Product Info'!BR38+'Product Info'!BU38+'Product Info'!BX38+'Product Info'!CA38+'Product Info'!CD38+'Product Info'!CG38+'Product Info'!CJ38+'Product Info'!CM38+'Product Info'!CP38+'Product Info'!CS38+'Product Info'!CV38+'Product Info'!CY38+'Product Info'!DB38+'Product Info'!DE38+'Product Info'!DH38+'Product Info'!DK38+'Product Info'!DN38+'Product Info'!DQ38+'Product Info'!DT38+'Product Info'!DW38+'Product Info'!DZ38+'Product Info'!EC38+'Product Info'!EF38+'Product Info'!EI38+'Product Info'!EL38+'Product Info'!EO38+'Product Info'!ER38+'Product Info'!EU38+'Product Info'!EX38+'Product Info'!FA38+'Product Info'!FD38)","v":0},{"$f":"AI37*('Product Info'!M38)","v":0},{"$f":"AI37*'Product Info'!P38","v":0},{"$f":"AI37*'Product Info'!S38","v":0},{"$f":"AI37*'Product Info'!V38","v":0},{"$f":"AI37*'Product Info'!Y38","v":0},{"$f":"AI37*'Product Info'!AB38","v":0},{"$f":"AI37*'Product Info'!AE38","v":0},{"$f":"AI37*'Product Info'!AH38","v":0},{"$f":"AI37*'Product Info'!AK38","v":0},{"$f":"AI37*'Product Info'!AN38","v":0},{"$f":"AI37*'Product Info'!AQ38","v":0},{"$f":"AI37*'Product Info'!AT38","v":0},{"$f":"AI37*'Product Info'!AW38","v":0},{"$f":"AI37*'Product Info'!AZ38","v":0},{"$f":"AI37*'Product Info'!BC38","v":0},{"$f":"AI37*'Product Info'!BF38","v":0},{"$f":"AI37*'Product Info'!BI38","v":0},{"$f":"AI37*'Product Info'!BL38","v":0},{"$f":"AI37*'Product Info'!BO38","v":0},{"$f":"AI37*'Product Info'!BR38","v":0},{"$f":"AI37*'Product Info'!BU38","v":0},{"$f":"AI37*'Product Info'!BX38","v":0}]
[{"$f":"'Product Info'!A39","v":0},{"$f":"'Product Info'!B39","v":0},{"$f":"'Product Info'!C39","v":0},null,null,null,null,null,null,null,null,null,null,null,null,null,null,null,null,null,null,null,null,null,null,null,null,null,null,null,null,null,null,null,0,{"$f":"'Product Info'!F39*('Daily Info (October)'!AI38)","v":0},null,null,{"$f":"AI38*('Product Info'!H39)","v":0},{"$f":"AI38*('Product Info'!M39+'Product Info'!P39+'Product Info'!S39+'Product Info'!V39+'Product Info'!Y39+'Product Info'!AB39+'Product Info'!AE39+'Product Info'!AH39+'Product Info'!AK39+'Product Info'!AN39+'Product Info'!AQ39+'Product Info'!AT39+'Product Info'!AW39+'Product Info'!AZ39+'Product Info'!BC39+'Product Info'!BF39+'Product Info'!BI39+'Product Info'!BL39+'Product Info'!BO39+'Product Info'!BR39+'Product Info'!BU39+'Product Info'!BX39+'Product Info'!CA39+'Product Info'!CD39+'Product Info'!CG39+'Product Info'!CJ39+'Product Info'!CM39+'Product Info'!CP39+'Product Info'!CS39+'Product Info'!CV39+'Product Info'!CY39+'Product Info'!DB39+'Product Info'!DE39+'Product Info'!DH39+'Product Info'!DK39+'Product Info'!DN39+'Product Info'!DQ39+'Product Info'!DT39+'Product Info'!DW39+'Product Info'!DZ39+'Product Info'!EC39+'Product Info'!EF39+'Product Info'!EI39+'Product Info'!EL39+'Product Info'!EO39+'Product Info'!ER39+'Product Info'!EU39+'Product Info'!EX39+'Product Info'!FA39+'Product Info'!FD39)","v":0},{"$f":"AI38*('Product Info'!M39)","v":0},{"$f":"AI38*'Product Info'!P39","v":0},{"$f":"AI38*'Product Info'!S39","v":0},{"$f":"AI38*'Product Info'!V39","v":0},{"$f":"AI38*'Product Info'!Y39","v":0},{"$f":"AI38*'Product Info'!AB39","v":0},{"$f":"AI38*'Product Info'!AE39","v":0},{"$f":"AI38*'Product Info'!AH39","v":0},{"$f":"AI38*'Product Info'!AK39","v":0},{"$f":"AI38*'Product Info'!AN39","v":0},{"$f":"AI38*'Product Info'!AQ39","v":0},{"$f":"AI38*'Product Info'!AT39","v":0},{"$f":"AI38*'Product Info'!AW39","v":0},{"$f":"AI38*'Product Info'!AZ39","v":0},{"$f":"AI38*'Product Info'!BC39","v":0},{"$f":"AI38*'Product Info'!BF39","v":0},{"$f":"AI38*'Product Info'!BI39","v":0},{"$f":"AI38*'Product Info'!BL39","v":0},{"$f":"AI38*'Product Info'!BO39","v":0},{"$f":"AI38*'Product Info'!BR39","v":0},{"$f":"AI38*'Product Info'!BU39","v":0},{"$f":"AI38*'Product Info'!BX39","v":0}]
[{"$f":"'Product Info'!A40","v":0},{"$f":"'Product Info'!B40","v":0},{"$f":"'Product Info'!C40","v":0},null,null,null,null,null,null,null,null,null,null,null,null,null,null,null,null,null,null,null,null,null,null,null,null,null,null,null,null,null,null,null,0,{"$f":"'Product Info'!F40*('Daily Info (October)'!AI39)","v":0},null,null,{"$f":"AI39*('Product Info'!H40)","v":0},{"$f":"AI39*('Product Info'!M40+'Product Info'!P40+'Product Info'!S40+'Product Info'!V40+'Product Info'!Y40+'Product Info'!AB40+'Product Info'!AE40+'Product Info'!AH40+'Product Info'!AK40+'Product Info'!AN40+'Product Info'!AQ40+'Product Info'!AT40+'Product Info'!AW40+'Product Info'!AZ40+'Product Info'!BC40+'Product Info'!BF40+'Product Info'!BI40+'Product Info'!BL40+'Product Info'!BO40+'Product Info'!BR40+'Product Info'!BU40+'Product Info'!BX40+'Product Info'!CA40+'Product Info'!CD40+'Product Info'!CG40+'Product Info'!CJ40+'Product Info'!CM40+'Product Info'!CP40+'Product Info'!CS40+'Product Info'!CV40+'Product Info'!CY40+'Product Info'!DB40+'Product Info'!DE40+'Product Info'!DH40+'Product Info'!DK40+'Product Info'!DN40+'Product Info'!DQ40+'Product Info'!DT40+'Product Info'!DW40+'Product Info'!DZ40+'Product Info'!EC40+'Product Info'!EF40+'Product Info'!EI40+'Product Info'!EL40+'Product Info'!EO40+'Product Info'!ER40+'Product Info'!EU40+'Product Info'!EX40+'Product Info'!FA40+'Product Info'!FD40)","v":0},{"$f":"AI39*('Product Info'!M40)","v":0},{"$f":"AI39*'Product Info'!P40","v":0},{"$f":"AI39*'Product Info'!S40","v":0},{"$f":"AI39*'Product Info'!V40","v":0},{"$f":"AI39*'Product Info'!Y40","v":0},{"$f":"AI39*'Product Info'!AB40","v":0},{"$f":"AI39*'Product Info'!AE40","v":0},{"$f":"AI39*'Product Info'!AH40","v":0},{"$f":"AI39*'Product Info'!AK40","v":0},{"$f":"AI39*'Product Info'!AN40","v":0},{"$f":"AI39*'Product Info'!AQ40","v":0},{"$f":"AI39*'Product Info'!AT40","v":0},{"$f":"AI39*'Product Info'!AW40","v":0},{"$f":"AI39*'Product Info'!AZ40","v":0},{"$f":"AI39*'Product Info'!BC40","v":0},{"$f":"AI39*'Product Info'!BF40","v":0},{"$f":"AI39*'Product Info'!BI40","v":0},{"$f":"AI39*'Product Info'!BL40","v":0},{"$f":"AI39*'Product Info'!BO40","v":0},{"$f":"AI39*'Product Info'!BR40","v":0},{"$f":"AI39*'Product Info'!BU40","v":0},{"$f":"AI39*'Product Info'!BX40","v":0}]
[{"$f":"'Product Info'!A41","v":0},{"$f":"'Product Info'!B41","v":0},{"$f":"'Product Info'!C41","v":0},null,null,null,null,null,null,null,null,null,null,null,null,null,null,null,null,null,null,null,null,null,null,null,null,null,null,null,null,null,null,null,0,{"$f":"'Product Info'!F41*('Daily Info (October)'!AI40)","v":0},null,null,{"$f":"AI40*('Product Info'!H41)","v":0},{"$f":"AI40*('Product Info'!M41+'Product Info'!P41+'Product Info'!S41+'Product Info'!V41+'Product Info'!Y41+'Product Info'!AB41+'Product Info'!AE41+'Product Info'!AH41+'Product Info'!AK41+'Product Info'!AN41+'Product Info'!AQ41+'Product Info'!AT41+'Product Info'!AW41+'Product Info'!AZ41+'Product Info'!BC41+'Product Info'!BF41+'Product Info'!BI41+'Product Info'!BL41+'Product Info'!BO41+'Product Info'!BR41+'Product Info'!BU41+'Product Info'!BX41+'Product Info'!CA41+'Product Info'!CD41+'Product Info'!CG41+'Product Info'!CJ41+'Product Info'!CM41+'Product Info'!CP41+'Product Info'!CS41+'Product Info'!CV41+'Product Info'!CY41+'Product Info'!DB41+'Product Info'!DE41+'Product Info'!DH41+'Product Info'!DK41+'Product Info'!DN41+'Product Info'!DQ41+'Product Info'!DT41+'Product Info'!DW41+'Product Info'!DZ41+'Product Info'!EC41+'Product Info'!EF41+'Product Info'!EI41+'Product Info'!EL41+'Product Info'!EO41+'Product Info'!ER41+'Product Info'!EU41+'Product Info'!EX41+'Product Info'!FA41+'Product Info'!FD41)","v":0},{"$f":"AI40*('Product Info'!M41)","v":0},{"$f":"AI40*'Product Info'!P41","v":0},{"$f":"AI40*'Product Info'!S41","v":0},{"$f":"AI40*'Product Info'!V41","v":0},{"$f":"AI40*'Product Info'!Y41","v":0},{"$f":"AI40*'Product Info'!AB41","v":0},{"$f":"AI40*'Product Info'!AE41","v":0},{"$f":"AI40*'Product Info'!AH41","v":0},{"$f":"AI40*'Product Info'!AK41","v":0},{"$f":"AI40*'Product Info'!AN41","v":0},{"$f":"AI40*'Product Info'!AQ41","v":0},{"$f":"AI40*'Product Info'!AT41","v":0},{"$f":"AI40*'Product Info'!AW41","v":0},{"$f":"AI40*'Product Info'!AZ41","v":0},{"$f":"AI40*'Product Info'!BC41","v":0},{"$f":"AI40*'Product Info'!BF41","v":0},{"$f":"AI40*'Product Info'!BI41","v":0},{"$f":"AI40*'Product Info'!BL41","v":0},{"$f":"AI40*'Product Info'!BO41","v":0},{"$f":"AI40*'Product Info'!BR41","v":0},{"$f":"AI40*'Product Info'!BU41","v":0},{"$f":"AI40*'Product Info'!BX41","v":0}]
[{"$f":"'Product Info'!A42","v":0},{"$f":"'Product Info'!B42","v":0},{"$f":"'Product Info'!C42","v":0},null,null,null,null,null,null,null,null,null,null,null,null,null,null,null,null,null,null,null,null,null,null,null,null,null,null,null,null,null,null,null,0,{"$f":"'Product Info'!F42*('Daily Info (October)'!AI41)","v":0},null,null,{"$f":"AI41*('Product Info'!H42)","v":0},{"$f":"AI41*('Product Info'!M42+'Product Info'!P42+'Product Info'!S42+'Product Info'!V42+'Product Info'!Y42+'Product Info'!AB42+'Product Info'!AE42+'Product Info'!AH42+'Product Info'!AK42+'Product Info'!AN42+'Product Info'!AQ42+'Product Info'!AT42+'Product Info'!AW42+'Product Info'!AZ42+'Product Info'!BC42+'Product Info'!BF42+'Product Info'!BI42+'Product Info'!BL42+'Product Info'!BO42+'Product Info'!BR42+'Product Info'!BU42+'Product Info'!BX42+'Product Info'!CA42+'Product Info'!CD42+'Product Info'!CG42+'Product Info'!CJ42+'Product Info'!CM42+'Product Info'!CP42+'Product Info'!CS42+'Product Info'!CV42+'Product Info'!CY42+'Product Info'!DB42+'Product Info'!DE42+'Product Info'!DH42+'Product Info'!DK42+'Product Info'!DN42+'Product Info'!DQ42+'Product Info'!DT42+'Product Info'!DW42+'Product Info'!DZ42+'Product Info'!EC42+'Product Info'!EF42+'Product Info'!EI42+'Product Info'!EL42+'Product Info'!EO42+'Product Info'!ER42+'Product Info'!EU42+'Product Info'!EX42+'Product Info'!FA42+'Product Info'!FD42)","v":0},{"$f":"AI41*('Product Info'!M42)","v":0},{"$f":"AI41*'Product Info'!P42","v":0},{"$f":"AI41*'Product Info'!S42","v":0},{"$f":"AI41*'Product Info'!V42","v":0},{"$f":"AI41*'Product Info'!Y42","v":0},{"$f":"AI41*'Product Info'!AB42","v":0},{"$f":"AI41*'Product Info'!AE42","v":0},{"$f":"AI41*'Product Info'!AH42","v":0},{"$f":"AI41*'Product Info'!AK42","v":0},{"$f":"AI41*'Product Info'!AN42","v":0},{"$f":"AI41*'Product Info'!AQ42","v":0},{"$f":"AI41*'Product Info'!AT42","v":0},{"$f":"AI41*'Product Info'!AW42","v":0},{"$f":"AI41*'Product Info'!AZ42","v":0},{"$f":"AI41*'Product Info'!BC42","v":0},{"$f":"AI41*'Product Info'!BF42","v":0},{"$f":"AI41*'Product Info'!BI42","v":0},{"$f":"AI41*'Product Info'!BL42","v":0},{"$f":"AI41*'Product Info'!BO42","v":0},{"$f":"AI41*'Product Info'!BR42","v":0},{"$f":"AI41*'Product Info'!BU42","v":0},{"$f":"AI41*'Product Info'!BX42","v":0}]
[{"$f":"'Product Info'!A43","v":0},{"$f":"'Product Info'!B43","v":0},{"$f":"'Product Info'!C43","v":0},null,null,null,null,null,null,null,null,null,null,null,null,null,null,null,null,null,null,null,null,null,null,null,null,null,null,null,null,null,null,null,0,{"$f":"'Product Info'!F43*('Daily Info (October)'!AI42)","v":0},null,null,{"$f":"AI42*('Product Info'!H43)","v":0},{"$f":"AI42*('Product Info'!M43+'Product Info'!P43+'Product Info'!S43+'Product Info'!V43+'Product Info'!Y43+'Product Info'!AB43+'Product Info'!AE43+'Product Info'!AH43+'Product Info'!AK43+'Product Info'!AN43+'Product Info'!AQ43+'Product Info'!AT43+'Product Info'!AW43+'Product Info'!AZ43+'Product Info'!BC43+'Product Info'!BF43+'Product Info'!BI43+'Product Info'!BL43+'Product Info'!BO43+'Product Info'!BR43+'Product Info'!BU43+'Product Info'!BX43+'Product Info'!CA43+'Product Info'!CD43+'Product Info'!CG43+'Product Info'!CJ43+'Product Info'!CM43+'Product Info'!CP43+'Product Info'!CS43+'Product Info'!CV43+'Product Info'!CY43+'Product Info'!DB43+'Product Info'!DE43+'Product Info'!DH43+'Product Info'!DK43+'Product Info'!DN43+'Product Info'!DQ43+'Product Info'!DT43+'Product Info'!DW43+'Product Info'!DZ43+'Product Info'!EC43+'Product Info'!EF43+'Product Info'!EI43+'Product Info'!EL43+'Product Info'!EO43+'Product Info'!ER43+'Product Info'!EU43+'Product Info'!EX43+'Product Info'!FA43+'Product Info'!FD43)","v":0},{"$f":"AI42*('Product Info'!M43)","v":0},{"$f":"AI42*'Product Info'!P43","v":0},{"$f":"AI42*'Product Info'!S43","v":0},{"$f":"AI42*'Product Info'!V43","v":0},{"$f":"AI42*'Product Info'!Y43","v":0},{"$f":"AI42*'Product Info'!AB43","v":0},{"$f":"AI42*'Product Info'!AE43","v":0},{"$f":"AI42*'Product Info'!AH43","v":0},{"$f":"AI42*'Product Info'!AK43","v":0},{"$f":"AI42*'Product Info'!AN43","v":0},{"$f":"AI42*'Product Info'!AQ43","v":0},{"$f":"AI42*'Product Info'!AT43","v":0},{"$f":"AI42*'Product Info'!AW43","v":0},{"$f":"AI42*'Product Info'!AZ43","v":0},{"$f":"AI42*'Product Info'!BC43","v":0},{"$f":"AI42*'Product Info'!BF43","v":0},{"$f":"AI42*'Product Info'!BI43","v":0},{"$f":"AI42*'Product Info'!BL43","v":0},{"$f":"AI42*'Product Info'!BO43","v":0},{"$f":"AI42*'Product Info'!BR43","v":0},{"$f":"AI42*'Product Info'!BU43","v":0},{"$f":"AI42*'Product Info'!BX43","v":0}]
[{"$f":"'Product Info'!A44","v":0},{"$f":"'Product Info'!B44","v":0},{"$f":"'Product Info'!C44","v":0},null,null,null,null,null,null,null,null,null,null,null,null,null,null,null,null,null,null,null,null,null,null,null,null,null,null,null,null,null,null,null,0,{"$f":"'Product Info'!F44*('Daily Info (October)'!AI43)","v":0},null,null,{"$f":"AI43*('Product Info'!H44)","v":0},{"$f":"AI43*('Product Info'!M44+'Product Info'!P44+'Product Info'!S44+'Product Info'!V44+'Product Info'!Y44+'Product Info'!AB44+'Product Info'!AE44+'Product Info'!AH44+'Product Info'!AK44+'Product Info'!AN44+'Product Info'!AQ44+'Product Info'!AT44+'Product Info'!AW44+'Product Info'!AZ44+'Product Info'!BC44+'Product Info'!BF44+'Product Info'!BI44+'Product Info'!BL44+'Product Info'!BO44+'Product Info'!BR44+'Product Info'!BU44+'Product Info'!BX44+'Product Info'!CA44+'Product Info'!CD44+'Product Info'!CG44+'Product Info'!CJ44+'Product Info'!CM44+'Product Info'!CP44+'Product Info'!CS44+'Product Info'!CV44+'Product Info'!CY44+'Product Info'!DB44+'Product Info'!DE44+'Product Info'!DH44+'Product Info'!DK44+'Product Info'!DN44+'Product Info'!DQ44+'Product Info'!DT44+'Product Info'!DW44+'Product Info'!DZ44+'Product Info'!EC44+'Product Info'!EF44+'Product Info'!EI44+'Product Info'!EL44+'Product Info'!EO44+'Product Info'!ER44+'Product Info'!EU44+'Product Info'!EX44+'Product Info'!FA44+'Product Info'!FD44)","v":0},{"$f":"AI43*('Product Info'!M44)","v":0},{"$f":"AI43*'Product Info'!P44","v":0},{"$f":"AI43*'Product Info'!S44","v":0},{"$f":"AI43*'Product Info'!V44","v":0},{"$f":"AI43*'Product Info'!Y44","v":0},{"$f":"AI43*'Product Info'!AB44","v":0},{"$f":"AI43*'Product Info'!AE44","v":0},{"$f":"AI43*'Product Info'!AH44","v":0},{"$f":"AI43*'Product Info'!AK44","v":0},{"$f":"AI43*'Product Info'!AN44","v":0},{"$f":"AI43*'Product Info'!AQ44","v":0},{"$f":"AI43*'Product Info'!AT44","v":0},{"$f":"AI43*'Product Info'!AW44","v":0},{"$f":"AI43*'Product Info'!AZ44","v":0},{"$f":"AI43*'Product Info'!BC44","v":0},{"$f":"AI43*'Product Info'!BF44","v":0},{"$f":"AI43*'Product Info'!BI44","v":0},{"$f":"AI43*'Product Info'!BL44","v":0},{"$f":"AI43*'Product Info'!BO44","v":0},{"$f":"AI43*'Product Info'!BR44","v":0},{"$f":"AI43*'Product Info'!BU44","v":0},{"$f":"AI43*'Product Info'!BX44","v":0}]
[{"$f":"'Product Info'!A45","v":0},{"$f":"'Product Info'!B45","v":0},{"$f":"'Product Info'!C45","v":0},null,null,null,null,null,null,null,null,null,null,null,null,null,null,null,null,null,null,null,null,null,null,null,null,null,null,null,null,null,null,null,0,{"$f":"'Product Info'!F45*('Daily Info (October)'!AI44)","v":0},null,null,{"$f":"AI44*('Product Info'!H45)","v":0},{"$f":"AI44*('Product Info'!M45+'Product Info'!P45+'Product Info'!S45+'Product Info'!V45+'Product Info'!Y45+'Product Info'!AB45+'Product Info'!AE45+'Product Info'!AH45+'Product Info'!AK45+'Product Info'!AN45+'Product Info'!AQ45+'Product Info'!AT45+'Product Info'!AW45+'Product Info'!AZ45+'Product Info'!BC45+'Product Info'!BF45+'Product Info'!BI45+'Product Info'!BL45+'Product Info'!BO45+'Product Info'!BR45+'Product Info'!BU45+'Product Info'!BX45+'Product Info'!CA45+'Product Info'!CD45+'Product Info'!CG45+'Product Info'!CJ45+'Product Info'!CM45+'Product Info'!CP45+'Product Info'!CS45+'Product Info'!CV45+'Product Info'!CY45+'Product Info'!DB45+'Product Info'!DE45+'Product Info'!DH45+'Product Info'!DK45+'Product Info'!DN45+'Product Info'!DQ45+'Product Info'!DT45+'Product Info'!DW45+'Product Info'!DZ45+'Product Info'!EC45+'Product Info'!EF45+'Product Info'!EI45+'Product Info'!EL45+'Product Info'!EO45+'Product Info'!ER45+'Product Info'!EU45+'Product Info'!EX45+'Product Info'!FA45+'Product Info'!FD45)","v":0},{"$f":"AI44*('Product Info'!M45)","v":0},{"$f":"AI44*'Product Info'!P45","v":0},{"$f":"AI44*'Product Info'!S45","v":0},{"$f":"AI44*'Product Info'!V45","v":0},{"$f":"AI44*'Product Info'!Y45","v":0},{"$f":"AI44*'Product Info'!AB45","v":0},{"$f":"AI44*'Product Info'!AE45","v":0},{"$f":"AI44*'Product Info'!AH45","v":0},{"$f":"AI44*'Product Info'!AK45","v":0},{"$f":"AI44*'Product Info'!AN45","v":0},{"$f":"AI44*'Product Info'!AQ45","v":0},{"$f":"AI44*'Product Info'!AT45","v":0},{"$f":"AI44*'Product Info'!AW45","v":0},{"$f":"AI44*'Product Info'!AZ45","v":0},{"$f":"AI44*'Product Info'!BC45","v":0},{"$f":"AI44*'Product Info'!BF45","v":0},{"$f":"AI44*'Product Info'!BI45","v":0},{"$f":"AI44*'Product Info'!BL45","v":0},{"$f":"AI44*'Product Info'!BO45","v":0},{"$f":"AI44*'Product Info'!BR45","v":0},{"$f":"AI44*'Product Info'!BU45","v":0},{"$f":"AI44*'Product Info'!BX45","v":0}]
[{"$f":"'Product Info'!A46","v":0},{"$f":"'Product Info'!B46","v":0},{"$f":"'Product Info'!C46","v":0},null,null,null,null,null,null,null,null,null,null,null,null,null,null,null,null,null,null,null,null,null,null,null,null,null,null,null,null,null,null,null,0,{"$f":"'Product Info'!F46*('Daily Info (October)'!AI45)","v":0},null,null,{"$f":"AI45*('Product Info'!H46)","v":0},{"$f":"AI45*('Product Info'!M46+'Product Info'!P46+'Product Info'!S46+'Product Info'!V46+'Product Info'!Y46+'Product Info'!AB46+'Product Info'!AE46+'Product Info'!AH46+'Product Info'!AK46+'Product Info'!AN46+'Product Info'!AQ46+'Product Info'!AT46+'Product Info'!AW46+'Product Info'!AZ46+'Product Info'!BC46+'Product Info'!BF46+'Product Info'!BI46+'Product Info'!BL46+'Product Info'!BO46+'Product Info'!BR46+'Product Info'!BU46+'Product Info'!BX46+'Product Info'!CA46+'Product Info'!CD46+'Product Info'!CG46+'Product Info'!CJ46+'Product Info'!CM46+'Product Info'!CP46+'Product Info'!CS46+'Product Info'!CV46+'Product Info'!CY46+'Product Info'!DB46+'Product Info'!DE46+'Product Info'!DH46+'Product Info'!DK46+'Product Info'!DN46+'Product Info'!DQ46+'Product Info'!DT46+'Product Info'!DW46+'Product Info'!DZ46+'Product Info'!EC46+'Product Info'!EF46+'Product Info'!EI46+'Product Info'!EL46+'Product Info'!EO46+'Product Info'!ER46+'Product Info'!EU46+'Product Info'!EX46+'Product Info'!FA46+'Product Info'!FD46)","v":0},{"$f":"AI45*('Product Info'!M46)","v":0},{"$f":"AI45*'Product Info'!P46","v":0},{"$f":"AI45*'Product Info'!S46","v":0},{"$f":"AI45*'Product Info'!V46","v":0},{"$f":"AI45*'Product Info'!Y46","v":0},{"$f":"AI45*'Product Info'!AB46","v":0},{"$f":"AI45*'Product Info'!AE46","v":0},{"$f":"AI45*'Product Info'!AH46","v":0},{"$f":"AI45*'Product Info'!AK46","v":0},{"$f":"AI45*'Product Info'!AN46","v":0},{"$f":"AI45*'Product Info'!AQ46","v":0},{"$f":"AI45*'Product Info'!AT46","v":0},{"$f":"AI45*'Product Info'!AW46","v":0},{"$f":"AI45*'Product Info'!AZ46","v":0},{"$f":"AI45*'Product Info'!BC46","v":0},{"$f":"AI45*'Product Info'!BF46","v":0},{"$f":"AI45*'Product Info'!BI46","v":0},{"$f":"AI45*'Product Info'!BL46","v":0},{"$f":"AI45*'Product Info'!BO46","v":0},{"$f":"AI45*'Product Info'!BR46","v":0},{"$f":"AI45*'Product Info'!BU46","v":0},{"$f":"AI45*'Product Info'!BX46","v":0}]
[{"$f":"'Product Info'!A47","v":0},{"$f":"'Product Info'!B47","v":0},{"$f":"'Product Info'!C47","v":0},null,null,null,null,null,null,null,null,null,null,null,null,null,null,null,null,null,null,null,null,null,null,null,null,null,null,null,null,null,null,null,0,{"$f":"'Product Info'!F47*('Daily Info (October)'!AI46)","v":0},null,null,{"$f":"AI46*('Product Info'!H47)","v":0},{"$f":"AI46*('Product Info'!M47+'Product Info'!P47+'Product Info'!S47+'Product Info'!V47+'Product Info'!Y47+'Product Info'!AB47+'Product Info'!AE47+'Product Info'!AH47+'Product Info'!AK47+'Product Info'!AN47+'Product Info'!AQ47+'Product Info'!AT47+'Product Info'!AW47+'Product Info'!AZ47+'Product Info'!BC47+'Product Info'!BF47+'Product Info'!BI47+'Product Info'!BL47+'Product Info'!BO47+'Product Info'!BR47+'Product Info'!BU47+'Product Info'!BX47+'Product Info'!CA47+'Product Info'!CD47+'Product Info'!CG47+'Product Info'!CJ47+'Product Info'!CM47+'Product Info'!CP47+'Product Info'!CS47+'Product Info'!CV47+'Product Info'!CY47+'Product Info'!DB47+'Product Info'!DE47+'Product Info'!DH47+'Product Info'!DK47+'Product Info'!DN47+'Product Info'!DQ47+'Product Info'!DT47+'Product Info'!DW47+'Product Info'!DZ47+'Product Info'!EC47+'Product Info'!EF47+'Product Info'!EI47+'Product Info'!EL47+'Product Info'!EO47+'Product Info'!ER47+'Product Info'!EU47+'Product Info'!EX47+'Product Info'!FA47+'Product Info'!FD47)","v":0},{"$f":"AI46*('Product Info'!M47)","v":0},{"$f":"AI46*'Product Info'!P47","v":0},{"$f":"AI46*'Product Info'!S47","v":0},{"$f":"AI46*'Product Info'!V47","v":0},{"$f":"AI46*'Product Info'!Y47","v":0},{"$f":"AI46*'Product Info'!AB47","v":0},{"$f":"AI46*'Product Info'!AE47","v":0},{"$f":"AI46*'Product Info'!AH47","v":0},{"$f":"AI46*'Product Info'!AK47","v":0},{"$f":"AI46*'Product Info'!AN47","v":0},{"$f":"AI46*'Product Info'!AQ47","v":0},{"$f":"AI46*'Product Info'!AT47","v":0},{"$f":"AI46*'Product Info'!AW47","v":0},{"$f":"AI46*'Product Info'!AZ47","v":0},{"$f":"AI46*'Product Info'!BC47","v":0},{"$f":"AI46*'Product Info'!BF47","v":0},{"$f":"AI46*'Product Info'!BI47","v":0},{"$f":"AI46*'Product Info'!BL47","v":0},{"$f":"AI46*'Product Info'!BO47","v":0},{"$f":"AI46*'Product Info'!BR47","v":0},{"$f":"AI46*'Product Info'!BU47","v":0},{"$f":"AI46*'Product Info'!BX47","v":0}]
[{"$f":"'Product Info'!A48","v":0},{"$f":"'Product Info'!B48","v":0},{"$f":"'Product Info'!C48","v":0},null,null,null,null,null,null,null,null,null,null,null,null,null,null,null,null,null,null,null,null,null,null,null,null,null,null,null,null,null,null,null,0,{"$f":"'Product Info'!F48*('Daily Info (October)'!AI47)","v":0},null,null,{"$f":"AI47*('Product Info'!H48)","v":0},{"$f":"AI47*('Product Info'!M48+'Product Info'!P48+'Product Info'!S48+'Product Info'!V48+'Product Info'!Y48+'Product Info'!AB48+'Product Info'!AE48+'Product Info'!AH48+'Product Info'!AK48+'Product Info'!AN48+'Product Info'!AQ48+'Product Info'!AT48+'Product Info'!AW48+'Product Info'!AZ48+'Product Info'!BC48+'Product Info'!BF48+'Product Info'!BI48+'Product Info'!BL48+'Product Info'!BO48+'Product Info'!BR48+'Product Info'!BU48+'Product Info'!BX48+'Product Info'!CA48+'Product Info'!CD48+'Product Info'!CG48+'Product Info'!CJ48+'Product Info'!CM48+'Product Info'!CP48+'Product Info'!CS48+'Product Info'!CV48+'Product Info'!CY48+'Product Info'!DB48+'Product Info'!DE48+'Product Info'!DH48+'Product Info'!DK48+'Product Info'!DN48+'Product Info'!DQ48+'Product Info'!DT48+'Product Info'!DW48+'Product Info'!DZ48+'Product Info'!EC48+'Product Info'!EF48+'Product Info'!EI48+'Product Info'!EL48+'Product Info'!EO48+'Product Info'!ER48+'Product Info'!EU48+'Product Info'!EX48+'Product Info'!FA48+'Product Info'!FD48)","v":0},{"$f":"AI47*('Product Info'!M48)","v":0},{"$f":"AI47*'Product Info'!P48","v":0},{"$f":"AI47*'Product Info'!S48","v":0},{"$f":"AI47*'Product Info'!V48","v":0},{"$f":"AI47*'Product Info'!Y48","v":0},{"$f":"AI47*'Product Info'!AB48","v":0},{"$f":"AI47*'Product Info'!AE48","v":0},{"$f":"AI47*'Product Info'!AH48","v":0},{"$f":"AI47*'Product Info'!AK48","v":0},{"$f":"AI47*'Product Info'!AN48","v":0},{"$f":"AI47*'Product Info'!AQ48","v":0},{"$f":"AR47*'Product Info'!AF48","v":0},{"$f":"AI47*'Product Info'!AW48","v":0},{"$f":"AI47*'Product Info'!AZ48","v":0},{"$f":"AI47*'Product Info'!BC48","v":0},{"$f":"AI47*'Product Info'!BF48","v":0},{"$f":"AI47*'Product Info'!BI48","v":0},{"$f":"AI47*'Product Info'!BL48","v":0},{"$f":"AI47*'Product Info'!BO48","v":0},{"$f":"AI47*'Product Info'!BR48","v":0},{"$f":"AI47*'Product Info'!BU48","v":0},{"$f":"AI47*'Product Info'!BX48","v":0}]
[{"$f":"'Product Info'!A49","v":0},{"$f":"'Product Info'!B49","v":0},{"$f":"'Product Info'!C49","v":0},null,null,null,null,null,null,null,null,null,null,null,null,null,null,null,null,null,null,null,null,null,null,null,null,null,null,null,null,null,null,null,0,{"$f":"'Product Info'!F49*('Daily Info (October)'!AI48)","v":0},null,null,{"$f":"AI48*('Product Info'!H49)","v":0},{"$f":"AI48*('Product Info'!M49+'Product Info'!P49+'Product Info'!S49+'Product Info'!V49+'Product Info'!Y49+'Product Info'!AB49+'Product Info'!AE49+'Product Info'!AH49+'Product Info'!AK49+'Product Info'!AN49+'Product Info'!AQ49+'Product Info'!AT49+'Product Info'!AW49+'Product Info'!AZ49+'Product Info'!BC49+'Product Info'!BF49+'Product Info'!BI49+'Product Info'!BL49+'Product Info'!BO49+'Product Info'!BR49+'Product Info'!BU49+'Product Info'!BX49+'Product Info'!CA49+'Product Info'!CD49+'Product Info'!CG49+'Product Info'!CJ49+'Product Info'!CM49+'Product Info'!CP49+'Product Info'!CS49+'Product Info'!CV49+'Product Info'!CY49+'Product Info'!DB49+'Product Info'!DE49+'Product Info'!DH49+'Product Info'!DK49+'Product Info'!DN49+'Product Info'!DQ49+'Product Info'!DT49+'Product Info'!DW49+'Product Info'!DZ49+'Product Info'!EC49+'Product Info'!EF49+'Product Info'!EI49+'Product Info'!EL49+'Product Info'!EO49+'Product Info'!ER49+'Product Info'!EU49+'Product Info'!EX49+'Product Info'!FA49+'Product Info'!FD49)","v":0},{"$f":"AI48*('Product Info'!M49)","v":0},{"$f":"AI48*'Product Info'!P49","v":0},{"$f":"AI48*'Product Info'!S49","v":0},{"$f":"AI48*'Product Info'!V49","v":0},{"$f":"AI48*'Product Info'!Y49","v":0},{"$f":"AI48*'Product Info'!AB49","v":0},{"$f":"AI48*'Product Info'!AE49","v":0},{"$f":"AI48*'Product Info'!AH49","v":0},{"$f":"AI48*'Product Info'!AK49","v":0},{"$f":"AI48*'Product Info'!AN49","v":0},{"$f":"AI48*'Product Info'!AQ49","v":0},{"$f":"AR48*'Product Info'!AF49","v":0},{"$f":"AI48*'Product Info'!AW49","v":0},{"$f":"AI48*'Product Info'!AZ49","v":0},{"$f":"AI48*'Product Info'!BC49","v":0},{"$f":"AI48*'Product Info'!BF49","v":0},{"$f":"AI48*'Product Info'!BI49","v":0},{"$f":"AI48*'Product Info'!BL49","v":0},{"$f":"AI48*'Product Info'!BO49","v":0},{"$f":"AI48*'Product Info'!BR49","v":0},{"$f":"AI48*'Product Info'!BU49","v":0},{"$f":"AI48*'Product Info'!BX49","v":0}]
[{"$f":"'Product Info'!A50","v":0},{"$f":"'Product Info'!B50","v":0},{"$f":"'Product Info'!C50","v":0},null,null,null,null,null,null,null,null,null,null,null,null,null,null,null,null,null,null,null,null,null,null,null,null,null,null,null,null,null,null,null,0,{"$f":"'Product Info'!F50*('Daily Info (October)'!AI49)","v":0},null,null,{"$f":"AI49*('Product Info'!H50)","v":0},{"$f":"AI49*('Product Info'!M50+'Product Info'!P50+'Product Info'!S50+'Product Info'!V50+'Product Info'!Y50+'Product Info'!AB50+'Product Info'!AE50+'Product Info'!AH50+'Product Info'!AK50+'Product Info'!AN50+'Product Info'!AQ50+'Product Info'!AT50+'Product Info'!AW50+'Product Info'!AZ50+'Product Info'!BC50+'Product Info'!BF50+'Product Info'!BI50+'Product Info'!BL50+'Product Info'!BO50+'Product Info'!BR50+'Product Info'!BU50+'Product Info'!BX50+'Product Info'!CA50+'Product Info'!CD50+'Product Info'!CG50+'Product Info'!CJ50+'Product Info'!CM50+'Product Info'!CP50+'Product Info'!CS50+'Product Info'!CV50+'Product Info'!CY50+'Product Info'!DB50+'Product Info'!DE50+'Product Info'!DH50+'Product Info'!DK50+'Product Info'!DN50+'Product Info'!DQ50+'Product Info'!DT50+'Product Info'!DW50+'Product Info'!DZ50+'Product Info'!EC50+'Product Info'!EF50+'Product Info'!EI50+'Product Info'!EL50+'Product Info'!EO50+'Product Info'!ER50+'Product Info'!EU50+'Product Info'!EX50+'Product Info'!FA50+'Product Info'!FD50)","v":0},{"$f":"AI49*('Product Info'!M50)","v":0},{"$f":"AI49*'Product Info'!P50","v":0},{"$f":"AI49*'Product Info'!S50","v":0},{"$f":"AI49*'Product Info'!V50","v":0},{"$f":"AI49*'Product Info'!Y50","v":0},{"$f":"AI49*'Product Info'!AB50","v":0},{"$f":"AI49*'Product Info'!AE50","v":0},{"$f":"AI49*'Product Info'!AH50","v":0},{"$f":"AI49*'Product Info'!AK50","v":0},{"$f":"AI49*'Product Info'!AN50","v":0},{"$f":"AI49*'Product Info'!AQ50","v":0},{"$f":"AI49*'Product Info'!AT50","v":0},{"$f":"AI49*'Product Info'!AW50","v":0},{"$f":"AI49*'Product Info'!AZ50","v":0},{"$f":"AI49*'Product Info'!BC50","v":0},{"$f":"AI49*'Product Info'!BF50","v":0},{"$f":"AI49*'Product Info'!BI50","v":0},{"$f":"AI49*'Product Info'!BL50","v":0},{"$f":"AI49*'Product Info'!BO50","v":0},{"$f":"AI49*'Product Info'!BR50","v":0},{"$f":"AI49*'Product Info'!BU50","v":0},{"$f":"AI49*'Product Info'!BX50","v":0}]
[{"$f":"'Product Info'!A51","v":0},{"$f":"'Product Info'!B51","v":0},{"$f":"'Product Info'!C51","v":0},null,null,null,null,null,null,null,null,null,null,null,null,null,null,null,null,null,null,null,null,null,null,null,null,null,null,null,null,null,null,null,0,{"$f":"'Product Info'!F51*('Daily Info (October)'!AI50)","v":0},null,null,{"$f":"AI50*('Product Info'!H51)","v":0},{"$f":"AI50*('Product Info'!M51+'Product Info'!P51+'Product Info'!S51+'Product Info'!V51+'Product Info'!Y51+'Product Info'!AB51+'Product Info'!AE51+'Product Info'!AH51+'Product Info'!AK51+'Product Info'!AN51+'Product Info'!AQ51+'Product Info'!AT51+'Product Info'!AW51+'Product Info'!AZ51+'Product Info'!BC51+'Product Info'!BF51+'Product Info'!BI51+'Product Info'!BL51+'Product Info'!BO51+'Product Info'!BR51+'Product Info'!BU51+'Product Info'!BX51+'Product Info'!CA51+'Product Info'!CD51+'Product Info'!CG51+'Product Info'!CJ51+'Product Info'!CM51+'Product Info'!CP51+'Product Info'!CS51+'Product Info'!CV51+'Product Info'!CY51+'Product Info'!DB51+'Product Info'!DE51+'Product Info'!DH51+'Product Info'!DK51+'Product Info'!DN51+'Product Info'!DQ51+'Product Info'!DT51+'Product Info'!DW51+'Product Info'!DZ51+'Product Info'!EC51+'Product Info'!EF51+'Product Info'!EI51+'Product Info'!EL51+'Product Info'!EO51+'Product Info'!ER51+'Product Info'!EU51+'Product Info'!EX51+'Product Info'!FA51+'Product Info'!FD51)","v":0},{"$f":"AI50*('Product Info'!M51)","v":0},{"$f":"AI50*'Product Info'!P51","v":0},{"$f":"AI50*'Product Info'!S51","v":0},{"$f":"AI50*'Product Info'!V51","v":0},{"$f":"AI50*'Product Info'!Y51","v":0},{"$f":"AI50*'Product Info'!AB51","v":0},{"$f":"AI50*'Product Info'!AE51","v":0},{"$f":"AI50*'Product Info'!AH51","v":0},{"$f":"AI50*'Product Info'!AK51","v":0},{"$f":"AI50*'Product Info'!AN51","v":0},{"$f":"AI50*'Product Info'!AQ51","v":0},{"$f":"AI50*'Product Info'!AT51","v":0},{"$f":"AI50*'Product Info'!AW51","v":0},{"$f":"AI50*'Product Info'!AZ51","v":0},{"$f":"AI50*'Product Info'!BC51","v":0},{"$f":"AI50*'Product Info'!BF51","v":0},{"$f":"AI50*'Product Info'!BI51","v":0},{"$f":"AI50*'Product Info'!BL51","v":0},{"$f":"AI50*'Product Info'!BO51","v":0},{"$f":"AI50*'Product Info'!BR51","v":0},{"$f":"AI50*'Product Info'!BU51","v":0},{"$f":"AI50*'Product Info'!BX51","v":0}]
[{"$f":"'Product Info'!A52","v":0},{"$f":"'Product Info'!B52","v":0},{"$f":"'Product Info'!C52","v":0},null,null,null,null,null,null,null,null,null,null,null,null,null,null,null,null,null,null,null,null,null,null,null,null,null,null,null,null,null,null,null,0,{"$f":"'Product Info'!F52*('Daily Info (October)'!AI51)","v":0},null,null,{"$f":"AI51*('Product Info'!H52)","v":0},{"$f":"AI51*('Product Info'!M52+'Product Info'!P52+'Product Info'!S52+'Product Info'!V52+'Product Info'!Y52+'Product Info'!AB52+'Product Info'!AE52+'Product Info'!AH52+'Product Info'!AK52+'Product Info'!AN52+'Product Info'!AQ52+'Product Info'!AT52+'Product Info'!AW52+'Product Info'!AZ52+'Product Info'!BC52+'Product Info'!BF52+'Product Info'!BI52+'Product Info'!BL52+'Product Info'!BO52+'Product Info'!BR52+'Product Info'!BU52+'Product Info'!BX52+'Product Info'!CA52+'Product Info'!CD52+'Product Info'!CG52+'Product Info'!CJ52+'Product Info'!CM52+'Product Info'!CP52+'Product Info'!CS52+'Product Info'!CV52+'Product Info'!CY52+'Product Info'!DB52+'Product Info'!DE52+'Product Info'!DH52+'Product Info'!DK52+'Product Info'!DN52+'Product Info'!DQ52+'Product Info'!DT52+'Product Info'!DW52+'Product Info'!DZ52+'Product Info'!EC52+'Product Info'!EF52+'Product Info'!EI52+'Product Info'!EL52+'Product Info'!EO52+'Product Info'!ER52+'Product Info'!EU52+'Product Info'!EX52+'Product Info'!FA52+'Product Info'!FD52)","v":0},{"$f":"AI51*('Product Info'!M52)","v":0},{"$f":"AI51*'Product Info'!P52","v":0},{"$f":"AI51*'Product Info'!S52","v":0},{"$f":"AI51*'Product Info'!V52","v":0},{"$f":"AI51*'Product Info'!Y52","v":0},{"$f":"AI51*'Product Info'!AB52","v":0},{"$f":"AI51*'Product Info'!AE52","v":0},{"$f":"AI51*'Product Info'!AH52","v":0},{"$f":"AI51*'Product Info'!AK52","v":0},{"$f":"AI51*'Product Info'!AN52","v":0},{"$f":"AI51*'Product Info'!AQ52","v":0},{"$f":"AI51*'Product Info'!AT52","v":0},{"$f":"AI51*'Product Info'!AW52","v":0},{"$f":"AI51*'Product Info'!AZ52","v":0},{"$f":"AI51*'Product Info'!BC52","v":0},{"$f":"AI51*'Product Info'!BF52","v":0},{"$f":"AI51*'Product Info'!BI52","v":0},{"$f":"AI51*'Product Info'!BL52","v":0},{"$f":"AI51*'Product Info'!BO52","v":0},{"$f":"AI51*'Product Info'!BR52","v":0},{"$f":"AI51*'Product Info'!BU52","v":0},{"$f":"AI51*'Product Info'!BX52","v":0}]
[{"$f":"'Product Info'!A53","v":0},{"$f":"'Product Info'!B53","v":0},{"$f":"'Product Info'!C53","v":0},null,null,null,null,null,null,null,null,null,null,null,null,null,null,null,null,null,null,null,null,null,null,null,null,null,null,null,null,null,null,null,0,{"$f":"'Product Info'!F53*('Daily Info (October)'!AI52)","v":0},null,null,{"$f":"AI52*('Product Info'!H53)","v":0},{"$f":"AI52*('Product Info'!M53+'Product Info'!P53+'Product Info'!S53+'Product Info'!V53+'Product Info'!Y53+'Product Info'!AB53+'Product Info'!AE53+'Product Info'!AH53+'Product Info'!AK53+'Product Info'!AN53+'Product Info'!AQ53+'Product Info'!AT53+'Product Info'!AW53+'Product Info'!AZ53+'Product Info'!BC53+'Product Info'!BF53+'Product Info'!BI53+'Product Info'!BL53+'Product Info'!BO53+'Product Info'!BR53+'Product Info'!BU53+'Product Info'!BX53+'Product Info'!CA53+'Product Info'!CD53+'Product Info'!CG53+'Product Info'!CJ53+'Product Info'!CM53+'Product Info'!CP53+'Product Info'!CS53+'Product Info'!CV53+'Product Info'!CY53+'Product Info'!DB53+'Product Info'!DE53+'Product Info'!DH53+'Product Info'!DK53+'Product Info'!DN53+'Product Info'!DQ53+'Product Info'!DT53+'Product Info'!DW53+'Product Info'!DZ53+'Product Info'!EC53+'Product Info'!EF53+'Product Info'!EI53+'Product Info'!EL53+'Product Info'!EO53+'Product Info'!ER53+'Product Info'!EU53+'Product Info'!EX53+'Product Info'!FA53+'Product Info'!FD53)","v":0},{"$f":"AI52*('Product Info'!M53)","v":0},{"$f":"AI52*'Product Info'!P53","v":0},{"$f":"AI52*'Product Info'!S53","v":0},{"$f":"AI52*'Product Info'!V53","v":0},{"$f":"AI52*'Product Info'!Y53","v":0},{"$f":"AI52*'Product Info'!AB53","v":0},{"$f":"AI52*'Product Info'!AE53","v":0},{"$f":"AI52*'Product Info'!AH53","v":0},{"$f":"AI52*'Product Info'!AK53","v":0},{"$f":"AI52*'Product Info'!AN53","v":0},{"$f":"AI52*'Product Info'!AQ53","v":0},{"$f":"AI52*'Product Info'!AT53","v":0},{"$f":"AI52*'Product Info'!AW53","v":0},{"$f":"AI52*'Product Info'!AZ53","v":0},{"$f":"AI52*'Product Info'!BC53","v":0},{"$f":"AI52*'Product Info'!BF53","v":0},{"$f":"AI52*'Product Info'!BI53","v":0},{"$f":"AI52*'Product Info'!BL53","v":0},{"$f":"AI52*'Product Info'!BO53","v":0},{"$f":"AI52*'Product Info'!BR53","v":0},{"$f":"AI52*'Product Info'!BU53","v":0},{"$f":"AI52*'Product Info'!BX53","v":0}]
[{"$f":"'Product Info'!A54","v":0},{"$f":"'Product Info'!B54","v":0},{"$f":"'Product Info'!C54","v":0},null,null,null,null,null,null,null,null,null,null,null,null,null,null,null,null,null,null,null,null,null,null,null,null,null,null,null,null,null,null,null,0,{"$f":"'Product Info'!F54*('Daily Info (October)'!AI53)","v":0},null,null,{"$f":"AI53*('Product Info'!H54)","v":0},{"$f":"AI53*('Product Info'!M54+'Product Info'!P54+'Product Info'!S54+'Product Info'!V54+'Product Info'!Y54+'Product Info'!AB54+'Product Info'!AE54+'Product Info'!AH54+'Product Info'!AK54+'Product Info'!AN54+'Product Info'!AQ54+'Product Info'!AT54+'Product Info'!AW54+'Product Info'!AZ54+'Product Info'!BC54+'Product Info'!BF54+'Product Info'!BI54+'Product Info'!BL54+'Product Info'!BO54+'Product Info'!BR54+'Product Info'!BU54+'Product Info'!BX54+'Product Info'!CA54+'Product Info'!CD54+'Product Info'!CG54+'Product Info'!CJ54+'Product Info'!CM54+'Product Info'!CP54+'Product Info'!CS54+'Product Info'!CV54+'Product Info'!CY54+'Product Info'!DB54+'Product Info'!DE54+'Product Info'!DH54+'Product Info'!DK54+'Product Info'!DN54+'Product Info'!DQ54+'Product Info'!DT54+'Product Info'!DW54+'Product Info'!DZ54+'Product Info'!EC54+'Product Info'!EF54+'Product Info'!EI54+'Product Info'!EL54+'Product Info'!EO54+'Product Info'!ER54+'Product Info'!EU54+'Product Info'!EX54+'Product Info'!FA54+'Product Info'!FD54)","v":0},{"$f":"AI53*('Product Info'!M54)","v":0},{"$f":"AI53*'Product Info'!P54","v":0},{"$f":"AI53*'Product Info'!S54","v":0},{"$f":"AI53*'Product Info'!V54","v":0},{"$f":"AI53*'Product Info'!Y54","v":0},{"$f":"AI53*'Product Info'!AB54","v":0},{"$f":"AI53*'Product Info'!AE54","v":0},{"$f":"AI53*'Product Info'!AH54","v":0},{"$f":"AI53*'Product Info'!AK54","v":0},{"$f":"AI53*'Product Info'!AN54","v":0},{"$f":"AI53*'Product Info'!AQ54","v":0},{"$f":"AI53*'Product Info'!AT54","v":0},{"$f":"AI53*'Product Info'!AW54","v":0},{"$f":"AI53*'Product Info'!AZ54","v":0},{"$f":"AI53*'Product Info'!BC54","v":0},{"$f":"AI53*'Product Info'!BF54","v":0},{"$f":"AI53*'Product Info'!BI54","v":0},{"$f":"AI53*'Product Info'!BL54","v":0},{"$f":"AI53*'Product Info'!BO54","v":0},{"$f":"AI53*'Product Info'!BR54","v":0},{"$f":"AI53*'Product Info'!BU54","v":0},{"$f":"AI53*'Product Info'!BX54","v":0}]
[{"$f":"'Product Info'!A55","v":0},{"$f":"'Product Info'!B55","v":0},{"$f":"'Product Info'!C55","v":0},null,null,null,null,null,null,null,null,null,null,null,null,null,null,null,null,null,null,null,null,null,null,null,null,null,null,null,null,null,null,null,0,{"$f":"'Product Info'!F55*('Daily Info (October)'!AI54)","v":0},null,null,{"$f":"AI54*('Product Info'!H55)","v":0},{"$f":"AI54*('Product Info'!M55+'Product Info'!P55+'Product Info'!S55+'Product Info'!V55+'Product Info'!Y55+'Product Info'!AB55+'Product Info'!AE55+'Product Info'!AH55+'Product Info'!AK55+'Product Info'!AN55+'Product Info'!AQ55+'Product Info'!AT55+'Product Info'!AW55+'Product Info'!AZ55+'Product Info'!BC55+'Product Info'!BF55+'Product Info'!BI55+'Product Info'!BL55+'Product Info'!BO55+'Product Info'!BR55+'Product Info'!BU55+'Product Info'!BX55+'Product Info'!CA55+'Product Info'!CD55+'Product Info'!CG55+'Product Info'!CJ55+'Product Info'!CM55+'Product Info'!CP55+'Product Info'!CS55+'Product Info'!CV55+'Product Info'!CY55+'Product Info'!DB55+'Product Info'!DE55+'Product Info'!DH55+'Product Info'!DK55+'Product Info'!DN55+'Product Info'!DQ55+'Product Info'!DT55+'Product Info'!DW55+'Product Info'!DZ55+'Product Info'!EC55+'Product Info'!EF55+'Product Info'!EI55+'Product Info'!EL55+'Product Info'!EO55+'Product Info'!ER55+'Product Info'!EU55+'Product Info'!EX55+'Product Info'!FA55+'Product Info'!FD55)","v":0},{"$f":"AI54*('Product Info'!M55)","v":0},{"$f":"AI54*'Product Info'!P55","v":0},{"$f":"AI54*'Product Info'!S55","v":0},{"$f":"AI54*'Product Info'!V55","v":0},{"$f":"AI54*'Product Info'!Y55","v":0},{"$f":"AI54*'Product Info'!AB55","v":0},{"$f":"AI54*'Product Info'!AE55","v":0},{"$f":"AI54*'Product Info'!AH55","v":0},{"$f":"AI54*'Product Info'!AK55","v":0},{"$f":"AI54*'Product Info'!AN55","v":0},{"$f":"AI54*'Product Info'!AQ55","v":0},{"$f":"AI54*'Product Info'!AT55","v":0},{"$f":"AI54*'Product Info'!AW55","v":0},{"$f":"AI54*'Product Info'!AZ55","v":0},{"$f":"AI54*'Product Info'!BC55","v":0},{"$f":"AI54*'Product Info'!BF55","v":0},{"$f":"AI54*'Product Info'!BI55","v":0},{"$f":"AI54*'Product Info'!BL55","v":0},{"$f":"AI54*'Product Info'!BO55","v":0},{"$f":"AI54*'Product Info'!BR55","v":0},{"$f":"AI54*'Product Info'!BU55","v":0},{"$f":"AI54*'Product Info'!BX55","v":0}]
[{"$f":"'Product Info'!A56","v":0},{"$f":"'Product Info'!B56","v":0},{"$f":"'Product Info'!C56","v":0},null,null,null,null,null,null,null,null,null,null,null,null,null,null,null,null,null,null,null,null,null,null,null,null,null,null,null,null,null,null,null,0,{"$f":"'Product Info'!F56*('Daily Info (October)'!AI55)","v":0},null,null,{"$f":"AI55*('Product Info'!H56)","v":0},{"$f":"AI55*('Product Info'!M56+'Product Info'!P56+'Product Info'!S56+'Product Info'!V56+'Product Info'!Y56+'Product Info'!AB56+'Product Info'!AE56+'Product Info'!AH56+'Product Info'!AK56+'Product Info'!AN56+'Product Info'!AQ56+'Product Info'!AT56+'Product Info'!AW56+'Product Info'!AZ56+'Product Info'!BC56+'Product Info'!BF56+'Product Info'!BI56+'Product Info'!BL56+'Product Info'!BO56+'Product Info'!BR56+'Product Info'!BU56+'Product Info'!BX56+'Product Info'!CA56+'Product Info'!CD56+'Product Info'!CG56+'Product Info'!CJ56+'Product Info'!CM56+'Product Info'!CP56+'Product Info'!CS56+'Product Info'!CV56+'Product Info'!CY56+'Product Info'!DB56+'Product Info'!DE56+'Product Info'!DH56+'Product Info'!DK56+'Product Info'!DN56+'Product Info'!DQ56+'Product Info'!DT56+'Product Info'!DW56+'Product Info'!DZ56+'Product Info'!EC56+'Product Info'!EF56+'Product Info'!EI56+'Product Info'!EL56+'Product Info'!EO56+'Product Info'!ER56+'Product Info'!EU56+'Product Info'!EX56+'Product Info'!FA56+'Product Info'!FD56)","v":0},{"$f":"AI55*('Product Info'!M56)","v":0},{"$f":"AI55*'Product Info'!P56","v":0},{"$f":"AI55*'Product Info'!S56","v":0},{"$f":"AI55*'Product Info'!V56","v":0},{"$f":"AI55*'Product Info'!Y56","v":0},{"$f":"AI55*'Product Info'!AB56","v":0},{"$f":"AI55*'Product Info'!AE56","v":0},{"$f":"AI55*'Product Info'!AH56","v":0},{"$f":"AI55*'Product Info'!AK56","v":0},{"$f":"AI55*'Product Info'!AN56","v":0},{"$f":"AI55*'Product Info'!AQ56","v":0},{"$f":"AI55*'Product Info'!AT56","v":0},{"$f":"AI55*'Product Info'!AW56","v":0},{"$f":"AI55*'Product Info'!AZ56","v":0},{"$f":"AI55*'Product Info'!BC56","v":0},{"$f":"AI55*'Product Info'!BF56","v":0},{"$f":"AI55*'Product Info'!BI56","v":0},{"$f":"AI55*'Product Info'!BL56","v":0},{"$f":"AI55*'Product Info'!BO56","v":0},{"$f":"AI55*'Product Info'!BR56","v":0},{"$f":"AI55*'Product Info'!BU56","v":0},{"$f":"AI55*'Product Info'!BX56","v":0}]
[{"$f":"'Product Info'!A57","v":0},{"$f":"'Product Info'!B57","v":0},{"$f":"'Product Info'!C57","v":0},null,null,null,null,null,null,null,null,null,null,null,null,null,null,null,null,null,null,null,null,null,null,null,null,null,null,null,null,null,null,null,0,{"$f":"'Product Info'!F57*('Daily Info (October)'!AI56)","v":0},null,null,{"$f":"AI56*('Product Info'!H57)","v":0},{"$f":"AI56*('Product Info'!M57+'Product Info'!P57+'Product Info'!S57+'Product Info'!V57+'Product Info'!Y57+'Product Info'!AB57+'Product Info'!AE57+'Product Info'!AH57+'Product Info'!AK57+'Product Info'!AN57+'Product Info'!AQ57+'Product Info'!AT57+'Product Info'!AW57+'Product Info'!AZ57+'Product Info'!BC57+'Product Info'!BF57+'Product Info'!BI57+'Product Info'!BL57+'Product Info'!BO57+'Product Info'!BR57+'Product Info'!BU57+'Product Info'!BX57+'Product Info'!CA57+'Product Info'!CD57+'Product Info'!CG57+'Product Info'!CJ57+'Product Info'!CM57+'Product Info'!CP57+'Product Info'!CS57+'Product Info'!CV57+'Product Info'!CY57+'Product Info'!DB57+'Product Info'!DE57+'Product Info'!DH57+'Product Info'!DK57+'Product Info'!DN57+'Product Info'!DQ57+'Product Info'!DT57+'Product Info'!DW57+'Product Info'!DZ57+'Product Info'!EC57+'Product Info'!EF57+'Product Info'!EI57+'Product Info'!EL57+'Product Info'!EO57+'Product Info'!ER57+'Product Info'!EU57+'Product Info'!EX57+'Product Info'!FA57+'Product Info'!FD57)","v":0},{"$f":"AI56*('Product Info'!M57)","v":0},{"$f":"AI56*'Product Info'!P57","v":0},{"$f":"AI56*'Product Info'!S57","v":0},{"$f":"AI56*'Product Info'!V57","v":0},{"$f":"AI56*'Product Info'!Y57","v":0},{"$f":"AI56*'Product Info'!AB57","v":0},{"$f":"AI56*'Product Info'!AE57","v":0},{"$f":"AI56*'Product Info'!AH57","v":0},{"$f":"AI56*'Product Info'!AK57","v":0},{"$f":"AI56*'Product Info'!AN57","v":0},{"$f":"AI56*'Product Info'!AQ57","v":0},{"$f":"AI56*'Product Info'!AT57","v":0},{"$f":"AI56*'Product Info'!AW57","v":0},{"$f":"AI56*'Product Info'!AZ57","v":0},{"$f":"AI56*'Product Info'!BC57","v":0},{"$f":"AI56*'Product Info'!BF57","v":0},{"$f":"AI56*'Product Info'!BI57","v":0},{"$f":"AI56*'Product Info'!BL57","v":0},{"$f":"AI56*'Product Info'!BO57","v":0},{"$f":"AI56*'Product Info'!BR57","v":0},{"$f":"AI56*'Product Info'!BU57","v":0},{"$f":"AI56*'Product Info'!BX57","v":0}]
[{"$f":"'Product Info'!A58","v":0},{"$f":"'Product Info'!B58","v":0},{"$f":"'Product Info'!C58","v":0},null,null,null,null,null,null,null,null,null,null,null,null,null,null,null,null,null,null,null,null,null,null,null,null,null,null,null,null,null,null,null,0,{"$f":"'Product Info'!F58*('Daily Info (October)'!AI57)","v":0},null,null,{"$f":"AI57*('Product Info'!H58)","v":0},{"$f":"AI57*('Product Info'!M58+'Product Info'!P58+'Product Info'!S58+'Product Info'!V58+'Product Info'!Y58+'Product Info'!AB58+'Product Info'!AE58+'Product Info'!AH58+'Product Info'!AK58+'Product Info'!AN58+'Product Info'!AQ58+'Product Info'!AT58+'Product Info'!AW58+'Product Info'!AZ58+'Product Info'!BC58+'Product Info'!BF58+'Product Info'!BI58+'Product Info'!BL58+'Product Info'!BO58+'Product Info'!BR58+'Product Info'!BU58+'Product Info'!BX58+'Product Info'!CA58+'Product Info'!CD58+'Product Info'!CG58+'Product Info'!CJ58+'Product Info'!CM58+'Product Info'!CP58+'Product Info'!CS58+'Product Info'!CV58+'Product Info'!CY58+'Product Info'!DB58+'Product Info'!DE58+'Product Info'!DH58+'Product Info'!DK58+'Product Info'!DN58+'Product Info'!DQ58+'Product Info'!DT58+'Product Info'!DW58+'Product Info'!DZ58+'Product Info'!EC58+'Product Info'!EF58+'Product Info'!EI58+'Product Info'!EL58+'Product Info'!EO58+'Product Info'!ER58+'Product Info'!EU58+'Product Info'!EX58+'Product Info'!FA58+'Product Info'!FD58)","v":0},{"$f":"AI57*('Product Info'!M58)","v":0},{"$f":"AI57*'Product Info'!P58","v":0},{"$f":"AI57*'Product Info'!S58","v":0},{"$f":"AI57*'Product Info'!V58","v":0},{"$f":"AI57*'Product Info'!Y58","v":0},{"$f":"AI57*'Product Info'!AB58","v":0},{"$f":"AI57*'Product Info'!AE58","v":0},{"$f":"AI57*'Product Info'!AH58","v":0},{"$f":"AI57*'Product Info'!AK58","v":0},{"$f":"AI57*'Product Info'!AN58","v":0},{"$f":"AI57*'Product Info'!AQ58","v":0},{"$f":"AI57*'Product Info'!AT58","v":0},{"$f":"AI57*'Product Info'!AW58","v":0},{"$f":"AI57*'Product Info'!AZ58","v":0},{"$f":"AI57*'Product Info'!BC58","v":0},{"$f":"AI57*'Product Info'!BF58","v":0},{"$f":"AI57*'Product Info'!BI58","v":0},{"$f":"AI57*'Product Info'!BL58","v":0},{"$f":"AI57*'Product Info'!BO58","v":0},{"$f":"AI57*'Product Info'!BR58","v":0},{"$f":"AI57*'Product Info'!BU58","v":0},{"$f":"AI57*'Product Info'!BX58","v":0}]
[{"$f":"'Product Info'!A59","v":0},{"$f":"'Product Info'!B59","v":0},{"$f":"'Product Info'!C59","v":0},null,null,null,null,null,null,null,null,null,null,null,null,null,null,null,null,null,null,null,null,null,null,null,null,null,null,null,null,null,null,null,0,{"$f":"'Product Info'!F59*('Daily Info (October)'!AI58)","v":0},null,null,{"$f":"AI58*('Product Info'!H59)","v":0},{"$f":"AI58*('Product Info'!M59+'Product Info'!P59+'Product Info'!S59+'Product Info'!V59+'Product Info'!Y59+'Product Info'!AB59+'Product Info'!AE59+'Product Info'!AH59+'Product Info'!AK59+'Product Info'!AN59+'Product Info'!AQ59+'Product Info'!AT59+'Product Info'!AW59+'Product Info'!AZ59+'Product Info'!BC59+'Product Info'!BF59+'Product Info'!BI59+'Product Info'!BL59+'Product Info'!BO59+'Product Info'!BR59+'Product Info'!BU59+'Product Info'!BX59+'Product Info'!CA59+'Product Info'!CD59+'Product Info'!CG59+'Product Info'!CJ59+'Product Info'!CM59+'Product Info'!CP59+'Product Info'!CS59+'Product Info'!CV59+'Product Info'!CY59+'Product Info'!DB59+'Product Info'!DE59+'Product Info'!DH59+'Product Info'!DK59+'Product Info'!DN59+'Product Info'!DQ59+'Product Info'!DT59+'Product Info'!DW59+'Product Info'!DZ59+'Product Info'!EC59+'Product Info'!EF59+'Product Info'!EI59+'Product Info'!EL59+'Product Info'!EO59+'Product Info'!ER59+'Product Info'!EU59+'Product Info'!EX59+'Product Info'!FA59+'Product Info'!FD59)","v":0},{"$f":"AI58*('Product Info'!M59)","v":0},{"$f":"AI58*'Product Info'!P59","v":0},{"$f":"AI58*'Product Info'!S59","v":0},{"$f":"AI58*'Product Info'!V59","v":0},{"$f":"AI58*'Product Info'!Y59","v":0},{"$f":"AI58*'Product Info'!AB59","v":0},{"$f":"AI58*'Product Info'!AE59","v":0},{"$f":"AI58*'Product Info'!AH59","v":0},{"$f":"AI58*'Product Info'!AK59","v":0},{"$f":"AI58*'Product Info'!AN59","v":0},{"$f":"AI58*'Product Info'!AQ59","v":0},{"$f":"AI58*'Product Info'!AT59","v":0},{"$f":"AI58*'Product Info'!AW59","v":0},{"$f":"AI58*'Product Info'!AZ59","v":0},{"$f":"AI58*'Product Info'!BC59","v":0},{"$f":"AI58*'Product Info'!BF59","v":0},{"$f":"AI58*'Product Info'!BI59","v":0},{"$f":"AI58*'Product Info'!BL59","v":0},{"$f":"AI58*'Product Info'!BO59","v":0},{"$f":"AI58*'Product Info'!BR59","v":0},{"$f":"AI58*'Product Info'!BU59","v":0},{"$f":"AI58*'Product Info'!BX59","v":0}]
[{"$f":"'Product Info'!A60","v":0},{"$f":"'Product Info'!B60","v":0},{"$f":"'Product Info'!C60","v":0},null,null,null,null,null,null,null,null,null,null,null,null,null,null,null,null,null,null,null,null,null,null,null,null,null,null,null,null,null,null,null,0,{"$f":"'Product Info'!F60*('Daily Info (October)'!AI59)","v":0},null,null,{"$f":"AI59*('Product Info'!H60)","v":0},{"$f":"AI59*('Product Info'!M60+'Product Info'!P60+'Product Info'!S60+'Product Info'!V60+'Product Info'!Y60+'Product Info'!AB60+'Product Info'!AE60+'Product Info'!AH60+'Product Info'!AK60+'Product Info'!AN60+'Product Info'!AQ60+'Product Info'!AT60+'Product Info'!AW60+'Product Info'!AZ60+'Product Info'!BC60+'Product Info'!BF60+'Product Info'!BI60+'Product Info'!BL60+'Product Info'!BO60+'Product Info'!BR60+'Product Info'!BU60+'Product Info'!BX60+'Product Info'!CA60+'Product Info'!CD60+'Product Info'!CG60+'Product Info'!CJ60+'Product Info'!CM60+'Product Info'!CP60+'Product Info'!CS60+'Product Info'!CV60+'Product Info'!CY60+'Product Info'!DB60+'Product Info'!DE60+'Product Info'!DH60+'Product Info'!DK60+'Product Info'!DN60+'Product Info'!DQ60+'Product Info'!DT60+'Product Info'!DW60+'Product Info'!DZ60+'Product Info'!EC60+'Product Info'!EF60+'Product Info'!EI60+'Product Info'!EL60+'Product Info'!EO60+'Product Info'!ER60+'Product Info'!EU60+'Product Info'!EX60+'Product Info'!FA60+'Product Info'!FD60)","v":0},{"$f":"AI59*('Product Info'!M60)","v":0},{"$f":"AI59*'Product Info'!P60","v":0},{"$f":"AI59*'Product Info'!S60","v":0},{"$f":"AI59*'Product Info'!V60","v":0},{"$f":"AI59*'Product Info'!Y60","v":0},{"$f":"AI59*'Product Info'!AB60","v":0},{"$f":"AI59*'Product Info'!AE60","v":0},{"$f":"AI59*'Product Info'!AH60","v":0},{"$f":"AI59*'Product Info'!AK60","v":0},{"$f":"AI59*'Product Info'!AN60","v":0},{"$f":"AI59*'Product Info'!AQ60","v":0},{"$f":"AI59*'Product Info'!AT60","v":0},{"$f":"AI59*'Product Info'!AW60","v":0},{"$f":"AI59*'Product Info'!AZ60","v":0},{"$f":"AI59*'Product Info'!BC60","v":0},{"$f":"AI59*'Product Info'!BF60","v":0},{"$f":"AI59*'Product Info'!BI60","v":0},{"$f":"AI59*'Product Info'!BL60","v":0},{"$f":"AI59*'Product Info'!BO60","v":0},{"$f":"AI59*'Product Info'!BR60","v":0},{"$f":"AI59*'Product Info'!BU60","v":0},{"$f":"AI59*'Product Info'!BX60","v":0}]
[{"$f":"'Product Info'!A61","v":0},{"$f":"'Product Info'!B61","v":0},{"$f":"'Product Info'!C61","v":0},null,null,null,null,null,null,null,null,null,null,null,null,null,null,null,null,null,null,null,null,null,null,null,null,null,null,null,null,null,null,null,0,{"$f":"'Product Info'!F61*('Daily Info (October)'!AI60)","v":0},null,null,{"$f":"AI60*('Product Info'!H61)","v":0},{"$f":"AI60*('Product Info'!M61+'Product Info'!P61+'Product Info'!S61+'Product Info'!V61+'Product Info'!Y61+'Product Info'!AB61+'Product Info'!AE61+'Product Info'!AH61+'Product Info'!AK61+'Product Info'!AN61+'Product Info'!AQ61+'Product Info'!AT61+'Product Info'!AW61+'Product Info'!AZ61+'Product Info'!BC61+'Product Info'!BF61+'Product Info'!BI61+'Product Info'!BL61+'Product Info'!BO61+'Product Info'!BR61+'Product Info'!BU61+'Product Info'!BX61+'Product Info'!CA61+'Product Info'!CD61+'Product Info'!CG61+'Product Info'!CJ61+'Product Info'!CM61+'Product Info'!CP61+'Product Info'!CS61+'Product Info'!CV61+'Product Info'!CY61+'Product Info'!DB61+'Product Info'!DE61+'Product Info'!DH61+'Product Info'!DK61+'Product Info'!DN61+'Product Info'!DQ61+'Product Info'!DT61+'Product Info'!DW61+'Product Info'!DZ61+'Product Info'!EC61+'Product Info'!EF61+'Product Info'!EI61+'Product Info'!EL61+'Product Info'!EO61+'Product Info'!ER61+'Product Info'!EU61+'Product Info'!EX61+'Product Info'!FA61+'Product Info'!FD61)","v":0},{"$f":"AI60*('Product Info'!M61)","v":0},{"$f":"AI60*'Product Info'!P61","v":0},{"$f":"AI60*'Product Info'!S61","v":0},{"$f":"AI60*'Product Info'!V61","v":0},{"$f":"AI60*'Product Info'!Y61","v":0},{"$f":"AI60*'Product Info'!AB61","v":0},{"$f":"AI60*'Product Info'!AE61","v":0},{"$f":"AI60*'Product Info'!AH61","v":0},{"$f":"AI60*'Product Info'!AK61","v":0},{"$f":"AI60*'Product Info'!AN61","v":0},{"$f":"AI60*'Product Info'!AQ61","v":0},{"$f":"AI60*'Product Info'!AT61","v":0},{"$f":"AI60*'Product Info'!AW61","v":0},{"$f":"AI60*'Product Info'!AZ61","v":0},{"$f":"AI60*'Product Info'!BC61","v":0},{"$f":"AI60*'Product Info'!BF61","v":0},{"$f":"AI60*'Product Info'!BI61","v":0},{"$f":"AI60*'Product Info'!BL61","v":0},{"$f":"AI60*'Product Info'!BO61","v":0},{"$f":"AI60*'Product Info'!BR61","v":0},{"$f":"AI60*'Product Info'!BU61","v":0},{"$f":"AI60*'Product Info'!BX61","v":0}]
[{"$f":"'Product Info'!A62","v":0},{"$f":"'Product Info'!B62","v":0},{"$f":"'Product Info'!C62","v":0},null,null,null,null,null,null,null,null,null,null,null,null,null,null,null,null,null,null,null,null,null,null,null,null,null,null,null,null,null,null,null,0,{"$f":"'Product Info'!F62*('Daily Info (October)'!AI61)","v":0},null,null,{"$f":"AI61*('Product Info'!H62)","v":0},{"$f":"AI61*('Product Info'!M62+'Product Info'!P62+'Product Info'!S62+'Product Info'!V62+'Product Info'!Y62+'Product Info'!AB62+'Product Info'!AE62+'Product Info'!AH62+'Product Info'!AK62+'Product Info'!AN62+'Product Info'!AQ62+'Product Info'!AT62+'Product Info'!AW62+'Product Info'!AZ62+'Product Info'!BC62+'Product Info'!BF62+'Product Info'!BI62+'Product Info'!BL62+'Product Info'!BO62+'Product Info'!BR62+'Product Info'!BU62+'Product Info'!BX62+'Product Info'!CA62+'Product Info'!CD62+'Product Info'!CG62+'Product Info'!CJ62+'Product Info'!CM62+'Product Info'!CP62+'Product Info'!CS62+'Product Info'!CV62+'Product Info'!CY62+'Product Info'!DB62+'Product Info'!DE62+'Product Info'!DH62+'Product Info'!DK62+'Product Info'!DN62+'Product Info'!DQ62+'Product Info'!DT62+'Product Info'!DW62+'Product Info'!DZ62+'Product Info'!EC62+'Product Info'!EF62+'Product Info'!EI62+'Product Info'!EL62+'Product Info'!EO62+'Product Info'!ER62+'Product Info'!EU62+'Product Info'!EX62+'Product Info'!FA62+'Product Info'!FD62)","v":0},{"$f":"AI61*('Product Info'!M62)","v":0},{"$f":"AI61*'Product Info'!P62","v":0},{"$f":"AI61*'Product Info'!S62","v":0},{"$f":"AI61*'Product Info'!V62","v":0},{"$f":"AI61*'Product Info'!Y62","v":0},{"$f":"AI61*'Product Info'!AB62","v":0},{"$f":"AI61*'Product Info'!AE62","v":0},{"$f":"AI61*'Product Info'!AH62","v":0},{"$f":"AI61*'Product Info'!AK62","v":0},{"$f":"AI61*'Product Info'!AN62","v":0},{"$f":"AI61*'Product Info'!AQ62","v":0},{"$f":"AI61*'Product Info'!AT62","v":0},{"$f":"AI61*'Product Info'!AW62","v":0},{"$f":"AI61*'Product Info'!AZ62","v":0},{"$f":"AI61*'Product Info'!BC62","v":0},{"$f":"AI61*'Product Info'!BF62","v":0},{"$f":"AI61*'Product Info'!BI62","v":0},{"$f":"AI61*'Product Info'!BL62","v":0},{"$f":"AI61*'Product Info'!BO62","v":0},{"$f":"AI61*'Product Info'!BR62","v":0},{"$f":"AI61*'Product Info'!BU62","v":0},{"$f":"AI61*'Product Info'!BX62","v":0}]
["TOTALS for October",null,null,null,null,null,null,null,null,null,null,null,null,null,null,null,null,null,null,null,null,null,null,null,null,null,null,null,null,null,null,null,null,null,{"$f":"SUM(AI4:AI18)","v":0},{"$f":"SUM(AJ4:AJ18)","v":0},null,null,{"$f":"SUM(AM4:AM18)","v":0},{"$f":"SUM(AN4:AN18)","v":0},0,0,0,0,0,0,0,0,0,0,0,0,0,0,0,0,0,0,0,0,0,0]

{"sheet":"Daily Info (November)","index":12,"n_rows":62,"n_cols":61,"rows_kept":62,"cut":false,"hidden":false,"merged":[[0,3,0,12],[0,37,0,38],[61,0,61,1],[61,3,61,32],[1,34,1,35],[3,34,3,35],[4,34,4,35],[5,34,5,35],[6,34,6,35],[7,34,7,35],[19,34,19,35],[8,34,8,35],[9,34,9,35],[10,34,10,35],[11,34,11,35],[12,34,12,35],[13,34,13,35],[14,34,14,35],[15,34,15,35],[16,34,16,35],[17,34,17,35],[18,34,18,35],[31,34,31,35],[20,34,20,35],[21,34,21,35],[22,34,22,35],[23,34,23,35],[24,34,24,35],[25,34,25,35],[26,34,26,35],[27,34,27,35],[28,34,28,35],[29,34,29,35],[30,34,30,35],[43,34,43,35],[32,34,32,35],[33,34,33,35],[34,34,34,35],[35,34,35,35],[36,34,36,35],[37,34,37,35],[38,34,38,35],[39,34,39,35],[40,34,40,35],[41,34,41,35],[42,34,42,35],[55,34,55,35],[44,34,44,35],[45,34,45,35],[46,34,46,35],[47,34,47,35],[48,34,48,35],[49,34,49,35],[50,34,50,35],[51,34,51,35],[52,34,52,35],[53,34,53,35],[54,34,54,35],[60,34,60,35],[61,34,61,35],[56,34,56,35],[57,34,57,35],[58,34,58,35],[59,34,59,35]]}
["Main Menu","VOC Product Information",null,"Daily Usage (gal)",null,null,null,null,null,null,null,null,null,null,null,null,null,null,null,null,null,null,null,null,null,"Daily Usage (gal)",null,null,null,null,null,null,null,null,null,null,null,"Emissions"]
["Product Number","Product Name","Product Type","2006-11-01","2006-11-02","2006-11-03","2006-11-04","2006-11-05","2006-11-06","2006-11-07","2006-11-08","2006-11-09","2006-11-10","2006-11-11","2006-11-12","2006-11-13","2006-11-14","2006-11-15","2006-11-16","2006-11-17","2006-11-18","2006-11-19","2006-11-20","2006-11-21","2006-11-22","2006-11-23","2006-11-24","2006-11-25","2006-11-26","2006-11-27","2006-11-28","2006-11-29","2006-11-30","Total Usage (gal)","Total Usage (lbs)",null,null,"Pounds VOCs Emitted","Pounds Total HAPs Emitted",{"$f":"'Product Info'!K3","v":0},{"$f":"'Product Info'!N3","v":0},{"$f":"'Product Info'!Q3","v":0},{"$f":"'Product Info'!T3","v":0},{"$f":"'Product Info'!W3","v":0},{"$f":"'Product Info'!Z3","v":0},{"$f":"'Product Info'!AC3","v":0},{"$f":"'Product Info'!AF3","v":0},{"$f":"'Product Info'!AI3","v":0},{"$f":"'Product Info'!AL3","v":0},{"$f":"'Product Info'!AO3","v":0},{"$f":"'Product Info'!AR3","v":0},{"$f":"'Product Info'!AU3","v":0},{"$f":"'Product Info'!AX3","v":0},{"$f":"'Product Info'!BA3","v":0},{"$f":"'Product Info'!BD3","v":0},{"$f":"'Product Info'!BG3","v":0},{"$f":"'Product Info'!BJ3","v":0},{"$f":"'Product Info'!BM3","v":0},{"$f":"'Product Info'!BP3","v":0},{"$f":"'Product Info'!BS3","v":0},{"$f":"'Product Info'!BV3","v":0}]
[]
[{"$f":"'Product Info'!A5","v":0},{"$f":"'Product Info'!B5","v":0},{"$f":"'Product Info'!C5","v":0},null,null,null,null,null,null,null,null,null,null,null,null,null,null,null,null,null,null,null,null,null,null,null,null,null,null,null,null,null,null,{"$f":"SUM(D4:AG4)","v":0},{"$f":"'Product Info'!F5*('Daily Info (November)'!AH4)","v":0},null,null,{"$f":"AH4*('Product Info'!H5)","v":0},{"$f":"AH4*('Product Info'!M5+'Product Info'!P5+'Product Info'!S5+'Product Info'!V5+'Product Info'!Y5+'Product Info'!AB5+'Product Info'!AE5+'Product Info'!AH5+'Product Info'!AK5+'Product Info'!AN5+'Product Info'!AQ5+'Product Info'!AT5+'Product Info'!AW5+'Product Info'!AZ5+'Product Info'!BC5+'Product Info'!BF5+'Product Info'!BI5+'Product Info'!BL5+'Product Info'!BO5+'Product Info'!BR5+'Product Info'!BU5+'Product Info'!BX5+'Product Info'!CA5+'Product Info'!CD5+'Product Info'!CG5+'Product Info'!CJ5+'Product Info'!CM5+'Product Info'!CP5+'Product Info'!CS5+'Product Info'!CV5+'Product Info'!CY5+'Product Info'!DB5+'Product Info'!DE5+'Product Info'!DH5+'Product Info'!DK5+'Product Info'!DN5+'Product Info'!DQ5+'Product Info'!DT5+'Product Info'!DW5+'Product Info'!DZ5+'Product Info'!EC5+'Product Info'!EF5+'Product Info'!EI5+'Product Info'!EL5+'Product Info'!EO5+'Product Info'!ER5+'Product Info'!EU5+'Product Info'!EX5+'Product Info'!FA5+'Product Info'!FD5)","v":0},{"$f":"AH4*('Product Info'!M5)","v":0},{"$f":"AH4*'Product Info'!P5","v":0},{"$f":"AH4*'Product Info'!S5","v":0},{"$f":"AH4*'Product Info'!V5","v":0},{"$f":"AH4*'Product Info'!Y5","v":0},{"$f":"AH4*'Product Info'!AB5","v":0},{"$f":"AH4*'Product Info'!AE5","v":0},{"$f":"AH4*'Product Info'!AH5","v":0},{"$f":"AH4*'Product Info'!AK5","v":0},{"$f":"AH4*'Product Info'!AN5","v":0},{"$f":"AH4*'Product Info'!AQ5","v":0},{"$f":"AH4*'Product Info'!AT5","v":0},{"$f":"AH4*'Product Info'!AW5","v":0},{"$f":"AH4*'Product Info'!AZ5","v":0},{"$f":"AH4*'Product Info'!BC5","v":0},{"$f":"AH4*'Product Info'!BF5","v":0},{"$f":"AH4*'Product Info'!BI5","v":0},{"$f":"AH4*'Product Info'!BL5","v":0},{"$f":"AH4*'Product Info'!BO5","v":0},{"$f":"AH4*'Product Info'!BR5","v":0},{"$f":"AH4*'Product Info'!BU5","v":0},{"$f":"AH4*'Product Info'!BX5","v":0}]
[{"$f":"'Product Info'!A6","v":0},{"$f":"'Product Info'!B6","v":0},{"$f":"'Product Info'!C6","v":0},null,null,null,null,null,null,null,null,null,null,null,null,null,null,null,null,null,null,null,null,null,null,null,null,null,null,null,null,null,null,0,{"$f":"'Product Info'!F6*('Daily Info (November)'!AH5)","v":0},null,null,{"$f":"AH5*('Product Info'!H6)","v":0},{"$f":"AH5*('Product Info'!M6+'Product Info'!P6+'Product Info'!S6+'Product Info'!V6+'Product Info'!Y6+'Product Info'!AB6+'Product Info'!AE6+'Product Info'!AH6+'Product Info'!AK6+'Product Info'!AN6+'Product Info'!AQ6+'Product Info'!AT6+'Product Info'!AW6+'Product Info'!AZ6+'Product Info'!BC6+'Product Info'!BF6+'Product Info'!BI6+'Product Info'!BL6+'Product Info'!BO6+'Product Info'!BR6+'Product Info'!BU6+'Product Info'!BX6+'Product Info'!CA6+'Product Info'!CD6+'Product Info'!CG6+'Product Info'!CJ6+'Product Info'!CM6+'Product Info'!CP6+'Product Info'!CS6+'Product Info'!CV6+'Product Info'!CY6+'Product Info'!DB6+'Product Info'!DE6+'Product Info'!DH6+'Product Info'!DK6+'Product Info'!DN6+'Product Info'!DQ6+'Product Info'!DT6+'Product Info'!DW6+'Product Info'!DZ6+'Product Info'!EC6+'Product Info'!EF6+'Product Info'!EI6+'Product Info'!EL6+'Product Info'!EO6+'Product Info'!ER6+'Product Info'!EU6+'Product Info'!EX6+'Product Info'!FA6+'Product Info'!FD6)","v":0},{"$f":"AH5*('Product Info'!M6)","v":0},{"$f":"AH5*'Product Info'!P6","v":0},{"$f":"AH5*'Product Info'!S6","v":0},{"$f":"AH5*'Product Info'!V6","v":0},{"$f":"AH5*'Product Info'!Y6","v":0},{"$f":"AH5*'Product Info'!AB6","v":0},{"$f":"AH5*'Product Info'!AE6","v":0},{"$f":"AH5*'Product Info'!AH6","v":0},{"$f":"AH5*'Product Info'!AK6","v":0},{"$f":"AH5*'Product Info'!AN6","v":0},{"$f":"AH5*'Product Info'!AQ6","v":0},{"$f":"AH5*'Product Info'!AT6","v":0},{"$f":"AH5*'Product Info'!AW6","v":0},{"$f":"AH5*'Product Info'!AZ6","v":0},{"$f":"AH5*'Product Info'!BC6","v":0},{"$f":"AH5*'Product Info'!BF6","v":0},{"$f":"AH5*'Product Info'!BI6","v":0},{"$f":"AH5*'Product Info'!BL6","v":0},{"$f":"AH5*'Product Info'!BO6","v":0},{"$f":"AH5*'Product Info'!BR6","v":0},{"$f":"AH5*'Product Info'!BU6","v":0},{"$f":"AH5*'Product Info'!BX6","v":0}]
[{"$f":"'Product Info'!A7","v":0},{"$f":"'Product Info'!B7","v":0},{"$f":"'Product Info'!C7","v":0},null,null,null,null,null,null,null,null,null,null,null,null,null,null,null,null,null,null,null,null,null,null,null,null,null,null,null,null,null,null,0,{"$f":"'Product Info'!F7*('Daily Info (November)'!AH6)","v":0},null,null,{"$f":"AH6*('Product Info'!H7)","v":0},{"$f":"AH6*('Product Info'!M7+'Product Info'!P7+'Product Info'!S7+'Product Info'!V7+'Product Info'!Y7+'Product Info'!AB7+'Product Info'!AE7+'Product Info'!AH7+'Product Info'!AK7+'Product Info'!AN7+'Product Info'!AQ7+'Product Info'!AT7+'Product Info'!AW7+'Product Info'!AZ7+'Product Info'!BC7+'Product Info'!BF7+'Product Info'!BI7+'Product Info'!BL7+'Product Info'!BO7+'Product Info'!BR7+'Product Info'!BU7+'Product Info'!BX7+'Product Info'!CA7+'Product Info'!CD7+'Product Info'!CG7+'Product Info'!CJ7+'Product Info'!CM7+'Product Info'!CP7+'Product Info'!CS7+'Product Info'!CV7+'Product Info'!CY7+'Product Info'!DB7+'Product Info'!DE7+'Product Info'!DH7+'Product Info'!DK7+'Product Info'!DN7+'Product Info'!DQ7+'Product Info'!DT7+'Product Info'!DW7+'Product Info'!DZ7+'Product Info'!EC7+'Product Info'!EF7+'Product Info'!EI7+'Product Info'!EL7+'Product Info'!EO7+'Product Info'!ER7+'Product Info'!EU7+'Product Info'!EX7+'Product Info'!FA7+'Product Info'!FD7)","v":0},{"$f":"AH6*('Product Info'!M7)","v":0},{"$f":"AH6*'Product Info'!P7","v":0},{"$f":"AH6*'Product Info'!S7","v":0},{"$f":"AH6*'Product Info'!V7","v":0},{"$f":"AH6*'Product Info'!Y7","v":0},{"$f":"AH6*'Product Info'!AB7","v":0},{"$f":"AH6*'Product Info'!AE7","v":0},{"$f":"AH6*'Product Info'!AH7","v":0},{"$f":"AH6*'Product Info'!AK7","v":0},{"$f":"AH6*'Product Info'!AN7","v":0},{"$f":"AH6*'Product Info'!AQ7","v":0},{"$f":"AH6*'Product Info'!AT7","v":0},{"$f":"AH6*'Product Info'!AW7","v":0},{"$f":"AH6*'Product Info'!AZ7","v":0},{"$f":"AH6*'Product Info'!BC7","v":0},{"$f":"AH6*'Product Info'!BF7","v":0},{"$f":"AH6*'Product Info'!BI7","v":0},{"$f":"AH6*'Product Info'!BL7","v":0},{"$f":"AH6*'Product Info'!BO7","v":0},{"$f":"AH6*'Product Info'!BR7","v":0},{"$f":"AH6*'Product Info'!BU7","v":0},{"$f":"AH6*'Product Info'!BX7","v":0}]
[{"$f":"'Product Info'!A8","v":0},{"$f":"'Product Info'!B8","v":0},{"$f":"'Product Info'!C8","v":0},null,null,null,null,null,null,null,null,null,null,null,null,null,null,null,null,null,null,null,null,null,null,null,null,null,null,null,null,null,null,0,{"$f":"'Product Info'!F8*('Daily Info (November)'!AH7)","v":0},null,null,{"$f":"AH7*('Product Info'!H8)","v":0},{"$f":"AH7*('Product Info'!M8+'Product Info'!P8+'Product Info'!S8+'Product Info'!V8+'Product Info'!Y8+'Product Info'!AB8+'Product Info'!AE8+'Product Info'!AH8+'Product Info'!AK8+'Product Info'!AN8+'Product Info'!AQ8+'Product Info'!AT8+'Product Info'!AW8+'Product Info'!AZ8+'Product Info'!BC8+'Product Info'!BF8+'Product Info'!BI8+'Product Info'!BL8+'Product Info'!BO8+'Product Info'!BR8+'Product Info'!BU8+'Product Info'!BX8+'Product Info'!CA8+'Product Info'!CD8+'Product Info'!CG8+'Product Info'!CJ8+'Product Info'!CM8+'Product Info'!CP8+'Product Info'!CS8+'Product Info'!CV8+'Product Info'!CY8+'Product Info'!DB8+'Product Info'!DE8+'Product Info'!DH8+'Product Info'!DK8+'Product Info'!DN8+'Product Info'!DQ8+'Product Info'!DT8+'Product Info'!DW8+'Product Info'!DZ8+'Product Info'!EC8+'Product Info'!EF8+'Product Info'!EI8+'Product Info'!EL8+'Product Info'!EO8+'Product Info'!ER8+'Product Info'!EU8+'Product Info'!EX8+'Product Info'!FA8+'Product Info'!FD8)","v":0},{"$f":"AH7*('Product Info'!M8)","v":0},{"$f":"AH7*'Product Info'!P8","v":0},{"$f":"AH7*'Product Info'!S8","v":0},{"$f":"AH7*'Product Info'!V8","v":0},{"$f":"AH7*'Product Info'!Y8","v":0},{"$f":"AH7*'Product Info'!AB8","v":0},{"$f":"AH7*'Product Info'!AE8","v":0},{"$f":"AH7*'Product Info'!AH8","v":0},{"$f":"AH7*'Product Info'!AK8","v":0},{"$f":"AH7*'Product Info'!AN8","v":0},{"$f":"AH7*'Product Info'!AQ8","v":0},{"$f":"AH7*'Product Info'!AT8","v":0},{"$f":"AH7*'Product Info'!AW8","v":0},{"$f":"AH7*'Product Info'!AZ8","v":0},{"$f":"AH7*'Product Info'!BC8","v":0},{"$f":"AH7*'Product Info'!BF8","v":0},{"$f":"AH7*'Product Info'!BI8","v":0},{"$f":"AH7*'Product Info'!BL8","v":0},{"$f":"AH7*'Product Info'!BO8","v":0},{"$f":"AH7*'Product Info'!BR8","v":0},{"$f":"AH7*'Product Info'!BU8","v":0},{"$f":"AH7*'Product Info'!BX8","v":0}]
[{"$f":"'Product Info'!A9","v":0},{"$f":"'Product Info'!B9","v":0},{"$f":"'Product Info'!C9","v":0},null,null,null,null,null,null,null,null,null,null,null,null,null,null,null,null,null,null,null,null,null,null,null,null,null,null,null,null,null,null,0,{"$f":"'Product Info'!F9*('Daily Info (November)'!AH8)","v":0},null,null,{"$f":"AH8*('Product Info'!H9)","v":0},{"$f":"AH8*('Product Info'!M9+'Product Info'!P9+'Product Info'!S9+'Product Info'!V9+'Product Info'!Y9+'Product Info'!AB9+'Product Info'!AE9+'Product Info'!AH9+'Product Info'!AK9+'Product Info'!AN9+'Product Info'!AQ9+'Product Info'!AT9+'Product Info'!AW9+'Product Info'!AZ9+'Product Info'!BC9+'Product Info'!BF9+'Product Info'!BI9+'Product Info'!BL9+'Product Info'!BO9+'Product Info'!BR9+'Product Info'!BU9+'Product Info'!BX9+'Product Info'!CA9+'Product Info'!CD9+'Product Info'!CG9+'Product Info'!CJ9+'Product Info'!CM9+'Product Info'!CP9+'Product Info'!CS9+'Product Info'!CV9+'Product Info'!CY9+'Product Info'!DB9+'Product Info'!DE9+'Product Info'!DH9+'Product Info'!DK9+'Product Info'!DN9+'Product Info'!DQ9+'Product Info'!DT9+'Product Info'!DW9+'Product Info'!DZ9+'Product Info'!EC9+'Product Info'!EF9+'Product Info'!EI9+'Product Info'!EL9+'Product Info'!EO9+'Product Info'!ER9+'Product Info'!EU9+'Product Info'!EX9+'Product Info'!FA9+'Product Info'!FD9)","v":0},{"$f":"AH8*('Product Info'!M9)","v":0},{"$f":"AH8*'Product Info'!P9","v":0},{"$f":"AH8*'Product Info'!S9","v":0},{"$f":"AH8*'Product Info'!V9","v":0},{"$f":"AH8*'Product Info'!Y9","v":0},{"$f":"AH8*'Product Info'!AB9","v":0},{"$f":"AH8*'Product Info'!AE9","v":0},{"$f":"AH8*'Product Info'!AH9","v":0},{"$f":"AH8*'Product Info'!AK9","v":0},{"$f":"AH8*'Product Info'!AN9","v":0},{"$f":"AH8*'Product Info'!AQ9","v":0},{"$f":"AH8*'Product Info'!AT9","v":0},{"$f":"AH8*'Product Info'!AW9","v":0},{"$f":"AH8*'Product Info'!AZ9","v":0},{"$f":"AH8*'Product Info'!BC9","v":0},{"$f":"AH8*'Product Info'!BF9","v":0},{"$f":"AH8*'Product Info'!BI9","v":0},{"$f":"AH8*'Product Info'!BL9","v":0},{"$f":"AH8*'Product Info'!BO9","v":0},{"$f":"AH8*'Product Info'!BR9","v":0},{"$f":"AH8*'Product Info'!BU9","v":0},{"$f":"AH8*'Product Info'!BX9","v":0}]
[{"$f":"'Product Info'!A10","v":0},{"$f":"'Product Info'!B10","v":0},{"$f":"'Product Info'!C10","v":0},null,null,null,null,null,null,null,null,null,null,null,null,null,null,null,null,null,null,null,null,null,null,null,null,null,null,null,null,null,null,0,{"$f":"'Product Info'!F10*('Daily Info (November)'!AH9)","v":0},null,null,{"$f":"AH9*('Product Info'!H10)","v":0},{"$f":"AH9*('Product Info'!M10+'Product Info'!P10+'Product Info'!S10+'Product Info'!V10+'Product Info'!Y10+'Product Info'!AB10+'Product Info'!AE10+'Product Info'!AH10+'Product Info'!AK10+'Product Info'!AN10+'Product Info'!AQ10+'Product Info'!AT10+'Product Info'!AW10+'Product Info'!AZ10+'Product Info'!BC10+'Product Info'!BF10+'Product Info'!BI10+'Product Info'!BL10+'Product Info'!BO10+'Product Info'!BR10+'Product Info'!BU10+'Product Info'!BX10+'Product Info'!CA10+'Product Info'!CD10+'Product Info'!CG10+'Product Info'!CJ10+'Product Info'!CM10+'Product Info'!CP10+'Product Info'!CS10+'Product Info'!CV10+'Product Info'!CY10+'Product Info'!DB10+'Product Info'!DE10+'Product Info'!DH10+'Product Info'!DK10+'Product Info'!DN10+'Product Info'!DQ10+'Product Info'!DT10+'Product Info'!DW10+'Product Info'!DZ10+'Product Info'!EC10+'Product Info'!EF10+'Product Info'!EI10+'Product Info'!EL10+'Product Info'!EO10+'Product Info'!ER10+'Product Info'!EU10+'Product Info'!EX10+'Product Info'!FA10+'Product Info'!FD10)","v":0},{"$f":"AH9*('Product Info'!M10)","v":0},{"$f":"AH9*'Product Info'!P10","v":0},{"$f":"AH9*'Product Info'!S10","v":0},{"$f":"AH9*'Product Info'!V10","v":0},{"$f":"AH9*'Product Info'!Y10","v":0},{"$f":"AH9*'Product Info'!AB10","v":0},{"$f":"AH9*'Product Info'!AE10","v":0},{"$f":"AH9*'Product Info'!AH10","v":0},{"$f":"AH9*'Product Info'!AK10","v":0},{"$f":"AH9*'Product Info'!AN10","v":0},{"$f":"AH9*'Product Info'!AQ10","v":0},{"$f":"AH9*'Product Info'!AT10","v":0},{"$f":"AH9*'Product Info'!AW10","v":0},{"$f":"AH9*'Product Info'!AZ10","v":0},{"$f":"AH9*'Product Info'!BC10","v":0},{"$f":"AH9*'Product Info'!BF10","v":0},{"$f":"AH9*'Product Info'!BI10","v":0},{"$f":"AH9*'Product Info'!BL10","v":0},{"$f":"AH9*'Product Info'!BO10","v":0},{"$f":"AH9*'Product Info'!BR10","v":0},{"$f":"AH9*'Product Info'!BU10","v":0},{"$f":"AH9*'Product Info'!BX10","v":0}]
[{"$f":"'Product Info'!A11","v":0},{"$f":"'Product Info'!B11","v":0},{"$f":"'Product Info'!C11","v":0},null,null,null,null,null,null,null,null,null,null,null,null,null,null,null,null,null,null,null,null,null,null,null,null,null,null,null,null,null,null,0,{"$f":"'Product Info'!F11*('Daily Info (November)'!AH10)","v":0},null,null,{"$f":"AH10*('Product Info'!H11)","v":0},{"$f":"AH10*('Product Info'!M11+'Product Info'!P11+'Product Info'!S11+'Product Info'!V11+'Product Info'!Y11+'Product Info'!AB11+'Product Info'!AE11+'Product Info'!AH11+'Product Info'!AK11+'Product Info'!AN11+'Product Info'!AQ11+'Product Info'!AT11+'Product Info'!AW11+'Product Info'!AZ11+'Product Info'!BC11+'Product Info'!BF11+'Product Info'!BI11+'Product Info'!BL11+'Product Info'!BO11+'Product Info'!BR11+'Product Info'!BU11+'Product Info'!BX11+'Product Info'!CA11+'Product Info'!CD11+'Product Info'!CG11+'Product Info'!CJ11+'Product Info'!CM11+'Product Info'!CP11+'Product Info'!CS11+'Product Info'!CV11+'Product Info'!CY11+'Product Info'!DB11+'Product Info'!DE11+'Product Info'!DH11+'Product Info'!DK11+'Product Info'!DN11+'Product Info'!DQ11+'Product Info'!DT11+'Product Info'!DW11+'Product Info'!DZ11+'Product Info'!EC11+'Product Info'!EF11+'Product Info'!EI11+'Product Info'!EL11+'Product Info'!EO11+'Product Info'!ER11+'Product Info'!EU11+'Product Info'!EX11+'Product Info'!FA11+'Product Info'!FD11)","v":0},{"$f":"AH10*('Product Info'!M11)","v":0},{"$f":"AH10*'Product Info'!P11","v":0},{"$f":"AH10*'Product Info'!S11","v":0},{"$f":"AH10*'Product Info'!V11","v":0},{"$f":"AH10*'Product Info'!Y11","v":0},{"$f":"AH10*'Product Info'!AB11","v":0},{"$f":"AH10*'Product Info'!AE11","v":0},{"$f":"AH10*'Product Info'!AH11","v":0},{"$f":"AH10*'Product Info'!AK11","v":0},{"$f":"AH10*'Product Info'!AN11","v":0},{"$f":"AH10*'Product Info'!AQ11","v":0},{"$f":"AH10*'Product Info'!AT11","v":0},{"$f":"AH10*'Product Info'!AW11","v":0},{"$f":"AH10*'Product Info'!AZ11","v":0},{"$f":"AH10*'Product Info'!BC11","v":0},{"$f":"AH10*'Product Info'!BF11","v":0},{"$f":"AH10*'Product Info'!BI11","v":0},{"$f":"AH10*'Product Info'!BL11","v":0},{"$f":"AH10*'Product Info'!BO11","v":0},{"$f":"AH10*'Product Info'!BR11","v":0},{"$f":"AH10*'Product Info'!BU11","v":0},{"$f":"AH10*'Product Info'!BX11","v":0}]
[{"$f":"'Product Info'!A12","v":0},{"$f":"'Product Info'!B12","v":0},{"$f":"'Product Info'!C12","v":0},null,null,null,null,null,null,null,null,null,null,null,null,null,null,null,null,null,null,null,null,null,null,null,null,null,null,null,null,null,null,0,{"$f":"'Product Info'!F12*('Daily Info (November)'!AH11)","v":0},null,null,{"$f":"AH11*('Product Info'!H12)","v":0},{"$f":"AH11*('Product Info'!M12+'Product Info'!P12+'Product Info'!S12+'Product Info'!V12+'Product Info'!Y12+'Product Info'!AB12+'Product Info'!AE12+'Product Info'!AH12+'Product Info'!AK12+'Product Info'!AN12+'Product Info'!AQ12+'Product Info'!AT12+'Product Info'!AW12+'Product Info'!AZ12+'Product Info'!BC12+'Product Info'!BF12+'Product Info'!BI12+'Product Info'!BL12+'Product Info'!BO12+'Product Info'!BR12+'Product Info'!BU12+'Product Info'!BX12+'Product Info'!CA12+'Product Info'!CD12+'Product Info'!CG12+'Product Info'!CJ12+'Product Info'!CM12+'Product Info'!CP12+'Product Info'!CS12+'Product Info'!CV12+'Product Info'!CY12+'Product Info'!DB12+'Product Info'!DE12+'Product Info'!DH12+'Product Info'!DK12+'Product Info'!DN12+'Product Info'!DQ12+'Product Info'!DT12+'Product Info'!DW12+'Product Info'!DZ12+'Product Info'!EC12+'Product Info'!EF12+'Product Info'!EI12+'Product Info'!EL12+'Product Info'!EO12+'Product Info'!ER12+'Product Info'!EU12+'Product Info'!EX12+'Product Info'!FA12+'Product Info'!FD12)","v":0},{"$f":"AH11*('Product Info'!M12)","v":0},{"$f":"AH11*'Product Info'!P12","v":0},{"$f":"AH11*'Product Info'!S12","v":0},{"$f":"AH11*'Product Info'!V12","v":0},{"$f":"AH11*'Product Info'!Y12","v":0},{"$f":"AH11*'Product Info'!AB12","v":0},{"$f":"AH11*'Product Info'!AE12","v":0},{"$f":"AH11*'Product Info'!AH12","v":0},{"$f":"AH11*'Product Info'!AK12","v":0},{"$f":"AH11*'Product Info'!AN12","v":0},{"$f":"AH11*'Product Info'!AQ12","v":0},{"$f":"AH11*'Product Info'!AT12","v":0},{"$f":"AH11*'Product Info'!AW12","v":0},{"$f":"AH11*'Product Info'!AZ12","v":0},{"$f":"AH11*'Product Info'!BC12","v":0},{"$f":"AH11*'Product Info'!BF12","v":0},{"$f":"AH11*'Product Info'!BI12","v":0},{"$f":"AH11*'Product Info'!BL12","v":0},{"$f":"AH11*'Product Info'!BO12","v":0},{"$f":"AH11*'Product Info'!BR12","v":0},{"$f":"AH11*'Product Info'!BU12","v":0},{"$f":"AH11*'Product Info'!BX12","v":0}]
[{"$f":"'Product Info'!A13","v":0},{"$f":"'Product Info'!B13","v":0},{"$f":"'Product Info'!C13","v":0},null,null,null,null,null,null,null,null,null,null,null,null,null,null,null,null,null,null,null,null,null,null,null,null,null,null,null,null,null,null,0,{"$f":"'Product Info'!F13*('Daily Info (November)'!AH12)","v":0},null,null,{"$f":"AH12*('Product Info'!H13)","v":0},{"$f":"AH12*('Product Info'!M13+'Product Info'!P13+'Product Info'!S13+'Product Info'!V13+'Product Info'!Y13+'Product Info'!AB13+'Product Info'!AE13+'Product Info'!AH13+'Product Info'!AK13+'Product Info'!AN13+'Product Info'!AQ13+'Product Info'!AT13+'Product Info'!AW13+'Product Info'!AZ13+'Product Info'!BC13+'Product Info'!BF13+'Product Info'!BI13+'Product Info'!BL13+'Product Info'!BO13+'Product Info'!BR13+'Product Info'!BU13+'Product Info'!BX13+'Product Info'!CA13+'Product Info'!CD13+'Product Info'!CG13+'Product Info'!CJ13+'Product Info'!CM13+'Product Info'!CP13+'Product Info'!CS13+'Product Info'!CV13+'Product Info'!CY13+'Product Info'!DB13+'Product Info'!DE13+'Product Info'!DH13+'Product Info'!DK13+'Product Info'!DN13+'Product Info'!DQ13+'Product Info'!DT13+'Product Info'!DW13+'Product Info'!DZ13+'Product Info'!EC13+'Product Info'!EF13+'Product Info'!EI13+'Product Info'!EL13+'Product Info'!EO13+'Product Info'!ER13+'Product Info'!EU13+'Product Info'!EX13+'Product Info'!FA13+'Product Info'!FD13)","v":0},{"$f":"AH12*('Product Info'!M13)","v":0},{"$f":"AH12*'Product Info'!P13","v":0},{"$f":"AH12*'Product Info'!S13","v":0},{"$f":"AH12*'Product Info'!V13","v":0},{"$f":"AH12*'Product Info'!Y13","v":0},{"$f":"AH12*'Product Info'!AB13","v":0},{"$f":"AH12*'Product Info'!AE13","v":0},{"$f":"AH12*'Product Info'!AH13","v":0},{"$f":"AH12*'Product Info'!AK13","v":0},{"$f":"AH12*'Product Info'!AN13","v":0},{"$f":"AH12*'Product Info'!AQ13","v":0},{"$f":"AH12*'Product Info'!AT13","v":0},{"$f":"AH12*'Product Info'!AW13","v":0},{"$f":"AH12*'Product Info'!AZ13","v":0},{"$f":"AH12*'Product Info'!BC13","v":0},{"$f":"AH12*'Product Info'!BF13","v":0},{"$f":"AH12*'Product Info'!BI13","v":0},{"$f":"AH12*'Product Info'!BL13","v":0},{"$f":"AH12*'Product Info'!BO13","v":0},{"$f":"AH12*'Product Info'!BR13","v":0},{"$f":"AH12*'Product Info'!BU13","v":0},{"$f":"AH12*'Product Info'!BX13","v":0}]
[{"$f":"'Product Info'!A14","v":0},{"$f":"'Product Info'!B14","v":0},{"$f":"'Product Info'!C14","v":0},null,null,null,null,null,null,null,null,null,null,null,null,null,null,null,null,null,null,null,null,null,null,null,null,null,null,null,null,null,null,0,{"$f":"'Product Info'!F14*('Daily Info (November)'!AH13)","v":0},null,null,{"$f":"AH13*('Product Info'!H14)","v":0},{"$f":"AH13*('Product Info'!M14+'Product Info'!P14+'Product Info'!S14+'Product Info'!V14+'Product Info'!Y14+'Product Info'!AB14+'Product Info'!AE14+'Product Info'!AH14+'Product Info'!AK14+'Product Info'!AN14+'Product Info'!AQ14+'Product Info'!AT14+'Product Info'!AW14+'Product Info'!AZ14+'Product Info'!BC14+'Product Info'!BF14+'Product Info'!BI14+'Product Info'!BL14+'Product Info'!BO14+'Product Info'!BR14+'Product Info'!BU14+'Product Info'!BX14+'Product Info'!CA14+'Product Info'!CD14+'Product Info'!CG14+'Product Info'!CJ14+'Product Info'!CM14+'Product Info'!CP14+'Product Info'!CS14+'Product Info'!CV14+'Product Info'!CY14+'Product Info'!DB14+'Product Info'!DE14+'Product Info'!DH14+'Product Info'!DK14+'Product Info'!DN14+'Product Info'!DQ14+'Product Info'!DT14+'Product Info'!DW14+'Product Info'!DZ14+'Product Info'!EC14+'Product Info'!EF14+'Product Info'!EI14+'Product Info'!EL14+'Product Info'!EO14+'Product Info'!ER14+'Product Info'!EU14+'Product Info'!EX14+'Product Info'!FA14+'Product Info'!FD14)","v":0},{"$f":"AH13*('Product Info'!M14)","v":0},{"$f":"AH13*'Product Info'!P14","v":0},{"$f":"AH13*'Product Info'!S14","v":0},{"$f":"AH13*'Product Info'!V14","v":0},{"$f":"AH13*'Product Info'!Y14","v":0},{"$f":"AH13*'Product Info'!AB14","v":0},{"$f":"AH13*'Product Info'!AE14","v":0},{"$f":"AH13*'Product Info'!AH14","v":0},{"$f":"AH13*'Product Info'!AK14","v":0},{"$f":"AH13*'Product Info'!AN14","v":0},{"$f":"AH13*'Product Info'!AQ14","v":0},{"$f":"AH13*'Product Info'!AT14","v":0},{"$f":"AH13*'Product Info'!AW14","v":0},{"$f":"AH13*'Product Info'!AZ14","v":0},{"$f":"AH13*'Product Info'!BC14","v":0},{"$f":"AH13*'Product Info'!BF14","v":0},{"$f":"AH13*'Product Info'!BI14","v":0},{"$f":"AH13*'Product Info'!BL14","v":0},{"$f":"AH13*'Product Info'!BO14","v":0},{"$f":"AH13*'Product Info'!BR14","v":0},{"$f":"AH13*'Product Info'!BU14","v":0},{"$f":"AH13*'Product Info'!BX14","v":0}]
[{"$f":"'Product Info'!A15","v":0},{"$f":"'Product Info'!B15","v":0},{"$f":"'Product Info'!C15","v":0},null,null,null,null,null,null,null,null,null,null,null,null,null,null,null,null,null,null,null,null,null,null,null,null,null,null,null,null,null,null,0,{"$f":"'Product Info'!F15*('Daily Info (November)'!AH14)","v":0},null,null,{"$f":"AH14*('Product Info'!H15)","v":0},{"$f":"AH14*('Product Info'!M15+'Product Info'!P15+'Product Info'!S15+'Product Info'!V15+'Product Info'!Y15+'Product Info'!AB15+'Product Info'!AE15+'Product Info'!AH15+'Product Info'!AK15+'Product Info'!AN15+'Product Info'!AQ15+'Product Info'!AT15+'Product Info'!AW15+'Product Info'!AZ15+'Product Info'!BC15+'Product Info'!BF15+'Product Info'!BI15+'Product Info'!BL15+'Product Info'!BO15+'Product Info'!BR15+'Product Info'!BU15+'Product Info'!BX15+'Product Info'!CA15+'Product Info'!CD15+'Product Info'!CG15+'Product Info'!CJ15+'Product Info'!CM15+'Product Info'!CP15+'Product Info'!CS15+'Product Info'!CV15+'Product Info'!CY15+'Product Info'!DB15+'Product Info'!DE15+'Product Info'!DH15+'Product Info'!DK15+'Product Info'!DN15+'Product Info'!DQ15+'Product Info'!DT15+'Product Info'!DW15+'Product Info'!DZ15+'Product Info'!EC15+'Product Info'!EF15+'Product Info'!EI15+'Product Info'!EL15+'Product Info'!EO15+'Product Info'!ER15+'Product Info'!EU15+'Product Info'!EX15+'Product Info'!FA15+'Product Info'!FD15)","v":0},{"$f":"AH14*('Product Info'!M15)","v":0},{"$f":"AH14*'Product Info'!P15","v":0},{"$f":"AH14*'Product Info'!S15","v":0},{"$f":"AH14*'Product Info'!V15","v":0},{"$f":"AH14*'Product Info'!Y15","v":0},{"$f":"AH14*'Product Info'!AB15","v":0},{"$f":"AH14*'Product Info'!AE15","v":0},{"$f":"AH14*'Product Info'!AH15","v":0},{"$f":"AH14*'Product Info'!AK15","v":0},{"$f":"AH14*'Product Info'!AN15","v":0},{"$f":"AH14*'Product Info'!AQ15","v":0},{"$f":"AH14*'Product Info'!AT15","v":0},{"$f":"AH14*'Product Info'!AW15","v":0},{"$f":"AH14*'Product Info'!AZ15","v":0},{"$f":"AH14*'Product Info'!BC15","v":0},{"$f":"AH14*'Product Info'!BF15","v":0},{"$f":"AH14*'Product Info'!BI15","v":0},{"$f":"AH14*'Product Info'!BL15","v":0},{"$f":"AH14*'Product Info'!BO15","v":0},{"$f":"AH14*'Product Info'!BR15","v":0},{"$f":"AH14*'Product Info'!BU15","v":0},{"$f":"AH14*'Product Info'!BX15","v":0}]
[{"$f":"'Product Info'!A16","v":0},{"$f":"'Product Info'!B16","v":0},{"$f":"'Product Info'!C16","v":0},null,null,null,null,null,null,null,null,null,null,null,null,null,null,null,null,null,null,null,null,null,null,null,null,null,null,null,null,null,null,0,{"$f":"'Product Info'!F16*('Daily Info (November)'!AH15)","v":0},null,null,{"$f":"AH15*('Product Info'!H16)","v":0},{"$f":"AH15*('Product Info'!M16+'Product Info'!P16+'Product Info'!S16+'Product Info'!V16+'Product Info'!Y16+'Product Info'!AB16+'Product Info'!AE16+'Product Info'!AH16+'Product Info'!AK16+'Product Info'!AN16+'Product Info'!AQ16+'Product Info'!AT16+'Product Info'!AW16+'Product Info'!AZ16+'Product Info'!BC16+'Product Info'!BF16+'Product Info'!BI16+'Product Info'!BL16+'Product Info'!BO16+'Product Info'!BR16+'Product Info'!BU16+'Product Info'!BX16+'Product Info'!CA16+'Product Info'!CD16+'Product Info'!CG16+'Product Info'!CJ16+'Product Info'!CM16+'Product Info'!CP16+'Product Info'!CS16+'Product Info'!CV16+'Product Info'!CY16+'Product Info'!DB16+'Product Info'!DE16+'Product Info'!DH16+'Product Info'!DK16+'Product Info'!DN16+'Product Info'!DQ16+'Product Info'!DT16+'Product Info'!DW16+'Product Info'!DZ16+'Product Info'!EC16+'Product Info'!EF16+'Product Info'!EI16+'Product Info'!EL16+'Product Info'!EO16+'Product Info'!ER16+'Product Info'!EU16+'Product Info'!EX16+'Product Info'!FA16+'Product Info'!FD16)","v":0},{"$f":"AH15*('Product Info'!M16)","v":0},{"$f":"AH15*'Product Info'!P16","v":0},{"$f":"AH15*'Product Info'!S16","v":0},{"$f":"AH15*'Product Info'!V16","v":0},{"$f":"AH15*'Product Info'!Y16","v":0},{"$f":"AH15*'Product Info'!AB16","v":0},{"$f":"AH15*'Product Info'!AE16","v":0},{"$f":"AH15*'Product Info'!AH16","v":0},{"$f":"AH15*'Product Info'!AK16","v":0},{"$f":"AH15*'Product Info'!AN16","v":0},{"$f":"AH15*'Product Info'!AQ16","v":0},{"$f":"AH15*'Product Info'!AT16","v":0},{"$f":"AH15*'Product Info'!AW16","v":0},{"$f":"AH15*'Product Info'!AZ16","v":0},{"$f":"AH15*'Product Info'!BC16","v":0},{"$f":"AH15*'Product Info'!BF16","v":0},{"$f":"AH15*'Product Info'!BI16","v":0},{"$f":"AH15*'Product Info'!BL16","v":0},{"$f":"AH15*'Product Info'!BO16","v":0},{"$f":"AH15*'Product Info'!BR16","v":0},{"$f":"AH15*'Product Info'!BU16","v":0},{"$f":"AH15*'Product Info'!BX16","v":0}]
[{"$f":"'Product Info'!A17","v":0},{"$f":"'Product Info'!B17","v":0},{"$f":"'Product Info'!C17","v":0},null,null,null,null,null,null,null,null,null,null,null,null,null,null,null,null,null,null,null,null,null,null,null,null,null,null,null,null,null,null,0,{"$f":"'Product Info'!F17*('Daily Info (November)'!AH16)","v":0},null,null,{"$f":"AH16*('Product Info'!H17)","v":0},{"$f":"AH16*('Product Info'!M17+'Product Info'!P17+'Product Info'!S17+'Product Info'!V17+'Product Info'!Y17+'Product Info'!AB17+'Product Info'!AE17+'Product Info'!AH17+'Product Info'!AK17+'Product Info'!AN17+'Product Info'!AQ17+'Product Info'!AT17+'Product Info'!AW17+'Product Info'!AZ17+'Product Info'!BC17+'Product Info'!BF17+'Product Info'!BI17+'Product Info'!BL17+'Product Info'!BO17+'Product Info'!BR17+'Product Info'!BU17+'Product Info'!BX17+'Product Info'!CA17+'Product Info'!CD17+'Product Info'!CG17+'Product Info'!CJ17+'Product Info'!CM17+'Product Info'!CP17+'Product Info'!CS17+'Product Info'!CV17+'Product Info'!CY17+'Product Info'!DB17+'Product Info'!DE17+'Product Info'!DH17+'Product Info'!DK17+'Product Info'!DN17+'Product Info'!DQ17+'Product Info'!DT17+'Product Info'!DW17+'Product Info'!DZ17+'Product Info'!EC17+'Product Info'!EF17+'Product Info'!EI17+'Product Info'!EL17+'Product Info'!EO17+'Product Info'!ER17+'Product Info'!EU17+'Product Info'!EX17+'Product Info'!FA17+'Product Info'!FD17)","v":0},{"$f":"AH16*('Product Info'!M17)","v":0},{"$f":"AH16*'Product Info'!P17","v":0},{"$f":"AH16*'Product Info'!S17","v":0},{"$f":"AH16*'Product Info'!V17","v":0},{"$f":"AH16*'Product Info'!Y17","v":0},{"$f":"AH16*'Product Info'!AB17","v":0},{"$f":"AH16*'Product Info'!AE17","v":0},{"$f":"AH16*'Product Info'!AH17","v":0},{"$f":"AH16*'Product Info'!AK17","v":0},{"$f":"AH16*'Product Info'!AN17","v":0},{"$f":"AH16*'Product Info'!AQ17","v":0},{"$f":"AH16*'Product Info'!AT17","v":0},{"$f":"AH16*'Product Info'!AW17","v":0},{"$f":"AH16*'Product Info'!AZ17","v":0},{"$f":"AH16*'Product Info'!BC17","v":0},{"$f":"AH16*'Product Info'!BF17","v":0},{"$f":"AH16*'Product Info'!BI17","v":0},{"$f":"AH16*'Product Info'!BL17","v":0},{"$f":"AH16*'Product Info'!BO17","v":0},{"$f":"AH16*'Product Info'!BR17","v":0},{"$f":"AH16*'Product Info'!BU17","v":0},{"$f":"AH16*'Product Info'!BX17","v":0}]
[{"$f":"'Product Info'!A18","v":0},{"$f":"'Product Info'!B18","v":0},{"$f":"'Product Info'!C18","v":0},null,null,null,null,null,null,null,null,null,null,null,null,null,null,null,null,null,null,null,null,null,null,null,null,null,null,null,null,null,null,0,{"$f":"'Product Info'!F18*('Daily Info (November)'!AH17)","v":0},null,null,{"$f":"AH17*('Product Info'!H18)","v":0},{"$f":"AH17*('Product Info'!M18+'Product Info'!P18+'Product Info'!S18+'Product Info'!V18+'Product Info'!Y18+'Product Info'!AB18+'Product Info'!AE18+'Product Info'!AH18+'Product Info'!AK18+'Product Info'!AN18+'Product Info'!AQ18+'Product Info'!AT18+'Product Info'!AW18+'Product Info'!AZ18+'Product Info'!BC18+'Product Info'!BF18+'Product Info'!BI18+'Product Info'!BL18+'Product Info'!BO18+'Product Info'!BR18+'Product Info'!BU18+'Product Info'!BX18+'Product Info'!CA18+'Product Info'!CD18+'Product Info'!CG18+'Product Info'!CJ18+'Product Info'!CM18+'Product Info'!CP18+'Product Info'!CS18+'Product Info'!CV18+'Product Info'!CY18+'Product Info'!DB18+'Product Info'!DE18+'Product Info'!DH18+'Product Info'!DK18+'Product Info'!DN18+'Product Info'!DQ18+'Product Info'!DT18+'Product Info'!DW18+'Product Info'!DZ18+'Product Info'!EC18+'Product Info'!EF18+'Product Info'!EI18+'Product Info'!EL18+'Product Info'!EO18+'Product Info'!ER18+'Product Info'!EU18+'Product Info'!EX18+'Product Info'!FA18+'Product Info'!FD18)","v":0},{"$f":"AH17*('Product Info'!M18)","v":0},{"$f":"AH17*'Product Info'!P18","v":0},{"$f":"AH17*'Product Info'!S18","v":0},{"$f":"AH17*'Product Info'!V18","v":0},{"$f":"AH17*'Product Info'!Y18","v":0},{"$f":"AH17*'Product Info'!AB18","v":0},{"$f":"AH17*'Product Info'!AE18","v":0},{"$f":"AH17*'Product Info'!AH18","v":0},{"$f":"AH17*'Product Info'!AK18","v":0},{"$f":"AH17*'Product Info'!AN18","v":0},{"$f":"AH17*'Product Info'!AQ18","v":0},{"$f":"AH17*'Product Info'!AT18","v":0},{"$f":"AH17*'Product Info'!AW18","v":0},{"$f":"AH17*'Product Info'!AZ18","v":0},{"$f":"AH17*'Product Info'!BC18","v":0},{"$f":"AH17*'Product Info'!BF18","v":0},{"$f":"AH17*'Product Info'!BI18","v":0},{"$f":"AH17*'Product Info'!BL18","v":0},{"$f":"AH17*'Product Info'!BO18","v":0},{"$f":"AH17*'Product Info'!BR18","v":0},{"$f":"AH17*'Product Info'!BU18","v":0},{"$f":"AH17*'Product Info'!BX18","v":0}]
[{"$f":"'Product Info'!A19","v":0},{"$f":"'Product Info'!B19","v":0},{"$f":"'Product Info'!C19","v":0},null,null,null,null,null,null,null,null,null,null,null,null,null,null,null,null,null,null,null,null,null,null,null,null,null,null,null,null,null,null,0,{"$f":"'Product Info'!F19*('Daily Info (November)'!AH18)","v":0},null,null,{"$f":"AH18*('Product Info'!H19)","v":0},{"$f":"AH18*('Product Info'!M19+'Product Info'!P19+'Product Info'!S19+'Product Info'!V19+'Product Info'!Y19+'Product Info'!AB19+'Product Info'!AE19+'Product Info'!AH19+'Product Info'!AK19+'Product Info'!AN19+'Product Info'!AQ19+'Product Info'!AT19+'Product Info'!AW19+'Product Info'!AZ19+'Product Info'!BC19+'Product Info'!BF19+'Product Info'!BI19+'Product Info'!BL19+'Product Info'!BO19+'Product Info'!BR19+'Product Info'!BU19+'Product Info'!BX19+'Product Info'!CA19+'Product Info'!CD19+'Product Info'!CG19+'Product Info'!CJ19+'Product Info'!CM19+'Product Info'!CP19+'Product Info'!CS19+'Product Info'!CV19+'Product Info'!CY19+'Product Info'!DB19+'Product Info'!DE19+'Product Info'!DH19+'Product Info'!DK19+'Product Info'!DN19+'Product Info'!DQ19+'Product Info'!DT19+'Product Info'!DW19+'Product Info'!DZ19+'Product Info'!EC19+'Product Info'!EF19+'Product Info'!EI19+'Product Info'!EL19+'Product Info'!EO19+'Product Info'!ER19+'Product Info'!EU19+'Product Info'!EX19+'Product Info'!FA19+'Product Info'!FD19)","v":0},{"$f":"AH18*('Product Info'!M19)","v":0},{"$f":"AH18*'Product Info'!P19","v":0},{"$f":"AH18*'Product Info'!S19","v":0},{"$f":"AH18*'Product Info'!V19","v":0},{"$f":"AH18*'Product Info'!Y19","v":0},{"$f":"AH18*'Product Info'!AB19","v":0},{"$f":"AH18*'Product Info'!AE19","v":0},{"$f":"AH18*'Product Info'!AH19","v":0},{"$f":"AH18*'Product Info'!AK19","v":0},{"$f":"AH18*'Product Info'!AN19","v":0},{"$f":"AH18*'Product Info'!AQ19","v":0},{"$f":"AQ18*'Product Info'!AF19","v":0},{"$f":"AH18*'Product Info'!AW19","v":0},{"$f":"AH18*'Product Info'!AZ19","v":0},{"$f":"AH18*'Product Info'!BC19","v":0},{"$f":"AH18*'Product Info'!BF19","v":0},{"$f":"AH18*'Product Info'!BI19","v":0},{"$f":"AH18*'Product Info'!BL19","v":0},{"$f":"AH18*'Product Info'!BO19","v":0},{"$f":"AH18*'Product Info'!BR19","v":0},{"$f":"AH18*'Product Info'!BU19","v":0},{"$f":"AH18*'Product Info'!BX19","v":0}]
[{"$f":"'Product Info'!A20","v":0},{"$f":"'Product Info'!B20","v":0},{"$f":"'Product Info'!C20","v":0},null,null,null,null,null,null,null,null,null,null,null,null,null,null,null,null,null,null,null,null,null,null,null,null,null,null,null,null,null,null,0,{"$f":"'Product Info'!F20*('Daily Info (November)'!AH19)","v":0},null,null,{"$f":"AH19*('Product Info'!H20)","v":0},{"$f":"AH19*('Product Info'!M20+'Product Info'!P20+'Product Info'!S20+'Product Info'!V20+'Product Info'!Y20+'Product Info'!AB20+'Product Info'!AE20+'Product Info'!AH20+'Product Info'!AK20+'Product Info'!AN20+'Product Info'!AQ20+'Product Info'!AT20+'Product Info'!AW20+'Product Info'!AZ20+'Product Info'!BC20+'Product Info'!BF20+'Product Info'!BI20+'Product Info'!BL20+'Product Info'!BO20+'Product Info'!BR20+'Product Info'!BU20+'Product Info'!BX20+'Product Info'!CA20+'Product Info'!CD20+'Product Info'!CG20+'Product Info'!CJ20+'Product Info'!CM20+'Product Info'!CP20+'Product Info'!CS20+'Product Info'!CV20+'Product Info'!CY20+'Product Info'!DB20+'Product Info'!DE20+'Product Info'!DH20+'Product Info'!DK20+'Product Info'!DN20+'Product Info'!DQ20+'Product Info'!DT20+'Product Info'!DW20+'Product Info'!DZ20+'Product Info'!EC20+'Product Info'!EF20+'Product Info'!EI20+'Product Info'!EL20+'Product Info'!EO20+'Product Info'!ER20+'Product Info'!EU20+'Product Info'!EX20+'Product Info'!FA20+'Product Info'!FD20)","v":0},{"$f":"AH19*('Product Info'!M20)","v":0},{"$f":"AH19*'Product Info'!P20","v":0},{"$f":"AH19*'Product Info'!S20","v":0},{"$f":"AH19*'Product Info'!V20","v":0},{"$f":"AH19*'Product Info'!Y20","v":0},{"$f":"AH19*'Product Info'!AB20","v":0},{"$f":"AH19*'Product Info'!AE20","v":0},{"$f":"AH19*'Product Info'!AH20","v":0},{"$f":"AH19*'Product Info'!AK20","v":0},{"$f":"AH19*'Product Info'!AN20","v":0},{"$f":"AH19*'Product Info'!AQ20","v":0},{"$f":"AQ19*'Product Info'!AF20","v":0},{"$f":"AH19*'Product Info'!AW20","v":0},{"$f":"AH19*'Product Info'!AZ20","v":0},{"$f":"AH19*'Product Info'!BC20","v":0},{"$f":"AH19*'Product Info'!BF20","v":0},{"$f":"AH19*'Product Info'!BI20","v":0},{"$f":"AH19*'Product Info'!BL20","v":0},{"$f":"AH19*'Product Info'!BO20","v":0},{"$f":"AH19*'Product Info'!BR20","v":0},{"$f":"AH19*'Product Info'!BU20","v":0},{"$f":"AH19*'Product Info'!BX20","v":0}]
[{"$f":"'Product Info'!A21","v":0},{"$f":"'Product Info'!B21","v":0},{"$f":"'Product Info'!C21","v":0},null,null,null,null,null,null,null,null,null,null,null,null,null,null,null,null,null,null,null,null,null,null,null,null,null,null,null,null,null,null,0,{"$f":"'Product Info'!F21*('Daily Info (November)'!AH20)","v":0},null,null,{"$f":"AH20*('Product Info'!H21)","v":0},{"$f":"AH20*('Product Info'!M21+'Product Info'!P21+'Product Info'!S21+'Product Info'!V21+'Product Info'!Y21+'Product Info'!AB21+'Product Info'!AE21+'Product Info'!AH21+'Product Info'!AK21+'Product Info'!AN21+'Product Info'!AQ21+'Product Info'!AT21+'Product Info'!AW21+'Product Info'!AZ21+'Product Info'!BC21+'Product Info'!BF21+'Product Info'!BI21+'Product Info'!BL21+'Product Info'!BO21+'Product Info'!BR21+'Product Info'!BU21+'Product Info'!BX21+'Product Info'!CA21+'Product Info'!CD21+'Product Info'!CG21+'Product Info'!CJ21+'Product Info'!CM21+'Product Info'!CP21+'Product Info'!CS21+'Product Info'!CV21+'Product Info'!CY21+'Product Info'!DB21+'Product Info'!DE21+'Product Info'!DH21+'Product Info'!DK21+'Product Info'!DN21+'Product Info'!DQ21+'Product Info'!DT21+'Product Info'!DW21+'Product Info'!DZ21+'Product Info'!EC21+'Product Info'!EF21+'Product Info'!EI21+'Product Info'!EL21+'Product Info'!EO21+'Product Info'!ER21+'Product Info'!EU21+'Product Info'!EX21+'Product Info'!FA21+'Product Info'!FD21)","v":0},{"$f":"AH20*('Product Info'!M21)","v":0},{"$f":"AH20*'Product Info'!P21","v":0},{"$f":"AH20*'Product Info'!S21","v":0},{"$f":"AH20*'Product Info'!V21","v":0},{"$f":"AH20*'Product Info'!Y21","v":0},{"$f":"AH20*'Product Info'!AB21","v":0},{"$f":"AH20*'Product Info'!AE21","v":0},{"$f":"AH20*'Product Info'!AH21","v":0},{"$f":"AH20*'Product Info'!AK21","v":0},{"$f":"AH20*'Product Info'!AN21","v":0},{"$f":"AH20*'Product Info'!AQ21","v":0},{"$f":"AH20*'Product Info'!AT21","v":0},{"$f":"AH20*'Product Info'!AW21","v":0},{"$f":"AH20*'Product Info'!AZ21","v":0},{"$f":"AH20*'Product Info'!BC21","v":0},{"$f":"AH20*'Product Info'!BF21","v":0},{"$f":"AH20*'Product Info'!BI21","v":0},{"$f":"AH20*'Product Info'!BL21","v":0},{"$f":"AH20*'Product Info'!BO21","v":0},{"$f":"AH20*'Product Info'!BR21","v":0},{"$f":"AH20*'Product Info'!BU21","v":0},{"$f":"AH20*'Product Info'!BX21","v":0}]
[{"$f":"'Product Info'!A22","v":0},{"$f":"'Product Info'!B22","v":0},{"$f":"'Product Info'!C22","v":0},null,null,null,null,null,null,null,null,null,null,null,null,null,null,null,null,null,null,null,null,null,null,null,null,null,null,null,null,null,null,0,{"$f":"'Product Info'!F22*('Daily Info (November)'!AH21)","v":0},null,null,{"$f":"AH21*('Product Info'!H22)","v":0},{"$f":"AH21*('Product Info'!M22+'Product Info'!P22+'Product Info'!S22+'Product Info'!V22+'Product Info'!Y22+'Product Info'!AB22+'Product Info'!AE22+'Product Info'!AH22+'Product Info'!AK22+'Product Info'!AN22+'Product Info'!AQ22+'Product Info'!AT22+'Product Info'!AW22+'Product Info'!AZ22+'Product Info'!BC22+'Product Info'!BF22+'Product Info'!BI22+'Product Info'!BL22+'Product Info'!BO22+'Product Info'!BR22+'Product Info'!BU22+'Product Info'!BX22+'Product Info'!CA22+'Product Info'!CD22+'Product Info'!CG22+'Product Info'!CJ22+'Product Info'!CM22+'Product Info'!CP22+'Product Info'!CS22+'Product Info'!CV22+'Product Info'!CY22+'Product Info'!DB22+'Product Info'!DE22+'Product Info'!DH22+'Product Info'!DK22+'Product Info'!DN22+'Product Info'!DQ22+'Product Info'!DT22+'Product Info'!DW22+'Product Info'!DZ22+'Product Info'!EC22+'Product Info'!EF22+'Product Info'!EI22+'Product Info'!EL22+'Product Info'!EO22+'Product Info'!ER22+'Product Info'!EU22+'Product Info'!EX22+'Product Info'!FA22+'Product Info'!FD22)","v":0},{"$f":"AH21*('Product Info'!M22)","v":0},{"$f":"AH21*'Product Info'!P22","v":0},{"$f":"AH21*'Product Info'!S22","v":0},{"$f":"AH21*'Product Info'!V22","v":0},{"$f":"AH21*'Product Info'!Y22","v":0},{"$f":"AH21*'Product Info'!AB22","v":0},{"$f":"AH21*'Product Info'!AE22","v":0},{"$f":"AH21*'Product Info'!AH22","v":0},{"$f":"AH21*'Product Info'!AK22","v":0},{"$f":"AH21*'Product Info'!AN22","v":0},{"$f":"AH21*'Product Info'!AQ22","v":0},{"$f":"AH21*'Product Info'!AT22","v":0},{"$f":"AH21*'Product Info'!AW22","v":0},{"$f":"AH21*'Product Info'!AZ22","v":0},{"$f":"AH21*'Product Info'!BC22","v":0},{"$f":"AH21*'Product Info'!BF22","v":0},{"$f":"AH21*'Product Info'!BI22","v":0},{"$f":"AH21*'Product Info'!BL22","v":0},{"$f":"AH21*'Product Info'!BO22","v":0},{"$f":"AH21*'Product Info'!BR22","v":0},{"$f":"AH21*'Product Info'!BU22","v":0},{"$f":"AH21*'Product Info'!BX22","v":0}]
[{"$f":"'Product Info'!A23","v":0},{"$f":"'Product Info'!B23","v":0},{"$f":"'Product Info'!C23","v":0},null,null,null,null,null,null,null,null,null,null,null,null,null,null,null,null,null,null,null,null,null,null,null,null,null,null,null,null,null,null,0,{"$f":"'Product Info'!F23*('Daily Info (November)'!AH22)","v":0},null,null,{"$f":"AH22*('Product Info'!H23)","v":0},{"$f":"AH22*('Product Info'!M23+'Product Info'!P23+'Product Info'!S23+'Product Info'!V23+'Product Info'!Y23+'Product Info'!AB23+'Product Info'!AE23+'Product Info'!AH23+'Product Info'!AK23+'Product Info'!AN23+'Product Info'!AQ23+'Product Info'!AT23+'Product Info'!AW23+'Product Info'!AZ23+'Product Info'!BC23+'Product Info'!BF23+'Product Info'!BI23+'Product Info'!BL23+'Product Info'!BO23+'Product Info'!BR23+'Product Info'!BU23+'Product Info'!BX23+'Product Info'!CA23+'Product Info'!CD23+'Product Info'!CG23+'Product Info'!CJ23+'Product Info'!CM23+'Product Info'!CP23+'Product Info'!CS23+'Product Info'!CV23+'Product Info'!CY23+'Product Info'!DB23+'Product Info'!DE23+'Product Info'!DH23+'Product Info'!DK23+'Product Info'!DN23+'Product Info'!DQ23+'Product Info'!DT23+'Product Info'!DW23+'Product Info'!DZ23+'Product Info'!EC23+'Product Info'!EF23+'Product Info'!EI23+'Product Info'!EL23+'Product Info'!EO23+'Product Info'!ER23+'Product Info'!EU23+'Product Info'!EX23+'Product Info'!FA23+'Product Info'!FD23)","v":0},{"$f":"AH22*('Product Info'!M23)","v":0},{"$f":"AH22*'Product Info'!P23","v":0},{"$f":"AH22*'Product Info'!S23","v":0},{"$f":"AH22*'Product Info'!V23","v":0},{"$f":"AH22*'Product Info'!Y23","v":0},{"$f":"AH22*'Product Info'!AB23","v":0},{"$f":"AH22*'Product Info'!AE23","v":0},{"$f":"AH22*'Product Info'!AH23","v":0},{"$f":"AH22*'Product Info'!AK23","v":0},{"$f":"AH22*'Product Info'!AN23","v":0},{"$f":"AH22*'Product Info'!AQ23","v":0},{"$f":"AH22*'Product Info'!AT23","v":0},{"$f":"AH22*'Product Info'!AW23","v":0},{"$f":"AH22*'Product Info'!AZ23","v":0},{"$f":"AH22*'Product Info'!BC23","v":0},{"$f":"AH22*'Product Info'!BF23","v":0},{"$f":"AH22*'Product Info'!BI23","v":0},{"$f":"AH22*'Product Info'!BL23","v":0},{"$f":"AH22*'Product Info'!BO23","v":0},{"$f":"AH22*'Product Info'!BR23","v":0},{"$f":"AH22*'Product Info'!BU23","v":0},{"$f":"AH22*'Product Info'!BX23","v":0}]
[{"$f":"'Product Info'!A24","v":0},{"$f":"'Product Info'!B24","v":0},{"$f":"'Product Info'!C24","v":0},null,null,null,null,null,null,null,null,null,null,null,null,null,null,null,null,null,null,null,null,null,null,null,null,null,null,null,null,null,null,0,{"$f":"'Product Info'!F24*('Daily Info (November)'!AH23)","v":0},null,null,{"$f":"AH23*('Product Info'!H24)","v":0},{"$f":"AH23*('Product Info'!M24+'Product Info'!P24+'Product Info'!S24+'Product Info'!V24+'Product Info'!Y24+'Product Info'!AB24+'Product Info'!AE24+'Product Info'!AH24+'Product Info'!AK24+'Product Info'!AN24+'Product Info'!AQ24+'Product Info'!AT24+'Product Info'!AW24+'Product Info'!AZ24+'Product Info'!BC24+'Product Info'!BF24+'Product Info'!BI24+'Product Info'!BL24+'Product Info'!BO24+'Product Info'!BR24+'Product Info'!BU24+'Product Info'!BX24+'Product Info'!CA24+'Product Info'!CD24+'Product Info'!CG24+'Product Info'!CJ24+'Product Info'!CM24+'Product Info'!CP24+'Product Info'!CS24+'Product Info'!CV24+'Product Info'!CY24+'Product Info'!DB24+'Product Info'!DE24+'Product Info'!DH24+'Product Info'!DK24+'Product Info'!DN24+'Product Info'!DQ24+'Product Info'!DT24+'Product Info'!DW24+'Product Info'!DZ24+'Product Info'!EC24+'Product Info'!EF24+'Product Info'!EI24+'Product Info'!EL24+'Product Info'!EO24+'Product Info'!ER24+'Product Info'!EU24+'Product Info'!EX24+'Product Info'!FA24+'Product Info'!FD24)","v":0},{"$f":"AH23*('Product Info'!M24)","v":0},{"$f":"AH23*'Product Info'!P24","v":0},{"$f":"AH23*'Product Info'!S24","v":0},{"$f":"AH23*'Product Info'!V24","v":0},{"$f":"AH23*'Product Info'!Y24","v":0},{"$f":"AH23*'Product Info'!AB24","v":0},{"$f":"AH23*'Product Info'!AE24","v":0},{"$f":"AH23*'Product Info'!AH24","v":0},{"$f":"AH23*'Product Info'!AK24","v":0},{"$f":"AH23*'Product Info'!AN24","v":0},{"$f":"AH23*'Product Info'!AQ24","v":0},{"$f":"AH23*'Product Info'!AT24","v":0},{"$f":"AH23*'Product Info'!AW24","v":0},{"$f":"AH23*'Product Info'!AZ24","v":0},{"$f":"AH23*'Product Info'!BC24","v":0},{"$f":"AH23*'Product Info'!BF24","v":0},{"$f":"AH23*'Product Info'!BI24","v":0},{"$f":"AH23*'Product Info'!BL24","v":0},{"$f":"AH23*'Product Info'!BO24","v":0},{"$f":"AH23*'Product Info'!BR24","v":0},{"$f":"AH23*'Product Info'!BU24","v":0},{"$f":"AH23*'Product Info'!BX24","v":0}]
[{"$f":"'Product Info'!A25","v":0},{"$f":"'Product Info'!B25","v":0},{"$f":"'Product Info'!C25","v":0},null,null,null,null,null,null,null,null,null,null,null,null,null,null,null,null,null,null,null,null,null,null,null,null,null,null,null,null,null,null,0,{"$f":"'Product Info'!F25*('Daily Info (November)'!AH24)","v":0},null,null,{"$f":"AH24*('Product Info'!H25)","v":0},{"$f":"AH24*('Product Info'!M25+'Product Info'!P25+'Product Info'!S25+'Product Info'!V25+'Product Info'!Y25+'Product Info'!AB25+'Product Info'!AE25+'Product Info'!AH25+'Product Info'!AK25+'Product Info'!AN25+'Product Info'!AQ25+'Product Info'!AT25+'Product Info'!AW25+'Product Info'!AZ25+'Product Info'!BC25+'Product Info'!BF25+'Product Info'!BI25+'Product Info'!BL25+'Product Info'!BO25+'Product Info'!BR25+'Product Info'!BU25+'Product Info'!BX25+'Product Info'!CA25+'Product Info'!CD25+'Product Info'!CG25+'Product Info'!CJ25+'Product Info'!CM25+'Product Info'!CP25+'Product Info'!CS25+'Product Info'!CV25+'Product Info'!CY25+'Product Info'!DB25+'Product Info'!DE25+'Product Info'!DH25+'Product Info'!DK25+'Product Info'!DN25+'Product Info'!DQ25+'Product Info'!DT25+'Product Info'!DW25+'Product Info'!DZ25+'Product Info'!EC25+'Product Info'!EF25+'Product Info'!EI25+'Product Info'!EL25+'Product Info'!EO25+'Product Info'!ER25+'Product Info'!EU25+'Product Info'!EX25+'Product Info'!FA25+'Product Info'!FD25)","v":0},{"$f":"AH24*('Product Info'!M25)","v":0},{"$f":"AH24*'Product Info'!P25","v":0},{"$f":"AH24*'Product Info'!S25","v":0},{"$f":"AH24*'Product Info'!V25","v":0},{"$f":"AH24*'Product Info'!Y25","v":0},{"$f":"AH24*'Product Info'!AB25","v":0},{"$f":"AH24*'Product Info'!AE25","v":0},{"$f":"AH24*'Product Info'!AH25","v":0},{"$f":"AH24*'Product Info'!AK25","v":0},{"$f":"AH24*'Product Info'!AN25","v":0},{"$f":"AH24*'Product Info'!AQ25","v":0},{"$f":"AH24*'Product Info'!AT25","v":0},{"$f":"AH24*'Product Info'!AW25","v":0},{"$f":"AH24*'Product Info'!AZ25","v":0},{"$f":"AH24*'Product Info'!BC25","v":0},{"$f":"AH24*'Product Info'!BF25","v":0},{"$f":"AH24*'Product Info'!BI25","v":0},{"$f":"AH24*'Product Info'!BL25","v":0},{"$f":"AH24*'Product Info'!BO25","v":0},{"$f":"AH24*'Product Info'!BR25","v":0},{"$f":"AH24*'Product Info'!BU25","v":0},{"$f":"AH24*'Product Info'!BX25","v":0}]
[{"$f":"'Product Info'!A26","v":0},{"$f":"'Product Info'!B26","v":0},{"$f":"'Product Info'!C26","v":0},null,null,null,null,null,null,null,null,null,null,null,null,null,null,null,null,null,null,null,null,null,null,null,null,null,null,null,null,null,null,0,{"$f":"'Product Info'!F26*('Daily Info (November)'!AH25)","v":0},null,null,{"$f":"AH25*('Product Info'!H26)","v":0},{"$f":"AH25*('Product Info'!M26+'Product Info'!P26+'Product Info'!S26+'Product Info'!V26+'Product Info'!Y26+'Product Info'!AB26+'Product Info'!AE26+'Product Info'!AH26+'Product Info'!AK26+'Product Info'!AN26+'Product Info'!AQ26+'Product Info'!AT26+'Product Info'!AW26+'Product Info'!AZ26+'Product Info'!BC26+'Product Info'!BF26+'Product Info'!BI26+'Product Info'!BL26+'Product Info'!BO26+'Product Info'!BR26+'Product Info'!BU26+'Product Info'!BX26+'Product Info'!CA26+'Product Info'!CD26+'Product Info'!CG26+'Product Info'!CJ26+'Product Info'!CM26+'Product Info'!CP26+'Product Info'!CS26+'Product Info'!CV26+'Product Info'!CY26+'Product Info'!DB26+'Product Info'!DE26+'Product Info'!DH26+'Product Info'!DK26+'Product Info'!DN26+'Product Info'!DQ26+'Product Info'!DT26+'Product Info'!DW26+'Product Info'!DZ26+'Product Info'!EC26+'Product Info'!EF26+'Product Info'!EI26+'Product Info'!EL26+'Product Info'!EO26+'Product Info'!ER26+'Product Info'!EU26+'Product Info'!EX26+'Product Info'!FA26+'Product Info'!FD26)","v":0},{"$f":"AH25*('Product Info'!M26)","v":0},{"$f":"AH25*'Product Info'!P26","v":0},{"$f":"AH25*'Product Info'!S26","v":0},{"$f":"AH25*'Product Info'!V26","v":0},{"$f":"AH25*'Product Info'!Y26","v":0},{"$f":"AH25*'Product Info'!AB26","v":0},{"$f":"AH25*'Product Info'!AE26","v":0},{"$f":"AH25*'Product Info'!AH26","v":0},{"$f":"AH25*'Product Info'!AK26","v":0},{"$f":"AH25*'Product Info'!AN26","v":0},{"$f":"AH25*'Product Info'!AQ26","v":0},{"$f":"AH25*'Product Info'!AT26","v":0},{"$f":"AH25*'Product Info'!AW26","v":0},{"$f":"AH25*'Product Info'!AZ26","v":0},{"$f":"AH25*'Product Info'!BC26","v":0},{"$f":"AH25*'Product Info'!BF26","v":0},{"$f":"AH25*'Product Info'!BI26","v":0},{"$f":"AH25*'Product Info'!BL26","v":0},{"$f":"AH25*'Product Info'!BO26","v":0},{"$f":"AH25*'Product Info'!BR26","v":0},{"$f":"AH25*'Product Info'!BU26","v":0},{"$f":"AH25*'Product Info'!BX26","v":0}]
[{"$f":"'Product Info'!A27","v":0},{"$f":"'Product Info'!B27","v":0},{"$f":"'Product Info'!C27","v":0},null,null,null,null,null,null,null,null,null,null,null,null,null,null,null,null,null,null,null,null,null,null,null,null,null,null,null,null,null,null,0,{"$f":"'Product Info'!F27*('Daily Info (November)'!AH26)","v":0},null,null,{"$f":"AH26*('Product Info'!H27)","v":0},{"$f":"AH26*('Product Info'!M27+'Product Info'!P27+'Product Info'!S27+'Product Info'!V27+'Product Info'!Y27+'Product Info'!AB27+'Product Info'!AE27+'Product Info'!AH27+'Product Info'!AK27+'Product Info'!AN27+'Product Info'!AQ27+'Product Info'!AT27+'Product Info'!AW27+'Product Info'!AZ27+'Product Info'!BC27+'Product Info'!BF27+'Product Info'!BI27+'Product Info'!BL27+'Product Info'!BO27+'Product Info'!BR27+'Product Info'!BU27+'Product Info'!BX27+'Product Info'!CA27+'Product Info'!CD27+'Product Info'!CG27+'Product Info'!CJ27+'Product Info'!CM27+'Product Info'!CP27+'Product Info'!CS27+'Product Info'!CV27+'Product Info'!CY27+'Product Info'!DB27+'Product Info'!DE27+'Product Info'!DH27+'Product Info'!DK27+'Product Info'!DN27+'Product Info'!DQ27+'Product Info'!DT27+'Product Info'!DW27+'Product Info'!DZ27+'Product Info'!EC27+'Product Info'!EF27+'Product Info'!EI27+'Product Info'!EL27+'Product Info'!EO27+'Product Info'!ER27+'Product Info'!EU27+'Product Info'!EX27+'Product Info'!FA27+'Product Info'!FD27)","v":0},{"$f":"AH26*('Product Info'!M27)","v":0},{"$f":"AH26*'Product Info'!P27","v":0},{"$f":"AH26*'Product Info'!S27","v":0},{"$f":"AH26*'Product Info'!V27","v":0},{"$f":"AH26*'Product Info'!Y27","v":0},{"$f":"AH26*'Product Info'!AB27","v":0},{"$f":"AH26*'Product Info'!AE27","v":0},{"$f":"AH26*'Product Info'!AH27","v":0},{"$f":"AH26*'Product Info'!AK27","v":0},{"$f":"AH26*'Product Info'!AN27","v":0},{"$f":"AH26*'Product Info'!AQ27","v":0},{"$f":"AH26*'Product Info'!AT27","v":0},{"$f":"AH26*'Product Info'!AW27","v":0},{"$f":"AH26*'Product Info'!AZ27","v":0},{"$f":"AH26*'Product Info'!BC27","v":0},{"$f":"AH26*'Product Info'!BF27","v":0},{"$f":"AH26*'Product Info'!BI27","v":0},{"$f":"AH26*'Product Info'!BL27","v":0},{"$f":"AH26*'Product Info'!BO27","v":0},{"$f":"AH26*'Product Info'!BR27","v":0},{"$f":"AH26*'Product Info'!BU27","v":0},{"$f":"AH26*'Product Info'!BX27","v":0}]
[{"$f":"'Product Info'!A28","v":0},{"$f":"'Product Info'!B28","v":0},{"$f":"'Product Info'!C28","v":0},null,null,null,null,null,null,null,null,null,null,null,null,null,null,null,null,null,null,null,null,null,null,null,null,null,null,null,null,null,null,0,{"$f":"'Product Info'!F28*('Daily Info (November)'!AH27)","v":0},null,null,{"$f":"AH27*('Product Info'!H28)","v":0},{"$f":"AH27*('Product Info'!M28+'Product Info'!P28+'Product Info'!S28+'Product Info'!V28+'Product Info'!Y28+'Product Info'!AB28+'Product Info'!AE28+'Product Info'!AH28+'Product Info'!AK28+'Product Info'!AN28+'Product Info'!AQ28+'Product Info'!AT28+'Product Info'!AW28+'Product Info'!AZ28+'Product Info'!BC28+'Product Info'!BF28+'Product Info'!BI28+'Product Info'!BL28+'Product Info'!BO28+'Product Info'!BR28+'Product Info'!BU28+'Product Info'!BX28+'Product Info'!CA28+'Product Info'!CD28+'Product Info'!CG28+'Product Info'!CJ28+'Product Info'!CM28+'Product Info'!CP28+'Product Info'!CS28+'Product Info'!CV28+'Product Info'!CY28+'Product Info'!DB28+'Product Info'!DE28+'Product Info'!DH28+'Product Info'!DK28+'Product Info'!DN28+'Product Info'!DQ28+'Product Info'!DT28+'Product Info'!DW28+'Product Info'!DZ28+'Product Info'!EC28+'Product Info'!EF28+'Product Info'!EI28+'Product Info'!EL28+'Product Info'!EO28+'Product Info'!ER28+'Product Info'!EU28+'Product Info'!EX28+'Product Info'!FA28+'Product Info'!FD28)","v":0},{"$f":"AH27*('Product Info'!M28)","v":0},{"$f":"AH27*'Product Info'!P28","v":0},{"$f":"AH27*'Product Info'!S28","v":0},{"$f":"AH27*'Product Info'!V28","v":0},{"$f":"AH27*'Product Info'!Y28","v":0},{"$f":"AH27*'Product Info'!AB28","v":0},{"$f":"AH27*'Product Info'!AE28","v":0},{"$f":"AH27*'Product Info'!AH28","v":0},{"$f":"AH27*'Product Info'!AK28","v":0},{"$f":"AH27*'Product Info'!AN28","v":0},{"$f":"AH27*'Product Info'!AQ28","v":0},{"$f":"AH27*'Product Info'!AT28","v":0},{"$f":"AH27*'Product Info'!AW28","v":0},{"$f":"AH27*'Product Info'!AZ28","v":0},{"$f":"AH27*'Product Info'!BC28","v":0},{"$f":"AH27*'Product Info'!BF28","v":0},{"$f":"AH27*'Product Info'!BI28","v":0},{"$f":"AH27*'Product Info'!BL28","v":0},{"$f":"AH27*'Product Info'!BO28","v":0},{"$f":"AH27*'Product Info'!BR28","v":0},{"$f":"AH27*'Product Info'!BU28","v":0},{"$f":"AH27*'Product Info'!BX28","v":0}]
[{"$f":"'Product Info'!A29","v":0},{"$f":"'Product Info'!B29","v":0},{"$f":"'Product Info'!C29","v":0},null,null,null,null,null,null,null,null,null,null,null,null,null,null,null,null,null,null,null,null,null,null,null,null,null,null,null,null,null,null,0,{"$f":"'Product Info'!F29*('Daily Info (November)'!AH28)","v":0},null,null,{"$f":"AH28*('Product Info'!H29)","v":0},{"$f":"AH28*('Product Info'!M29+'Product Info'!P29+'Product Info'!S29+'Product Info'!V29+'Product Info'!Y29+'Product Info'!AB29+'Product Info'!AE29+'Product Info'!AH29+'Product Info'!AK29+'Product Info'!AN29+'Product Info'!AQ29+'Product Info'!AT29+'Product Info'!AW29+'Product Info'!AZ29+'Product Info'!BC29+'Product Info'!BF29+'Product Info'!BI29+'Product Info'!BL29+'Product Info'!BO29+'Product Info'!BR29+'Product Info'!BU29+'Product Info'!BX29+'Product Info'!CA29+'Product Info'!CD29+'Product Info'!CG29+'Product Info'!CJ29+'Product Info'!CM29+'Product Info'!CP29+'Product Info'!CS29+'Product Info'!CV29+'Product Info'!CY29+'Product Info'!DB29+'Product Info'!DE29+'Product Info'!DH29+'Product Info'!DK29+'Product Info'!DN29+'Product Info'!DQ29+'Product Info'!DT29+'Product Info'!DW29+'Product Info'!DZ29+'Product Info'!EC29+'Product Info'!EF29+'Product Info'!EI29+'Product Info'!EL29+'Product Info'!EO29+'Product Info'!ER29+'Product Info'!EU29+'Product Info'!EX29+'Product Info'!FA29+'Product Info'!FD29)","v":0},{"$f":"AH28*('Product Info'!M29)","v":0},{"$f":"AH28*'Product Info'!P29","v":0},{"$f":"AH28*'Product Info'!S29","v":0},{"$f":"AH28*'Product Info'!V29","v":0},{"$f":"AH28*'Product Info'!Y29","v":0},{"$f":"AH28*'Product Info'!AB29","v":0},{"$f":"AH28*'Product Info'!AE29","v":0},{"$f":"AH28*'Product Info'!AH29","v":0},{"$f":"AH28*'Product Info'!AK29","v":0},{"$f":"AH28*'Product Info'!AN29","v":0},{"$f":"AH28*'Product Info'!AQ29","v":0},{"$f":"AH28*'Product Info'!AT29","v":0},{"$f":"AH28*'Product Info'!AW29","v":0},{"$f":"AH28*'Product Info'!AZ29","v":0},{"$f":"AH28*'Product Info'!BC29","v":0},{"$f":"AH28*'Product Info'!BF29","v":0},{"$f":"AH28*'Product Info'!BI29","v":0},{"$f":"AH28*'Product Info'!BL29","v":0},{"$f":"AH28*'Product Info'!BO29","v":0},{"$f":"AH28*'Product Info'!BR29","v":0},{"$f":"AH28*'Product Info'!BU29","v":0},{"$f":"AH28*'Product Info'!BX29","v":0}]
[{"$f":"'Product Info'!A30","v":0},{"$f":"'Product Info'!B30","v":0},{"$f":"'Product Info'!C30","v":0},null,null,null,null,null,null,null,null,null,null,null,null,null,null,null,null,null,null,null,null,null,null,null,null,null,null,null,null,null,null,0,{"$f":"'Product Info'!F30*('Daily Info (November)'!AH29)","v":0},null,null,{"$f":"AH29*('Product Info'!H30)","v":0},{"$f":"AH29*('Product Info'!M30+'Product Info'!P30+'Product Info'!S30+'Product Info'!V30+'Product Info'!Y30+'Product Info'!AB30+'Product Info'!AE30+'Product Info'!AH30+'Product Info'!AK30+'Product Info'!AN30+'Product Info'!AQ30+'Product Info'!AT30+'Product Info'!AW30+'Product Info'!AZ30+'Product Info'!BC30+'Product Info'!BF30+'Product Info'!BI30+'Product Info'!BL30+'Product Info'!BO30+'Product Info'!BR30+'Product Info'!BU30+'Product Info'!BX30+'Product Info'!CA30+'Product Info'!CD30+'Product Info'!CG30+'Product Info'!CJ30+'Product Info'!CM30+'Product Info'!CP30+'Product Info'!CS30+'Product Info'!CV30+'Product Info'!CY30+'Product Info'!DB30+'Product Info'!DE30+'Product Info'!DH30+'Product Info'!DK30+'Product Info'!DN30+'Product Info'!DQ30+'Product Info'!DT30+'Product Info'!DW30+'Product Info'!DZ30+'Product Info'!EC30+'Product Info'!EF30+'Product Info'!EI30+'Product Info'!EL30+'Product Info'!EO30+'Product Info'!ER30+'Product Info'!EU30+'Product Info'!EX30+'Product Info'!FA30+'Product Info'!FD30)","v":0},{"$f":"AH29*('Product Info'!M30)","v":0},{"$f":"AH29*'Product Info'!P30","v":0},{"$f":"AH29*'Product Info'!S30","v":0},{"$f":"AH29*'Product Info'!V30","v":0},{"$f":"AH29*'Product Info'!Y30","v":0},{"$f":"AH29*'Product Info'!AB30","v":0},{"$f":"AH29*'Product Info'!AE30","v":0},{"$f":"AH29*'Product Info'!AH30","v":0},{"$f":"AH29*'Product Info'!AK30","v":0},{"$f":"AH29*'Product Info'!AN30","v":0},{"$f":"AH29*'Product Info'!AQ30","v":0},{"$f":"AH29*'Product Info'!AT30","v":0},{"$f":"AH29*'Product Info'!AW30","v":0},{"$f":"AH29*'Product Info'!AZ30","v":0},{"$f":"AH29*'Product Info'!BC30","v":0},{"$f":"AH29*'Product Info'!BF30","v":0},{"$f":"AH29*'Product Info'!BI30","v":0},{"$f":"AH29*'Product Info'!BL30","v":0},{"$f":"AH29*'Product Info'!BO30","v":0},{"$f":"AH29*'Product Info'!BR30","v":0},{"$f":"AH29*'Product Info'!BU30","v":0},{"$f":"AH29*'Product Info'!BX30","v":0}]
[{"$f":"'Product Info'!A31","v":0},{"$f":"'Product Info'!B31","v":0},{"$f":"'Product Info'!C31","v":0},null,null,null,null,null,null,null,null,null,null,null,null,null,null,null,null,null,null,null,null,null,null,null,null,null,null,null,null,null,null,0,{"$f":"'Product Info'!F31*('Daily Info (November)'!AH30)","v":0},null,null,{"$f":"AH30*('Product Info'!H31)","v":0},{"$f":"AH30*('Product Info'!M31+'Product Info'!P31+'Product Info'!S31+'Product Info'!V31+'Product Info'!Y31+'Product Info'!AB31+'Product Info'!AE31+'Product Info'!AH31+'Product Info'!AK31+'Product Info'!AN31+'Product Info'!AQ31+'Product Info'!AT31+'Product Info'!AW31+'Product Info'!AZ31+'Product Info'!BC31+'Product Info'!BF31+'Product Info'!BI31+'Product Info'!BL31+'Product Info'!BO31+'Product Info'!BR31+'Product Info'!BU31+'Product Info'!BX31+'Product Info'!CA31+'Product Info'!CD31+'Product Info'!CG31+'Product Info'!CJ31+'Product Info'!CM31+'Product Info'!CP31+'Product Info'!CS31+'Product Info'!CV31+'Product Info'!CY31+'Product Info'!DB31+'Product Info'!DE31+'Product Info'!DH31+'Product Info'!DK31+'Product Info'!DN31+'Product Info'!DQ31+'Product Info'!DT31+'Product Info'!DW31+'Product Info'!DZ31+'Product Info'!EC31+'Product Info'!EF31+'Product Info'!EI31+'Product Info'!EL31+'Product Info'!EO31+'Product Info'!ER31+'Product Info'!EU31+'Product Info'!EX31+'Product Info'!FA31+'Product Info'!FD31)","v":0},{"$f":"AH30*('Product Info'!M31)","v":0},{"$f":"AH30*'Product Info'!P31","v":0},{"$f":"AH30*'Product Info'!S31","v":0},{"$f":"AH30*'Product Info'!V31","v":0},{"$f":"AH30*'Product Info'!Y31","v":0},{"$f":"AH30*'Product Info'!AB31","v":0},{"$f":"AH30*'Product Info'!AE31","v":0},{"$f":"AH30*'Product Info'!AH31","v":0},{"$f":"AH30*'Product Info'!AK31","v":0},{"$f":"AH30*'Product Info'!AN31","v":0},{"$f":"AH30*'Product Info'!AQ31","v":0},{"$f":"AH30*'Product Info'!AT31","v":0},{"$f":"AH30*'Product Info'!AW31","v":0},{"$f":"AH30*'Product Info'!AZ31","v":0},{"$f":"AH30*'Product Info'!BC31","v":0},{"$f":"AH30*'Product Info'!BF31","v":0},{"$f":"AH30*'Product Info'!BI31","v":0},{"$f":"AH30*'Product Info'!BL31","v":0},{"$f":"AH30*'Product Info'!BO31","v":0},{"$f":"AH30*'Product Info'!BR31","v":0},{"$f":"AH30*'Product Info'!BU31","v":0},{"$f":"AH30*'Product Info'!BX31","v":0}]
[{"$f":"'Product Info'!A32","v":0},{"$f":"'Product Info'!B32","v":0},{"$f":"'Product Info'!C32","v":0},null,null,null,null,null,null,null,null,null,null,null,null,null,null,null,null,null,null,null,null,null,null,null,null,null,null,null,null,null,null,0,{"$f":"'Product Info'!F32*('Daily Info (November)'!AH31)","v":0},null,null,{"$f":"AH31*('Product Info'!H32)","v":0},{"$f":"AH31*('Product Info'!M32+'Product Info'!P32+'Product Info'!S32+'Product Info'!V32+'Product Info'!Y32+'Product Info'!AB32+'Product Info'!AE32+'Product Info'!AH32+'Product Info'!AK32+'Product Info'!AN32+'Product Info'!AQ32+'Product Info'!AT32+'Product Info'!AW32+'Product Info'!AZ32+'Product Info'!BC32+'Product Info'!BF32+'Product Info'!BI32+'Product Info'!BL32+'Product Info'!BO32+'Product Info'!BR32+'Product Info'!BU32+'Product Info'!BX32+'Product Info'!CA32+'Product Info'!CD32+'Product Info'!CG32+'Product Info'!CJ32+'Product Info'!CM32+'Product Info'!CP32+'Product Info'!CS32+'Product Info'!CV32+'Product Info'!CY32+'Product Info'!DB32+'Product Info'!DE32+'Product Info'!DH32+'Product Info'!DK32+'Product Info'!DN32+'Product Info'!DQ32+'Product Info'!DT32+'Product Info'!DW32+'Product Info'!DZ32+'Product Info'!EC32+'Product Info'!EF32+'Product Info'!EI32+'Product Info'!EL32+'Product Info'!EO32+'Product Info'!ER32+'Product Info'!EU32+'Product Info'!EX32+'Product Info'!FA32+'Product Info'!FD32)","v":0},{"$f":"AH31*('Product Info'!M32)","v":0},{"$f":"AH31*'Product Info'!P32","v":0},{"$f":"AH31*'Product Info'!S32","v":0},{"$f":"AH31*'Product Info'!V32","v":0},{"$f":"AH31*'Product Info'!Y32","v":0},{"$f":"AH31*'Product Info'!AB32","v":0},{"$f":"AH31*'Product Info'!AE32","v":0},{"$f":"AH31*'Product Info'!AH32","v":0},{"$f":"AH31*'Product Info'!AK32","v":0},{"$f":"AH31*'Product Info'!AN32","v":0},{"$f":"AH31*'Product Info'!AQ32","v":0},{"$f":"AH31*'Product Info'!AT32","v":0},{"$f":"AH31*'Product Info'!AW32","v":0},{"$f":"AH31*'Product Info'!AZ32","v":0},{"$f":"AH31*'Product Info'!BC32","v":0},{"$f":"AH31*'Product Info'!BF32","v":0},{"$f":"AH31*'Product Info'!BI32","v":0},{"$f":"AH31*'Product Info'!BL32","v":0},{"$f":"AH31*'Product Info'!BO32","v":0},{"$f":"AH31*'Product Info'!BR32","v":0},{"$f":"AH31*'Product Info'!BU32","v":0},{"$f":"AH31*'Product Info'!BX32","v":0}]
[{"$f":"'Product Info'!A33","v":0},{"$f":"'Product Info'!B33","v":0},{"$f":"'Product Info'!C33","v":0},null,null,null,null,null,null,null,null,null,null,null,null,null,null,null,null,null,null,null,null,null,null,null,null,null,null,null,null,null,null,0,{"$f":"'Product Info'!F33*('Daily Info (November)'!AH32)","v":0},null,null,{"$f":"AH32*('Product Info'!H33)","v":0},{"$f":"AH32*('Product Info'!M33+'Product Info'!P33+'Product Info'!S33+'Product Info'!V33+'Product Info'!Y33+'Product Info'!AB33+'Product Info'!AE33+'Product Info'!AH33+'Product Info'!AK33+'Product Info'!AN33+'Product Info'!AQ33+'Product Info'!AT33+'Product Info'!AW33+'Product Info'!AZ33+'Product Info'!BC33+'Product Info'!BF33+'Product Info'!BI33+'Product Info'!BL33+'Product Info'!BO33+'Product Info'!BR33+'Product Info'!BU33+'Product Info'!BX33+'Product Info'!CA33+'Product Info'!CD33+'Product Info'!CG33+'Product Info'!CJ33+'Product Info'!CM33+'Product Info'!CP33+'Product Info'!CS33+'Product Info'!CV33+'Product Info'!CY33+'Product Info'!DB33+'Product Info'!DE33+'Product Info'!DH33+'Product Info'!DK33+'Product Info'!DN33+'Product Info'!DQ33+'Product Info'!DT33+'Product Info'!DW33+'Product Info'!DZ33+'Product Info'!EC33+'Product Info'!EF33+'Product Info'!EI33+'Product Info'!EL33+'Product Info'!EO33+'Product Info'!ER33+'Product Info'!EU33+'Product Info'!EX33+'Product Info'!FA33+'Product Info'!FD33)","v":0},{"$f":"AH32*('Product Info'!M33)","v":0},{"$f":"AH32*'Product Info'!P33","v":0},{"$f":"AH32*'Product Info'!S33","v":0},{"$f":"AH32*'Product Info'!V33","v":0},{"$f":"AH32*'Product Info'!Y33","v":0},{"$f":"AH32*'Product Info'!AB33","v":0},{"$f":"AH32*'Product Info'!AE33","v":0},{"$f":"AH32*'Product Info'!AH33","v":0},{"$f":"AH32*'Product Info'!AK33","v":0},{"$f":"AH32*'Product Info'!AN33","v":0},{"$f":"AH32*'Product Info'!AQ33","v":0},{"$f":"AH32*'Product Info'!AT33","v":0},{"$f":"AH32*'Product Info'!AW33","v":0},{"$f":"AH32*'Product Info'!AZ33","v":0},{"$f":"AH32*'Product Info'!BC33","v":0},{"$f":"AH32*'Product Info'!BF33","v":0},{"$f":"AH32*'Product Info'!BI33","v":0},{"$f":"AH32*'Product Info'!BL33","v":0},{"$f":"AH32*'Product Info'!BO33","v":0},{"$f":"AH32*'Product Info'!BR33","v":0},{"$f":"AH32*'Product Info'!BU33","v":0},{"$f":"AH32*'Product Info'!BX33","v":0}]
[{"$f":"'Product Info'!A34","v":0},{"$f":"'Product Info'!B34","v":0},{"$f":"'Product Info'!C34","v":0},null,null,null,null,null,null,null,null,null,null,null,null,null,null,null,null,null,null,null,null,null,null,null,null,null,null,null,null,null,null,0,{"$f":"'Product Info'!F34*('Daily Info (November)'!AH33)","v":0},null,null,{"$f":"AH33*('Product Info'!H34)","v":0},{"$f":"AH33*('Product Info'!M34+'Product Info'!P34+'Product Info'!S34+'Product Info'!V34+'Product Info'!Y34+'Product Info'!AB34+'Product Info'!AE34+'Product Info'!AH34+'Product Info'!AK34+'Product Info'!AN34+'Product Info'!AQ34+'Product Info'!AT34+'Product Info'!AW34+'Product Info'!AZ34+'Product Info'!BC34+'Product Info'!BF34+'Product Info'!BI34+'Product Info'!BL34+'Product Info'!BO34+'Product Info'!BR34+'Product Info'!BU34+'Product Info'!BX34+'Product Info'!CA34+'Product Info'!CD34+'Product Info'!CG34+'Product Info'!CJ34+'Product Info'!CM34+'Product Info'!CP34+'Product Info'!CS34+'Product Info'!CV34+'Product Info'!CY34+'Product Info'!DB34+'Product Info'!DE34+'Product Info'!DH34+'Product Info'!DK34+'Product Info'!DN34+'Product Info'!DQ34+'Product Info'!DT34+'Product Info'!DW34+'Product Info'!DZ34+'Product Info'!EC34+'Product Info'!EF34+'Product Info'!EI34+'Product Info'!EL34+'Product Info'!EO34+'Product Info'!ER34+'Product Info'!EU34+'Product Info'!EX34+'Product Info'!FA34+'Product Info'!FD34)","v":0},{"$f":"AH33*('Product Info'!M34)","v":0},{"$f":"AH33*'Product Info'!P34","v":0},{"$f":"AH33*'Product Info'!S34","v":0},{"$f":"AH33*'Product Info'!V34","v":0},{"$f":"AH33*'Product Info'!Y34","v":0},{"$f":"AH33*'Product Info'!AB34","v":0},{"$f":"AH33*'Product Info'!AE34","v":0},{"$f":"AH33*'Product Info'!AH34","v":0},{"$f":"AH33*'Product Info'!AK34","v":0},{"$f":"AH33*'Product Info'!AN34","v":0},{"$f":"AH33*'Product Info'!AQ34","v":0},{"$f":"AQ33*'Product Info'!AF34","v":0},{"$f":"AH33*'Product Info'!AW34","v":0},{"$f":"AH33*'Product Info'!AZ34","v":0},{"$f":"AH33*'Product Info'!BC34","v":0},{"$f":"AH33*'Product Info'!BF34","v":0},{"$f":"AH33*'Product Info'!BI34","v":0},{"$f":"AH33*'Product Info'!BL34","v":0},{"$f":"AH33*'Product Info'!BO34","v":0},{"$f":"AH33*'Product Info'!BR34","v":0},{"$f":"AH33*'Product Info'!BU34","v":0},{"$f":"AH33*'Product Info'!BX34","v":0}]
[{"$f":"'Product Info'!A35","v":0},{"$f":"'Product Info'!B35","v":0},{"$f":"'Product Info'!C35","v":0},null,null,null,null,null,null,null,null,null,null,null,null,null,null,null,null,null,null,null,null,null,null,null,null,null,null,null,null,null,null,0,{"$f":"'Product Info'!F35*('Daily Info (November)'!AH34)","v":0},null,null,{"$f":"AH34*('Product Info'!H35)","v":0},{"$f":"AH34*('Product Info'!M35+'Product Info'!P35+'Product Info'!S35+'Product Info'!V35+'Product Info'!Y35+'Product Info'!AB35+'Product Info'!AE35+'Product Info'!AH35+'Product Info'!AK35+'Product Info'!AN35+'Product Info'!AQ35+'Product Info'!AT35+'Product Info'!AW35+'Product Info'!AZ35+'Product Info'!BC35+'Product Info'!BF35+'Product Info'!BI35+'Product Info'!BL35+'Product Info'!BO35+'Product Info'!BR35+'Product Info'!BU35+'Product Info'!BX35+'Product Info'!CA35+'Product Info'!CD35+'Product Info'!CG35+'Product Info'!CJ35+'Product Info'!CM35+'Product Info'!CP35+'Product Info'!CS35+'Product Info'!CV35+'Product Info'!CY35+'Product Info'!DB35+'Product Info'!DE35+'Product Info'!DH35+'Product Info'!DK35+'Product Info'!DN35+'Product Info'!DQ35+'Product Info'!DT35+'Product Info'!DW35+'Product Info'!DZ35+'Product Info'!EC35+'Product Info'!EF35+'Product Info'!EI35+'Product Info'!EL35+'Product Info'!EO35+'Product Info'!ER35+'Product Info'!EU35+'Product Info'!EX35+'Product Info'!FA35+'Product Info'!FD35)","v":0},{"$f":"AH34*('Product Info'!M35)","v":0},{"$f":"AH34*'Product Info'!P35","v":0},{"$f":"AH34*'Product Info'!S35","v":0},{"$f":"AH34*'Product Info'!V35","v":0},{"$f":"AH34*'Product Info'!Y35","v":0},{"$f":"AH34*'Product Info'!AB35","v":0},{"$f":"AH34*'Product Info'!AE35","v":0},{"$f":"AH34*'Product Info'!AH35","v":0},{"$f":"AH34*'Product Info'!AK35","v":0},{"$f":"AH34*'Product Info'!AN35","v":0},{"$f":"AH34*'Product Info'!AQ35","v":0},{"$f":"AH34*'Product Info'!AT35","v":0},{"$f":"AH34*'Product Info'!AW35","v":0},{"$f":"AH34*'Product Info'!AZ35","v":0},{"$f":"AH34*'Product Info'!BC35","v":0},{"$f":"AH34*'Product Info'!BF35","v":0},{"$f":"AH34*'Product Info'!BI35","v":0},{"$f":"AH34*'Product Info'!BL35","v":0},{"$f":"AH34*'Product Info'!BO35","v":0},{"$f":"AH34*'Product Info'!BR35","v":0},{"$f":"AH34*'Product Info'!BU35","v":0},{"$f":"AH34*'Product Info'!BX35","v":0}]
[{"$f":"'Product Info'!A36","v":0},{"$f":"'Product Info'!B36","v":0},{"$f":"'Product Info'!C36","v":0},null,null,null,null,null,null,null,null,null,null,null,null,null,null,null,null,null,null,null,null,null,null,null,null,null,null,null,null,null,null,0,{"$f":"'Product Info'!F36*('Daily Info (November)'!AH35)","v":0},null,null,{"$f":"AH35*('Product Info'!H36)","v":0},{"$f":"AH35*('Product Info'!M36+'Product Info'!P36+'Product Info'!S36+'Product Info'!V36+'Product Info'!Y36+'Product Info'!AB36+'Product Info'!AE36+'Product Info'!AH36+'Product Info'!AK36+'Product Info'!AN36+'Product Info'!AQ36+'Product Info'!AT36+'Product Info'!AW36+'Product Info'!AZ36+'Product Info'!BC36+'Product Info'!BF36+'Product Info'!BI36+'Product Info'!BL36+'Product Info'!BO36+'Product Info'!BR36+'Product Info'!BU36+'Product Info'!BX36+'Product Info'!CA36+'Product Info'!CD36+'Product Info'!CG36+'Product Info'!CJ36+'Product Info'!CM36+'Product Info'!CP36+'Product Info'!CS36+'Product Info'!CV36+'Product Info'!CY36+'Product Info'!DB36+'Product Info'!DE36+'Product Info'!DH36+'Product Info'!DK36+'Product Info'!DN36+'Product Info'!DQ36+'Product Info'!DT36+'Product Info'!DW36+'Product Info'!DZ36+'Product Info'!EC36+'Product Info'!EF36+'Product Info'!EI36+'Product Info'!EL36+'Product Info'!EO36+'Product Info'!ER36+'Product Info'!EU36+'Product Info'!EX36+'Product Info'!FA36+'Product Info'!FD36)","v":0},{"$f":"AH35*('Product Info'!M36)","v":0},{"$f":"AH35*'Product Info'!P36","v":0},{"$f":"AH35*'Product Info'!S36","v":0},{"$f":"AH35*'Product Info'!V36","v":0},{"$f":"AH35*'Product Info'!Y36","v":0},{"$f":"AH35*'Product Info'!AB36","v":0},{"$f":"AH35*'Product Info'!AE36","v":0},{"$f":"AH35*'Product Info'!AH36","v":0},{"$f":"AH35*'Product Info'!AK36","v":0},{"$f":"AH35*'Product Info'!AN36","v":0},{"$f":"AH35*'Product Info'!AQ36","v":0},{"$f":"AH35*'Product Info'!AT36","v":0},{"$f":"AH35*'Product Info'!AW36","v":0},{"$f":"AH35*'Product Info'!AZ36","v":0},{"$f":"AH35*'Product Info'!BC36","v":0},{"$f":"AH35*'Product Info'!BF36","v":0},{"$f":"AH35*'Product Info'!BI36","v":0},{"$f":"AH35*'Product Info'!BL36","v":0},{"$f":"AH35*'Product Info'!BO36","v":0},{"$f":"AH35*'Product Info'!BR36","v":0},{"$f":"AH35*'Product Info'!BU36","v":0},{"$f":"AH35*'Product Info'!BX36","v":0}]
[{"$f":"'Product Info'!A37","v":0},{"$f":"'Product Info'!B37","v":0},{"$f":"'Product Info'!C37","v":0},null,null,null,null,null,null,null,null,null,null,null,null,null,null,null,null,null,null,null,null,null,null,null,null,null,null,null,null,null,null,{"$f":"SUM(D36:AG36)","v":0},{"$f":"'Product Info'!F37*('Daily Info (November)'!AH36)","v":0},null,null,{"$f":"AH36*('Product Info'!H37)","v":0},{"$f":"AH36*('Product Info'!M37+'Product Info'!P37+'Product Info'!S37+'Product Info'!V37+'Product Info'!Y37+'Product Info'!AB37+'Product Info'!AE37+'Product Info'!AH37+'Product Info'!AK37+'Product Info'!AN37+'Product Info'!AQ37+'Product Info'!AT37+'Product Info'!AW37+'Product Info'!AZ37+'Product Info'!BC37+'Product Info'!BF37+'Product Info'!BI37+'Product Info'!BL37+'Product Info'!BO37+'Product Info'!BR37+'Product Info'!BU37+'Product Info'!BX37+'Product Info'!CA37+'Product Info'!CD37+'Product Info'!CG37+'Product Info'!CJ37+'Product Info'!CM37+'Product Info'!CP37+'Product Info'!CS37+'Product Info'!CV37+'Product Info'!CY37+'Product Info'!DB37+'Product Info'!DE37+'Product Info'!DH37+'Product Info'!DK37+'Product Info'!DN37+'Product Info'!DQ37+'Product Info'!DT37+'Product Info'!DW37+'Product Info'!DZ37+'Product Info'!EC37+'Product Info'!EF37+'Product Info'!EI37+'Product Info'!EL37+'Product Info'!EO37+'Product Info'!ER37+'Product Info'!EU37+'Product Info'!EX37+'Product Info'!FA37+'Product Info'!FD37)","v":0},{"$f":"AH36*('Product Info'!M37)","v":0},{"$f":"AH36*'Product Info'!P37","v":0},{"$f":"AH36*'Product Info'!S37","v":0},{"$f":"AH36*'Product Info'!V37","v":0},{"$f":"AH36*'Product Info'!Y37","v":0},{"$f":"AH36*'Product Info'!AB37","v":0},{"$f":"AH36*'Product Info'!AE37","v":0},{"$f":"AH36*'Product Info'!AH37","v":0},{"$f":"AH36*'Product Info'!AK37","v":0},{"$f":"AH36*'Product Info'!AN37","v":0},{"$f":"AH36*'Product Info'!AQ37","v":0},{"$f":"AH36*'Product Info'!AT37","v":0},{"$f":"AH36*'Product Info'!AW37","v":0},{"$f":"AH36*'Product Info'!AZ37","v":0},{"$f":"AH36*'Product Info'!BC37","v":0},{"$f":"AH36*'Product Info'!BF37","v":0},{"$f":"AH36*'Product Info'!BI37","v":0},{"$f":"AH36*'Product Info'!BL37","v":0},{"$f":"AH36*'Product Info'!BO37","v":0},{"$f":"AH36*'Product Info'!BR37","v":0},{"$f":"AH36*'Product Info'!BU37","v":0},{"$f":"AH36*'Product Info'!BX37","v":0}]
[{"$f":"'Product Info'!A38","v":0},{"$f":"'Product Info'!B38","v":0},{"$f":"'Product Info'!C38","v":0},null,null,null,null,null,null,null,null,null,null,null,null,null,null,null,null,null,null,null,null,null,null,null,null,null,null,null,null,null,null,0,{"$f":"'Product Info'!F38*('Daily Info (November)'!AH37)","v":0},null,null,{"$f":"AH37*('Product Info'!H38)","v":0},{"$f":"AH37*('Product Info'!M38+'Product Info'!P38+'Product Info'!S38+'Product Info'!V38+'Product Info'!Y38+'Product Info'!AB38+'Product Info'!AE38+'Product Info'!AH38+'Product Info'!AK38+'Product Info'!AN38+'Product Info'!AQ38+'Product Info'!AT38+'Product Info'!AW38+'Product Info'!AZ38+'Product Info'!BC38+'Product Info'!BF38+'Product Info'!BI38+'Product Info'!BL38+'Product Info'!BO38+'Product Info'!BR38+'Product Info'!BU38+'Product Info'!BX38+'Product Info'!CA38+'Product Info'!CD38+'Product Info'!CG38+'Product Info'!CJ38+'Product Info'!CM38+'Product Info'!CP38+'Product Info'!CS38+'Product Info'!CV38+'Product Info'!CY38+'Product Info'!DB38+'Product Info'!DE38+'Product Info'!DH38+'Product Info'!DK38+'Product Info'!DN38+'Product Info'!DQ38+'Product Info'!DT38+'Product Info'!DW38+'Product Info'!DZ38+'Product Info'!EC38+'Product Info'!EF38+'Product Info'!EI38+'Product Info'!EL38+'Product Info'!EO38+'Product Info'!ER38+'Product Info'!EU38+'Product Info'!EX38+'Product Info'!FA38+'Product Info'!FD38)","v":0},{"$f":"AH37*('Product Info'!M38)","v":0},{"$f":"AH37*'Product Info'!P38","v":0},{"$f":"AH37*'Product Info'!S38","v":0},{"$f":"AH37*'Product Info'!V38","v":0},{"$f":"AH37*'Product Info'!Y38","v":0},{"$f":"AH37*'Product Info'!AB38","v":0},{"$f":"AH37*'Product Info'!AE38","v":0},{"$f":"AH37*'Product Info'!AH38","v":0},{"$f":"AH37*'Product Info'!AK38","v":0},{"$f":"AH37*'Product Info'!AN38","v":0},{"$f":"AH37*'Product Info'!AQ38","v":0},{"$f":"AH37*'Product Info'!AT38","v":0},{"$f":"AH37*'Product Info'!AW38","v":0},{"$f":"AH37*'Product Info'!AZ38","v":0},{"$f":"AH37*'Product Info'!BC38","v":0},{"$f":"AH37*'Product Info'!BF38","v":0},{"$f":"AH37*'Product Info'!BI38","v":0},{"$f":"AH37*'Product Info'!BL38","v":0},{"$f":"AH37*'Product Info'!BO38","v":0},{"$f":"AH37*'Product Info'!BR38","v":0},{"$f":"AH37*'Product Info'!BU38","v":0},{"$f":"AH37*'Product Info'!BX38","v":0}]
[{"$f":"'Product Info'!A39","v":0},{"$f":"'Product Info'!B39","v":0},{"$f":"'Product Info'!C39","v":0},null,null,null,null,null,null,null,null,null,null,null,null,null,null,null,null,null,null,null,null,null,null,null,null,null,null,null,null,null,null,0,{"$f":"'Product Info'!F39*('Daily Info (November)'!AH38)","v":0},null,null,{"$f":"AH38*('Product Info'!H39)","v":0},{"$f":"AH38*('Product Info'!M39+'Product Info'!P39+'Product Info'!S39+'Product Info'!V39+'Product Info'!Y39+'Product Info'!AB39+'Product Info'!AE39+'Product Info'!AH39+'Product Info'!AK39+'Product Info'!AN39+'Product Info'!AQ39+'Product Info'!AT39+'Product Info'!AW39+'Product Info'!AZ39+'Product Info'!BC39+'Product Info'!BF39+'Product Info'!BI39+'Product Info'!BL39+'Product Info'!BO39+'Product Info'!BR39+'Product Info'!BU39+'Product Info'!BX39+'Product Info'!CA39+'Product Info'!CD39+'Product Info'!CG39+'Product Info'!CJ39+'Product Info'!CM39+'Product Info'!CP39+'Product Info'!CS39+'Product Info'!CV39+'Product Info'!CY39+'Product Info'!DB39+'Product Info'!DE39+'Product Info'!DH39+'Product Info'!DK39+'Product Info'!DN39+'Product Info'!DQ39+'Product Info'!DT39+'Product Info'!DW39+'Product Info'!DZ39+'Product Info'!EC39+'Product Info'!EF39+'Product Info'!EI39+'Product Info'!EL39+'Product Info'!EO39+'Product Info'!ER39+'Product Info'!EU39+'Product Info'!EX39+'Product Info'!FA39+'Product Info'!FD39)","v":0},{"$f":"AH38*('Product Info'!M39)","v":0},{"$f":"AH38*'Product Info'!P39","v":0},{"$f":"AH38*'Product Info'!S39","v":0},{"$f":"AH38*'Product Info'!V39","v":0},{"$f":"AH38*'Product Info'!Y39","v":0},{"$f":"AH38*'Product Info'!AB39","v":0},{"$f":"AH38*'Product Info'!AE39","v":0},{"$f":"AH38*'Product Info'!AH39","v":0},{"$f":"AH38*'Product Info'!AK39","v":0},{"$f":"AH38*'Product Info'!AN39","v":0},{"$f":"AH38*'Product Info'!AQ39","v":0},{"$f":"AH38*'Product Info'!AT39","v":0},{"$f":"AH38*'Product Info'!AW39","v":0},{"$f":"AH38*'Product Info'!AZ39","v":0},{"$f":"AH38*'Product Info'!BC39","v":0},{"$f":"AH38*'Product Info'!BF39","v":0},{"$f":"AH38*'Product Info'!BI39","v":0},{"$f":"AH38*'Product Info'!BL39","v":0},{"$f":"AH38*'Product Info'!BO39","v":0},{"$f":"AH38*'Product Info'!BR39","v":0},{"$f":"AH38*'Product Info'!BU39","v":0},{"$f":"AH38*'Product Info'!BX39","v":0}]
[{"$f":"'Product Info'!A40","v":0},{"$f":"'Product Info'!B40","v":0},{"$f":"'Product Info'!C40","v":0},null,null,null,null,null,null,null,null,null,null,null,null,null,null,null,null,null,null,null,null,null,null,null,null,null,null,null,null,null,null,0,{"$f":"'Product Info'!F40*('Daily Info (November)'!AH39)","v":0},null,null,{"$f":"AH39*('Product Info'!H40)","v":0},{"$f":"AH39*('Product Info'!M40+'Product Info'!P40+'Product Info'!S40+'Product Info'!V40+'Product Info'!Y40+'Product Info'!AB40+'Product Info'!AE40+'Product Info'!AH40+'Product Info'!AK40+'Product Info'!AN40+'Product Info'!AQ40+'Product Info'!AT40+'Product Info'!AW40+'Product Info'!AZ40+'Product Info'!BC40+'Product Info'!BF40+'Product Info'!BI40+'Product Info'!BL40+'Product Info'!BO40+'Product Info'!BR40+'Product Info'!BU40+'Product Info'!BX40+'Product Info'!CA40+'Product Info'!CD40+'Product Info'!CG40+'Product Info'!CJ40+'Product Info'!CM40+'Product Info'!CP40+'Product Info'!CS40+'Product Info'!CV40+'Product Info'!CY40+'Product Info'!DB40+'Product Info'!DE40+'Product Info'!DH40+'Product Info'!DK40+'Product Info'!DN40+'Product Info'!DQ40+'Product Info'!DT40+'Product Info'!DW40+'Product Info'!DZ40+'Product Info'!EC40+'Product Info'!EF40+'Product Info'!EI40+'Product Info'!EL40+'Product Info'!EO40+'Product Info'!ER40+'Product Info'!EU40+'Product Info'!EX40+'Product Info'!FA40+'Product Info'!FD40)","v":0},{"$f":"AH39*('Product Info'!M40)","v":0},{"$f":"AH39*'Product Info'!P40","v":0},{"$f":"AH39*'Product Info'!S40","v":0},{"$f":"AH39*'Product Info'!V40","v":0},{"$f":"AH39*'Product Info'!Y40","v":0},{"$f":"AH39*'Product Info'!AB40","v":0},{"$f":"AH39*'Product Info'!AE40","v":0},{"$f":"AH39*'Product Info'!AH40","v":0},{"$f":"AH39*'Product Info'!AK40","v":0},{"$f":"AH39*'Product Info'!AN40","v":0},{"$f":"AH39*'Product Info'!AQ40","v":0},{"$f":"AH39*'Product Info'!AT40","v":0},{"$f":"AH39*'Product Info'!AW40","v":0},{"$f":"AH39*'Product Info'!AZ40","v":0},{"$f":"AH39*'Product Info'!BC40","v":0},{"$f":"AH39*'Product Info'!BF40","v":0},{"$f":"AH39*'Product Info'!BI40","v":0},{"$f":"AH39*'Product Info'!BL40","v":0},{"$f":"AH39*'Product Info'!BO40","v":0},{"$f":"AH39*'Product Info'!BR40","v":0},{"$f":"AH39*'Product Info'!BU40","v":0},{"$f":"AH39*'Product Info'!BX40","v":0}]
[{"$f":"'Product Info'!A41","v":0},{"$f":"'Product Info'!B41","v":0},{"$f":"'Product Info'!C41","v":0},null,null,null,null,null,null,null,null,null,null,null,null,null,null,null,null,null,null,null,null,null,null,null,null,null,null,null,null,null,null,0,{"$f":"'Product Info'!F41*('Daily Info (November)'!AH40)","v":0},null,null,{"$f":"AH40*('Product Info'!H41)","v":0},{"$f":"AH40*('Product Info'!M41+'Product Info'!P41+'Product Info'!S41+'Product Info'!V41+'Product Info'!Y41+'Product Info'!AB41+'Product Info'!AE41+'Product Info'!AH41+'Product Info'!AK41+'Product Info'!AN41+'Product Info'!AQ41+'Product Info'!AT41+'Product Info'!AW41+'Product Info'!AZ41+'Product Info'!BC41+'Product Info'!BF41+'Product Info'!BI41+'Product Info'!BL41+'Product Info'!BO41+'Product Info'!BR41+'Product Info'!BU41+'Product Info'!BX41+'Product Info'!CA41+'Product Info'!CD41+'Product Info'!CG41+'Product Info'!CJ41+'Product Info'!CM41+'Product Info'!CP41+'Product Info'!CS41+'Product Info'!CV41+'Product Info'!CY41+'Product Info'!DB41+'Product Info'!DE41+'Product Info'!DH41+'Product Info'!DK41+'Product Info'!DN41+'Product Info'!DQ41+'Product Info'!DT41+'Product Info'!DW41+'Product Info'!DZ41+'Product Info'!EC41+'Product Info'!EF41+'Product Info'!EI41+'Product Info'!EL41+'Product Info'!EO41+'Product Info'!ER41+'Product Info'!EU41+'Product Info'!EX41+'Product Info'!FA41+'Product Info'!FD41)","v":0},{"$f":"AH40*('Product Info'!M41)","v":0},{"$f":"AH40*'Product Info'!P41","v":0},{"$f":"AH40*'Product Info'!S41","v":0},{"$f":"AH40*'Product Info'!V41","v":0},{"$f":"AH40*'Product Info'!Y41","v":0},{"$f":"AH40*'Product Info'!AB41","v":0},{"$f":"AH40*'Product Info'!AE41","v":0},{"$f":"AH40*'Product Info'!AH41","v":0},{"$f":"AH40*'Product Info'!AK41","v":0},{"$f":"AH40*'Product Info'!AN41","v":0},{"$f":"AH40*'Product Info'!AQ41","v":0},{"$f":"AH40*'Product Info'!AT41","v":0},{"$f":"AH40*'Product Info'!AW41","v":0},{"$f":"AH40*'Product Info'!AZ41","v":0},{"$f":"AH40*'Product Info'!BC41","v":0},{"$f":"AH40*'Product Info'!BF41","v":0},{"$f":"AH40*'Product Info'!BI41","v":0},{"$f":"AH40*'Product Info'!BL41","v":0},{"$f":"AH40*'Product Info'!BO41","v":0},{"$f":"AH40*'Product Info'!BR41","v":0},{"$f":"AH40*'Product Info'!BU41","v":0},{"$f":"AH40*'Product Info'!BX41","v":0}]
[{"$f":"'Product Info'!A42","v":0},{"$f":"'Product Info'!B42","v":0},{"$f":"'Product Info'!C42","v":0},null,null,null,null,null,null,null,null,null,null,null,null,null,null,null,null,null,null,null,null,null,null,null,null,null,null,null,null,null,null,0,{"$f":"'Product Info'!F42*('Daily Info (November)'!AH41)","v":0},null,null,{"$f":"AH41*('Product Info'!H42)","v":0},{"$f":"AH41*('Product Info'!M42+'Product Info'!P42+'Product Info'!S42+'Product Info'!V42+'Product Info'!Y42+'Product Info'!AB42+'Product Info'!AE42+'Product Info'!AH42+'Product Info'!AK42+'Product Info'!AN42+'Product Info'!AQ42+'Product Info'!AT42+'Product Info'!AW42+'Product Info'!AZ42+'Product Info'!BC42+'Product Info'!BF42+'Product Info'!BI42+'Product Info'!BL42+'Product Info'!BO42+'Product Info'!BR42+'Product Info'!BU42+'Product Info'!BX42+'Product Info'!CA42+'Product Info'!CD42+'Product Info'!CG42+'Product Info'!CJ42+'Product Info'!CM42+'Product Info'!CP42+'Product Info'!CS42+'Product Info'!CV42+'Product Info'!CY42+'Product Info'!DB42+'Product Info'!DE42+'Product Info'!DH42+'Product Info'!DK42+'Product Info'!DN42+'Product Info'!DQ42+'Product Info'!DT42+'Product Info'!DW42+'Product Info'!DZ42+'Product Info'!EC42+'Product Info'!EF42+'Product Info'!EI42+'Product Info'!EL42+'Product Info'!EO42+'Product Info'!ER42+'Product Info'!EU42+'Product Info'!EX42+'Product Info'!FA42+'Product Info'!FD42)","v":0},{"$f":"AH41*('Product Info'!M42)","v":0},{"$f":"AH41*'Product Info'!P42","v":0},{"$f":"AH41*'Product Info'!S42","v":0},{"$f":"AH41*'Product Info'!V42","v":0},{"$f":"AH41*'Product Info'!Y42","v":0},{"$f":"AH41*'Product Info'!AB42","v":0},{"$f":"AH41*'Product Info'!AE42","v":0},{"$f":"AH41*'Product Info'!AH42","v":0},{"$f":"AH41*'Product Info'!AK42","v":0},{"$f":"AH41*'Product Info'!AN42","v":0},{"$f":"AH41*'Product Info'!AQ42","v":0},{"$f":"AH41*'Product Info'!AT42","v":0},{"$f":"AH41*'Product Info'!AW42","v":0},{"$f":"AH41*'Product Info'!AZ42","v":0},{"$f":"AH41*'Product Info'!BC42","v":0},{"$f":"AH41*'Product Info'!BF42","v":0},{"$f":"AH41*'Product Info'!BI42","v":0},{"$f":"AH41*'Product Info'!BL42","v":0},{"$f":"AH41*'Product Info'!BO42","v":0},{"$f":"AH41*'Product Info'!BR42","v":0},{"$f":"AH41*'Product Info'!BU42","v":0},{"$f":"AH41*'Product Info'!BX42","v":0}]
[{"$f":"'Product Info'!A43","v":0},{"$f":"'Product Info'!B43","v":0},{"$f":"'Product Info'!C43","v":0},null,null,null,null,null,null,null,null,null,null,null,null,null,null,null,null,null,null,null,null,null,null,null,null,null,null,null,null,null,null,0,{"$f":"'Product Info'!F43*('Daily Info (November)'!AH42)","v":0},null,null,{"$f":"AH42*('Product Info'!H43)","v":0},{"$f":"AH42*('Product Info'!M43+'Product Info'!P43+'Product Info'!S43+'Product Info'!V43+'Product Info'!Y43+'Product Info'!AB43+'Product Info'!AE43+'Product Info'!AH43+'Product Info'!AK43+'Product Info'!AN43+'Product Info'!AQ43+'Product Info'!AT43+'Product Info'!AW43+'Product Info'!AZ43+'Product Info'!BC43+'Product Info'!BF43+'Product Info'!BI43+'Product Info'!BL43+'Product Info'!BO43+'Product Info'!BR43+'Product Info'!BU43+'Product Info'!BX43+'Product Info'!CA43+'Product Info'!CD43+'Product Info'!CG43+'Product Info'!CJ43+'Product Info'!CM43+'Product Info'!CP43+'Product Info'!CS43+'Product Info'!CV43+'Product Info'!CY43+'Product Info'!DB43+'Product Info'!DE43+'Product Info'!DH43+'Product Info'!DK43+'Product Info'!DN43+'Product Info'!DQ43+'Product Info'!DT43+'Product Info'!DW43+'Product Info'!DZ43+'Product Info'!EC43+'Product Info'!EF43+'Product Info'!EI43+'Product Info'!EL43+'Product Info'!EO43+'Product Info'!ER43+'Product Info'!EU43+'Product Info'!EX43+'Product Info'!FA43+'Product Info'!FD43)","v":0},{"$f":"AH42*('Product Info'!M43)","v":0},{"$f":"AH42*'Product Info'!P43","v":0},{"$f":"AH42*'Product Info'!S43","v":0},{"$f":"AH42*'Product Info'!V43","v":0},{"$f":"AH42*'Product Info'!Y43","v":0},{"$f":"AH42*'Product Info'!AB43","v":0},{"$f":"AH42*'Product Info'!AE43","v":0},{"$f":"AH42*'Product Info'!AH43","v":0},{"$f":"AH42*'Product Info'!AK43","v":0},{"$f":"AH42*'Product Info'!AN43","v":0},{"$f":"AH42*'Product Info'!AQ43","v":0},{"$f":"AH42*'Product Info'!AT43","v":0},{"$f":"AH42*'Product Info'!AW43","v":0},{"$f":"AH42*'Product Info'!AZ43","v":0},{"$f":"AH42*'Product Info'!BC43","v":0},{"$f":"AH42*'Product Info'!BF43","v":0},{"$f":"AH42*'Product Info'!BI43","v":0},{"$f":"AH42*'Product Info'!BL43","v":0},{"$f":"AH42*'Product Info'!BO43","v":0},{"$f":"AH42*'Product Info'!BR43","v":0},{"$f":"AH42*'Product Info'!BU43","v":0},{"$f":"AH42*'Product Info'!BX43","v":0}]
[{"$f":"'Product Info'!A44","v":0},{"$f":"'Product Info'!B44","v":0},{"$f":"'Product Info'!C44","v":0},null,null,null,null,null,null,null,null,null,null,null,null,null,null,null,null,null,null,null,null,null,null,null,null,null,null,null,null,null,null,0,{"$f":"'Product Info'!F44*('Daily Info (November)'!AH43)","v":0},null,null,{"$f":"AH43*('Product Info'!H44)","v":0},{"$f":"AH43*('Product Info'!M44+'Product Info'!P44+'Product Info'!S44+'Product Info'!V44+'Product Info'!Y44+'Product Info'!AB44+'Product Info'!AE44+'Product Info'!AH44+'Product Info'!AK44+'Product Info'!AN44+'Product Info'!AQ44+'Product Info'!AT44+'Product Info'!AW44+'Product Info'!AZ44+'Product Info'!BC44+'Product Info'!BF44+'Product Info'!BI44+'Product Info'!BL44+'Product Info'!BO44+'Product Info'!BR44+'Product Info'!BU44+'Product Info'!BX44+'Product Info'!CA44+'Product Info'!CD44+'Product Info'!CG44+'Product Info'!CJ44+'Product Info'!CM44+'Product Info'!CP44+'Product Info'!CS44+'Product Info'!CV44+'Product Info'!CY44+'Product Info'!DB44+'Product Info'!DE44+'Product Info'!DH44+'Product Info'!DK44+'Product Info'!DN44+'Product Info'!DQ44+'Product Info'!DT44+'Product Info'!DW44+'Product Info'!DZ44+'Product Info'!EC44+'Product Info'!EF44+'Product Info'!EI44+'Product Info'!EL44+'Product Info'!EO44+'Product Info'!ER44+'Product Info'!EU44+'Product Info'!EX44+'Product Info'!FA44+'Product Info'!FD44)","v":0},{"$f":"AH43*('Product Info'!M44)","v":0},{"$f":"AH43*'Product Info'!P44","v":0},{"$f":"AH43*'Product Info'!S44","v":0},{"$f":"AH43*'Product Info'!V44","v":0},{"$f":"AH43*'Product Info'!Y44","v":0},{"$f":"AH43*'Product Info'!AB44","v":0},{"$f":"AH43*'Product Info'!AE44","v":0},{"$f":"AH43*'Product Info'!AH44","v":0},{"$f":"AH43*'Product Info'!AK44","v":0},{"$f":"AH43*'Product Info'!AN44","v":0},{"$f":"AH43*'Product Info'!AQ44","v":0},{"$f":"AH43*'Product Info'!AT44","v":0},{"$f":"AH43*'Product Info'!AW44","v":0},{"$f":"AH43*'Product Info'!AZ44","v":0},{"$f":"AH43*'Product Info'!BC44","v":0},{"$f":"AH43*'Product Info'!BF44","v":0},{"$f":"AH43*'Product Info'!BI44","v":0},{"$f":"AH43*'Product Info'!BL44","v":0},{"$f":"AH43*'Product Info'!BO44","v":0},{"$f":"AH43*'Product Info'!BR44","v":0},{"$f":"AH43*'Product Info'!BU44","v":0},{"$f":"AH43*'Product Info'!BX44","v":0}]
[{"$f":"'Product Info'!A45","v":0},{"$f":"'Product Info'!B45","v":0},{"$f":"'Product Info'!C45","v":0},null,null,null,null,null,null,null,null,null,null,null,null,null,null,null,null,null,null,null,null,null,null,null,null,null,null,null,null,null,null,0,{"$f":"'Product Info'!F45*('Daily Info (November)'!AH44)","v":0},null,null,{"$f":"AH44*('Product Info'!H45)","v":0},{"$f":"AH44*('Product Info'!M45+'Product Info'!P45+'Product Info'!S45+'Product Info'!V45+'Product Info'!Y45+'Product Info'!AB45+'Product Info'!AE45+'Product Info'!AH45+'Product Info'!AK45+'Product Info'!AN45+'Product Info'!AQ45+'Product Info'!AT45+'Product Info'!AW45+'Product Info'!AZ45+'Product Info'!BC45+'Product Info'!BF45+'Product Info'!BI45+'Product Info'!BL45+'Product Info'!BO45+'Product Info'!BR45+'Product Info'!BU45+'Product Info'!BX45+'Product Info'!CA45+'Product Info'!CD45+'Product Info'!CG45+'Product Info'!CJ45+'Product Info'!CM45+'Product Info'!CP45+'Product Info'!CS45+'Product Info'!CV45+'Product Info'!CY45+'Product Info'!DB45+'Product Info'!DE45+'Product Info'!DH45+'Product Info'!DK45+'Product Info'!DN45+'Product Info'!DQ45+'Product Info'!DT45+'Product Info'!DW45+'Product Info'!DZ45+'Product Info'!EC45+'Product Info'!EF45+'Product Info'!EI45+'Product Info'!EL45+'Product Info'!EO45+'Product Info'!ER45+'Product Info'!EU45+'Product Info'!EX45+'Product Info'!FA45+'Product Info'!FD45)","v":0},{"$f":"AH44*('Product Info'!M45)","v":0},{"$f":"AH44*'Product Info'!P45","v":0},{"$f":"AH44*'Product Info'!S45","v":0},{"$f":"AH44*'Product Info'!V45","v":0},{"$f":"AH44*'Product Info'!Y45","v":0},{"$f":"AH44*'Product Info'!AB45","v":0},{"$f":"AH44*'Product Info'!AE45","v":0},{"$f":"AH44*'Product Info'!AH45","v":0},{"$f":"AH44*'Product Info'!AK45","v":0},{"$f":"AH44*'Product Info'!AN45","v":0},{"$f":"AH44*'Product Info'!AQ45","v":0},{"$f":"AH44*'Product Info'!AT45","v":0},{"$f":"AH44*'Product Info'!AW45","v":0},{"$f":"AH44*'Product Info'!AZ45","v":0},{"$f":"AH44*'Product Info'!BC45","v":0},{"$f":"AH44*'Product Info'!BF45","v":0},{"$f":"AH44*'Product Info'!BI45","v":0},{"$f":"AH44*'Product Info'!BL45","v":0},{"$f":"AH44*'Product Info'!BO45","v":0},{"$f":"AH44*'Product Info'!BR45","v":0},{"$f":"AH44*'Product Info'!BU45","v":0},{"$f":"AH44*'Product Info'!BX45","v":0}]
[{"$f":"'Product Info'!A46","v":0},{"$f":"'Product Info'!B46","v":0},{"$f":"'Product Info'!C46","v":0},null,null,null,null,null,null,null,null,null,null,null,null,null,null,null,null,null,null,null,null,null,null,null,null,null,null,null,null,null,null,0,{"$f":"'Product Info'!F46*('Daily Info (November)'!AH45)","v":0},null,null,{"$f":"AH45*('Product Info'!H46)","v":0},{"$f":"AH45*('Product Info'!M46+'Product Info'!P46+'Product Info'!S46+'Product Info'!V46+'Product Info'!Y46+'Product Info'!AB46+'Product Info'!AE46+'Product Info'!AH46+'Product Info'!AK46+'Product Info'!AN46+'Product Info'!AQ46+'Product Info'!AT46+'Product Info'!AW46+'Product Info'!AZ46+'Product Info'!BC46+'Product Info'!BF46+'Product Info'!BI46+'Product Info'!BL46+'Product Info'!BO46+'Product Info'!BR46+'Product Info'!BU46+'Product Info'!BX46+'Product Info'!CA46+'Product Info'!CD46+'Product Info'!CG46+'Product Info'!CJ46+'Product Info'!CM46+'Product Info'!CP46+'Product Info'!CS46+'Product Info'!CV46+'Product Info'!CY46+'Product Info'!DB46+'Product Info'!DE46+'Product Info'!DH46+'Product Info'!DK46+'Product Info'!DN46+'Product Info'!DQ46+'Product Info'!DT46+'Product Info'!DW46+'Product Info'!DZ46+'Product Info'!EC46+'Product Info'!EF46+'Product Info'!EI46+'Product Info'!EL46+'Product Info'!EO46+'Product Info'!ER46+'Product Info'!EU46+'Product Info'!EX46+'Product Info'!FA46+'Product Info'!FD46)","v":0},{"$f":"AH45*('Product Info'!M46)","v":0},{"$f":"AH45*'Product Info'!P46","v":0},{"$f":"AH45*'Product Info'!S46","v":0},{"$f":"AH45*'Product Info'!V46","v":0},{"$f":"AH45*'Product Info'!Y46","v":0},{"$f":"AH45*'Product Info'!AB46","v":0},{"$f":"AH45*'Product Info'!AE46","v":0},{"$f":"AH45*'Product Info'!AH46","v":0},{"$f":"AH45*'Product Info'!AK46","v":0},{"$f":"AH45*'Product Info'!AN46","v":0},{"$f":"AH45*'Product Info'!AQ46","v":0},{"$f":"AH45*'Product Info'!AT46","v":0},{"$f":"AH45*'Product Info'!AW46","v":0},{"$f":"AH45*'Product Info'!AZ46","v":0},{"$f":"AH45*'Product Info'!BC46","v":0},{"$f":"AH45*'Product Info'!BF46","v":0},{"$f":"AH45*'Product Info'!BI46","v":0},{"$f":"AH45*'Product Info'!BL46","v":0},{"$f":"AH45*'Product Info'!BO46","v":0},{"$f":"AH45*'Product Info'!BR46","v":0},{"$f":"AH45*'Product Info'!BU46","v":0},{"$f":"AH45*'Product Info'!BX46","v":0}]
[{"$f":"'Product Info'!A47","v":0},{"$f":"'Product Info'!B47","v":0},{"$f":"'Product Info'!C47","v":0},null,null,null,null,null,null,null,null,null,null,null,null,null,null,null,null,null,null,null,null,null,null,null,null,null,null,null,null,null,null,0,{"$f":"'Product Info'!F47*('Daily Info (November)'!AH46)","v":0},null,null,{"$f":"AH46*('Product Info'!H47)","v":0},{"$f":"AH46*('Product Info'!M47+'Product Info'!P47+'Product Info'!S47+'Product Info'!V47+'Product Info'!Y47+'Product Info'!AB47+'Product Info'!AE47+'Product Info'!AH47+'Product Info'!AK47+'Product Info'!AN47+'Product Info'!AQ47+'Product Info'!AT47+'Product Info'!AW47+'Product Info'!AZ47+'Product Info'!BC47+'Product Info'!BF47+'Product Info'!BI47+'Product Info'!BL47+'Product Info'!BO47+'Product Info'!BR47+'Product Info'!BU47+'Product Info'!BX47+'Product Info'!CA47+'Product Info'!CD47+'Product Info'!CG47+'Product Info'!CJ47+'Product Info'!CM47+'Product Info'!CP47+'Product Info'!CS47+'Product Info'!CV47+'Product Info'!CY47+'Product Info'!DB47+'Product Info'!DE47+'Product Info'!DH47+'Product Info'!DK47+'Product Info'!DN47+'Product Info'!DQ47+'Product Info'!DT47+'Product Info'!DW47+'Product Info'!DZ47+'Product Info'!EC47+'Product Info'!EF47+'Product Info'!EI47+'Product Info'!EL47+'Product Info'!EO47+'Product Info'!ER47+'Product Info'!EU47+'Product Info'!EX47+'Product Info'!FA47+'Product Info'!FD47)","v":0},{"$f":"AH46*('Product Info'!M47)","v":0},{"$f":"AH46*'Product Info'!P47","v":0},{"$f":"AH46*'Product Info'!S47","v":0},{"$f":"AH46*'Product Info'!V47","v":0},{"$f":"AH46*'Product Info'!Y47","v":0},{"$f":"AH46*'Product Info'!AB47","v":0},{"$f":"AH46*'Product Info'!AE47","v":0},{"$f":"AH46*'Product Info'!AH47","v":0},{"$f":"AH46*'Product Info'!AK47","v":0},{"$f":"AH46*'Product Info'!AN47","v":0},{"$f":"AH46*'Product Info'!AQ47","v":0},{"$f":"AH46*'Product Info'!AT47","v":0},{"$f":"AH46*'Product Info'!AW47","v":0},{"$f":"AH46*'Product Info'!AZ47","v":0},{"$f":"AH46*'Product Info'!BC47","v":0},{"$f":"AH46*'Product Info'!BF47","v":0},{"$f":"AH46*'Product Info'!BI47","v":0},{"$f":"AH46*'Product Info'!BL47","v":0},{"$f":"AH46*'Product Info'!BO47","v":0},{"$f":"AH46*'Product Info'!BR47","v":0},{"$f":"AH46*'Product Info'!BU47","v":0},{"$f":"AH46*'Product Info'!BX47","v":0}]
[{"$f":"'Product Info'!A48","v":0},{"$f":"'Product Info'!B48","v":0},{"$f":"'Product Info'!C48","v":0},null,null,null,null,null,null,null,null,null,null,null,null,null,null,null,null,null,null,null,null,null,null,null,null,null,null,null,null,null,null,0,{"$f":"'Product Info'!F48*('Daily Info (November)'!AH47)","v":0},null,null,{"$f":"AH47*('Product Info'!H48)","v":0},{"$f":"AH47*('Product Info'!M48+'Product Info'!P48+'Product Info'!S48+'Product Info'!V48+'Product Info'!Y48+'Product Info'!AB48+'Product Info'!AE48+'Product Info'!AH48+'Product Info'!AK48+'Product Info'!AN48+'Product Info'!AQ48+'Product Info'!AT48+'Product Info'!AW48+'Product Info'!AZ48+'Product Info'!BC48+'Product Info'!BF48+'Product Info'!BI48+'Product Info'!BL48+'Product Info'!BO48+'Product Info'!BR48+'Product Info'!BU48+'Product Info'!BX48+'Product Info'!CA48+'Product Info'!CD48+'Product Info'!CG48+'Product Info'!CJ48+'Product Info'!CM48+'Product Info'!CP48+'Product Info'!CS48+'Product Info'!CV48+'Product Info'!CY48+'Product Info'!DB48+'Product Info'!DE48+'Product Info'!DH48+'Product Info'!DK48+'Product Info'!DN48+'Product Info'!DQ48+'Product Info'!DT48+'Product Info'!DW48+'Product Info'!DZ48+'Product Info'!EC48+'Product Info'!EF48+'Product Info'!EI48+'Product Info'!EL48+'Product Info'!EO48+'Product Info'!ER48+'Product Info'!EU48+'Product Info'!EX48+'Product Info'!FA48+'Product Info'!FD48)","v":0},{"$f":"AH47*('Product Info'!M48)","v":0},{"$f":"AH47*'Product Info'!P48","v":0},{"$f":"AH47*'Product Info'!S48","v":0},{"$f":"AH47*'Product Info'!V48","v":0},{"$f":"AH47*'Product Info'!Y48","v":0},{"$f":"AH47*'Product Info'!AB48","v":0},{"$f":"AH47*'Product Info'!AE48","v":0},{"$f":"AH47*'Product Info'!AH48","v":0},{"$f":"AH47*'Product Info'!AK48","v":0},{"$f":"AH47*'Product Info'!AN48","v":0},{"$f":"AH47*'Product Info'!AQ48","v":0},{"$f":"AQ47*'Product Info'!AF48","v":0},{"$f":"AH47*'Product Info'!AW48","v":0},{"$f":"AH47*'Product Info'!AZ48","v":0},{"$f":"AH47*'Product Info'!BC48","v":0},{"$f":"AH47*'Product Info'!BF48","v":0},{"$f":"AH47*'Product Info'!BI48","v":0},{"$f":"AH47*'Product Info'!BL48","v":0},{"$f":"AH47*'Product Info'!BO48","v":0},{"$f":"AH47*'Product Info'!BR48","v":0},{"$f":"AH47*'Product Info'!BU48","v":0},{"$f":"AH47*'Product Info'!BX48","v":0}]
[{"$f":"'Product Info'!A49","v":0},{"$f":"'Product Info'!B49","v":0},{"$f":"'Product Info'!C49","v":0},null,null,null,null,null,null,null,null,null,null,null,null,null,null,null,null,null,null,null,null,null,null,null,null,null,null,null,null,null,null,0,{"$f":"'Product Info'!F49*('Daily Info (November)'!AH48)","v":0},null,null,{"$f":"AH48*('Product Info'!H49)","v":0},{"$f":"AH48*('Product Info'!M49+'Product Info'!P49+'Product Info'!S49+'Product Info'!V49+'Product Info'!Y49+'Product Info'!AB49+'Product Info'!AE49+'Product Info'!AH49+'Product Info'!AK49+'Product Info'!AN49+'Product Info'!AQ49+'Product Info'!AT49+'Product Info'!AW49+'Product Info'!AZ49+'Product Info'!BC49+'Product Info'!BF49+'Product Info'!BI49+'Product Info'!BL49+'Product Info'!BO49+'Product Info'!BR49+'Product Info'!BU49+'Product Info'!BX49+'Product Info'!CA49+'Product Info'!CD49+'Product Info'!CG49+'Product Info'!CJ49+'Product Info'!CM49+'Product Info'!CP49+'Product Info'!CS49+'Product Info'!CV49+'Product Info'!CY49+'Product Info'!DB49+'Product Info'!DE49+'Product Info'!DH49+'Product Info'!DK49+'Product Info'!DN49+'Product Info'!DQ49+'Product Info'!DT49+'Product Info'!DW49+'Product Info'!DZ49+'Product Info'!EC49+'Product Info'!EF49+'Product Info'!EI49+'Product Info'!EL49+'Product Info'!EO49+'Product Info'!ER49+'Product Info'!EU49+'Product Info'!EX49+'Product Info'!FA49+'Product Info'!FD49)","v":0},{"$f":"AH48*('Product Info'!M49)","v":0},{"$f":"AH48*'Product Info'!P49","v":0},{"$f":"AH48*'Product Info'!S49","v":0},{"$f":"AH48*'Product Info'!V49","v":0},{"$f":"AH48*'Product Info'!Y49","v":0},{"$f":"AH48*'Product Info'!AB49","v":0},{"$f":"AH48*'Product Info'!AE49","v":0},{"$f":"AH48*'Product Info'!AH49","v":0},{"$f":"AH48*'Product Info'!AK49","v":0},{"$f":"AH48*'Product Info'!AN49","v":0},{"$f":"AH48*'Product Info'!AQ49","v":0},{"$f":"AQ48*'Product Info'!AF49","v":0},{"$f":"AH48*'Product Info'!AW49","v":0},{"$f":"AH48*'Product Info'!AZ49","v":0},{"$f":"AH48*'Product Info'!BC49","v":0},{"$f":"AH48*'Product Info'!BF49","v":0},{"$f":"AH48*'Product Info'!BI49","v":0},{"$f":"AH48*'Product Info'!BL49","v":0},{"$f":"AH48*'Product Info'!BO49","v":0},{"$f":"AH48*'Product Info'!BR49","v":0},{"$f":"AH48*'Product Info'!BU49","v":0},{"$f":"AH48*'Product Info'!BX49","v":0}]
[{"$f":"'Product Info'!A50","v":0},{"$f":"'Product Info'!B50","v":0},{"$f":"'Product Info'!C50","v":0},null,null,null,null,null,null,null,null,null,null,null,null,null,null,null,null,null,null,null,null,null,null,null,null,null,null,null,null,null,null,0,{"$f":"'Product Info'!F50*('Daily Info (November)'!AH49)","v":0},null,null,{"$f":"AH49*('Product Info'!H50)","v":0},{"$f":"AH49*('Product Info'!M50+'Product Info'!P50+'Product Info'!S50+'Product Info'!V50+'Product Info'!Y50+'Product Info'!AB50+'Product Info'!AE50+'Product Info'!AH50+'Product Info'!AK50+'Product Info'!AN50+'Product Info'!AQ50+'Product Info'!AT50+'Product Info'!AW50+'Product Info'!AZ50+'Product Info'!BC50+'Product Info'!BF50+'Product Info'!BI50+'Product Info'!BL50+'Product Info'!BO50+'Product Info'!BR50+'Product Info'!BU50+'Product Info'!BX50+'Product Info'!CA50+'Product Info'!CD50+'Product Info'!CG50+'Product Info'!CJ50+'Product Info'!CM50+'Product Info'!CP50+'Product Info'!CS50+'Product Info'!CV50+'Product Info'!CY50+'Product Info'!DB50+'Product Info'!DE50+'Product Info'!DH50+'Product Info'!DK50+'Product Info'!DN50+'Product Info'!DQ50+'Product Info'!DT50+'Product Info'!DW50+'Product Info'!DZ50+'Product Info'!EC50+'Product Info'!EF50+'Product Info'!EI50+'Product Info'!EL50+'Product Info'!EO50+'Product Info'!ER50+'Product Info'!EU50+'Product Info'!EX50+'Product Info'!FA50+'Product Info'!FD50)","v":0},{"$f":"AH49*('Product Info'!M50)","v":0},{"$f":"AH49*'Product Info'!P50","v":0},{"$f":"AH49*'Product Info'!S50","v":0},{"$f":"AH49*'Product Info'!V50","v":0},{"$f":"AH49*'Product Info'!Y50","v":0},{"$f":"AH49*'Product Info'!AB50","v":0},{"$f":"AH49*'Product Info'!AE50","v":0},{"$f":"AH49*'Product Info'!AH50","v":0},{"$f":"AH49*'Product Info'!AK50","v":0},{"$f":"AH49*'Product Info'!AN50","v":0},{"$f":"AH49*'Product Info'!AQ50","v":0},{"$f":"AH49*'Product Info'!AT50","v":0},{"$f":"AH49*'Product Info'!AW50","v":0},{"$f":"AH49*'Product Info'!AZ50","v":0},{"$f":"AH49*'Product Info'!BC50","v":0},{"$f":"AH49*'Product Info'!BF50","v":0},{"$f":"AH49*'Product Info'!BI50","v":0},{"$f":"AH49*'Product Info'!BL50","v":0},{"$f":"AH49*'Product Info'!BO50","v":0},{"$f":"AH49*'Product Info'!BR50","v":0},{"$f":"AH49*'Product Info'!BU50","v":0},{"$f":"AH49*'Product Info'!BX50","v":0}]
[{"$f":"'Product Info'!A51","v":0},{"$f":"'Product Info'!B51","v":0},{"$f":"'Product Info'!C51","v":0},null,null,null,null,null,null,null,null,null,null,null,null,null,null,null,null,null,null,null,null,null,null,null,null,null,null,null,null,null,null,0,{"$f":"'Product Info'!F51*('Daily Info (November)'!AH50)","v":0},null,null,{"$f":"AH50*('Product Info'!H51)","v":0},{"$f":"AH50*('Product Info'!M51+'Product Info'!P51+'Product Info'!S51+'Product Info'!V51+'Product Info'!Y51+'Product Info'!AB51+'Product Info'!AE51+'Product Info'!AH51+'Product Info'!AK51+'Product Info'!AN51+'Product Info'!AQ51+'Product Info'!AT51+'Product Info'!AW51+'Product Info'!AZ51+'Product Info'!BC51+'Product Info'!BF51+'Product Info'!BI51+'Product Info'!BL51+'Product Info'!BO51+'Product Info'!BR51+'Product Info'!BU51+'Product Info'!BX51+'Product Info'!CA51+'Product Info'!CD51+'Product Info'!CG51+'Product Info'!CJ51+'Product Info'!CM51+'Product Info'!CP51+'Product Info'!CS51+'Product Info'!CV51+'Product Info'!CY51+'Product Info'!DB51+'Product Info'!DE51+'Product Info'!DH51+'Product Info'!DK51+'Product Info'!DN51+'Product Info'!DQ51+'Product Info'!DT51+'Product Info'!DW51+'Product Info'!DZ51+'Product Info'!EC51+'Product Info'!EF51+'Product Info'!EI51+'Product Info'!EL51+'Product Info'!EO51+'Product Info'!ER51+'Product Info'!EU51+'Product Info'!EX51+'Product Info'!FA51+'Product Info'!FD51)","v":0},{"$f":"AH50*('Product Info'!M51)","v":0},{"$f":"AH50*'Product Info'!P51","v":0},{"$f":"AH50*'Product Info'!S51","v":0},{"$f":"AH50*'Product Info'!V51","v":0},{"$f":"AH50*'Product Info'!Y51","v":0},{"$f":"AH50*'Product Info'!AB51","v":0},{"$f":"AH50*'Product Info'!AE51","v":0},{"$f":"AH50*'Product Info'!AH51","v":0},{"$f":"AH50*'Product Info'!AK51","v":0},{"$f":"AH50*'Product Info'!AN51","v":0},{"$f":"AH50*'Product Info'!AQ51","v":0},{"$f":"AH50*'Product Info'!AT51","v":0},{"$f":"AH50*'Product Info'!AW51","v":0},{"$f":"AH50*'Product Info'!AZ51","v":0},{"$f":"AH50*'Product Info'!BC51","v":0},{"$f":"AH50*'Product Info'!BF51","v":0},{"$f":"AH50*'Product Info'!BI51","v":0},{"$f":"AH50*'Product Info'!BL51","v":0},{"$f":"AH50*'Product Info'!BO51","v":0},{"$f":"AH50*'Product Info'!BR51","v":0},{"$f":"AH50*'Product Info'!BU51","v":0},{"$f":"AH50*'Product Info'!BX51","v":0}]
[{"$f":"'Product Info'!A52","v":0},{"$f":"'Product Info'!B52","v":0},{"$f":"'Product Info'!C52","v":0},null,null,null,null,null,null,null,null,null,null,null,null,null,null,null,null,null,null,null,null,null,null,null,null,null,null,null,null,null,null,0,{"$f":"'Product Info'!F52*('Daily Info (November)'!AH51)","v":0},null,null,{"$f":"AH51*('Product Info'!H52)","v":0},{"$f":"AH51*('Product Info'!M52+'Product Info'!P52+'Product Info'!S52+'Product Info'!V52+'Product Info'!Y52+'Product Info'!AB52+'Product Info'!AE52+'Product Info'!AH52+'Product Info'!AK52+'Product Info'!AN52+'Product Info'!AQ52+'Product Info'!AT52+'Product Info'!AW52+'Product Info'!AZ52+'Product Info'!BC52+'Product Info'!BF52+'Product Info'!BI52+'Product Info'!BL52+'Product Info'!BO52+'Product Info'!BR52+'Product Info'!BU52+'Product Info'!BX52+'Product Info'!CA52+'Product Info'!CD52+'Product Info'!CG52+'Product Info'!CJ52+'Product Info'!CM52+'Product Info'!CP52+'Product Info'!CS52+'Product Info'!CV52+'Product Info'!CY52+'Product Info'!DB52+'Product Info'!DE52+'Product Info'!DH52+'Product Info'!DK52+'Product Info'!DN52+'Product Info'!DQ52+'Product Info'!DT52+'Product Info'!DW52+'Product Info'!DZ52+'Product Info'!EC52+'Product Info'!EF52+'Product Info'!EI52+'Product Info'!EL52+'Product Info'!EO52+'Product Info'!ER52+'Product Info'!EU52+'Product Info'!EX52+'Product Info'!FA52+'Product Info'!FD52)","v":0},{"$f":"AH51*('Product Info'!M52)","v":0},{"$f":"AH51*'Product Info'!P52","v":0},{"$f":"AH51*'Product Info'!S52","v":0},{"$f":"AH51*'Product Info'!V52","v":0},{"$f":"AH51*'Product Info'!Y52","v":0},{"$f":"AH51*'Product Info'!AB52","v":0},{"$f":"AH51*'Product Info'!AE52","v":0},{"$f":"AH51*'Product Info'!AH52","v":0},{"$f":"AH51*'Product Info'!AK52","v":0},{"$f":"AH51*'Product Info'!AN52","v":0},{"$f":"AH51*'Product Info'!AQ52","v":0},{"$f":"AH51*'Product Info'!AT52","v":0},{"$f":"AH51*'Product Info'!AW52","v":0},{"$f":"AH51*'Product Info'!AZ52","v":0},{"$f":"AH51*'Product Info'!BC52","v":0},{"$f":"AH51*'Product Info'!BF52","v":0},{"$f":"AH51*'Product Info'!BI52","v":0},{"$f":"AH51*'Product Info'!BL52","v":0},{"$f":"AH51*'Product Info'!BO52","v":0},{"$f":"AH51*'Product Info'!BR52","v":0},{"$f":"AH51*'Product Info'!BU52","v":0},{"$f":"AH51*'Product Info'!BX52","v":0}]
[{"$f":"'Product Info'!A53","v":0},{"$f":"'Product Info'!B53","v":0},{"$f":"'Product Info'!C53","v":0},null,null,null,null,null,null,null,null,null,null,null,null,null,null,null,null,null,null,null,null,null,null,null,null,null,null,null,null,null,null,0,{"$f":"'Product Info'!F53*('Daily Info (November)'!AH52)","v":0},null,null,{"$f":"AH52*('Product Info'!H53)","v":0},{"$f":"AH52*('Product Info'!M53+'Product Info'!P53+'Product Info'!S53+'Product Info'!V53+'Product Info'!Y53+'Product Info'!AB53+'Product Info'!AE53+'Product Info'!AH53+'Product Info'!AK53+'Product Info'!AN53+'Product Info'!AQ53+'Product Info'!AT53+'Product Info'!AW53+'Product Info'!AZ53+'Product Info'!BC53+'Product Info'!BF53+'Product Info'!BI53+'Product Info'!BL53+'Product Info'!BO53+'Product Info'!BR53+'Product Info'!BU53+'Product Info'!BX53+'Product Info'!CA53+'Product Info'!CD53+'Product Info'!CG53+'Product Info'!CJ53+'Product Info'!CM53+'Product Info'!CP53+'Product Info'!CS53+'Product Info'!CV53+'Product Info'!CY53+'Product Info'!DB53+'Product Info'!DE53+'Product Info'!DH53+'Product Info'!DK53+'Product Info'!DN53+'Product Info'!DQ53+'Product Info'!DT53+'Product Info'!DW53+'Product Info'!DZ53+'Product Info'!EC53+'Product Info'!EF53+'Product Info'!EI53+'Product Info'!EL53+'Product Info'!EO53+'Product Info'!ER53+'Product Info'!EU53+'Product Info'!EX53+'Product Info'!FA53+'Product Info'!FD53)","v":0},{"$f":"AH52*('Product Info'!M53)","v":0},{"$f":"AH52*'Product Info'!P53","v":0},{"$f":"AH52*'Product Info'!S53","v":0},{"$f":"AH52*'Product Info'!V53","v":0},{"$f":"AH52*'Product Info'!Y53","v":0},{"$f":"AH52*'Product Info'!AB53","v":0},{"$f":"AH52*'Product Info'!AE53","v":0},{"$f":"AH52*'Product Info'!AH53","v":0},{"$f":"AH52*'Product Info'!AK53","v":0},{"$f":"AH52*'Product Info'!AN53","v":0},{"$f":"AH52*'Product Info'!AQ53","v":0},{"$f":"AH52*'Product Info'!AT53","v":0},{"$f":"AH52*'Product Info'!AW53","v":0},{"$f":"AH52*'Product Info'!AZ53","v":0},{"$f":"AH52*'Product Info'!BC53","v":0},{"$f":"AH52*'Product Info'!BF53","v":0},{"$f":"AH52*'Product Info'!BI53","v":0},{"$f":"AH52*'Product Info'!BL53","v":0},{"$f":"AH52*'Product Info'!BO53","v":0},{"$f":"AH52*'Product Info'!BR53","v":0},{"$f":"AH52*'Product Info'!BU53","v":0},{"$f":"AH52*'Product Info'!BX53","v":0}]
[{"$f":"'Product Info'!A54","v":0},{"$f":"'Product Info'!B54","v":0},{"$f":"'Product Info'!C54","v":0},null,null,null,null,null,null,null,null,null,null,null,null,null,null,null,null,null,null,null,null,null,null,null,null,null,null,null,null,null,null,0,{"$f":"'Product Info'!F54*('Daily Info (November)'!AH53)","v":0},null,null,{"$f":"AH53*('Product Info'!H54)","v":0},{"$f":"AH53*('Product Info'!M54+'Product Info'!P54+'Product Info'!S54+'Product Info'!V54+'Product Info'!Y54+'Product Info'!AB54+'Product Info'!AE54+'Product Info'!AH54+'Product Info'!AK54+'Product Info'!AN54+'Product Info'!AQ54+'Product Info'!AT54+'Product Info'!AW54+'Product Info'!AZ54+'Product Info'!BC54+'Product Info'!BF54+'Product Info'!BI54+'Product Info'!BL54+'Product Info'!BO54+'Product Info'!BR54+'Product Info'!BU54+'Product Info'!BX54+'Product Info'!CA54+'Product Info'!CD54+'Product Info'!CG54+'Product Info'!CJ54+'Product Info'!CM54+'Product Info'!CP54+'Product Info'!CS54+'Product Info'!CV54+'Product Info'!CY54+'Product Info'!DB54+'Product Info'!DE54+'Product Info'!DH54+'Product Info'!DK54+'Product Info'!DN54+'Product Info'!DQ54+'Product Info'!DT54+'Product Info'!DW54+'Product Info'!DZ54+'Product Info'!EC54+'Product Info'!EF54+'Product Info'!EI54+'Product Info'!EL54+'Product Info'!EO54+'Product Info'!ER54+'Product Info'!EU54+'Product Info'!EX54+'Product Info'!FA54+'Product Info'!FD54)","v":0},{"$f":"AH53*('Product Info'!M54)","v":0},{"$f":"AH53*'Product Info'!P54","v":0},{"$f":"AH53*'Product Info'!S54","v":0},{"$f":"AH53*'Product Info'!V54","v":0},{"$f":"AH53*'Product Info'!Y54","v":0},{"$f":"AH53*'Product Info'!AB54","v":0},{"$f":"AH53*'Product Info'!AE54","v":0},{"$f":"AH53*'Product Info'!AH54","v":0},{"$f":"AH53*'Product Info'!AK54","v":0},{"$f":"AH53*'Product Info'!AN54","v":0},{"$f":"AH53*'Product Info'!AQ54","v":0},{"$f":"AH53*'Product Info'!AT54","v":0},{"$f":"AH53*'Product Info'!AW54","v":0},{"$f":"AH53*'Product Info'!AZ54","v":0},{"$f":"AH53*'Product Info'!BC54","v":0},{"$f":"AH53*'Product Info'!BF54","v":0},{"$f":"AH53*'Product Info'!BI54","v":0},{"$f":"AH53*'Product Info'!BL54","v":0},{"$f":"AH53*'Product Info'!BO54","v":0},{"$f":"AH53*'Product Info'!BR54","v":0},{"$f":"AH53*'Product Info'!BU54","v":0},{"$f":"AH53*'Product Info'!BX54","v":0}]
[{"$f":"'Product Info'!A55","v":0},{"$f":"'Product Info'!B55","v":0},{"$f":"'Product Info'!C55","v":0},null,null,null,null,null,null,null,null,null,null,null,null,null,null,null,null,null,null,null,null,null,null,null,null,null,null,null,null,null,null,0,{"$f":"'Product Info'!F55*('Daily Info (November)'!AH54)","v":0},null,null,{"$f":"AH54*('Product Info'!H55)","v":0},{"$f":"AH54*('Product Info'!M55+'Product Info'!P55+'Product Info'!S55+'Product Info'!V55+'Product Info'!Y55+'Product Info'!AB55+'Product Info'!AE55+'Product Info'!AH55+'Product Info'!AK55+'Product Info'!AN55+'Product Info'!AQ55+'Product Info'!AT55+'Product Info'!AW55+'Product Info'!AZ55+'Product Info'!BC55+'Product Info'!BF55+'Product Info'!BI55+'Product Info'!BL55+'Product Info'!BO55+'Product Info'!BR55+'Product Info'!BU55+'Product Info'!BX55+'Product Info'!CA55+'Product Info'!CD55+'Product Info'!CG55+'Product Info'!CJ55+'Product Info'!CM55+'Product Info'!CP55+'Product Info'!CS55+'Product Info'!CV55+'Product Info'!CY55+'Product Info'!DB55+'Product Info'!DE55+'Product Info'!DH55+'Product Info'!DK55+'Product Info'!DN55+'Product Info'!DQ55+'Product Info'!DT55+'Product Info'!DW55+'Product Info'!DZ55+'Product Info'!EC55+'Product Info'!EF55+'Product Info'!EI55+'Product Info'!EL55+'Product Info'!EO55+'Product Info'!ER55+'Product Info'!EU55+'Product Info'!EX55+'Product Info'!FA55+'Product Info'!FD55)","v":0},{"$f":"AH54*('Product Info'!M55)","v":0},{"$f":"AH54*'Product Info'!P55","v":0},{"$f":"AH54*'Product Info'!S55","v":0},{"$f":"AH54*'Product Info'!V55","v":0},{"$f":"AH54*'Product Info'!Y55","v":0},{"$f":"AH54*'Product Info'!AB55","v":0},{"$f":"AH54*'Product Info'!AE55","v":0},{"$f":"AH54*'Product Info'!AH55","v":0},{"$f":"AH54*'Product Info'!AK55","v":0},{"$f":"AH54*'Product Info'!AN55","v":0},{"$f":"AH54*'Product Info'!AQ55","v":0},{"$f":"AH54*'Product Info'!AT55","v":0},{"$f":"AH54*'Product Info'!AW55","v":0},{"$f":"AH54*'Product Info'!AZ55","v":0},{"$f":"AH54*'Product Info'!BC55","v":0},{"$f":"AH54*'Product Info'!BF55","v":0},{"$f":"AH54*'Product Info'!BI55","v":0},{"$f":"AH54*'Product Info'!BL55","v":0},{"$f":"AH54*'Product Info'!BO55","v":0},{"$f":"AH54*'Product Info'!BR55","v":0},{"$f":"AH54*'Product Info'!BU55","v":0},{"$f":"AH54*'Product Info'!BX55","v":0}]
[{"$f":"'Product Info'!A56","v":0},{"$f":"'Product Info'!B56","v":0},{"$f":"'Product Info'!C56","v":0},null,null,null,null,null,null,null,null,null,null,null,null,null,null,null,null,null,null,null,null,null,null,null,null,null,null,null,null,null,null,0,{"$f":"'Product Info'!F56*('Daily Info (November)'!AH55)","v":0},null,null,{"$f":"AH55*('Product Info'!H56)","v":0},{"$f":"AH55*('Product Info'!M56+'Product Info'!P56+'Product Info'!S56+'Product Info'!V56+'Product Info'!Y56+'Product Info'!AB56+'Product Info'!AE56+'Product Info'!AH56+'Product Info'!AK56+'Product Info'!AN56+'Product Info'!AQ56+'Product Info'!AT56+'Product Info'!AW56+'Product Info'!AZ56+'Product Info'!BC56+'Product Info'!BF56+'Product Info'!BI56+'Product Info'!BL56+'Product Info'!BO56+'Product Info'!BR56+'Product Info'!BU56+'Product Info'!BX56+'Product Info'!CA56+'Product Info'!CD56+'Product Info'!CG56+'Product Info'!CJ56+'Product Info'!CM56+'Product Info'!CP56+'Product Info'!CS56+'Product Info'!CV56+'Product Info'!CY56+'Product Info'!DB56+'Product Info'!DE56+'Product Info'!DH56+'Product Info'!DK56+'Product Info'!DN56+'Product Info'!DQ56+'Product Info'!DT56+'Product Info'!DW56+'Product Info'!DZ56+'Product Info'!EC56+'Product Info'!EF56+'Product Info'!EI56+'Product Info'!EL56+'Product Info'!EO56+'Product Info'!ER56+'Product Info'!EU56+'Product Info'!EX56+'Product Info'!FA56+'Product Info'!FD56)","v":0},{"$f":"AH55*('Product Info'!M56)","v":0},{"$f":"AH55*'Product Info'!P56","v":0},{"$f":"AH55*'Product Info'!S56","v":0},{"$f":"AH55*'Product Info'!V56","v":0},{"$f":"AH55*'Product Info'!Y56","v":0},{"$f":"AH55*'Product Info'!AB56","v":0},{"$f":"AH55*'Product Info'!AE56","v":0},{"$f":"AH55*'Product Info'!AH56","v":0},{"$f":"AH55*'Product Info'!AK56","v":0},{"$f":"AH55*'Product Info'!AN56","v":0},{"$f":"AH55*'Product Info'!AQ56","v":0},{"$f":"AH55*'Product Info'!AT56","v":0},{"$f":"AH55*'Product Info'!AW56","v":0},{"$f":"AH55*'Product Info'!AZ56","v":0},{"$f":"AH55*'Product Info'!BC56","v":0},{"$f":"AH55*'Product Info'!BF56","v":0},{"$f":"AH55*'Product Info'!BI56","v":0},{"$f":"AH55*'Product Info'!BL56","v":0},{"$f":"AH55*'Product Info'!BO56","v":0},{"$f":"AH55*'Product Info'!BR56","v":0},{"$f":"AH55*'Product Info'!BU56","v":0},{"$f":"AH55*'Product Info'!BX56","v":0}]
[{"$f":"'Product Info'!A57","v":0},{"$f":"'Product Info'!B57","v":0},{"$f":"'Product Info'!C57","v":0},null,null,null,null,null,null,null,null,null,null,null,null,null,null,null,null,null,null,null,null,null,null,null,null,null,null,null,null,null,null,0,{"$f":"'Product Info'!F57*('Daily Info (November)'!AH56)","v":0},null,null,{"$f":"AH56*('Product Info'!H57)","v":0},{"$f":"AH56*('Product Info'!M57+'Product Info'!P57+'Product Info'!S57+'Product Info'!V57+'Product Info'!Y57+'Product Info'!AB57+'Product Info'!AE57+'Product Info'!AH57+'Product Info'!AK57+'Product Info'!AN57+'Product Info'!AQ57+'Product Info'!AT57+'Product Info'!AW57+'Product Info'!AZ57+'Product Info'!BC57+'Product Info'!BF57+'Product Info'!BI57+'Product Info'!BL57+'Product Info'!BO57+'Product Info'!BR57+'Product Info'!BU57+'Product Info'!BX57+'Product Info'!CA57+'Product Info'!CD57+'Product Info'!CG57+'Product Info'!CJ57+'Product Info'!CM57+'Product Info'!CP57+'Product Info'!CS57+'Product Info'!CV57+'Product Info'!CY57+'Product Info'!DB57+'Product Info'!DE57+'Product Info'!DH57+'Product Info'!DK57+'Product Info'!DN57+'Product Info'!DQ57+'Product Info'!DT57+'Product Info'!DW57+'Product Info'!DZ57+'Product Info'!EC57+'Product Info'!EF57+'Product Info'!EI57+'Product Info'!EL57+'Product Info'!EO57+'Product Info'!ER57+'Product Info'!EU57+'Product Info'!EX57+'Product Info'!FA57+'Product Info'!FD57)","v":0},{"$f":"AH56*('Product Info'!M57)","v":0},{"$f":"AH56*'Product Info'!P57","v":0},{"$f":"AH56*'Product Info'!S57","v":0},{"$f":"AH56*'Product Info'!V57","v":0},{"$f":"AH56*'Product Info'!Y57","v":0},{"$f":"AH56*'Product Info'!AB57","v":0},{"$f":"AH56*'Product Info'!AE57","v":0},{"$f":"AH56*'Product Info'!AH57","v":0},{"$f":"AH56*'Product Info'!AK57","v":0},{"$f":"AH56*'Product Info'!AN57","v":0},{"$f":"AH56*'Product Info'!AQ57","v":0},{"$f":"AH56*'Product Info'!AT57","v":0},{"$f":"AH56*'Product Info'!AW57","v":0},{"$f":"AH56*'Product Info'!AZ57","v":0},{"$f":"AH56*'Product Info'!BC57","v":0},{"$f":"AH56*'Product Info'!BF57","v":0},{"$f":"AH56*'Product Info'!BI57","v":0},{"$f":"AH56*'Product Info'!BL57","v":0},{"$f":"AH56*'Product Info'!BO57","v":0},{"$f":"AH56*'Product Info'!BR57","v":0},{"$f":"AH56*'Product Info'!BU57","v":0},{"$f":"AH56*'Product Info'!BX57","v":0}]
[{"$f":"'Product Info'!A58","v":0},{"$f":"'Product Info'!B58","v":0},{"$f":"'Product Info'!C58","v":0},null,null,null,null,null,null,null,null,null,null,null,null,null,null,null,null,null,null,null,null,null,null,null,null,null,null,null,null,null,null,0,{"$f":"'Product Info'!F58*('Daily Info (November)'!AH57)","v":0},null,null,{"$f":"AH57*('Product Info'!H58)","v":0},{"$f":"AH57*('Product Info'!M58+'Product Info'!P58+'Product Info'!S58+'Product Info'!V58+'Product Info'!Y58+'Product Info'!AB58+'Product Info'!AE58+'Product Info'!AH58+'Product Info'!AK58+'Product Info'!AN58+'Product Info'!AQ58+'Product Info'!AT58+'Product Info'!AW58+'Product Info'!AZ58+'Product Info'!BC58+'Product Info'!BF58+'Product Info'!BI58+'Product Info'!BL58+'Product Info'!BO58+'Product Info'!BR58+'Product Info'!BU58+'Product Info'!BX58+'Product Info'!CA58+'Product Info'!CD58+'Product Info'!CG58+'Product Info'!CJ58+'Product Info'!CM58+'Product Info'!CP58+'Product Info'!CS58+'Product Info'!CV58+'Product Info'!CY58+'Product Info'!DB58+'Product Info'!DE58+'Product Info'!DH58+'Product Info'!DK58+'Product Info'!DN58+'Product Info'!DQ58+'Product Info'!DT58+'Product Info'!DW58+'Product Info'!DZ58+'Product Info'!EC58+'Product Info'!EF58+'Product Info'!EI58+'Product Info'!EL58+'Product Info'!EO58+'Product Info'!ER58+'Product Info'!EU58+'Product Info'!EX58+'Product Info'!FA58+'Product Info'!FD58)","v":0},{"$f":"AH57*('Product Info'!M58)","v":0},{"$f":"AH57*'Product Info'!P58","v":0},{"$f":"AH57*'Product Info'!S58","v":0},{"$f":"AH57*'Product Info'!V58","v":0},{"$f":"AH57*'Product Info'!Y58","v":0},{"$f":"AH57*'Product Info'!AB58","v":0},{"$f":"AH57*'Product Info'!AE58","v":0},{"$f":"AH57*'Product Info'!AH58","v":0},{"$f":"AH57*'Product Info'!AK58","v":0},{"$f":"AH57*'Product Info'!AN58","v":0},{"$f":"AH57*'Product Info'!AQ58","v":0},{"$f":"AH57*'Product Info'!AT58","v":0},{"$f":"AH57*'Product Info'!AW58","v":0},{"$f":"AH57*'Product Info'!AZ58","v":0},{"$f":"AH57*'Product Info'!BC58","v":0},{"$f":"AH57*'Product Info'!BF58","v":0},{"$f":"AH57*'Product Info'!BI58","v":0},{"$f":"AH57*'Product Info'!BL58","v":0},{"$f":"AH57*'Product Info'!BO58","v":0},{"$f":"AH57*'Product Info'!BR58","v":0},{"$f":"AH57*'Product Info'!BU58","v":0},{"$f":"AH57*'Product Info'!BX58","v":0}]
[{"$f":"'Product Info'!A59","v":0},{"$f":"'Product Info'!B59","v":0},{"$f":"'Product Info'!C59","v":0},null,null,null,null,null,null,null,null,null,null,null,null,null,null,null,null,null,null,null,null,null,null,null,null,null,null,null,null,null,null,0,{"$f":"'Product Info'!F59*('Daily Info (November)'!AH58)","v":0},null,null,{"$f":"AH58*('Product Info'!H59)","v":0},{"$f":"AH58*('Product Info'!M59+'Product Info'!P59+'Product Info'!S59+'Product Info'!V59+'Product Info'!Y59+'Product Info'!AB59+'Product Info'!AE59+'Product Info'!AH59+'Product Info'!AK59+'Product Info'!AN59+'Product Info'!AQ59+'Product Info'!AT59+'Product Info'!AW59+'Product Info'!AZ59+'Product Info'!BC59+'Product Info'!BF59+'Product Info'!BI59+'Product Info'!BL59+'Product Info'!BO59+'Product Info'!BR59+'Product Info'!BU59+'Product Info'!BX59+'Product Info'!CA59+'Product Info'!CD59+'Product Info'!CG59+'Product Info'!CJ59+'Product Info'!CM59+'Product Info'!CP59+'Product Info'!CS59+'Product Info'!CV59+'Product Info'!CY59+'Product Info'!DB59+'Product Info'!DE59+'Product Info'!DH59+'Product Info'!DK59+'Product Info'!DN59+'Product Info'!DQ59+'Product Info'!DT59+'Product Info'!DW59+'Product Info'!DZ59+'Product Info'!EC59+'Product Info'!EF59+'Product Info'!EI59+'Product Info'!EL59+'Product Info'!EO59+'Product Info'!ER59+'Product Info'!EU59+'Product Info'!EX59+'Product Info'!FA59+'Product Info'!FD59)","v":0},{"$f":"AH58*('Product Info'!M59)","v":0},{"$f":"AH58*'Product Info'!P59","v":0},{"$f":"AH58*'Product Info'!S59","v":0},{"$f":"AH58*'Product Info'!V59","v":0},{"$f":"AH58*'Product Info'!Y59","v":0},{"$f":"AH58*'Product Info'!AB59","v":0},{"$f":"AH58*'Product Info'!AE59","v":0},{"$f":"AH58*'Product Info'!AH59","v":0},{"$f":"AH58*'Product Info'!AK59","v":0},{"$f":"AH58*'Product Info'!AN59","v":0},{"$f":"AH58*'Product Info'!AQ59","v":0},{"$f":"AH58*'Product Info'!AT59","v":0},{"$f":"AH58*'Product Info'!AW59","v":0},{"$f":"AH58*'Product Info'!AZ59","v":0},{"$f":"AH58*'Product Info'!BC59","v":0},{"$f":"AH58*'Product Info'!BF59","v":0},{"$f":"AH58*'Product Info'!BI59","v":0},{"$f":"AH58*'Product Info'!BL59","v":0},{"$f":"AH58*'Product Info'!BO59","v":0},{"$f":"AH58*'Product Info'!BR59","v":0},{"$f":"AH58*'Product Info'!BU59","v":0},{"$f":"AH58*'Product Info'!BX59","v":0}]
[{"$f":"'Product Info'!A60","v":0},{"$f":"'Product Info'!B60","v":0},{"$f":"'Product Info'!C60","v":0},null,null,null,null,null,null,null,null,null,null,null,null,null,null,null,null,null,null,null,null,null,null,null,null,null,null,null,null,null,null,0,{"$f":"'Product Info'!F60*('Daily Info (November)'!AH59)","v":0},null,null,{"$f":"AH59*('Product Info'!H60)","v":0},{"$f":"AH59*('Product Info'!M60+'Product Info'!P60+'Product Info'!S60+'Product Info'!V60+'Product Info'!Y60+'Product Info'!AB60+'Product Info'!AE60+'Product Info'!AH60+'Product Info'!AK60+'Product Info'!AN60+'Product Info'!AQ60+'Product Info'!AT60+'Product Info'!AW60+'Product Info'!AZ60+'Product Info'!BC60+'Product Info'!BF60+'Product Info'!BI60+'Product Info'!BL60+'Product Info'!BO60+'Product Info'!BR60+'Product Info'!BU60+'Product Info'!BX60+'Product Info'!CA60+'Product Info'!CD60+'Product Info'!CG60+'Product Info'!CJ60+'Product Info'!CM60+'Product Info'!CP60+'Product Info'!CS60+'Product Info'!CV60+'Product Info'!CY60+'Product Info'!DB60+'Product Info'!DE60+'Product Info'!DH60+'Product Info'!DK60+'Product Info'!DN60+'Product Info'!DQ60+'Product Info'!DT60+'Product Info'!DW60+'Product Info'!DZ60+'Product Info'!EC60+'Product Info'!EF60+'Product Info'!EI60+'Product Info'!EL60+'Product Info'!EO60+'Product Info'!ER60+'Product Info'!EU60+'Product Info'!EX60+'Product Info'!FA60+'Product Info'!FD60)","v":0},{"$f":"AH59*('Product Info'!M60)","v":0},{"$f":"AH59*'Product Info'!P60","v":0},{"$f":"AH59*'Product Info'!S60","v":0},{"$f":"AH59*'Product Info'!V60","v":0},{"$f":"AH59*'Product Info'!Y60","v":0},{"$f":"AH59*'Product Info'!AB60","v":0},{"$f":"AH59*'Product Info'!AE60","v":0},{"$f":"AH59*'Product Info'!AH60","v":0},{"$f":"AH59*'Product Info'!AK60","v":0},{"$f":"AH59*'Product Info'!AN60","v":0},{"$f":"AH59*'Product Info'!AQ60","v":0},{"$f":"AH59*'Product Info'!AT60","v":0},{"$f":"AH59*'Product Info'!AW60","v":0},{"$f":"AH59*'Product Info'!AZ60","v":0},{"$f":"AH59*'Product Info'!BC60","v":0},{"$f":"AH59*'Product Info'!BF60","v":0},{"$f":"AH59*'Product Info'!BI60","v":0},{"$f":"AH59*'Product Info'!BL60","v":0},{"$f":"AH59*'Product Info'!BO60","v":0},{"$f":"AH59*'Product Info'!BR60","v":0},{"$f":"AH59*'Product Info'!BU60","v":0},{"$f":"AH59*'Product Info'!BX60","v":0}]
[{"$f":"'Product Info'!A61","v":0},{"$f":"'Product Info'!B61","v":0},{"$f":"'Product Info'!C61","v":0},null,null,null,null,null,null,null,null,null,null,null,null,null,null,null,null,null,null,null,null,null,null,null,null,null,null,null,null,null,null,0,{"$f":"'Product Info'!F61*('Daily Info (November)'!AH60)","v":0},null,null,{"$f":"AH60*('Product Info'!H61)","v":0},{"$f":"AH60*('Product Info'!M61+'Product Info'!P61+'Product Info'!S61+'Product Info'!V61+'Product Info'!Y61+'Product Info'!AB61+'Product Info'!AE61+'Product Info'!AH61+'Product Info'!AK61+'Product Info'!AN61+'Product Info'!AQ61+'Product Info'!AT61+'Product Info'!AW61+'Product Info'!AZ61+'Product Info'!BC61+'Product Info'!BF61+'Product Info'!BI61+'Product Info'!BL61+'Product Info'!BO61+'Product Info'!BR61+'Product Info'!BU61+'Product Info'!BX61+'Product Info'!CA61+'Product Info'!CD61+'Product Info'!CG61+'Product Info'!CJ61+'Product Info'!CM61+'Product Info'!CP61+'Product Info'!CS61+'Product Info'!CV61+'Product Info'!CY61+'Product Info'!DB61+'Product Info'!DE61+'Product Info'!DH61+'Product Info'!DK61+'Product Info'!DN61+'Product Info'!DQ61+'Product Info'!DT61+'Product Info'!DW61+'Product Info'!DZ61+'Product Info'!EC61+'Product Info'!EF61+'Product Info'!EI61+'Product Info'!EL61+'Product Info'!EO61+'Product Info'!ER61+'Product Info'!EU61+'Product Info'!EX61+'Product Info'!FA61+'Product Info'!FD61)","v":0},{"$f":"AH60*('Product Info'!M61)","v":0},{"$f":"AH60*'Product Info'!P61","v":0},{"$f":"AH60*'Product Info'!S61","v":0},{"$f":"AH60*'Product Info'!V61","v":0},{"$f":"AH60*'Product Info'!Y61","v":0},{"$f":"AH60*'Product Info'!AB61","v":0},{"$f":"AH60*'Product Info'!AE61","v":0},{"$f":"AH60*'Product Info'!AH61","v":0},{"$f":"AH60*'Product Info'!AK61","v":0},{"$f":"AH60*'Product Info'!AN61","v":0},{"$f":"AH60*'Product Info'!AQ61","v":0},{"$f":"AH60*'Product Info'!AT61","v":0},{"$f":"AH60*'Product Info'!AW61","v":0},{"$f":"AH60*'Product Info'!AZ61","v":0},{"$f":"AH60*'Product Info'!BC61","v":0},{"$f":"AH60*'Product Info'!BF61","v":0},{"$f":"AH60*'Product Info'!BI61","v":0},{"$f":"AH60*'Product Info'!BL61","v":0},{"$f":"AH60*'Product Info'!BO61","v":0},{"$f":"AH60*'Product Info'!BR61","v":0},{"$f":"AH60*'Product Info'!BU61","v":0},{"$f":"AH60*'Product Info'!BX61","v":0}]
[{"$f":"'Product Info'!A62","v":0},{"$f":"'Product Info'!B62","v":0},{"$f":"'Product Info'!C62","v":0},null,null,null,null,null,null,null,null,null,null,null,null,null,null,null,null,null,null,null,null,null,null,null,null,null,null,null,null,null,null,0,{"$f":"'Product Info'!F62*('Daily Info (November)'!AH61)","v":0},null,null,{"$f":"AH61*('Product Info'!H62)","v":0},{"$f":"AH61*('Product Info'!M62+'Product Info'!P62+'Product Info'!S62+'Product Info'!V62+'Product Info'!Y62+'Product Info'!AB62+'Product Info'!AE62+'Product Info'!AH62+'Product Info'!AK62+'Product Info'!AN62+'Product Info'!AQ62+'Product Info'!AT62+'Product Info'!AW62+'Product Info'!AZ62+'Product Info'!BC62+'Product Info'!BF62+'Product Info'!BI62+'Product Info'!BL62+'Product Info'!BO62+'Product Info'!BR62+'Product Info'!BU62+'Product Info'!BX62+'Product Info'!CA62+'Product Info'!CD62+'Product Info'!CG62+'Product Info'!CJ62+'Product Info'!CM62+'Product Info'!CP62+'Product Info'!CS62+'Product Info'!CV62+'Product Info'!CY62+'Product Info'!DB62+'Product Info'!DE62+'Product Info'!DH62+'Product Info'!DK62+'Product Info'!DN62+'Product Info'!DQ62+'Product Info'!DT62+'Product Info'!DW62+'Product Info'!DZ62+'Product Info'!EC62+'Product Info'!EF62+'Product Info'!EI62+'Product Info'!EL62+'Product Info'!EO62+'Product Info'!ER62+'Product Info'!EU62+'Product Info'!EX62+'Product Info'!FA62+'Product Info'!FD62)","v":0},{"$f":"AH61*('Product Info'!M62)","v":0},{"$f":"AH61*'Product Info'!P62","v":0},{"$f":"AH61*'Product Info'!S62","v":0},{"$f":"AH61*'Product Info'!V62","v":0},{"$f":"AH61*'Product Info'!Y62","v":0},{"$f":"AH61*'Product Info'!AB62","v":0},{"$f":"AH61*'Product Info'!AE62","v":0},{"$f":"AH61*'Product Info'!AH62","v":0},{"$f":"AH61*'Product Info'!AK62","v":0},{"$f":"AH61*'Product Info'!AN62","v":0},{"$f":"AH61*'Product Info'!AQ62","v":0},{"$f":"AH61*'Product Info'!AT62","v":0},{"$f":"AH61*'Product Info'!AW62","v":0},{"$f":"AH61*'Product Info'!AZ62","v":0},{"$f":"AH61*'Product Info'!BC62","v":0},{"$f":"AH61*'Product Info'!BF62","v":0},{"$f":"AH61*'Product Info'!BI62","v":0},{"$f":"AH61*'Product Info'!BL62","v":0},{"$f":"AH61*'Product Info'!BO62","v":0},{"$f":"AH61*'Product Info'!BR62","v":0},{"$f":"AH61*'Product Info'!BU62","v":0},{"$f":"AH61*'Product Info'!BX62","v":0}]
["TOTALS for November",null,null,null,null,null,null,null,null,null,null,null,null,null,null,null,null,null,null,null,null,null,null,null,null,null,null,null,null,null,null,null,null,{"$f":"SUM(AH4:AH18)","v":0},{"$f":"SUM(AI4:AI18)","v":0},null,null,{"$f":"SUM(AL4:AL18)","v":0},{"$f":"SUM(AM4:AM18)","v":0},0,0,0,0,0,0,0,0,0,0,0,0,0,0,0,0,0,0,0,0,0,0]

{"sheet":"Daily Info (December)","index":13,"n_rows":62,"n_cols":62,"rows_kept":62,"cut":false,"hidden":false,"merged":[[0,3,0,12],[0,38,0,39],[61,0,61,1],[61,3,61,33],[1,35,1,36],[3,35,3,36],[4,35,4,36],[5,35,5,36],[6,35,6,36],[7,35,7,36],[19,35,19,36],[8,35,8,36],[9,35,9,36],[10,35,10,36],[11,35,11,36],[12,35,12,36],[13,35,13,36],[14,35,14,36],[15,35,15,36],[16,35,16,36],[17,35,17,36],[18,35,18,36],[31,35,31,36],[20,35,20,36],[21,35,21,36],[22,35,22,36],[23,35,23,36],[24,35,24,36],[25,35,25,36],[26,35,26,36],[27,35,27,36],[28,35,28,36],[29,35,29,36],[30,35,30,36],[43,35,43,36],[32,35,32,36],[33,35,33,36],[34,35,34,36],[35,35,35,36],[36,35,36,36],[37,35,37,36],[38,35,38,36],[39,35,39,36],[40,35,40,36],[41,35,41,36],[42,35,42,36],[55,35,55,36],[44,35,44,36],[45,35,45,36],[46,35,46,36],[47,35,47,36],[48,35,48,36],[49,35,49,36],[50,35,50,36],[51,35,51,36],[52,35,52,36],[53,35,53,36],[54,35,54,36],[60,35,60,36],[61,35,61,36],[56,35,56,36],[57,35,57,36],[58,35,58,36],[59,35,59,36]]}
["Main Menu","VOC Product Information",null,"Daily Usage (gal)",null,null,null,null,null,null,null,null,null,null,null,null,null,null,null,null,null,null,null,null,null,"Daily Usage (gal)",null,null,null,null,null,null,null,null,null,null,null,null,"Emissions"]
["Product Number","Product Name","Product Type","2006-12-01","2006-12-02","2006-12-03","2006-12-04","2006-12-05","2006-12-06","2006-12-07","2006-12-08","2006-12-09","2006-12-10","2006-12-11","2006-12-12","2006-12-13","2006-12-14","2006-12-15","2006-12-16","2006-12-17","2006-12-18","2006-12-19","2006-12-20","2006-12-21","2006-12-22","2006-12-23","2006-12-24","2006-12-25","2006-12-26","2006-12-27","2006-12-28","2003-12-29","2006-12-30","2006-12-31","Total Usage (gal)","Total Usage (lbs)",null,null,"Pounds VOCs Emitted","Pounds Total HAPs Emitted",{"$f":"'Product Info'!K3","v":0},{"$f":"'Product Info'!N3","v":0},{"$f":"'Product Info'!Q3","v":0},{"$f":"'Product Info'!T3","v":0},{"$f":"'Product Info'!W3","v":0},{"$f":"'Product Info'!Z3","v":0},{"$f":"'Product Info'!AC3","v":0},{"$f":"'Product Info'!AF3","v":0},{"$f":"'Product Info'!AI3","v":0},{"$f":"'Product Info'!AL3","v":0},{"$f":"'Product Info'!AO3","v":0},{"$f":"'Product Info'!AR3","v":0},{"$f":"'Product Info'!AU3","v":0},{"$f":"'Product Info'!AX3","v":0},{"$f":"'Product Info'!BA3","v":0},{"$f":"'Product Info'!BD3","v":0},{"$f":"'Product Info'!BG3","v":0},{"$f":"'Product Info'!BJ3","v":0},{"$f":"'Product Info'!BM3","v":0},{"$f":"'Product Info'!BP3","v":0},{"$f":"'Product Info'!BS3","v":0},{"$f":"'Product Info'!BV3","v":0}]
[]
[{"$f":"'Product Info'!A5","v":0},{"$f":"'Product Info'!B5","v":0},{"$f":"'Product Info'!C5","v":0},null,null,null,null,null,null,null,null,null,null,null,null,null,null,null,null,null,null,null,null,null,null,null,null,null,null,null,null,null,null,null,{"$f":"SUM(D4:AH4)","v":0},{"$f":"'Product Info'!F5*('Daily Info (December)'!AI4)","v":0},null,null,{"$f":"AI4*('Product Info'!H5)","v":0},{"$f":"AI4*('Product Info'!M5+'Product Info'!P5+'Product Info'!S5+'Product Info'!V5+'Product Info'!Y5+'Product Info'!AB5+'Product Info'!AE5+'Product Info'!AH5+'Product Info'!AK5+'Product Info'!AN5+'Product Info'!AQ5+'Product Info'!AT5+'Product Info'!AW5+'Product Info'!AZ5+'Product Info'!BC5+'Product Info'!BF5+'Product Info'!BI5+'Product Info'!BL5+'Product Info'!BO5+'Product Info'!BR5+'Product Info'!BU5+'Product Info'!BX5+'Product Info'!CA5+'Product Info'!CD5+'Product Info'!CG5+'Product Info'!CJ5+'Product Info'!CM5+'Product Info'!CP5+'Product Info'!CS5+'Product Info'!CV5+'Product Info'!CY5+'Product Info'!DB5+'Product Info'!DE5+'Product Info'!DH5+'Product Info'!DK5+'Product Info'!DN5+'Product Info'!DQ5+'Product Info'!DT5+'Product Info'!DW5+'Product Info'!DZ5+'Product Info'!EC5+'Product Info'!EF5+'Product Info'!EI5+'Product Info'!EL5+'Product Info'!EO5+'Product Info'!ER5+'Product Info'!EU5+'Product Info'!EX5+'Product Info'!FA5+'Product Info'!FD5)","v":0},{"$f":"AI4*('Product Info'!M5)","v":0},{"$f":"AI4*'Product Info'!P5","v":0},{"$f":"AI4*'Product Info'!S5","v":0},{"$f":"AI4*'Product Info'!V5","v":0},{"$f":"AI4*'Product Info'!Y5","v":0},{"$f":"AI4*'Product Info'!AB5","v":0},{"$f":"AI4*'Product Info'!AE5","v":0},{"$f":"AI4*'Product Info'!AH5","v":0},{"$f":"AI4*'Product Info'!AK5","v":0},{"$f":"AI4*'Product Info'!AN5","v":0},{"$f":"AI4*'Product Info'!AQ5","v":0},{"$f":"AI4*'Product Info'!AT5","v":0},{"$f":"AI4*'Product Info'!AW5","v":0},{"$f":"AI4*'Product Info'!AZ5","v":0},{"$f":"AI4*'Product Info'!BC5","v":0},{"$f":"AI4*'Product Info'!BF5","v":0},{"$f":"AI4*'Product Info'!BI5","v":0},{"$f":"AI4*'Product Info'!BL5","v":0},{"$f":"AI4*'Product Info'!BO5","v":0},{"$f":"AI4*'Product Info'!BR5","v":0},{"$f":"AI4*'Product Info'!BU5","v":0},{"$f":"AI4*'Product Info'!BX5","v":0}]
[{"$f":"'Product Info'!A6","v":0},{"$f":"'Product Info'!B6","v":0},{"$f":"'Product Info'!C6","v":0},null,null,null,null,null,null,null,null,null,null,null,null,null,null,null,null,null,null,null,null,null,null,null,null,null,null,null,null,null,null,null,0,{"$f":"'Product Info'!F6*('Daily Info (December)'!AI5)","v":0},null,null,{"$f":"AI5*('Product Info'!H6)","v":0},{"$f":"AI5*('Product Info'!M6+'Product Info'!P6+'Product Info'!S6+'Product Info'!V6+'Product Info'!Y6+'Product Info'!AB6+'Product Info'!AE6+'Product Info'!AH6+'Product Info'!AK6+'Product Info'!AN6+'Product Info'!AQ6+'Product Info'!AT6+'Product Info'!AW6+'Product Info'!AZ6+'Product Info'!BC6+'Product Info'!BF6+'Product Info'!BI6+'Product Info'!BL6+'Product Info'!BO6+'Product Info'!BR6+'Product Info'!BU6+'Product Info'!BX6+'Product Info'!CA6+'Product Info'!CD6+'Product Info'!CG6+'Product Info'!CJ6+'Product Info'!CM6+'Product Info'!CP6+'Product Info'!CS6+'Product Info'!CV6+'Product Info'!CY6+'Product Info'!DB6+'Product Info'!DE6+'Product Info'!DH6+'Product Info'!DK6+'Product Info'!DN6+'Product Info'!DQ6+'Product Info'!DT6+'Product Info'!DW6+'Product Info'!DZ6+'Product Info'!EC6+'Product Info'!EF6+'Product Info'!EI6+'Product Info'!EL6+'Product Info'!EO6+'Product Info'!ER6+'Product Info'!EU6+'Product Info'!EX6+'Product Info'!FA6+'Product Info'!FD6)","v":0},{"$f":"AI5*('Product Info'!M6)","v":0},{"$f":"AI5*'Product Info'!P6","v":0},{"$f":"AI5*'Product Info'!S6","v":0},{"$f":"AI5*'Product Info'!V6","v":0},{"$f":"AI5*'Product Info'!Y6","v":0},{"$f":"AI5*'Product Info'!AB6","v":0},{"$f":"AI5*'Product Info'!AE6","v":0},{"$f":"AI5*'Product Info'!AH6","v":0},{"$f":"AI5*'Product Info'!AK6","v":0},{"$f":"AI5*'Product Info'!AN6","v":0},{"$f":"AI5*'Product Info'!AQ6","v":0},{"$f":"AI5*'Product Info'!AT6","v":0},{"$f":"AI5*'Product Info'!AW6","v":0},{"$f":"AI5*'Product Info'!AZ6","v":0},{"$f":"AI5*'Product Info'!BC6","v":0},{"$f":"AI5*'Product Info'!BF6","v":0},{"$f":"AI5*'Product Info'!BI6","v":0},{"$f":"AI5*'Product Info'!BL6","v":0},{"$f":"AI5*'Product Info'!BO6","v":0},{"$f":"AI5*'Product Info'!BR6","v":0},{"$f":"AI5*'Product Info'!BU6","v":0},{"$f":"AI5*'Product Info'!BX6","v":0}]
[{"$f":"'Product Info'!A7","v":0},{"$f":"'Product Info'!B7","v":0},{"$f":"'Product Info'!C7","v":0},null,null,null,null,null,null,null,null,null,null,null,null,null,null,null,null,null,null,null,null,null,null,null,null,null,null,null,null,null,null,null,0,{"$f":"'Product Info'!F7*('Daily Info (December)'!AI6)","v":0},null,null,{"$f":"AI6*('Product Info'!H7)","v":0},{"$f":"AI6*('Product Info'!M7+'Product Info'!P7+'Product Info'!S7+'Product Info'!V7+'Product Info'!Y7+'Product Info'!AB7+'Product Info'!AE7+'Product Info'!AH7+'Product Info'!AK7+'Product Info'!AN7+'Product Info'!AQ7+'Product Info'!AT7+'Product Info'!AW7+'Product Info'!AZ7+'Product Info'!BC7+'Product Info'!BF7+'Product Info'!BI7+'Product Info'!BL7+'Product Info'!BO7+'Product Info'!BR7+'Product Info'!BU7+'Product Info'!BX7+'Product Info'!CA7+'Product Info'!CD7+'Product Info'!CG7+'Product Info'!CJ7+'Product Info'!CM7+'Product Info'!CP7+'Product Info'!CS7+'Product Info'!CV7+'Product Info'!CY7+'Product Info'!DB7+'Product Info'!DE7+'Product Info'!DH7+'Product Info'!DK7+'Product Info'!DN7+'Product Info'!DQ7+'Product Info'!DT7+'Product Info'!DW7+'Product Info'!DZ7+'Product Info'!EC7+'Product Info'!EF7+'Product Info'!EI7+'Product Info'!EL7+'Product Info'!EO7+'Product Info'!ER7+'Product Info'!EU7+'Product Info'!EX7+'Product Info'!FA7+'Product Info'!FD7)","v":0},{"$f":"AI6*('Product Info'!M7)","v":0},{"$f":"AI6*'Product Info'!P7","v":0},{"$f":"AI6*'Product Info'!S7","v":0},{"$f":"AI6*'Product Info'!V7","v":0},{"$f":"AI6*'Product Info'!Y7","v":0},{"$f":"AI6*'Product Info'!AB7","v":0},{"$f":"AI6*'Product Info'!AE7","v":0},{"$f":"AI6*'Product Info'!AH7","v":0},{"$f":"AI6*'Product Info'!AK7","v":0},{"$f":"AI6*'Product Info'!AN7","v":0},{"$f":"AI6*'Product Info'!AQ7","v":0},{"$f":"AI6*'Product Info'!AT7","v":0},{"$f":"AI6*'Product Info'!AW7","v":0},{"$f":"AI6*'Product Info'!AZ7","v":0},{"$f":"AI6*'Product Info'!BC7","v":0},{"$f":"AI6*'Product Info'!BF7","v":0},{"$f":"AI6*'Product Info'!BI7","v":0},{"$f":"AI6*'Product Info'!BL7","v":0},{"$f":"AI6*'Product Info'!BO7","v":0},{"$f":"AI6*'Product Info'!BR7","v":0},{"$f":"AI6*'Product Info'!BU7","v":0},{"$f":"AI6*'Product Info'!BX7","v":0}]
[{"$f":"'Product Info'!A8","v":0},{"$f":"'Product Info'!B8","v":0},{"$f":"'Product Info'!C8","v":0},null,null,null,null,null,null,null,null,null,null,null,null,null,null,null,null,null,null,null,null,null,null,null,null,null,null,null,null,null,null,null,0,{"$f":"'Product Info'!F8*('Daily Info (December)'!AI7)","v":0},null,null,{"$f":"AI7*('Product Info'!H8)","v":0},{"$f":"AI7*('Product Info'!M8+'Product Info'!P8+'Product Info'!S8+'Product Info'!V8+'Product Info'!Y8+'Product Info'!AB8+'Product Info'!AE8+'Product Info'!AH8+'Product Info'!AK8+'Product Info'!AN8+'Product Info'!AQ8+'Product Info'!AT8+'Product Info'!AW8+'Product Info'!AZ8+'Product Info'!BC8+'Product Info'!BF8+'Product Info'!BI8+'Product Info'!BL8+'Product Info'!BO8+'Product Info'!BR8+'Product Info'!BU8+'Product Info'!BX8+'Product Info'!CA8+'Product Info'!CD8+'Product Info'!CG8+'Product Info'!CJ8+'Product Info'!CM8+'Product Info'!CP8+'Product Info'!CS8+'Product Info'!CV8+'Product Info'!CY8+'Product Info'!DB8+'Product Info'!DE8+'Product Info'!DH8+'Product Info'!DK8+'Product Info'!DN8+'Product Info'!DQ8+'Product Info'!DT8+'Product Info'!DW8+'Product Info'!DZ8+'Product Info'!EC8+'Product Info'!EF8+'Product Info'!EI8+'Product Info'!EL8+'Product Info'!EO8+'Product Info'!ER8+'Product Info'!EU8+'Product Info'!EX8+'Product Info'!FA8+'Product Info'!FD8)","v":0},{"$f":"AI7*('Product Info'!M8)","v":0},{"$f":"AI7*'Product Info'!P8","v":0},{"$f":"AI7*'Product Info'!S8","v":0},{"$f":"AI7*'Product Info'!V8","v":0},{"$f":"AI7*'Product Info'!Y8","v":0},{"$f":"AI7*'Product Info'!AB8","v":0},{"$f":"AI7*'Product Info'!AE8","v":0},{"$f":"AI7*'Product Info'!AH8","v":0},{"$f":"AI7*'Product Info'!AK8","v":0},{"$f":"AI7*'Product Info'!AN8","v":0},{"$f":"AI7*'Product Info'!AQ8","v":0},{"$f":"AI7*'Product Info'!AT8","v":0},{"$f":"AI7*'Product Info'!AW8","v":0},{"$f":"AI7*'Product Info'!AZ8","v":0},{"$f":"AI7*'Product Info'!BC8","v":0},{"$f":"AI7*'Product Info'!BF8","v":0},{"$f":"AI7*'Product Info'!BI8","v":0},{"$f":"AI7*'Product Info'!BL8","v":0},{"$f":"AI7*'Product Info'!BO8","v":0},{"$f":"AI7*'Product Info'!BR8","v":0},{"$f":"AI7*'Product Info'!BU8","v":0},{"$f":"AI7*'Product Info'!BX8","v":0}]
[{"$f":"'Product Info'!A9","v":0},{"$f":"'Product Info'!B9","v":0},{"$f":"'Product Info'!C9","v":0},null,null,null,null,null,null,null,null,null,null,null,null,null,null,null,null,null,null,null,null,null,null,null,null,null,null,null,null,null,null,null,0,{"$f":"'Product Info'!F9*('Daily Info (December)'!AI8)","v":0},null,null,{"$f":"AI8*('Product Info'!H9)","v":0},{"$f":"AI8*('Product Info'!M9+'Product Info'!P9+'Product Info'!S9+'Product Info'!V9+'Product Info'!Y9+'Product Info'!AB9+'Product Info'!AE9+'Product Info'!AH9+'Product Info'!AK9+'Product Info'!AN9+'Product Info'!AQ9+'Product Info'!AT9+'Product Info'!AW9+'Product Info'!AZ9+'Product Info'!BC9+'Product Info'!BF9+'Product Info'!BI9+'Product Info'!BL9+'Product Info'!BO9+'Product Info'!BR9+'Product Info'!BU9+'Product Info'!BX9+'Product Info'!CA9+'Product Info'!CD9+'Product Info'!CG9+'Product Info'!CJ9+'Product Info'!CM9+'Product Info'!CP9+'Product Info'!CS9+'Product Info'!CV9+'Product Info'!CY9+'Product Info'!DB9+'Product Info'!DE9+'Product Info'!DH9+'Product Info'!DK9+'Product Info'!DN9+'Product Info'!DQ9+'Product Info'!DT9+'Product Info'!DW9+'Product Info'!DZ9+'Product Info'!EC9+'Product Info'!EF9+'Product Info'!EI9+'Product Info'!EL9+'Product Info'!EO9+'Product Info'!ER9+'Product Info'!EU9+'Product Info'!EX9+'Product Info'!FA9+'Product Info'!FD9)","v":0},{"$f":"AI8*('Product Info'!M9)","v":0},{"$f":"AI8*'Product Info'!P9","v":0},{"$f":"AI8*'Product Info'!S9","v":0},{"$f":"AI8*'Product Info'!V9","v":0},{"$f":"AI8*'Product Info'!Y9","v":0},{"$f":"AI8*'Product Info'!AB9","v":0},{"$f":"AI8*'Product Info'!AE9","v":0},{"$f":"AI8*'Product Info'!AH9","v":0},{"$f":"AI8*'Product Info'!AK9","v":0},{"$f":"AI8*'Product Info'!AN9","v":0},{"$f":"AI8*'Product Info'!AQ9","v":0},{"$f":"AI8*'Product Info'!AT9","v":0},{"$f":"AI8*'Product Info'!AW9","v":0},{"$f":"AI8*'Product Info'!AZ9","v":0},{"$f":"AI8*'Product Info'!BC9","v":0},{"$f":"AI8*'Product Info'!BF9","v":0},{"$f":"AI8*'Product Info'!BI9","v":0},{"$f":"AI8*'Product Info'!BL9","v":0},{"$f":"AI8*'Product Info'!BO9","v":0},{"$f":"AI8*'Product Info'!BR9","v":0},{"$f":"AI8*'Product Info'!BU9","v":0},{"$f":"AI8*'Product Info'!BX9","v":0}]
[{"$f":"'Product Info'!A10","v":0},{"$f":"'Product Info'!B10","v":0},{"$f":"'Product Info'!C10","v":0},null,null,null,null,null,null,null,null,null,null,null,null,null,null,null,null,null,null,null,null,null,null,null,null,null,null,null,null,null,null,null,0,{"$f":"'Product Info'!F10*('Daily Info (December)'!AI9)","v":0},null,null,{"$f":"AI9*('Product Info'!H10)","v":0},{"$f":"AI9*('Product Info'!M10+'Product Info'!P10+'Product Info'!S10+'Product Info'!V10+'Product Info'!Y10+'Product Info'!AB10+'Product Info'!AE10+'Product Info'!AH10+'Product Info'!AK10+'Product Info'!AN10+'Product Info'!AQ10+'Product Info'!AT10+'Product Info'!AW10+'Product Info'!AZ10+'Product Info'!BC10+'Product Info'!BF10+'Product Info'!BI10+'Product Info'!BL10+'Product Info'!BO10+'Product Info'!BR10+'Product Info'!BU10+'Product Info'!BX10+'Product Info'!CA10+'Product Info'!CD10+'Product Info'!CG10+'Product Info'!CJ10+'Product Info'!CM10+'Product Info'!CP10+'Product Info'!CS10+'Product Info'!CV10+'Product Info'!CY10+'Product Info'!DB10+'Product Info'!DE10+'Product Info'!DH10+'Product Info'!DK10+'Product Info'!DN10+'Product Info'!DQ10+'Product Info'!DT10+'Product Info'!DW10+'Product Info'!DZ10+'Product Info'!EC10+'Product Info'!EF10+'Product Info'!EI10+'Product Info'!EL10+'Product Info'!EO10+'Product Info'!ER10+'Product Info'!EU10+'Product Info'!EX10+'Product Info'!FA10+'Product Info'!FD10)","v":0},{"$f":"AI9*('Product Info'!M10)","v":0},{"$f":"AI9*'Product Info'!P10","v":0},{"$f":"AI9*'Product Info'!S10","v":0},{"$f":"AI9*'Product Info'!V10","v":0},{"$f":"AI9*'Product Info'!Y10","v":0},{"$f":"AI9*'Product Info'!AB10","v":0},{"$f":"AI9*'Product Info'!AE10","v":0},{"$f":"AI9*'Product Info'!AH10","v":0},{"$f":"AI9*'Product Info'!AK10","v":0},{"$f":"AI9*'Product Info'!AN10","v":0},{"$f":"AI9*'Product Info'!AQ10","v":0},{"$f":"AI9*'Product Info'!AT10","v":0},{"$f":"AI9*'Product Info'!AW10","v":0},{"$f":"AI9*'Product Info'!AZ10","v":0},{"$f":"AI9*'Product Info'!BC10","v":0},{"$f":"AI9*'Product Info'!BF10","v":0},{"$f":"AI9*'Product Info'!BI10","v":0},{"$f":"AI9*'Product Info'!BL10","v":0},{"$f":"AI9*'Product Info'!BO10","v":0},{"$f":"AI9*'Product Info'!BR10","v":0},{"$f":"AI9*'Product Info'!BU10","v":0},{"$f":"AI9*'Product Info'!BX10","v":0}]
[{"$f":"'Product Info'!A11","v":0},{"$f":"'Product Info'!B11","v":0},{"$f":"'Product Info'!C11","v":0},null,null,null,null,null,null,null,null,null,null,null,null,null,null,null,null,null,null,null,null,null,null,null,null,null,null,null,null,null,null,null,0,{"$f":"'Product Info'!F11*('Daily Info (December)'!AI10)","v":0},null,null,{"$f":"AI10*('Product Info'!H11)","v":0},{"$f":"AI10*('Product Info'!M11+'Product Info'!P11+'Product Info'!S11+'Product Info'!V11+'Product Info'!Y11+'Product Info'!AB11+'Product Info'!AE11+'Product Info'!AH11+'Product Info'!AK11+'Product Info'!AN11+'Product Info'!AQ11+'Product Info'!AT11+'Product Info'!AW11+'Product Info'!AZ11+'Product Info'!BC11+'Product Info'!BF11+'Product Info'!BI11+'Product Info'!BL11+'Product Info'!BO11+'Product Info'!BR11+'Product Info'!BU11+'Product Info'!BX11+'Product Info'!CA11+'Product Info'!CD11+'Product Info'!CG11+'Product Info'!CJ11+'Product Info'!CM11+'Product Info'!CP11+'Product Info'!CS11+'Product Info'!CV11+'Product Info'!CY11+'Product Info'!DB11+'Product Info'!DE11+'Product Info'!DH11+'Product Info'!DK11+'Product Info'!DN11+'Product Info'!DQ11+'Product Info'!DT11+'Product Info'!DW11+'Product Info'!DZ11+'Product Info'!EC11+'Product Info'!EF11+'Product Info'!EI11+'Product Info'!EL11+'Product Info'!EO11+'Product Info'!ER11+'Product Info'!EU11+'Product Info'!EX11+'Product Info'!FA11+'Product Info'!FD11)","v":0},{"$f":"AI10*('Product Info'!M11)","v":0},{"$f":"AI10*'Product Info'!P11","v":0},{"$f":"AI10*'Product Info'!S11","v":0},{"$f":"AI10*'Product Info'!V11","v":0},{"$f":"AI10*'Product Info'!Y11","v":0},{"$f":"AI10*'Product Info'!AB11","v":0},{"$f":"AI10*'Product Info'!AE11","v":0},{"$f":"AI10*'Product Info'!AH11","v":0},{"$f":"AI10*'Product Info'!AK11","v":0},{"$f":"AI10*'Product Info'!AN11","v":0},{"$f":"AI10*'Product Info'!AQ11","v":0},{"$f":"AI10*'Product Info'!AT11","v":0},{"$f":"AI10*'Product Info'!AW11","v":0},{"$f":"AI10*'Product Info'!AZ11","v":0},{"$f":"AI10*'Product Info'!BC11","v":0},{"$f":"AI10*'Product Info'!BF11","v":0},{"$f":"AI10*'Product Info'!BI11","v":0},{"$f":"AI10*'Product Info'!BL11","v":0},{"$f":"AI10*'Product Info'!BO11","v":0},{"$f":"AI10*'Product Info'!BR11","v":0},{"$f":"AI10*'Product Info'!BU11","v":0},{"$f":"AI10*'Product Info'!BX11","v":0}]
[{"$f":"'Product Info'!A12","v":0},{"$f":"'Product Info'!B12","v":0},{"$f":"'Product Info'!C12","v":0},null,null,null,null,null,null,null,null,null,null,null,null,null,null,null,null,null,null,null,null,null,null,null,null,null,null,null,null,null,null,null,0,{"$f":"'Product Info'!F12*('Daily Info (December)'!AI11)","v":0},null,null,{"$f":"AI11*('Product Info'!H12)","v":0},{"$f":"AI11*('Product Info'!M12+'Product Info'!P12+'Product Info'!S12+'Product Info'!V12+'Product Info'!Y12+'Product Info'!AB12+'Product Info'!AE12+'Product Info'!AH12+'Product Info'!AK12+'Product Info'!AN12+'Product Info'!AQ12+'Product Info'!AT12+'Product Info'!AW12+'Product Info'!AZ12+'Product Info'!BC12+'Product Info'!BF12+'Product Info'!BI12+'Product Info'!BL12+'Product Info'!BO12+'Product Info'!BR12+'Product Info'!BU12+'Product Info'!BX12+'Product Info'!CA12+'Product Info'!CD12+'Product Info'!CG12+'Product Info'!CJ12+'Product Info'!CM12+'Product Info'!CP12+'Product Info'!CS12+'Product Info'!CV12+'Product Info'!CY12+'Product Info'!DB12+'Product Info'!DE12+'Product Info'!DH12+'Product Info'!DK12+'Product Info'!DN12+'Product Info'!DQ12+'Product Info'!DT12+'Product Info'!DW12+'Product Info'!DZ12+'Product Info'!EC12+'Product Info'!EF12+'Product Info'!EI12+'Product Info'!EL12+'Product Info'!EO12+'Product Info'!ER12+'Product Info'!EU12+'Product Info'!EX12+'Product Info'!FA12+'Product Info'!FD12)","v":0},{"$f":"AI11*('Product Info'!M12)","v":0},{"$f":"AI11*'Product Info'!P12","v":0},{"$f":"AI11*'Product Info'!S12","v":0},{"$f":"AI11*'Product Info'!V12","v":0},{"$f":"AI11*'Product Info'!Y12","v":0},{"$f":"AI11*'Product Info'!AB12","v":0},{"$f":"AI11*'Product Info'!AE12","v":0},{"$f":"AI11*'Product Info'!AH12","v":0},{"$f":"AI11*'Product Info'!AK12","v":0},{"$f":"AI11*'Product Info'!AN12","v":0},{"$f":"AI11*'Product Info'!AQ12","v":0},{"$f":"AI11*'Product Info'!AT12","v":0},{"$f":"AI11*'Product Info'!AW12","v":0},{"$f":"AI11*'Product Info'!AZ12","v":0},{"$f":"AI11*'Product Info'!BC12","v":0},{"$f":"AI11*'Product Info'!BF12","v":0},{"$f":"AI11*'Product Info'!BI12","v":0},{"$f":"AI11*'Product Info'!BL12","v":0},{"$f":"AI11*'Product Info'!BO12","v":0},{"$f":"AI11*'Product Info'!BR12","v":0},{"$f":"AI11*'Product Info'!BU12","v":0},{"$f":"AI11*'Product Info'!BX12","v":0}]
[{"$f":"'Product Info'!A13","v":0},{"$f":"'Product Info'!B13","v":0},{"$f":"'Product Info'!C13","v":0},null,null,null,null,null,null,null,null,null,null,null,null,null,null,null,null,null,null,null,null,null,null,null,null,null,null,null,null,null,null,null,0,{"$f":"'Product Info'!F13*('Daily Info (December)'!AI12)","v":0},null,null,{"$f":"AI12*('Product Info'!H13)","v":0},{"$f":"AI12*('Product Info'!M13+'Product Info'!P13+'Product Info'!S13+'Product Info'!V13+'Product Info'!Y13+'Product Info'!AB13+'Product Info'!AE13+'Product Info'!AH13+'Product Info'!AK13+'Product Info'!AN13+'Product Info'!AQ13+'Product Info'!AT13+'Product Info'!AW13+'Product Info'!AZ13+'Product Info'!BC13+'Product Info'!BF13+'Product Info'!BI13+'Product Info'!BL13+'Product Info'!BO13+'Product Info'!BR13+'Product Info'!BU13+'Product Info'!BX13+'Product Info'!CA13+'Product Info'!CD13+'Product Info'!CG13+'Product Info'!CJ13+'Product Info'!CM13+'Product Info'!CP13+'Product Info'!CS13+'Product Info'!CV13+'Product Info'!CY13+'Product Info'!DB13+'Product Info'!DE13+'Product Info'!DH13+'Product Info'!DK13+'Product Info'!DN13+'Product Info'!DQ13+'Product Info'!DT13+'Product Info'!DW13+'Product Info'!DZ13+'Product Info'!EC13+'Product Info'!EF13+'Product Info'!EI13+'Product Info'!EL13+'Product Info'!EO13+'Product Info'!ER13+'Product Info'!EU13+'Product Info'!EX13+'Product Info'!FA13+'Product Info'!FD13)","v":0},{"$f":"AI12*('Product Info'!M13)","v":0},{"$f":"AI12*'Product Info'!P13","v":0},{"$f":"AI12*'Product Info'!S13","v":0},{"$f":"AI12*'Product Info'!V13","v":0},{"$f":"AI12*'Product Info'!Y13","v":0},{"$f":"AI12*'Product Info'!AB13","v":0},{"$f":"AI12*'Product Info'!AE13","v":0},{"$f":"AI12*'Product Info'!AH13","v":0},{"$f":"AI12*'Product Info'!AK13","v":0},{"$f":"AI12*'Product Info'!AN13","v":0},{"$f":"AI12*'Product Info'!AQ13","v":0},{"$f":"AI12*'Product Info'!AT13","v":0},{"$f":"AI12*'Product Info'!AW13","v":0},{"$f":"AI12*'Product Info'!AZ13","v":0},{"$f":"AI12*'Product Info'!BC13","v":0},{"$f":"AI12*'Product Info'!BF13","v":0},{"$f":"AI12*'Product Info'!BI13","v":0},{"$f":"AI12*'Product Info'!BL13","v":0},{"$f":"AI12*'Product Info'!BO13","v":0},{"$f":"AI12*'Product Info'!BR13","v":0},{"$f":"AI12*'Product Info'!BU13","v":0},{"$f":"AI12*'Product Info'!BX13","v":0}]
[{"$f":"'Product Info'!A14","v":0},{"$f":"'Product Info'!B14","v":0},{"$f":"'Product Info'!C14","v":0},null,null,null,null,null,null,null,null,null,null,null,null,null,null,null,null,null,null,null,null,null,null,null,null,null,null,null,null,null,null,null,0,{"$f":"'Product Info'!F14*('Daily Info (December)'!AI13)","v":0},null,null,{"$f":"AI13*('Product Info'!H14)","v":0},{"$f":"AI13*('Product Info'!M14+'Product Info'!P14+'Product Info'!S14+'Product Info'!V14+'Product Info'!Y14+'Product Info'!AB14+'Product Info'!AE14+'Product Info'!AH14+'Product Info'!AK14+'Product Info'!AN14+'Product Info'!AQ14+'Product Info'!AT14+'Product Info'!AW14+'Product Info'!AZ14+'Product Info'!BC14+'Product Info'!BF14+'Product Info'!BI14+'Product Info'!BL14+'Product Info'!BO14+'Product Info'!BR14+'Product Info'!BU14+'Product Info'!BX14+'Product Info'!CA14+'Product Info'!CD14+'Product Info'!CG14+'Product Info'!CJ14+'Product Info'!CM14+'Product Info'!CP14+'Product Info'!CS14+'Product Info'!CV14+'Product Info'!CY14+'Product Info'!DB14+'Product Info'!DE14+'Product Info'!DH14+'Product Info'!DK14+'Product Info'!DN14+'Product Info'!DQ14+'Product Info'!DT14+'Product Info'!DW14+'Product Info'!DZ14+'Product Info'!EC14+'Product Info'!EF14+'Product Info'!EI14+'Product Info'!EL14+'Product Info'!EO14+'Product Info'!ER14+'Product Info'!EU14+'Product Info'!EX14+'Product Info'!FA14+'Product Info'!FD14)","v":0},{"$f":"AI13*('Product Info'!M14)","v":0},{"$f":"AI13*'Product Info'!P14","v":0},{"$f":"AI13*'Product Info'!S14","v":0},{"$f":"AI13*'Product Info'!V14","v":0},{"$f":"AI13*'Product Info'!Y14","v":0},{"$f":"AI13*'Product Info'!AB14","v":0},{"$f":"AI13*'Product Info'!AE14","v":0},{"$f":"AI13*'Product Info'!AH14","v":0},{"$f":"AI13*'Product Info'!AK14","v":0},{"$f":"AI13*'Product Info'!AN14","v":0},{"$f":"AI13*'Product Info'!AQ14","v":0},{"$f":"AI13*'Product Info'!AT14","v":0},{"$f":"AI13*'Product Info'!AW14","v":0},{"$f":"AI13*'Product Info'!AZ14","v":0},{"$f":"AI13*'Product Info'!BC14","v":0},{"$f":"AI13*'Product Info'!BF14","v":0},{"$f":"AI13*'Product Info'!BI14","v":0},{"$f":"AI13*'Product Info'!BL14","v":0},{"$f":"AI13*'Product Info'!BO14","v":0},{"$f":"AI13*'Product Info'!BR14","v":0},{"$f":"AI13*'Product Info'!BU14","v":0},{"$f":"AI13*'Product Info'!BX14","v":0}]
[{"$f":"'Product Info'!A15","v":0},{"$f":"'Product Info'!B15","v":0},{"$f":"'Product Info'!C15","v":0},null,null,null,null,null,null,null,null,null,null,null,null,null,null,null,null,null,null,null,null,null,null,null,null,null,null,null,null,null,null,null,0,{"$f":"'Product Info'!F15*('Daily Info (December)'!AI14)","v":0},null,null,{"$f":"AI14*('Product Info'!H15)","v":0},{"$f":"AI14*('Product Info'!M15+'Product Info'!P15+'Product Info'!S15+'Product Info'!V15+'Product Info'!Y15+'Product Info'!AB15+'Product Info'!AE15+'Product Info'!AH15+'Product Info'!AK15+'Product Info'!AN15+'Product Info'!AQ15+'Product Info'!AT15+'Product Info'!AW15+'Product Info'!AZ15+'Product Info'!BC15+'Product Info'!BF15+'Product Info'!BI15+'Product Info'!BL15+'Product Info'!BO15+'Product Info'!BR15+'Product Info'!BU15+'Product Info'!BX15+'Product Info'!CA15+'Product Info'!CD15+'Product Info'!CG15+'Product Info'!CJ15+'Product Info'!CM15+'Product Info'!CP15+'Product Info'!CS15+'Product Info'!CV15+'Product Info'!CY15+'Product Info'!DB15+'Product Info'!DE15+'Product Info'!DH15+'Product Info'!DK15+'Product Info'!DN15+'Product Info'!DQ15+'Product Info'!DT15+'Product Info'!DW15+'Product Info'!DZ15+'Product Info'!EC15+'Product Info'!EF15+'Product Info'!EI15+'Product Info'!EL15+'Product Info'!EO15+'Product Info'!ER15+'Product Info'!EU15+'Product Info'!EX15+'Product Info'!FA15+'Product Info'!FD15)","v":0},{"$f":"AI14*('Product Info'!M15)","v":0},{"$f":"AI14*'Product Info'!P15","v":0},{"$f":"AI14*'Product Info'!S15","v":0},{"$f":"AI14*'Product Info'!V15","v":0},{"$f":"AI14*'Product Info'!Y15","v":0},{"$f":"AI14*'Product Info'!AB15","v":0},{"$f":"AI14*'Product Info'!AE15","v":0},{"$f":"AI14*'Product Info'!AH15","v":0},{"$f":"AI14*'Product Info'!AK15","v":0},{"$f":"AI14*'Product Info'!AN15","v":0},{"$f":"AI14*'Product Info'!AQ15","v":0},{"$f":"AI14*'Product Info'!AT15","v":0},{"$f":"AI14*'Product Info'!AW15","v":0},{"$f":"AI14*'Product Info'!AZ15","v":0},{"$f":"AI14*'Product Info'!BC15","v":0},{"$f":"AI14*'Product Info'!BF15","v":0},{"$f":"AI14*'Product Info'!BI15","v":0},{"$f":"AI14*'Product Info'!BL15","v":0},{"$f":"AI14*'Product Info'!BO15","v":0},{"$f":"AI14*'Product Info'!BR15","v":0},{"$f":"AI14*'Product Info'!BU15","v":0},{"$f":"AI14*'Product Info'!BX15","v":0}]
[{"$f":"'Product Info'!A16","v":0},{"$f":"'Product Info'!B16","v":0},{"$f":"'Product Info'!C16","v":0},null,null,null,null,null,null,null,null,null,null,null,null,null,null,null,null,null,null,null,null,null,null,null,null,null,null,null,null,null,null,null,0,{"$f":"'Product Info'!F16*('Daily Info (December)'!AI15)","v":0},null,null,{"$f":"AI15*('Product Info'!H16)","v":0},{"$f":"AI15*('Product Info'!M16+'Product Info'!P16+'Product Info'!S16+'Product Info'!V16+'Product Info'!Y16+'Product Info'!AB16+'Product Info'!AE16+'Product Info'!AH16+'Product Info'!AK16+'Product Info'!AN16+'Product Info'!AQ16+'Product Info'!AT16+'Product Info'!AW16+'Product Info'!AZ16+'Product Info'!BC16+'Product Info'!BF16+'Product Info'!BI16+'Product Info'!BL16+'Product Info'!BO16+'Product Info'!BR16+'Product Info'!BU16+'Product Info'!BX16+'Product Info'!CA16+'Product Info'!CD16+'Product Info'!CG16+'Product Info'!CJ16+'Product Info'!CM16+'Product Info'!CP16+'Product Info'!CS16+'Product Info'!CV16+'Product Info'!CY16+'Product Info'!DB16+'Product Info'!DE16+'Product Info'!DH16+'Product Info'!DK16+'Product Info'!DN16+'Product Info'!DQ16+'Product Info'!DT16+'Product Info'!DW16+'Product Info'!DZ16+'Product Info'!EC16+'Product Info'!EF16+'Product Info'!EI16+'Product Info'!EL16+'Product Info'!EO16+'Product Info'!ER16+'Product Info'!EU16+'Product Info'!EX16+'Product Info'!FA16+'Product Info'!FD16)","v":0},{"$f":"AI15*('Product Info'!M16)","v":0},{"$f":"AI15*'Product Info'!P16","v":0},{"$f":"AI15*'Product Info'!S16","v":0},{"$f":"AI15*'Product Info'!V16","v":0},{"$f":"AI15*'Product Info'!Y16","v":0},{"$f":"AI15*'Product Info'!AB16","v":0},{"$f":"AI15*'Product Info'!AE16","v":0},{"$f":"AI15*'Product Info'!AH16","v":0},{"$f":"AI15*'Product Info'!AK16","v":0},{"$f":"AI15*'Product Info'!AN16","v":0},{"$f":"AI15*'Product Info'!AQ16","v":0},{"$f":"AI15*'Product Info'!AT16","v":0},{"$f":"AI15*'Product Info'!AW16","v":0},{"$f":"AI15*'Product Info'!AZ16","v":0},{"$f":"AI15*'Product Info'!BC16","v":0},{"$f":"AI15*'Product Info'!BF16","v":0},{"$f":"AI15*'Product Info'!BI16","v":0},{"$f":"AI15*'Product Info'!BL16","v":0},{"$f":"AI15*'Product Info'!BO16","v":0},{"$f":"AI15*'Product Info'!BR16","v":0},{"$f":"AI15*'Product Info'!BU16","v":0},{"$f":"AI15*'Product Info'!BX16","v":0}]
[{"$f":"'Product Info'!A17","v":0},{"$f":"'Product Info'!B17","v":0},{"$f":"'Product Info'!C17","v":0},null,null,null,null,null,null,null,null,null,null,null,null,null,null,null,null,null,null,null,null,null,null,null,null,null,null,null,null,null,null,null,0,{"$f":"'Product Info'!F17*('Daily Info (December)'!AI16)","v":0},null,null,{"$f":"AI16*('Product Info'!H17)","v":0},{"$f":"AI16*('Product Info'!M17+'Product Info'!P17+'Product Info'!S17+'Product Info'!V17+'Product Info'!Y17+'Product Info'!AB17+'Product Info'!AE17+'Product Info'!AH17+'Product Info'!AK17+'Product Info'!AN17+'Product Info'!AQ17+'Product Info'!AT17+'Product Info'!AW17+'Product Info'!AZ17+'Product Info'!BC17+'Product Info'!BF17+'Product Info'!BI17+'Product Info'!BL17+'Product Info'!BO17+'Product Info'!BR17+'Product Info'!BU17+'Product Info'!BX17+'Product Info'!CA17+'Product Info'!CD17+'Product Info'!CG17+'Product Info'!CJ17+'Product Info'!CM17+'Product Info'!CP17+'Product Info'!CS17+'Product Info'!CV17+'Product Info'!CY17+'Product Info'!DB17+'Product Info'!DE17+'Product Info'!DH17+'Product Info'!DK17+'Product Info'!DN17+'Product Info'!DQ17+'Product Info'!DT17+'Product Info'!DW17+'Product Info'!DZ17+'Product Info'!EC17+'Product Info'!EF17+'Product Info'!EI17+'Product Info'!EL17+'Product Info'!EO17+'Product Info'!ER17+'Product Info'!EU17+'Product Info'!EX17+'Product Info'!FA17+'Product Info'!FD17)","v":0},{"$f":"AI16*('Product Info'!M17)","v":0},{"$f":"AI16*'Product Info'!P17","v":0},{"$f":"AI16*'Product Info'!S17","v":0},{"$f":"AI16*'Product Info'!V17","v":0},{"$f":"AI16*'Product Info'!Y17","v":0},{"$f":"AI16*'Product Info'!AB17","v":0},{"$f":"AI16*'Product Info'!AE17","v":0},{"$f":"AI16*'Product Info'!AH17","v":0},{"$f":"AI16*'Product Info'!AK17","v":0},{"$f":"AI16*'Product Info'!AN17","v":0},{"$f":"AI16*'Product Info'!AQ17","v":0},{"$f":"AI16*'Product Info'!AT17","v":0},{"$f":"AI16*'Product Info'!AW17","v":0},{"$f":"AI16*'Product Info'!AZ17","v":0},{"$f":"AI16*'Product Info'!BC17","v":0},{"$f":"AI16*'Product Info'!BF17","v":0},{"$f":"AI16*'Product Info'!BI17","v":0},{"$f":"AI16*'Product Info'!BL17","v":0},{"$f":"AI16*'Product Info'!BO17","v":0},{"$f":"AI16*'Product Info'!BR17","v":0},{"$f":"AI16*'Product Info'!BU17","v":0},{"$f":"AI16*'Product Info'!BX17","v":0}]
[{"$f":"'Product Info'!A18","v":0},{"$f":"'Product Info'!B18","v":0},{"$f":"'Product Info'!C18","v":0},null,null,null,null,null,null,null,null,null,null,null,null,null,null,null,null,null,null,null,null,null,null,null,null,null,null,null,null,null,null,null,0,{"$f":"'Product Info'!F18*('Daily Info (December)'!AI17)","v":0},null,null,{"$f":"AI17*('Product Info'!H18)","v":0},{"$f":"AI17*('Product Info'!M18+'Product Info'!P18+'Product Info'!S18+'Product Info'!V18+'Product Info'!Y18+'Product Info'!AB18+'Product Info'!AE18+'Product Info'!AH18+'Product Info'!AK18+'Product Info'!AN18+'Product Info'!AQ18+'Product Info'!AT18+'Product Info'!AW18+'Product Info'!AZ18+'Product Info'!BC18+'Product Info'!BF18+'Product Info'!BI18+'Product Info'!BL18+'Product Info'!BO18+'Product Info'!BR18+'Product Info'!BU18+'Product Info'!BX18+'Product Info'!CA18+'Product Info'!CD18+'Product Info'!CG18+'Product Info'!CJ18+'Product Info'!CM18+'Product Info'!CP18+'Product Info'!CS18+'Product Info'!CV18+'Product Info'!CY18+'Product Info'!DB18+'Product Info'!DE18+'Product Info'!DH18+'Product Info'!DK18+'Product Info'!DN18+'Product Info'!DQ18+'Product Info'!DT18+'Product Info'!DW18+'Product Info'!DZ18+'Product Info'!EC18+'Product Info'!EF18+'Product Info'!EI18+'Product Info'!EL18+'Product Info'!EO18+'Product Info'!ER18+'Product Info'!EU18+'Product Info'!EX18+'Product Info'!FA18+'Product Info'!FD18)","v":0},{"$f":"AI17*('Product Info'!M18)","v":0},{"$f":"AI17*'Product Info'!P18","v":0},{"$f":"AI17*'Product Info'!S18","v":0},{"$f":"AI17*'Product Info'!V18","v":0},{"$f":"AI17*'Product Info'!Y18","v":0},{"$f":"AI17*'Product Info'!AB18","v":0},{"$f":"AI17*'Product Info'!AE18","v":0},{"$f":"AI17*'Product Info'!AH18","v":0},{"$f":"AI17*'Product Info'!AK18","v":0},{"$f":"AI17*'Product Info'!AN18","v":0},{"$f":"AI17*'Product Info'!AQ18","v":0},{"$f":"AI17*'Product Info'!AT18","v":0},{"$f":"AI17*'Product Info'!AW18","v":0},{"$f":"AI17*'Product Info'!AZ18","v":0},{"$f":"AI17*'Product Info'!BC18","v":0},{"$f":"AI17*'Product Info'!BF18","v":0},{"$f":"AI17*'Product Info'!BI18","v":0},{"$f":"AI17*'Product Info'!BL18","v":0},{"$f":"AI17*'Product Info'!BO18","v":0},{"$f":"AI17*'Product Info'!BR18","v":0},{"$f":"AI17*'Product Info'!BU18","v":0},{"$f":"AI17*'Product Info'!BX18","v":0}]
[{"$f":"'Product Info'!A19","v":0},{"$f":"'Product Info'!B19","v":0},{"$f":"'Product Info'!C19","v":0},null,null,null,null,null,null,null,null,null,null,null,null,null,null,null,null,null,null,null,null,null,null,null,null,null,null,null,null,null,null,null,0,{"$f":"'Product Info'!F19*('Daily Info (December)'!AI18)","v":0},null,null,{"$f":"AI18*('Product Info'!H19)","v":0},{"$f":"AI18*('Product Info'!M19+'Product Info'!P19+'Product Info'!S19+'Product Info'!V19+'Product Info'!Y19+'Product Info'!AB19+'Product Info'!AE19+'Product Info'!AH19+'Product Info'!AK19+'Product Info'!AN19+'Product Info'!AQ19+'Product Info'!AT19+'Product Info'!AW19+'Product Info'!AZ19+'Product Info'!BC19+'Product Info'!BF19+'Product Info'!BI19+'Product Info'!BL19+'Product Info'!BO19+'Product Info'!BR19+'Product Info'!BU19+'Product Info'!BX19+'Product Info'!CA19+'Product Info'!CD19+'Product Info'!CG19+'Product Info'!CJ19+'Product Info'!CM19+'Product Info'!CP19+'Product Info'!CS19+'Product Info'!CV19+'Product Info'!CY19+'Product Info'!DB19+'Product Info'!DE19+'Product Info'!DH19+'Product Info'!DK19+'Product Info'!DN19+'Product Info'!DQ19+'Product Info'!DT19+'Product Info'!DW19+'Product Info'!DZ19+'Product Info'!EC19+'Product Info'!EF19+'Product Info'!EI19+'Product Info'!EL19+'Product Info'!EO19+'Product Info'!ER19+'Product Info'!EU19+'Product Info'!EX19+'Product Info'!FA19+'Product Info'!FD19)","v":0},{"$f":"AI18*('Product Info'!M19)","v":0},{"$f":"AI18*'Product Info'!P19","v":0},{"$f":"AI18*'Product Info'!S19","v":0},{"$f":"AI18*'Product Info'!V19","v":0},{"$f":"AI18*'Product Info'!Y19","v":0},{"$f":"AI18*'Product Info'!AB19","v":0},{"$f":"AI18*'Product Info'!AE19","v":0},{"$f":"AI18*'Product Info'!AH19","v":0},{"$f":"AI18*'Product Info'!AK19","v":0},{"$f":"AI18*'Product Info'!AN19","v":0},{"$f":"AI18*'Product Info'!AQ19","v":0},{"$f":"AR18*'Product Info'!AF19","v":0},{"$f":"AI18*'Product Info'!AW19","v":0},{"$f":"AI18*'Product Info'!AZ19","v":0},{"$f":"AI18*'Product Info'!BC19","v":0},{"$f":"AI18*'Product Info'!BF19","v":0},{"$f":"AI18*'Product Info'!BI19","v":0},{"$f":"AI18*'Product Info'!BL19","v":0},{"$f":"AI18*'Product Info'!BO19","v":0},{"$f":"AI18*'Product Info'!BR19","v":0},{"$f":"AI18*'Product Info'!BU19","v":0},{"$f":"AI18*'Product Info'!BX19","v":0}]
[{"$f":"'Product Info'!A20","v":0},{"$f":"'Product Info'!B20","v":0},{"$f":"'Product Info'!C20","v":0},null,null,null,null,null,null,null,null,null,null,null,null,null,null,null,null,null,null,null,null,null,null,null,null,null,null,null,null,null,null,null,0,{"$f":"'Product Info'!F20*('Daily Info (December)'!AI19)","v":0},null,null,{"$f":"AI19*('Product Info'!H20)","v":0},{"$f":"AI19*('Product Info'!M20+'Product Info'!P20+'Product Info'!S20+'Product Info'!V20+'Product Info'!Y20+'Product Info'!AB20+'Product Info'!AE20+'Product Info'!AH20+'Product Info'!AK20+'Product Info'!AN20+'Product Info'!AQ20+'Product Info'!AT20+'Product Info'!AW20+'Product Info'!AZ20+'Product Info'!BC20+'Product Info'!BF20+'Product Info'!BI20+'Product Info'!BL20+'Product Info'!BO20+'Product Info'!BR20+'Product Info'!BU20+'Product Info'!BX20+'Product Info'!CA20+'Product Info'!CD20+'Product Info'!CG20+'Product Info'!CJ20+'Product Info'!CM20+'Product Info'!CP20+'Product Info'!CS20+'Product Info'!CV20+'Product Info'!CY20+'Product Info'!DB20+'Product Info'!DE20+'Product Info'!DH20+'Product Info'!DK20+'Product Info'!DN20+'Product Info'!DQ20+'Product Info'!DT20+'Product Info'!DW20+'Product Info'!DZ20+'Product Info'!EC20+'Product Info'!EF20+'Product Info'!EI20+'Product Info'!EL20+'Product Info'!EO20+'Product Info'!ER20+'Product Info'!EU20+'Product Info'!EX20+'Product Info'!FA20+'Product Info'!FD20)","v":0},{"$f":"AI19*('Product Info'!M20)","v":0},{"$f":"AI19*'Product Info'!P20","v":0},{"$f":"AI19*'Product Info'!S20","v":0},{"$f":"AI19*'Product Info'!V20","v":0},{"$f":"AI19*'Product Info'!Y20","v":0},{"$f":"AI19*'Product Info'!AB20","v":0},{"$f":"AI19*'Product Info'!AE20","v":0},{"$f":"AI19*'Product Info'!AH20","v":0},{"$f":"AI19*'Product Info'!AK20","v":0},{"$f":"AI19*'Product Info'!AN20","v":0},{"$f":"AI19*'Product Info'!AQ20","v":0},{"$f":"AR19*'Product Info'!AF20","v":0},{"$f":"AI19*'Product Info'!AW20","v":0},{"$f":"AI19*'Product Info'!AZ20","v":0},{"$f":"AI19*'Product Info'!BC20","v":0},{"$f":"AI19*'Product Info'!BF20","v":0},{"$f":"AI19*'Product Info'!BI20","v":0},{"$f":"AI19*'Product Info'!BL20","v":0},{"$f":"AI19*'Product Info'!BO20","v":0},{"$f":"AI19*'Product Info'!BR20","v":0},{"$f":"AI19*'Product Info'!BU20","v":0},{"$f":"AI19*'Product Info'!BX20","v":0}]
[{"$f":"'Product Info'!A21","v":0},{"$f":"'Product Info'!B21","v":0},{"$f":"'Product Info'!C21","v":0},null,null,null,null,null,null,null,null,null,null,null,null,null,null,null,null,null,null,null,null,null,null,null,null,null,null,null,null,null,null,null,0,{"$f":"'Product Info'!F21*('Daily Info (December)'!AI20)","v":0},null,null,{"$f":"AI20*('Product Info'!H21)","v":0},{"$f":"AI20*('Product Info'!M21+'Product Info'!P21+'Product Info'!S21+'Product Info'!V21+'Product Info'!Y21+'Product Info'!AB21+'Product Info'!AE21+'Product Info'!AH21+'Product Info'!AK21+'Product Info'!AN21+'Product Info'!AQ21+'Product Info'!AT21+'Product Info'!AW21+'Product Info'!AZ21+'Product Info'!BC21+'Product Info'!BF21+'Product Info'!BI21+'Product Info'!BL21+'Product Info'!BO21+'Product Info'!BR21+'Product Info'!BU21+'Product Info'!BX21+'Product Info'!CA21+'Product Info'!CD21+'Product Info'!CG21+'Product Info'!CJ21+'Product Info'!CM21+'Product Info'!CP21+'Product Info'!CS21+'Product Info'!CV21+'Product Info'!CY21+'Product Info'!DB21+'Product Info'!DE21+'Product Info'!DH21+'Product Info'!DK21+'Product Info'!DN21+'Product Info'!DQ21+'Product Info'!DT21+'Product Info'!DW21+'Product Info'!DZ21+'Product Info'!EC21+'Product Info'!EF21+'Product Info'!EI21+'Product Info'!EL21+'Product Info'!EO21+'Product Info'!ER21+'Product Info'!EU21+'Product Info'!EX21+'Product Info'!FA21+'Product Info'!FD21)","v":0},{"$f":"AI20*('Product Info'!M21)","v":0},{"$f":"AI20*'Product Info'!P21","v":0},{"$f":"AI20*'Product Info'!S21","v":0},{"$f":"AI20*'Product Info'!V21","v":0},{"$f":"AI20*'Product Info'!Y21","v":0},{"$f":"AI20*'Product Info'!AB21","v":0},{"$f":"AI20*'Product Info'!AE21","v":0},{"$f":"AI20*'Product Info'!AH21","v":0},{"$f":"AI20*'Product Info'!AK21","v":0},{"$f":"AI20*'Product Info'!AN21","v":0},{"$f":"AI20*'Product Info'!AQ21","v":0},{"$f":"AI20*'Product Info'!AT21","v":0},{"$f":"AI20*'Product Info'!AW21","v":0},{"$f":"AI20*'Product Info'!AZ21","v":0},{"$f":"AI20*'Product Info'!BC21","v":0},{"$f":"AI20*'Product Info'!BF21","v":0},{"$f":"AI20*'Product Info'!BI21","v":0},{"$f":"AI20*'Product Info'!BL21","v":0},{"$f":"AI20*'Product Info'!BO21","v":0},{"$f":"AI20*'Product Info'!BR21","v":0},{"$f":"AI20*'Product Info'!BU21","v":0},{"$f":"AI20*'Product Info'!BX21","v":0}]
[{"$f":"'Product Info'!A22","v":0},{"$f":"'Product Info'!B22","v":0},{"$f":"'Product Info'!C22","v":0},null,null,null,null,null,null,null,null,null,null,null,null,null,null,null,null,null,null,null,null,null,null,null,null,null,null,null,null,null,null,null,0,{"$f":"'Product Info'!F22*('Daily Info (December)'!AI21)","v":0},null,null,{"$f":"AI21*('Product Info'!H22)","v":0},{"$f":"AI21*('Product Info'!M22+'Product Info'!P22+'Product Info'!S22+'Product Info'!V22+'Product Info'!Y22+'Product Info'!AB22+'Product Info'!AE22+'Product Info'!AH22+'Product Info'!AK22+'Product Info'!AN22+'Product Info'!AQ22+'Product Info'!AT22+'Product Info'!AW22+'Product Info'!AZ22+'Product Info'!BC22+'Product Info'!BF22+'Product Info'!BI22+'Product Info'!BL22+'Product Info'!BO22+'Product Info'!BR22+'Product Info'!BU22+'Product Info'!BX22+'Product Info'!CA22+'Product Info'!CD22+'Product Info'!CG22+'Product Info'!CJ22+'Product Info'!CM22+'Product Info'!CP22+'Product Info'!CS22+'Product Info'!CV22+'Product Info'!CY22+'Product Info'!DB22+'Product Info'!DE22+'Product Info'!DH22+'Product Info'!DK22+'Product Info'!DN22+'Product Info'!DQ22+'Product Info'!DT22+'Product Info'!DW22+'Product Info'!DZ22+'Product Info'!EC22+'Product Info'!EF22+'Product Info'!EI22+'Product Info'!EL22+'Product Info'!EO22+'Product Info'!ER22+'Product Info'!EU22+'Product Info'!EX22+'Product Info'!FA22+'Product Info'!FD22)","v":0},{"$f":"AI21*('Product Info'!M22)","v":0},{"$f":"AI21*'Product Info'!P22","v":0},{"$f":"AI21*'Product Info'!S22","v":0},{"$f":"AI21*'Product Info'!V22","v":0},{"$f":"AI21*'Product Info'!Y22","v":0},{"$f":"AI21*'Product Info'!AB22","v":0},{"$f":"AI21*'Product Info'!AE22","v":0},{"$f":"AI21*'Product Info'!AH22","v":0},{"$f":"AI21*'Product Info'!AK22","v":0},{"$f":"AI21*'Product Info'!AN22","v":0},{"$f":"AI21*'Product Info'!AQ22","v":0},{"$f":"AI21*'Product Info'!AT22","v":0},{"$f":"AI21*'Product Info'!AW22","v":0},{"$f":"AI21*'Product Info'!AZ22","v":0},{"$f":"AI21*'Product Info'!BC22","v":0},{"$f":"AI21*'Product Info'!BF22","v":0},{"$f":"AI21*'Product Info'!BI22","v":0},{"$f":"AI21*'Product Info'!BL22","v":0},{"$f":"AI21*'Product Info'!BO22","v":0},{"$f":"AI21*'Product Info'!BR22","v":0},{"$f":"AI21*'Product Info'!BU22","v":0},{"$f":"AI21*'Product Info'!BX22","v":0}]
[{"$f":"'Product Info'!A23","v":0},{"$f":"'Product Info'!B23","v":0},{"$f":"'Product Info'!C23","v":0},null,null,null,null,null,null,null,null,null,null,null,null,null,null,null,null,null,null,null,null,null,null,null,null,null,null,null,null,null,null,null,0,{"$f":"'Product Info'!F23*('Daily Info (December)'!AI22)","v":0},null,null,{"$f":"AI22*('Product Info'!H23)","v":0},{"$f":"AI22*('Product Info'!M23+'Product Info'!P23+'Product Info'!S23+'Product Info'!V23+'Product Info'!Y23+'Product Info'!AB23+'Product Info'!AE23+'Product Info'!AH23+'Product Info'!AK23+'Product Info'!AN23+'Product Info'!AQ23+'Product Info'!AT23+'Product Info'!AW23+'Product Info'!AZ23+'Product Info'!BC23+'Product Info'!BF23+'Product Info'!BI23+'Product Info'!BL23+'Product Info'!BO23+'Product Info'!BR23+'Product Info'!BU23+'Product Info'!BX23+'Product Info'!CA23+'Product Info'!CD23+'Product Info'!CG23+'Product Info'!CJ23+'Product Info'!CM23+'Product Info'!CP23+'Product Info'!CS23+'Product Info'!CV23+'Product Info'!CY23+'Product Info'!DB23+'Product Info'!DE23+'Product Info'!DH23+'Product Info'!DK23+'Product Info'!DN23+'Product Info'!DQ23+'Product Info'!DT23+'Product Info'!DW23+'Product Info'!DZ23+'Product Info'!EC23+'Product Info'!EF23+'Product Info'!EI23+'Product Info'!EL23+'Product Info'!EO23+'Product Info'!ER23+'Product Info'!EU23+'Product Info'!EX23+'Product Info'!FA23+'Product Info'!FD23)","v":0},{"$f":"AI22*('Product Info'!M23)","v":0},{"$f":"AI22*'Product Info'!P23","v":0},{"$f":"AI22*'Product Info'!S23","v":0},{"$f":"AI22*'Product Info'!V23","v":0},{"$f":"AI22*'Product Info'!Y23","v":0},{"$f":"AI22*'Product Info'!AB23","v":0},{"$f":"AI22*'Product Info'!AE23","v":0},{"$f":"AI22*'Product Info'!AH23","v":0},{"$f":"AI22*'Product Info'!AK23","v":0},{"$f":"AI22*'Product Info'!AN23","v":0},{"$f":"AI22*'Product Info'!AQ23","v":0},{"$f":"AI22*'Product Info'!AT23","v":0},{"$f":"AI22*'Product Info'!AW23","v":0},{"$f":"AI22*'Product Info'!AZ23","v":0},{"$f":"AI22*'Product Info'!BC23","v":0},{"$f":"AI22*'Product Info'!BF23","v":0},{"$f":"AI22*'Product Info'!BI23","v":0},{"$f":"AI22*'Product Info'!BL23","v":0},{"$f":"AI22*'Product Info'!BO23","v":0},{"$f":"AI22*'Product Info'!BR23","v":0},{"$f":"AI22*'Product Info'!BU23","v":0},{"$f":"AI22*'Product Info'!BX23","v":0}]
[{"$f":"'Product Info'!A24","v":0},{"$f":"'Product Info'!B24","v":0},{"$f":"'Product Info'!C24","v":0},null,null,null,null,null,null,null,null,null,null,null,null,null,null,null,null,null,null,null,null,null,null,null,null,null,null,null,null,null,null,null,0,{"$f":"'Product Info'!F24*('Daily Info (December)'!AI23)","v":0},null,null,{"$f":"AI23*('Product Info'!H24)","v":0},{"$f":"AI23*('Product Info'!M24+'Product Info'!P24+'Product Info'!S24+'Product Info'!V24+'Product Info'!Y24+'Product Info'!AB24+'Product Info'!AE24+'Product Info'!AH24+'Product Info'!AK24+'Product Info'!AN24+'Product Info'!AQ24+'Product Info'!AT24+'Product Info'!AW24+'Product Info'!AZ24+'Product Info'!BC24+'Product Info'!BF24+'Product Info'!BI24+'Product Info'!BL24+'Product Info'!BO24+'Product Info'!BR24+'Product Info'!BU24+'Product Info'!BX24+'Product Info'!CA24+'Product Info'!CD24+'Product Info'!CG24+'Product Info'!CJ24+'Product Info'!CM24+'Product Info'!CP24+'Product Info'!CS24+'Product Info'!CV24+'Product Info'!CY24+'Product Info'!DB24+'Product Info'!DE24+'Product Info'!DH24+'Product Info'!DK24+'Product Info'!DN24+'Product Info'!DQ24+'Product Info'!DT24+'Product Info'!DW24+'Product Info'!DZ24+'Product Info'!EC24+'Product Info'!EF24+'Product Info'!EI24+'Product Info'!EL24+'Product Info'!EO24+'Product Info'!ER24+'Product Info'!EU24+'Product Info'!EX24+'Product Info'!FA24+'Product Info'!FD24)","v":0},{"$f":"AI23*('Product Info'!M24)","v":0},{"$f":"AI23*'Product Info'!P24","v":0},{"$f":"AI23*'Product Info'!S24","v":0},{"$f":"AI23*'Product Info'!V24","v":0},{"$f":"AI23*'Product Info'!Y24","v":0},{"$f":"AI23*'Product Info'!AB24","v":0},{"$f":"AI23*'Product Info'!AE24","v":0},{"$f":"AI23*'Product Info'!AH24","v":0},{"$f":"AI23*'Product Info'!AK24","v":0},{"$f":"AI23*'Product Info'!AN24","v":0},{"$f":"AI23*'Product Info'!AQ24","v":0},{"$f":"AI23*'Product Info'!AT24","v":0},{"$f":"AI23*'Product Info'!AW24","v":0},{"$f":"AI23*'Product Info'!AZ24","v":0},{"$f":"AI23*'Product Info'!BC24","v":0},{"$f":"AI23*'Product Info'!BF24","v":0},{"$f":"AI23*'Product Info'!BI24","v":0},{"$f":"AI23*'Product Info'!BL24","v":0},{"$f":"AI23*'Product Info'!BO24","v":0},{"$f":"AI23*'Product Info'!BR24","v":0},{"$f":"AI23*'Product Info'!BU24","v":0},{"$f":"AI23*'Product Info'!BX24","v":0}]
[{"$f":"'Product Info'!A25","v":0},{"$f":"'Product Info'!B25","v":0},{"$f":"'Product Info'!C25","v":0},null,null,null,null,null,null,null,null,null,null,null,null,null,null,null,null,null,null,null,null,null,null,null,null,null,null,null,null,null,null,null,0,{"$f":"'Product Info'!F25*('Daily Info (December)'!AI24)","v":0},null,null,{"$f":"AI24*('Product Info'!H25)","v":0},{"$f":"AI24*('Product Info'!M25+'Product Info'!P25+'Product Info'!S25+'Product Info'!V25+'Product Info'!Y25+'Product Info'!AB25+'Product Info'!AE25+'Product Info'!AH25+'Product Info'!AK25+'Product Info'!AN25+'Product Info'!AQ25+'Product Info'!AT25+'Product Info'!AW25+'Product Info'!AZ25+'Product Info'!BC25+'Product Info'!BF25+'Product Info'!BI25+'Product Info'!BL25+'Product Info'!BO25+'Product Info'!BR25+'Product Info'!BU25+'Product Info'!BX25+'Product Info'!CA25+'Product Info'!CD25+'Product Info'!CG25+'Product Info'!CJ25+'Product Info'!CM25+'Product Info'!CP25+'Product Info'!CS25+'Product Info'!CV25+'Product Info'!CY25+'Product Info'!DB25+'Product Info'!DE25+'Product Info'!DH25+'Product Info'!DK25+'Product Info'!DN25+'Product Info'!DQ25+'Product Info'!DT25+'Product Info'!DW25+'Product Info'!DZ25+'Product Info'!EC25+'Product Info'!EF25+'Product Info'!EI25+'Product Info'!EL25+'Product Info'!EO25+'Product Info'!ER25+'Product Info'!EU25+'Product Info'!EX25+'Product Info'!FA25+'Product Info'!FD25)","v":0},{"$f":"AI24*('Product Info'!M25)","v":0},{"$f":"AI24*'Product Info'!P25","v":0},{"$f":"AI24*'Product Info'!S25","v":0},{"$f":"AI24*'Product Info'!V25","v":0},{"$f":"AI24*'Product Info'!Y25","v":0},{"$f":"AI24*'Product Info'!AB25","v":0},{"$f":"AI24*'Product Info'!AE25","v":0},{"$f":"AI24*'Product Info'!AH25","v":0},{"$f":"AI24*'Product Info'!AK25","v":0},{"$f":"AI24*'Product Info'!AN25","v":0},{"$f":"AI24*'Product Info'!AQ25","v":0},{"$f":"AI24*'Product Info'!AT25","v":0},{"$f":"AI24*'Product Info'!AW25","v":0},{"$f":"AI24*'Product Info'!AZ25","v":0},{"$f":"AI24*'Product Info'!BC25","v":0},{"$f":"AI24*'Product Info'!BF25","v":0},{"$f":"AI24*'Product Info'!BI25","v":0},{"$f":"AI24*'Product Info'!BL25","v":0},{"$f":"AI24*'Product Info'!BO25","v":0},{"$f":"AI24*'Product Info'!BR25","v":0},{"$f":"AI24*'Product Info'!BU25","v":0},{"$f":"AI24*'Product Info'!BX25","v":0}]
[{"$f":"'Product Info'!A26","v":0},{"$f":"'Product Info'!B26","v":0},{"$f":"'Product Info'!C26","v":0},null,null,null,null,null,null,null,null,null,null,null,null,null,null,null,null,null,null,null,null,null,null,null,null,null,null,null,null,null,null,null,0,{"$f":"'Product Info'!F26*('Daily Info (December)'!AI25)","v":0},null,null,{"$f":"AI25*('Product Info'!H26)","v":0},{"$f":"AI25*('Product Info'!M26+'Product Info'!P26+'Product Info'!S26+'Product Info'!V26+'Product Info'!Y26+'Product Info'!AB26+'Product Info'!AE26+'Product Info'!AH26+'Product Info'!AK26+'Product Info'!AN26+'Product Info'!AQ26+'Product Info'!AT26+'Product Info'!AW26+'Product Info'!AZ26+'Product Info'!BC26+'Product Info'!BF26+'Product Info'!BI26+'Product Info'!BL26+'Product Info'!BO26+'Product Info'!BR26+'Product Info'!BU26+'Product Info'!BX26+'Product Info'!CA26+'Product Info'!CD26+'Product Info'!CG26+'Product Info'!CJ26+'Product Info'!CM26+'Product Info'!CP26+'Product Info'!CS26+'Product Info'!CV26+'Product Info'!CY26+'Product Info'!DB26+'Product Info'!DE26+'Product Info'!DH26+'Product Info'!DK26+'Product Info'!DN26+'Product Info'!DQ26+'Product Info'!DT26+'Product Info'!DW26+'Product Info'!DZ26+'Product Info'!EC26+'Product Info'!EF26+'Product Info'!EI26+'Product Info'!EL26+'Product Info'!EO26+'Product Info'!ER26+'Product Info'!EU26+'Product Info'!EX26+'Product Info'!FA26+'Product Info'!FD26)","v":0},{"$f":"AI25*('Product Info'!M26)","v":0},{"$f":"AI25*'Product Info'!P26","v":0},{"$f":"AI25*'Product Info'!S26","v":0},{"$f":"AI25*'Product Info'!V26","v":0},{"$f":"AI25*'Product Info'!Y26","v":0},{"$f":"AI25*'Product Info'!AB26","v":0},{"$f":"AI25*'Product Info'!AE26","v":0},{"$f":"AI25*'Product Info'!AH26","v":0},{"$f":"AI25*'Product Info'!AK26","v":0},{"$f":"AI25*'Product Info'!AN26","v":0},{"$f":"AI25*'Product Info'!AQ26","v":0},{"$f":"AI25*'Product Info'!AT26","v":0},{"$f":"AI25*'Product Info'!AW26","v":0},{"$f":"AI25*'Product Info'!AZ26","v":0},{"$f":"AI25*'Product Info'!BC26","v":0},{"$f":"AI25*'Product Info'!BF26","v":0},{"$f":"AI25*'Product Info'!BI26","v":0},{"$f":"AI25*'Product Info'!BL26","v":0},{"$f":"AI25*'Product Info'!BO26","v":0},{"$f":"AI25*'Product Info'!BR26","v":0},{"$f":"AI25*'Product Info'!BU26","v":0},{"$f":"AI25*'Product Info'!BX26","v":0}]
[{"$f":"'Product Info'!A27","v":0},{"$f":"'Product Info'!B27","v":0},{"$f":"'Product Info'!C27","v":0},null,null,null,null,null,null,null,null,null,null,null,null,null,null,null,null,null,null,null,null,null,null,null,null,null,null,null,null,null,null,null,0,{"$f":"'Product Info'!F27*('Daily Info (December)'!AI26)","v":0},null,null,{"$f":"AI26*('Product Info'!H27)","v":0},{"$f":"AI26*('Product Info'!M27+'Product Info'!P27+'Product Info'!S27+'Product Info'!V27+'Product Info'!Y27+'Product Info'!AB27+'Product Info'!AE27+'Product Info'!AH27+'Product Info'!AK27+'Product Info'!AN27+'Product Info'!AQ27+'Product Info'!AT27+'Product Info'!AW27+'Product Info'!AZ27+'Product Info'!BC27+'Product Info'!BF27+'Product Info'!BI27+'Product Info'!BL27+'Product Info'!BO27+'Product Info'!BR27+'Product Info'!BU27+'Product Info'!BX27+'Product Info'!CA27+'Product Info'!CD27+'Product Info'!CG27+'Product Info'!CJ27+'Product Info'!CM27+'Product Info'!CP27+'Product Info'!CS27+'Product Info'!CV27+'Product Info'!CY27+'Product Info'!DB27+'Product Info'!DE27+'Product Info'!DH27+'Product Info'!DK27+'Product Info'!DN27+'Product Info'!DQ27+'Product Info'!DT27+'Product Info'!DW27+'Product Info'!DZ27+'Product Info'!EC27+'Product Info'!EF27+'Product Info'!EI27+'Product Info'!EL27+'Product Info'!EO27+'Product Info'!ER27+'Product Info'!EU27+'Product Info'!EX27+'Product Info'!FA27+'Product Info'!FD27)","v":0},{"$f":"AI26*('Product Info'!M27)","v":0},{"$f":"AI26*'Product Info'!P27","v":0},{"$f":"AI26*'Product Info'!S27","v":0},{"$f":"AI26*'Product Info'!V27","v":0},{"$f":"AI26*'Product Info'!Y27","v":0},{"$f":"AI26*'Product Info'!AB27","v":0},{"$f":"AI26*'Product Info'!AE27","v":0},{"$f":"AI26*'Product Info'!AH27","v":0},{"$f":"AI26*'Product Info'!AK27","v":0},{"$f":"AI26*'Product Info'!AN27","v":0},{"$f":"AI26*'Product Info'!AQ27","v":0},{"$f":"AI26*'Product Info'!AT27","v":0},{"$f":"AI26*'Product Info'!AW27","v":0},{"$f":"AI26*'Product Info'!AZ27","v":0},{"$f":"AI26*'Product Info'!BC27","v":0},{"$f":"AI26*'Product Info'!BF27","v":0},{"$f":"AI26*'Product Info'!BI27","v":0},{"$f":"AI26*'Product Info'!BL27","v":0},{"$f":"AI26*'Product Info'!BO27","v":0},{"$f":"AI26*'Product Info'!BR27","v":0},{"$f":"AI26*'Product Info'!BU27","v":0},{"$f":"AI26*'Product Info'!BX27","v":0}]
[{"$f":"'Product Info'!A28","v":0},{"$f":"'Product Info'!B28","v":0},{"$f":"'Product Info'!C28","v":0},null,null,null,null,null,null,null,null,null,null,null,null,null,null,null,null,null,null,null,null,null,null,null,null,null,null,null,null,null,null,null,0,{"$f":"'Product Info'!F28*('Daily Info (December)'!AI27)","v":0},null,null,{"$f":"AI27*('Product Info'!H28)","v":0},{"$f":"AI27*('Product Info'!M28+'Product Info'!P28+'Product Info'!S28+'Product Info'!V28+'Product Info'!Y28+'Product Info'!AB28+'Product Info'!AE28+'Product Info'!AH28+'Product Info'!AK28+'Product Info'!AN28+'Product Info'!AQ28+'Product Info'!AT28+'Product Info'!AW28+'Product Info'!AZ28+'Product Info'!BC28+'Product Info'!BF28+'Product Info'!BI28+'Product Info'!BL28+'Product Info'!BO28+'Product Info'!BR28+'Product Info'!BU28+'Product Info'!BX28+'Product Info'!CA28+'Product Info'!CD28+'Product Info'!CG28+'Product Info'!CJ28+'Product Info'!CM28+'Product Info'!CP28+'Product Info'!CS28+'Product Info'!CV28+'Product Info'!CY28+'Product Info'!DB28+'Product Info'!DE28+'Product Info'!DH28+'Product Info'!DK28+'Product Info'!DN28+'Product Info'!DQ28+'Product Info'!DT28+'Product Info'!DW28+'Product Info'!DZ28+'Product Info'!EC28+'Product Info'!EF28+'Product Info'!EI28+'Product Info'!EL28+'Product Info'!EO28+'Product Info'!ER28+'Product Info'!EU28+'Product Info'!EX28+'Product Info'!FA28+'Product Info'!FD28)","v":0},{"$f":"AI27*('Product Info'!M28)","v":0},{"$f":"AI27*'Product Info'!P28","v":0},{"$f":"AI27*'Product Info'!S28","v":0},{"$f":"AI27*'Product Info'!V28","v":0},{"$f":"AI27*'Product Info'!Y28","v":0},{"$f":"AI27*'Product Info'!AB28","v":0},{"$f":"AI27*'Product Info'!AE28","v":0},{"$f":"AI27*'Product Info'!AH28","v":0},{"$f":"AI27*'Product Info'!AK28","v":0},{"$f":"AI27*'Product Info'!AN28","v":0},{"$f":"AI27*'Product Info'!AQ28","v":0},{"$f":"AI27*'Product Info'!AT28","v":0},{"$f":"AI27*'Product Info'!AW28","v":0},{"$f":"AI27*'Product Info'!AZ28","v":0},{"$f":"AI27*'Product Info'!BC28","v":0},{"$f":"AI27*'Product Info'!BF28","v":0},{"$f":"AI27*'Product Info'!BI28","v":0},{"$f":"AI27*'Product Info'!BL28","v":0},{"$f":"AI27*'Product Info'!BO28","v":0},{"$f":"AI27*'Product Info'!BR28","v":0},{"$f":"AI27*'Product Info'!BU28","v":0},{"$f":"AI27*'Product Info'!BX28","v":0}]
[{"$f":"'Product Info'!A29","v":0},{"$f":"'Product Info'!B29","v":0},{"$f":"'Product Info'!C29","v":0},null,null,null,null,null,null,null,null,null,null,null,null,null,null,null,null,null,null,null,null,null,null,null,null,null,null,null,null,null,null,null,0,{"$f":"'Product Info'!F29*('Daily Info (December)'!AI28)","v":0},null,null,{"$f":"AI28*('Product Info'!H29)","v":0},{"$f":"AI28*('Product Info'!M29+'Product Info'!P29+'Product Info'!S29+'Product Info'!V29+'Product Info'!Y29+'Product Info'!AB29+'Product Info'!AE29+'Product Info'!AH29+'Product Info'!AK29+'Product Info'!AN29+'Product Info'!AQ29+'Product Info'!AT29+'Product Info'!AW29+'Product Info'!AZ29+'Product Info'!BC29+'Product Info'!BF29+'Product Info'!BI29+'Product Info'!BL29+'Product Info'!BO29+'Product Info'!BR29+'Product Info'!BU29+'Product Info'!BX29+'Product Info'!CA29+'Product Info'!CD29+'Product Info'!CG29+'Product Info'!CJ29+'Product Info'!CM29+'Product Info'!CP29+'Product Info'!CS29+'Product Info'!CV29+'Product Info'!CY29+'Product Info'!DB29+'Product Info'!DE29+'Product Info'!DH29+'Product Info'!DK29+'Product Info'!DN29+'Product Info'!DQ29+'Product Info'!DT29+'Product Info'!DW29+'Product Info'!DZ29+'Product Info'!EC29+'Product Info'!EF29+'Product Info'!EI29+'Product Info'!EL29+'Product Info'!EO29+'Product Info'!ER29+'Product Info'!EU29+'Product Info'!EX29+'Product Info'!FA29+'Product Info'!FD29)","v":0},{"$f":"AI28*('Product Info'!M29)","v":0},{"$f":"AI28*'Product Info'!P29","v":0},{"$f":"AI28*'Product Info'!S29","v":0},{"$f":"AI28*'Product Info'!V29","v":0},{"$f":"AI28*'Product Info'!Y29","v":0},{"$f":"AI28*'Product Info'!AB29","v":0},{"$f":"AI28*'Product Info'!AE29","v":0},{"$f":"AI28*'Product Info'!AH29","v":0},{"$f":"AI28*'Product Info'!AK29","v":0},{"$f":"AI28*'Product Info'!AN29","v":0},{"$f":"AI28*'Product Info'!AQ29","v":0},{"$f":"AI28*'Product Info'!AT29","v":0},{"$f":"AI28*'Product Info'!AW29","v":0},{"$f":"AI28*'Product Info'!AZ29","v":0},{"$f":"AI28*'Product Info'!BC29","v":0},{"$f":"AI28*'Product Info'!BF29","v":0},{"$f":"AI28*'Product Info'!BI29","v":0},{"$f":"AI28*'Product Info'!BL29","v":0},{"$f":"AI28*'Product Info'!BO29","v":0},{"$f":"AI28*'Product Info'!BR29","v":0},{"$f":"AI28*'Product Info'!BU29","v":0},{"$f":"AI28*'Product Info'!BX29","v":0}]
[{"$f":"'Product Info'!A30","v":0},{"$f":"'Product Info'!B30","v":0},{"$f":"'Product Info'!C30","v":0},null,null,null,null,null,null,null,null,null,null,null,null,null,null,null,null,null,null,null,null,null,null,null,null,null,null,null,null,null,null,null,0,{"$f":"'Product Info'!F30*('Daily Info (December)'!AI29)","v":0},null,null,{"$f":"AI29*('Product Info'!H30)","v":0},{"$f":"AI29*('Product Info'!M30+'Product Info'!P30+'Product Info'!S30+'Product Info'!V30+'Product Info'!Y30+'Product Info'!AB30+'Product Info'!AE30+'Product Info'!AH30+'Product Info'!AK30+'Product Info'!AN30+'Product Info'!AQ30+'Product Info'!AT30+'Product Info'!AW30+'Product Info'!AZ30+'Product Info'!BC30+'Product Info'!BF30+'Product Info'!BI30+'Product Info'!BL30+'Product Info'!BO30+'Product Info'!BR30+'Product Info'!BU30+'Product Info'!BX30+'Product Info'!CA30+'Product Info'!CD30+'Product Info'!CG30+'Product Info'!CJ30+'Product Info'!CM30+'Product Info'!CP30+'Product Info'!CS30+'Product Info'!CV30+'Product Info'!CY30+'Product Info'!DB30+'Product Info'!DE30+'Product Info'!DH30+'Product Info'!DK30+'Product Info'!DN30+'Product Info'!DQ30+'Product Info'!DT30+'Product Info'!DW30+'Product Info'!DZ30+'Product Info'!EC30+'Product Info'!EF30+'Product Info'!EI30+'Product Info'!EL30+'Product Info'!EO30+'Product Info'!ER30+'Product Info'!EU30+'Product Info'!EX30+'Product Info'!FA30+'Product Info'!FD30)","v":0},{"$f":"AI29*('Product Info'!M30)","v":0},{"$f":"AI29*'Product Info'!P30","v":0},{"$f":"AI29*'Product Info'!S30","v":0},{"$f":"AI29*'Product Info'!V30","v":0},{"$f":"AI29*'Product Info'!Y30","v":0},{"$f":"AI29*'Product Info'!AB30","v":0},{"$f":"AI29*'Product Info'!AE30","v":0},{"$f":"AI29*'Product Info'!AH30","v":0},{"$f":"AI29*'Product Info'!AK30","v":0},{"$f":"AI29*'Product Info'!AN30","v":0},{"$f":"AI29*'Product Info'!AQ30","v":0},{"$f":"AI29*'Product Info'!AT30","v":0},{"$f":"AI29*'Product Info'!AW30","v":0},{"$f":"AI29*'Product Info'!AZ30","v":0},{"$f":"AI29*'Product Info'!BC30","v":0},{"$f":"AI29*'Product Info'!BF30","v":0},{"$f":"AI29*'Product Info'!BI30","v":0},{"$f":"AI29*'Product Info'!BL30","v":0},{"$f":"AI29*'Product Info'!BO30","v":0},{"$f":"AI29*'Product Info'!BR30","v":0},{"$f":"AI29*'Product Info'!BU30","v":0},{"$f":"AI29*'Product Info'!BX30","v":0}]
[{"$f":"'Product Info'!A31","v":0},{"$f":"'Product Info'!B31","v":0},{"$f":"'Product Info'!C31","v":0},null,null,null,null,null,null,null,null,null,null,null,null,null,null,null,null,null,null,null,null,null,null,null,null,null,null,null,null,null,null,null,0,{"$f":"'Product Info'!F31*('Daily Info (December)'!AI30)","v":0},null,null,{"$f":"AI30*('Product Info'!H31)","v":0},{"$f":"AI30*('Product Info'!M31+'Product Info'!P31+'Product Info'!S31+'Product Info'!V31+'Product Info'!Y31+'Product Info'!AB31+'Product Info'!AE31+'Product Info'!AH31+'Product Info'!AK31+'Product Info'!AN31+'Product Info'!AQ31+'Product Info'!AT31+'Product Info'!AW31+'Product Info'!AZ31+'Product Info'!BC31+'Product Info'!BF31+'Product Info'!BI31+'Product Info'!BL31+'Product Info'!BO31+'Product Info'!BR31+'Product Info'!BU31+'Product Info'!BX31+'Product Info'!CA31+'Product Info'!CD31+'Product Info'!CG31+'Product Info'!CJ31+'Product Info'!CM31+'Product Info'!CP31+'Product Info'!CS31+'Product Info'!CV31+'Product Info'!CY31+'Product Info'!DB31+'Product Info'!DE31+'Product Info'!DH31+'Product Info'!DK31+'Product Info'!DN31+'Product Info'!DQ31+'Product Info'!DT31+'Product Info'!DW31+'Product Info'!DZ31+'Product Info'!EC31+'Product Info'!EF31+'Product Info'!EI31+'Product Info'!EL31+'Product Info'!EO31+'Product Info'!ER31+'Product Info'!EU31+'Product Info'!EX31+'Product Info'!FA31+'Product Info'!FD31)","v":0},{"$f":"AI30*('Product Info'!M31)","v":0},{"$f":"AI30*'Product Info'!P31","v":0},{"$f":"AI30*'Product Info'!S31","v":0},{"$f":"AI30*'Product Info'!V31","v":0},{"$f":"AI30*'Product Info'!Y31","v":0},{"$f":"AI30*'Product Info'!AB31","v":0},{"$f":"AI30*'Product Info'!AE31","v":0},{"$f":"AI30*'Product Info'!AH31","v":0},{"$f":"AI30*'Product Info'!AK31","v":0},{"$f":"AI30*'Product Info'!AN31","v":0},{"$f":"AI30*'Product Info'!AQ31","v":0},{"$f":"AI30*'Product Info'!AT31","v":0},{"$f":"AI30*'Product Info'!AW31","v":0},{"$f":"AI30*'Product Info'!AZ31","v":0},{"$f":"AI30*'Product Info'!BC31","v":0},{"$f":"AI30*'Product Info'!BF31","v":0},{"$f":"AI30*'Product Info'!BI31","v":0},{"$f":"AI30*'Product Info'!BL31","v":0},{"$f":"AI30*'Product Info'!BO31","v":0},{"$f":"AI30*'Product Info'!BR31","v":0},{"$f":"AI30*'Product Info'!BU31","v":0},{"$f":"AI30*'Product Info'!BX31","v":0}]
[{"$f":"'Product Info'!A32","v":0},{"$f":"'Product Info'!B32","v":0},{"$f":"'Product Info'!C32","v":0},null,null,null,null,null,null,null,null,null,null,null,null,null,null,null,null,null,null,null,null,null,null,null,null,null,null,null,null,null,null,null,0,{"$f":"'Product Info'!F32*('Daily Info (December)'!AI31)","v":0},null,null,{"$f":"AI31*('Product Info'!H32)","v":0},{"$f":"AI31*('Product Info'!M32+'Product Info'!P32+'Product Info'!S32+'Product Info'!V32+'Product Info'!Y32+'Product Info'!AB32+'Product Info'!AE32+'Product Info'!AH32+'Product Info'!AK32+'Product Info'!AN32+'Product Info'!AQ32+'Product Info'!AT32+'Product Info'!AW32+'Product Info'!AZ32+'Product Info'!BC32+'Product Info'!BF32+'Product Info'!BI32+'Product Info'!BL32+'Product Info'!BO32+'Product Info'!BR32+'Product Info'!BU32+'Product Info'!BX32+'Product Info'!CA32+'Product Info'!CD32+'Product Info'!CG32+'Product Info'!CJ32+'Product Info'!CM32+'Product Info'!CP32+'Product Info'!CS32+'Product Info'!CV32+'Product Info'!CY32+'Product Info'!DB32+'Product Info'!DE32+'Product Info'!DH32+'Product Info'!DK32+'Product Info'!DN32+'Product Info'!DQ32+'Product Info'!DT32+'Product Info'!DW32+'Product Info'!DZ32+'Product Info'!EC32+'Product Info'!EF32+'Product Info'!EI32+'Product Info'!EL32+'Product Info'!EO32+'Product Info'!ER32+'Product Info'!EU32+'Product Info'!EX32+'Product Info'!FA32+'Product Info'!FD32)","v":0},{"$f":"AI31*('Product Info'!M32)","v":0},{"$f":"AI31*'Product Info'!P32","v":0},{"$f":"AI31*'Product Info'!S32","v":0},{"$f":"AI31*'Product Info'!V32","v":0},{"$f":"AI31*'Product Info'!Y32","v":0},{"$f":"AI31*'Product Info'!AB32","v":0},{"$f":"AI31*'Product Info'!AE32","v":0},{"$f":"AI31*'Product Info'!AH32","v":0},{"$f":"AI31*'Product Info'!AK32","v":0},{"$f":"AI31*'Product Info'!AN32","v":0},{"$f":"AI31*'Product Info'!AQ32","v":0},{"$f":"AI31*'Product Info'!AT32","v":0},{"$f":"AI31*'Product Info'!AW32","v":0},{"$f":"AI31*'Product Info'!AZ32","v":0},{"$f":"AI31*'Product Info'!BC32","v":0},{"$f":"AI31*'Product Info'!BF32","v":0},{"$f":"AI31*'Product Info'!BI32","v":0},{"$f":"AI31*'Product Info'!BL32","v":0},{"$f":"AI31*'Product Info'!BO32","v":0},{"$f":"AI31*'Product Info'!BR32","v":0},{"$f":"AI31*'Product Info'!BU32","v":0},{"$f":"AI31*'Product Info'!BX32","v":0}]
[{"$f":"'Product Info'!A33","v":0},{"$f":"'Product Info'!B33","v":0},{"$f":"'Product Info'!C33","v":0},null,null,null,null,null,null,null,null,null,null,null,null,null,null,null,null,null,null,null,null,null,null,null,null,null,null,null,null,null,null,null,0,{"$f":"'Product Info'!F33*('Daily Info (December)'!AI32)","v":0},null,null,{"$f":"AI32*('Product Info'!H33)","v":0},{"$f":"AI32*('Product Info'!M33+'Product Info'!P33+'Product Info'!S33+'Product Info'!V33+'Product Info'!Y33+'Product Info'!AB33+'Product Info'!AE33+'Product Info'!AH33+'Product Info'!AK33+'Product Info'!AN33+'Product Info'!AQ33+'Product Info'!AT33+'Product Info'!AW33+'Product Info'!AZ33+'Product Info'!BC33+'Product Info'!BF33+'Product Info'!BI33+'Product Info'!BL33+'Product Info'!BO33+'Product Info'!BR33+'Product Info'!BU33+'Product Info'!BX33+'Product Info'!CA33+'Product Info'!CD33+'Product Info'!CG33+'Product Info'!CJ33+'Product Info'!CM33+'Product Info'!CP33+'Product Info'!CS33+'Product Info'!CV33+'Product Info'!CY33+'Product Info'!DB33+'Product Info'!DE33+'Product Info'!DH33+'Product Info'!DK33+'Product Info'!DN33+'Product Info'!DQ33+'Product Info'!DT33+'Product Info'!DW33+'Product Info'!DZ33+'Product Info'!EC33+'Product Info'!EF33+'Product Info'!EI33+'Product Info'!EL33+'Product Info'!EO33+'Product Info'!ER33+'Product Info'!EU33+'Product Info'!EX33+'Product Info'!FA33+'Product Info'!FD33)","v":0},{"$f":"AI32*('Product Info'!M33)","v":0},{"$f":"AI32*'Product Info'!P33","v":0},{"$f":"AI32*'Product Info'!S33","v":0},{"$f":"AI32*'Product Info'!V33","v":0},{"$f":"AI32*'Product Info'!Y33","v":0},{"$f":"AI32*'Product Info'!AB33","v":0},{"$f":"AI32*'Product Info'!AE33","v":0},{"$f":"AI32*'Product Info'!AH33","v":0},{"$f":"AI32*'Product Info'!AK33","v":0},{"$f":"AI32*'Product Info'!AN33","v":0},{"$f":"AI32*'Product Info'!AQ33","v":0},{"$f":"AI32*'Product Info'!AT33","v":0},{"$f":"AI32*'Product Info'!AW33","v":0},{"$f":"AI32*'Product Info'!AZ33","v":0},{"$f":"AI32*'Product Info'!BC33","v":0},{"$f":"AI32*'Product Info'!BF33","v":0},{"$f":"AI32*'Product Info'!BI33","v":0},{"$f":"AI32*'Product Info'!BL33","v":0},{"$f":"AI32*'Product Info'!BO33","v":0},{"$f":"AI32*'Product Info'!BR33","v":0},{"$f":"AI32*'Product Info'!BU33","v":0},{"$f":"AI32*'Product Info'!BX33","v":0}]
[{"$f":"'Product Info'!A34","v":0},{"$f":"'Product Info'!B34","v":0},{"$f":"'Product Info'!C34","v":0},null,null,null,null,null,null,null,null,null,null,null,null,null,null,null,null,null,null,null,null,null,null,null,null,null,null,null,null,null,null,null,0,{"$f":"'Product Info'!F34*('Daily Info (December)'!AI33)","v":0},null,null,{"$f":"AI33*('Product Info'!H34)","v":0},{"$f":"AI33*('Product Info'!M34+'Product Info'!P34+'Product Info'!S34+'Product Info'!V34+'Product Info'!Y34+'Product Info'!AB34+'Product Info'!AE34+'Product Info'!AH34+'Product Info'!AK34+'Product Info'!AN34+'Product Info'!AQ34+'Product Info'!AT34+'Product Info'!AW34+'Product Info'!AZ34+'Product Info'!BC34+'Product Info'!BF34+'Product Info'!BI34+'Product Info'!BL34+'Product Info'!BO34+'Product Info'!BR34+'Product Info'!BU34+'Product Info'!BX34+'Product Info'!CA34+'Product Info'!CD34+'Product Info'!CG34+'Product Info'!CJ34+'Product Info'!CM34+'Product Info'!CP34+'Product Info'!CS34+'Product Info'!CV34+'Product Info'!CY34+'Product Info'!DB34+'Product Info'!DE34+'Product Info'!DH34+'Product Info'!DK34+'Product Info'!DN34+'Product Info'!DQ34+'Product Info'!DT34+'Product Info'!DW34+'Product Info'!DZ34+'Product Info'!EC34+'Product Info'!EF34+'Product Info'!EI34+'Product Info'!EL34+'Product Info'!EO34+'Product Info'!ER34+'Product Info'!EU34+'Product Info'!EX34+'Product Info'!FA34+'Product Info'!FD34)","v":0},{"$f":"AI33*('Product Info'!M34)","v":0},{"$f":"AI33*'Product Info'!P34","v":0},{"$f":"AI33*'Product Info'!S34","v":0},{"$f":"AI33*'Product Info'!V34","v":0},{"$f":"AI33*'Product Info'!Y34","v":0},{"$f":"AI33*'Product Info'!AB34","v":0},{"$f":"AI33*'Product Info'!AE34","v":0},{"$f":"AI33*'Product Info'!AH34","v":0},{"$f":"AI33*'Product Info'!AK34","v":0},{"$f":"AI33*'Product Info'!AN34","v":0},{"$f":"AI33*'Product Info'!AQ34","v":0},{"$f":"AR33*'Product Info'!AF34","v":0},{"$f":"AI33*'Product Info'!AW34","v":0},{"$f":"AI33*'Product Info'!AZ34","v":0},{"$f":"AI33*'Product Info'!BC34","v":0},{"$f":"AI33*'Product Info'!BF34","v":0},{"$f":"AI33*'Product Info'!BI34","v":0},{"$f":"AI33*'Product Info'!BL34","v":0},{"$f":"AI33*'Product Info'!BO34","v":0},{"$f":"AI33*'Product Info'!BR34","v":0},{"$f":"AI33*'Product Info'!BU34","v":0},{"$f":"AI33*'Product Info'!BX34","v":0}]
[{"$f":"'Product Info'!A35","v":0},{"$f":"'Product Info'!B35","v":0},{"$f":"'Product Info'!C35","v":0},null,null,null,null,null,null,null,null,null,null,null,null,null,null,null,null,null,null,null,null,null,null,null,null,null,null,null,null,null,null,null,0,{"$f":"'Product Info'!F35*('Daily Info (December)'!AI34)","v":0},null,null,{"$f":"AI34*('Product Info'!H35)","v":0},{"$f":"AI34*('Product Info'!M35+'Product Info'!P35+'Product Info'!S35+'Product Info'!V35+'Product Info'!Y35+'Product Info'!AB35+'Product Info'!AE35+'Product Info'!AH35+'Product Info'!AK35+'Product Info'!AN35+'Product Info'!AQ35+'Product Info'!AT35+'Product Info'!AW35+'Product Info'!AZ35+'Product Info'!BC35+'Product Info'!BF35+'Product Info'!BI35+'Product Info'!BL35+'Product Info'!BO35+'Product Info'!BR35+'Product Info'!BU35+'Product Info'!BX35+'Product Info'!CA35+'Product Info'!CD35+'Product Info'!CG35+'Product Info'!CJ35+'Product Info'!CM35+'Product Info'!CP35+'Product Info'!CS35+'Product Info'!CV35+'Product Info'!CY35+'Product Info'!DB35+'Product Info'!DE35+'Product Info'!DH35+'Product Info'!DK35+'Product Info'!DN35+'Product Info'!DQ35+'Product Info'!DT35+'Product Info'!DW35+'Product Info'!DZ35+'Product Info'!EC35+'Product Info'!EF35+'Product Info'!EI35+'Product Info'!EL35+'Product Info'!EO35+'Product Info'!ER35+'Product Info'!EU35+'Product Info'!EX35+'Product Info'!FA35+'Product Info'!FD35)","v":0},{"$f":"AI34*('Product Info'!M35)","v":0},{"$f":"AI34*'Product Info'!P35","v":0},{"$f":"AI34*'Product Info'!S35","v":0},{"$f":"AI34*'Product Info'!V35","v":0},{"$f":"AI34*'Product Info'!Y35","v":0},{"$f":"AI34*'Product Info'!AB35","v":0},{"$f":"AI34*'Product Info'!AE35","v":0},{"$f":"AI34*'Product Info'!AH35","v":0},{"$f":"AI34*'Product Info'!AK35","v":0},{"$f":"AI34*'Product Info'!AN35","v":0},{"$f":"AI34*'Product Info'!AQ35","v":0},{"$f":"AI34*'Product Info'!AT35","v":0},{"$f":"AI34*'Product Info'!AW35","v":0},{"$f":"AI34*'Product Info'!AZ35","v":0},{"$f":"AI34*'Product Info'!BC35","v":0},{"$f":"AI34*'Product Info'!BF35","v":0},{"$f":"AI34*'Product Info'!BI35","v":0},{"$f":"AI34*'Product Info'!BL35","v":0},{"$f":"AI34*'Product Info'!BO35","v":0},{"$f":"AI34*'Product Info'!BR35","v":0},{"$f":"AI34*'Product Info'!BU35","v":0},{"$f":"AI34*'Product Info'!BX35","v":0}]
[{"$f":"'Product Info'!A36","v":0},{"$f":"'Product Info'!B36","v":0},{"$f":"'Product Info'!C36","v":0},null,null,null,null,null,null,null,null,null,null,null,null,null,null,null,null,null,null,null,null,null,null,null,null,null,null,null,null,null,null,null,0,{"$f":"'Product Info'!F36*('Daily Info (December)'!AI35)","v":0},null,null,{"$f":"AI35*('Product Info'!H36)","v":0},{"$f":"AI35*('Product Info'!M36+'Product Info'!P36+'Product Info'!S36+'Product Info'!V36+'Product Info'!Y36+'Product Info'!AB36+'Product Info'!AE36+'Product Info'!AH36+'Product Info'!AK36+'Product Info'!AN36+'Product Info'!AQ36+'Product Info'!AT36+'Product Info'!AW36+'Product Info'!AZ36+'Product Info'!BC36+'Product Info'!BF36+'Product Info'!BI36+'Product Info'!BL36+'Product Info'!BO36+'Product Info'!BR36+'Product Info'!BU36+'Product Info'!BX36+'Product Info'!CA36+'Product Info'!CD36+'Product Info'!CG36+'Product Info'!CJ36+'Product Info'!CM36+'Product Info'!CP36+'Product Info'!CS36+'Product Info'!CV36+'Product Info'!CY36+'Product Info'!DB36+'Product Info'!DE36+'Product Info'!DH36+'Product Info'!DK36+'Product Info'!DN36+'Product Info'!DQ36+'Product Info'!DT36+'Product Info'!DW36+'Product Info'!DZ36+'Product Info'!EC36+'Product Info'!EF36+'Product Info'!EI36+'Product Info'!EL36+'Product Info'!EO36+'Product Info'!ER36+'Product Info'!EU36+'Product Info'!EX36+'Product Info'!FA36+'Product Info'!FD36)","v":0},{"$f":"AI35*('Product Info'!M36)","v":0},{"$f":"AI35*'Product Info'!P36","v":0},{"$f":"AI35*'Product Info'!S36","v":0},{"$f":"AI35*'Product Info'!V36","v":0},{"$f":"AI35*'Product Info'!Y36","v":0},{"$f":"AI35*'Product Info'!AB36","v":0},{"$f":"AI35*'Product Info'!AE36","v":0},{"$f":"AI35*'Product Info'!AH36","v":0},{"$f":"AI35*'Product Info'!AK36","v":0},{"$f":"AI35*'Product Info'!AN36","v":0},{"$f":"AI35*'Product Info'!AQ36","v":0},{"$f":"AI35*'Product Info'!AT36","v":0},{"$f":"AI35*'Product Info'!AW36","v":0},{"$f":"AI35*'Product Info'!AZ36","v":0},{"$f":"AI35*'Product Info'!BC36","v":0},{"$f":"AI35*'Product Info'!BF36","v":0},{"$f":"AI35*'Product Info'!BI36","v":0},{"$f":"AI35*'Product Info'!BL36","v":0},{"$f":"AI35*'Product Info'!BO36","v":0},{"$f":"AI35*'Product Info'!BR36","v":0},{"$f":"AI35*'Product Info'!BU36","v":0},{"$f":"AI35*'Product Info'!BX36","v":0}]
[{"$f":"'Product Info'!A37","v":0},{"$f":"'Product Info'!B37","v":0},{"$f":"'Product Info'!C37","v":0},null,null,null,null,null,null,null,null,null,null,null,null,null,null,null,null,null,null,null,null,null,null,null,null,null,null,null,null,null,null,null,{"$f":"SUM(D36:AH36)","v":0},{"$f":"'Product Info'!F37*('Daily Info (December)'!AI36)","v":0},null,null,{"$f":"AI36*('Product Info'!H37)","v":0},{"$f":"AI36*('Product Info'!M37+'Product Info'!P37+'Product Info'!S37+'Product Info'!V37+'Product Info'!Y37+'Product Info'!AB37+'Product Info'!AE37+'Product Info'!AH37+'Product Info'!AK37+'Product Info'!AN37+'Product Info'!AQ37+'Product Info'!AT37+'Product Info'!AW37+'Product Info'!AZ37+'Product Info'!BC37+'Product Info'!BF37+'Product Info'!BI37+'Product Info'!BL37+'Product Info'!BO37+'Product Info'!BR37+'Product Info'!BU37+'Product Info'!BX37+'Product Info'!CA37+'Product Info'!CD37+'Product Info'!CG37+'Product Info'!CJ37+'Product Info'!CM37+'Product Info'!CP37+'Product Info'!CS37+'Product Info'!CV37+'Product Info'!CY37+'Product Info'!DB37+'Product Info'!DE37+'Product Info'!DH37+'Product Info'!DK37+'Product Info'!DN37+'Product Info'!DQ37+'Product Info'!DT37+'Product Info'!DW37+'Product Info'!DZ37+'Product Info'!EC37+'Product Info'!EF37+'Product Info'!EI37+'Product Info'!EL37+'Product Info'!EO37+'Product Info'!ER37+'Product Info'!EU37+'Product Info'!EX37+'Product Info'!FA37+'Product Info'!FD37)","v":0},{"$f":"AI36*('Product Info'!M37)","v":0},{"$f":"AI36*'Product Info'!P37","v":0},{"$f":"AI36*'Product Info'!S37","v":0},{"$f":"AI36*'Product Info'!V37","v":0},{"$f":"AI36*'Product Info'!Y37","v":0},{"$f":"AI36*'Product Info'!AB37","v":0},{"$f":"AI36*'Product Info'!AE37","v":0},{"$f":"AI36*'Product Info'!AH37","v":0},{"$f":"AI36*'Product Info'!AK37","v":0},{"$f":"AI36*'Product Info'!AN37","v":0},{"$f":"AI36*'Product Info'!AQ37","v":0},{"$f":"AI36*'Product Info'!AT37","v":0},{"$f":"AI36*'Product Info'!AW37","v":0},{"$f":"AI36*'Product Info'!AZ37","v":0},{"$f":"AI36*'Product Info'!BC37","v":0},{"$f":"AI36*'Product Info'!BF37","v":0},{"$f":"AI36*'Product Info'!BI37","v":0},{"$f":"AI36*'Product Info'!BL37","v":0},{"$f":"AI36*'Product Info'!BO37","v":0},{"$f":"AI36*'Product Info'!BR37","v":0},{"$f":"AI36*'Product Info'!BU37","v":0},{"$f":"AI36*'Product Info'!BX37","v":0}]
[{"$f":"'Product Info'!A38","v":0},{"$f":"'Product Info'!B38","v":0},{"$f":"'Product Info'!C38","v":0},null,null,null,null,null,null,null,null,null,null,null,null,null,null,null,null,null,null,null,null,null,null,null,null,null,null,null,null,null,null,null,0,{"$f":"'Product Info'!F38*('Daily Info (December)'!AI37)","v":0},null,null,{"$f":"AI37*('Product Info'!H38)","v":0},{"$f":"AI37*('Product Info'!M38+'Product Info'!P38+'Product Info'!S38+'Product Info'!V38+'Product Info'!Y38+'Product Info'!AB38+'Product Info'!AE38+'Product Info'!AH38+'Product Info'!AK38+'Product Info'!AN38+'Product Info'!AQ38+'Product Info'!AT38+'Product Info'!AW38+'Product Info'!AZ38+'Product Info'!BC38+'Product Info'!BF38+'Product Info'!BI38+'Product Info'!BL38+'Product Info'!BO38+'Product Info'!BR38+'Product Info'!BU38+'Product Info'!BX38+'Product Info'!CA38+'Product Info'!CD38+'Product Info'!CG38+'Product Info'!CJ38+'Product Info'!CM38+'Product Info'!CP38+'Product Info'!CS38+'Product Info'!CV38+'Product Info'!CY38+'Product Info'!DB38+'Product Info'!DE38+'Product Info'!DH38+'Product Info'!DK38+'Product Info'!DN38+'Product Info'!DQ38+'Product Info'!DT38+'Product Info'!DW38+'Product Info'!DZ38+'Product Info'!EC38+'Product Info'!EF38+'Product Info'!EI38+'Product Info'!EL38+'Product Info'!EO38+'Product Info'!ER38+'Product Info'!EU38+'Product Info'!EX38+'Product Info'!FA38+'Product Info'!FD38)","v":0},{"$f":"AI37*('Product Info'!M38)","v":0},{"$f":"AI37*'Product Info'!P38","v":0},{"$f":"AI37*'Product Info'!S38","v":0},{"$f":"AI37*'Product Info'!V38","v":0},{"$f":"AI37*'Product Info'!Y38","v":0},{"$f":"AI37*'Product Info'!AB38","v":0},{"$f":"AI37*'Product Info'!AE38","v":0},{"$f":"AI37*'Product Info'!AH38","v":0},{"$f":"AI37*'Product Info'!AK38","v":0},{"$f":"AI37*'Product Info'!AN38","v":0},{"$f":"AI37*'Product Info'!AQ38","v":0},{"$f":"AI37*'Product Info'!AT38","v":0},{"$f":"AI37*'Product Info'!AW38","v":0},{"$f":"AI37*'Product Info'!AZ38","v":0},{"$f":"AI37*'Product Info'!BC38","v":0},{"$f":"AI37*'Product Info'!BF38","v":0},{"$f":"AI37*'Product Info'!BI38","v":0},{"$f":"AI37*'Product Info'!BL38","v":0},{"$f":"AI37*'Product Info'!BO38","v":0},{"$f":"AI37*'Product Info'!BR38","v":0},{"$f":"AI37*'Product Info'!BU38","v":0},{"$f":"AI37*'Product Info'!BX38","v":0}]
[{"$f":"'Product Info'!A39","v":0},{"$f":"'Product Info'!B39","v":0},{"$f":"'Product Info'!C39","v":0},null,null,null,null,null,null,null,null,null,null,null,null,null,null,null,null,null,null,null,null,null,null,null,null,null,null,null,null,null,null,null,0,{"$f":"'Product Info'!F39*('Daily Info (December)'!AI38)","v":0},null,null,{"$f":"AI38*('Product Info'!H39)","v":0},{"$f":"AI38*('Product Info'!M39+'Product Info'!P39+'Product Info'!S39+'Product Info'!V39+'Product Info'!Y39+'Product Info'!AB39+'Product Info'!AE39+'Product Info'!AH39+'Product Info'!AK39+'Product Info'!AN39+'Product Info'!AQ39+'Product Info'!AT39+'Product Info'!AW39+'Product Info'!AZ39+'Product Info'!BC39+'Product Info'!BF39+'Product Info'!BI39+'Product Info'!BL39+'Product Info'!BO39+'Product Info'!BR39+'Product Info'!BU39+'Product Info'!BX39+'Product Info'!CA39+'Product Info'!CD39+'Product Info'!CG39+'Product Info'!CJ39+'Product Info'!CM39+'Product Info'!CP39+'Product Info'!CS39+'Product Info'!CV39+'Product Info'!CY39+'Product Info'!DB39+'Product Info'!DE39+'Product Info'!DH39+'Product Info'!DK39+'Product Info'!DN39+'Product Info'!DQ39+'Product Info'!DT39+'Product Info'!DW39+'Product Info'!DZ39+'Product Info'!EC39+'Product Info'!EF39+'Product Info'!EI39+'Product Info'!EL39+'Product Info'!EO39+'Product Info'!ER39+'Product Info'!EU39+'Product Info'!EX39+'Product Info'!FA39+'Product Info'!FD39)","v":0},{"$f":"AI38*('Product Info'!M39)","v":0},{"$f":"AI38*'Product Info'!P39","v":0},{"$f":"AI38*'Product Info'!S39","v":0},{"$f":"AI38*'Product Info'!V39","v":0},{"$f":"AI38*'Product Info'!Y39","v":0},{"$f":"AI38*'Product Info'!AB39","v":0},{"$f":"AI38*'Product Info'!AE39","v":0},{"$f":"AI38*'Product Info'!AH39","v":0},{"$f":"AI38*'Product Info'!AK39","v":0},{"$f":"AI38*'Product Info'!AN39","v":0},{"$f":"AI38*'Product Info'!AQ39","v":0},{"$f":"AI38*'Product Info'!AT39","v":0},{"$f":"AI38*'Product Info'!AW39","v":0},{"$f":"AI38*'Product Info'!AZ39","v":0},{"$f":"AI38*'Product Info'!BC39","v":0},{"$f":"AI38*'Product Info'!BF39","v":0},{"$f":"AI38*'Product Info'!BI39","v":0},{"$f":"AI38*'Product Info'!BL39","v":0},{"$f":"AI38*'Product Info'!BO39","v":0},{"$f":"AI38*'Product Info'!BR39","v":0},{"$f":"AI38*'Product Info'!BU39","v":0},{"$f":"AI38*'Product Info'!BX39","v":0}]
[{"$f":"'Product Info'!A40","v":0},{"$f":"'Product Info'!B40","v":0},{"$f":"'Product Info'!C40","v":0},null,null,null,null,null,null,null,null,null,null,null,null,null,null,null,null,null,null,null,null,null,null,null,null,null,null,null,null,null,null,null,0,{"$f":"'Product Info'!F40*('Daily Info (December)'!AI39)","v":0},null,null,{"$f":"AI39*('Product Info'!H40)","v":0},{"$f":"AI39*('Product Info'!M40+'Product Info'!P40+'Product Info'!S40+'Product Info'!V40+'Product Info'!Y40+'Product Info'!AB40+'Product Info'!AE40+'Product Info'!AH40+'Product Info'!AK40+'Product Info'!AN40+'Product Info'!AQ40+'Product Info'!AT40+'Product Info'!AW40+'Product Info'!AZ40+'Product Info'!BC40+'Product Info'!BF40+'Product Info'!BI40+'Product Info'!BL40+'Product Info'!BO40+'Product Info'!BR40+'Product Info'!BU40+'Product Info'!BX40+'Product Info'!CA40+'Product Info'!CD40+'Product Info'!CG40+'Product Info'!CJ40+'Product Info'!CM40+'Product Info'!CP40+'Product Info'!CS40+'Product Info'!CV40+'Product Info'!CY40+'Product Info'!DB40+'Product Info'!DE40+'Product Info'!DH40+'Product Info'!DK40+'Product Info'!DN40+'Product Info'!DQ40+'Product Info'!DT40+'Product Info'!DW40+'Product Info'!DZ40+'Product Info'!EC40+'Product Info'!EF40+'Product Info'!EI40+'Product Info'!EL40+'Product Info'!EO40+'Product Info'!ER40+'Product Info'!EU40+'Product Info'!EX40+'Product Info'!FA40+'Product Info'!FD40)","v":0},{"$f":"AI39*('Product Info'!M40)","v":0},{"$f":"AI39*'Product Info'!P40","v":0},{"$f":"AI39*'Product Info'!S40","v":0},{"$f":"AI39*'Product Info'!V40","v":0},{"$f":"AI39*'Product Info'!Y40","v":0},{"$f":"AI39*'Product Info'!AB40","v":0},{"$f":"AI39*'Product Info'!AE40","v":0},{"$f":"AI39*'Product Info'!AH40","v":0},{"$f":"AI39*'Product Info'!AK40","v":0},{"$f":"AI39*'Product Info'!AN40","v":0},{"$f":"AI39*'Product Info'!AQ40","v":0},{"$f":"AI39*'Product Info'!AT40","v":0},{"$f":"AI39*'Product Info'!AW40","v":0},{"$f":"AI39*'Product Info'!AZ40","v":0},{"$f":"AI39*'Product Info'!BC40","v":0},{"$f":"AI39*'Product Info'!BF40","v":0},{"$f":"AI39*'Product Info'!BI40","v":0},{"$f":"AI39*'Product Info'!BL40","v":0},{"$f":"AI39*'Product Info'!BO40","v":0},{"$f":"AI39*'Product Info'!BR40","v":0},{"$f":"AI39*'Product Info'!BU40","v":0},{"$f":"AI39*'Product Info'!BX40","v":0}]
[{"$f":"'Product Info'!A41","v":0},{"$f":"'Product Info'!B41","v":0},{"$f":"'Product Info'!C41","v":0},null,null,null,null,null,null,null,null,null,null,null,null,null,null,null,null,null,null,null,null,null,null,null,null,null,null,null,null,null,null,null,0,{"$f":"'Product Info'!F41*('Daily Info (December)'!AI40)","v":0},null,null,{"$f":"AI40*('Product Info'!H41)","v":0},{"$f":"AI40*('Product Info'!M41+'Product Info'!P41+'Product Info'!S41+'Product Info'!V41+'Product Info'!Y41+'Product Info'!AB41+'Product Info'!AE41+'Product Info'!AH41+'Product Info'!AK41+'Product Info'!AN41+'Product Info'!AQ41+'Product Info'!AT41+'Product Info'!AW41+'Product Info'!AZ41+'Product Info'!BC41+'Product Info'!BF41+'Product Info'!BI41+'Product Info'!BL41+'Product Info'!BO41+'Product Info'!BR41+'Product Info'!BU41+'Product Info'!BX41+'Product Info'!CA41+'Product Info'!CD41+'Product Info'!CG41+'Product Info'!CJ41+'Product Info'!CM41+'Product Info'!CP41+'Product Info'!CS41+'Product Info'!CV41+'Product Info'!CY41+'Product Info'!DB41+'Product Info'!DE41+'Product Info'!DH41+'Product Info'!DK41+'Product Info'!DN41+'Product Info'!DQ41+'Product Info'!DT41+'Product Info'!DW41+'Product Info'!DZ41+'Product Info'!EC41+'Product Info'!EF41+'Product Info'!EI41+'Product Info'!EL41+'Product Info'!EO41+'Product Info'!ER41+'Product Info'!EU41+'Product Info'!EX41+'Product Info'!FA41+'Product Info'!FD41)","v":0},{"$f":"AI40*('Product Info'!M41)","v":0},{"$f":"AI40*'Product Info'!P41","v":0},{"$f":"AI40*'Product Info'!S41","v":0},{"$f":"AI40*'Product Info'!V41","v":0},{"$f":"AI40*'Product Info'!Y41","v":0},{"$f":"AI40*'Product Info'!AB41","v":0},{"$f":"AI40*'Product Info'!AE41","v":0},{"$f":"AI40*'Product Info'!AH41","v":0},{"$f":"AI40*'Product Info'!AK41","v":0},{"$f":"AI40*'Product Info'!AN41","v":0},{"$f":"AI40*'Product Info'!AQ41","v":0},{"$f":"AI40*'Product Info'!AT41","v":0},{"$f":"AI40*'Product Info'!AW41","v":0},{"$f":"AI40*'Product Info'!AZ41","v":0},{"$f":"AI40*'Product Info'!BC41","v":0},{"$f":"AI40*'Product Info'!BF41","v":0},{"$f":"AI40*'Product Info'!BI41","v":0},{"$f":"AI40*'Product Info'!BL41","v":0},{"$f":"AI40*'Product Info'!BO41","v":0},{"$f":"AI40*'Product Info'!BR41","v":0},{"$f":"AI40*'Product Info'!BU41","v":0},{"$f":"AI40*'Product Info'!BX41","v":0}]
[{"$f":"'Product Info'!A42","v":0},{"$f":"'Product Info'!B42","v":0},{"$f":"'Product Info'!C42","v":0},null,null,null,null,null,null,null,null,null,null,null,null,null,null,null,null,null,null,null,null,null,null,null,null,null,null,null,null,null,null,null,0,{"$f":"'Product Info'!F42*('Daily Info (December)'!AI41)","v":0},null,null,{"$f":"AI41*('Product Info'!H42)","v":0},{"$f":"AI41*('Product Info'!M42+'Product Info'!P42+'Product Info'!S42+'Product Info'!V42+'Product Info'!Y42+'Product Info'!AB42+'Product Info'!AE42+'Product Info'!AH42+'Product Info'!AK42+'Product Info'!AN42+'Product Info'!AQ42+'Product Info'!AT42+'Product Info'!AW42+'Product Info'!AZ42+'Product Info'!BC42+'Product Info'!BF42+'Product Info'!BI42+'Product Info'!BL42+'Product Info'!BO42+'Product Info'!BR42+'Product Info'!BU42+'Product Info'!BX42+'Product Info'!CA42+'Product Info'!CD42+'Product Info'!CG42+'Product Info'!CJ42+'Product Info'!CM42+'Product Info'!CP42+'Product Info'!CS42+'Product Info'!CV42+'Product Info'!CY42+'Product Info'!DB42+'Product Info'!DE42+'Product Info'!DH42+'Product Info'!DK42+'Product Info'!DN42+'Product Info'!DQ42+'Product Info'!DT42+'Product Info'!DW42+'Product Info'!DZ42+'Product Info'!EC42+'Product Info'!EF42+'Product Info'!EI42+'Product Info'!EL42+'Product Info'!EO42+'Product Info'!ER42+'Product Info'!EU42+'Product Info'!EX42+'Product Info'!FA42+'Product Info'!FD42)","v":0},{"$f":"AI41*('Product Info'!M42)","v":0},{"$f":"AI41*'Product Info'!P42","v":0},{"$f":"AI41*'Product Info'!S42","v":0},{"$f":"AI41*'Product Info'!V42","v":0},{"$f":"AI41*'Product Info'!Y42","v":0},{"$f":"AI41*'Product Info'!AB42","v":0},{"$f":"AI41*'Product Info'!AE42","v":0},{"$f":"AI41*'Product Info'!AH42","v":0},{"$f":"AI41*'Product Info'!AK42","v":0},{"$f":"AI41*'Product Info'!AN42","v":0},{"$f":"AI41*'Product Info'!AQ42","v":0},{"$f":"AI41*'Product Info'!AT42","v":0},{"$f":"AI41*'Product Info'!AW42","v":0},{"$f":"AI41*'Product Info'!AZ42","v":0},{"$f":"AI41*'Product Info'!BC42","v":0},{"$f":"AI41*'Product Info'!BF42","v":0},{"$f":"AI41*'Product Info'!BI42","v":0},{"$f":"AI41*'Product Info'!BL42","v":0},{"$f":"AI41*'Product Info'!BO42","v":0},{"$f":"AI41*'Product Info'!BR42","v":0},{"$f":"AI41*'Product Info'!BU42","v":0},{"$f":"AI41*'Product Info'!BX42","v":0}]
[{"$f":"'Product Info'!A43","v":0},{"$f":"'Product Info'!B43","v":0},{"$f":"'Product Info'!C43","v":0},null,null,null,null,null,null,null,null,null,null,null,null,null,null,null,null,null,null,null,null,null,null,null,null,null,null,null,null,null,null,null,0,{"$f":"'Product Info'!F43*('Daily Info (December)'!AI42)","v":0},null,null,{"$f":"AI42*('Product Info'!H43)","v":0},{"$f":"AI42*('Product Info'!M43+'Product Info'!P43+'Product Info'!S43+'Product Info'!V43+'Product Info'!Y43+'Product Info'!AB43+'Product Info'!AE43+'Product Info'!AH43+'Product Info'!AK43+'Product Info'!AN43+'Product Info'!AQ43+'Product Info'!AT43+'Product Info'!AW43+'Product Info'!AZ43+'Product Info'!BC43+'Product Info'!BF43+'Product Info'!BI43+'Product Info'!BL43+'Product Info'!BO43+'Product Info'!BR43+'Product Info'!BU43+'Product Info'!BX43+'Product Info'!CA43+'Product Info'!CD43+'Product Info'!CG43+'Product Info'!CJ43+'Product Info'!CM43+'Product Info'!CP43+'Product Info'!CS43+'Product Info'!CV43+'Product Info'!CY43+'Product Info'!DB43+'Product Info'!DE43+'Product Info'!DH43+'Product Info'!DK43+'Product Info'!DN43+'Product Info'!DQ43+'Product Info'!DT43+'Product Info'!DW43+'Product Info'!DZ43+'Product Info'!EC43+'Product Info'!EF43+'Product Info'!EI43+'Product Info'!EL43+'Product Info'!EO43+'Product Info'!ER43+'Product Info'!EU43+'Product Info'!EX43+'Product Info'!FA43+'Product Info'!FD43)","v":0},{"$f":"AI42*('Product Info'!M43)","v":0},{"$f":"AI42*'Product Info'!P43","v":0},{"$f":"AI42*'Product Info'!S43","v":0},{"$f":"AI42*'Product Info'!V43","v":0},{"$f":"AI42*'Product Info'!Y43","v":0},{"$f":"AI42*'Product Info'!AB43","v":0},{"$f":"AI42*'Product Info'!AE43","v":0},{"$f":"AI42*'Product Info'!AH43","v":0},{"$f":"AI42*'Product Info'!AK43","v":0},{"$f":"AI42*'Product Info'!AN43","v":0},{"$f":"AI42*'Product Info'!AQ43","v":0},{"$f":"AI42*'Product Info'!AT43","v":0},{"$f":"AI42*'Product Info'!AW43","v":0},{"$f":"AI42*'Product Info'!AZ43","v":0},{"$f":"AI42*'Product Info'!BC43","v":0},{"$f":"AI42*'Product Info'!BF43","v":0},{"$f":"AI42*'Product Info'!BI43","v":0},{"$f":"AI42*'Product Info'!BL43","v":0},{"$f":"AI42*'Product Info'!BO43","v":0},{"$f":"AI42*'Product Info'!BR43","v":0},{"$f":"AI42*'Product Info'!BU43","v":0},{"$f":"AI42*'Product Info'!BX43","v":0}]
[{"$f":"'Product Info'!A44","v":0},{"$f":"'Product Info'!B44","v":0},{"$f":"'Product Info'!C44","v":0},null,null,null,null,null,null,null,null,null,null,null,null,null,null,null,null,null,null,null,null,null,null,null,null,null,null,null,null,null,null,null,0,{"$f":"'Product Info'!F44*('Daily Info (December)'!AI43)","v":0},null,null,{"$f":"AI43*('Product Info'!H44)","v":0},{"$f":"AI43*('Product Info'!M44+'Product Info'!P44+'Product Info'!S44+'Product Info'!V44+'Product Info'!Y44+'Product Info'!AB44+'Product Info'!AE44+'Product Info'!AH44+'Product Info'!AK44+'Product Info'!AN44+'Product Info'!AQ44+'Product Info'!AT44+'Product Info'!AW44+'Product Info'!AZ44+'Product Info'!BC44+'Product Info'!BF44+'Product Info'!BI44+'Product Info'!BL44+'Product Info'!BO44+'Product Info'!BR44+'Product Info'!BU44+'Product Info'!BX44+'Product Info'!CA44+'Product Info'!CD44+'Product Info'!CG44+'Product Info'!CJ44+'Product Info'!CM44+'Product Info'!CP44+'Product Info'!CS44+'Product Info'!CV44+'Product Info'!CY44+'Product Info'!DB44+'Product Info'!DE44+'Product Info'!DH44+'Product Info'!DK44+'Product Info'!DN44+'Product Info'!DQ44+'Product Info'!DT44+'Product Info'!DW44+'Product Info'!DZ44+'Product Info'!EC44+'Product Info'!EF44+'Product Info'!EI44+'Product Info'!EL44+'Product Info'!EO44+'Product Info'!ER44+'Product Info'!EU44+'Product Info'!EX44+'Product Info'!FA44+'Product Info'!FD44)","v":0},{"$f":"AI43*('Product Info'!M44)","v":0},{"$f":"AI43*'Product Info'!P44","v":0},{"$f":"AI43*'Product Info'!S44","v":0},{"$f":"AI43*'Product Info'!V44","v":0},{"$f":"AI43*'Product Info'!Y44","v":0},{"$f":"AI43*'Product Info'!AB44","v":0},{"$f":"AI43*'Product Info'!AE44","v":0},{"$f":"AI43*'Product Info'!AH44","v":0},{"$f":"AI43*'Product Info'!AK44","v":0},{"$f":"AI43*'Product Info'!AN44","v":0},{"$f":"AI43*'Product Info'!AQ44","v":0},{"$f":"AI43*'Product Info'!AT44","v":0},{"$f":"AI43*'Product Info'!AW44","v":0},{"$f":"AI43*'Product Info'!AZ44","v":0},{"$f":"AI43*'Product Info'!BC44","v":0},{"$f":"AI43*'Product Info'!BF44","v":0},{"$f":"AI43*'Product Info'!BI44","v":0},{"$f":"AI43*'Product Info'!BL44","v":0},{"$f":"AI43*'Product Info'!BO44","v":0},{"$f":"AI43*'Product Info'!BR44","v":0},{"$f":"AI43*'Product Info'!BU44","v":0},{"$f":"AI43*'Product Info'!BX44","v":0}]
[{"$f":"'Product Info'!A45","v":0},{"$f":"'Product Info'!B45","v":0},{"$f":"'Product Info'!C45","v":0},null,null,null,null,null,null,null,null,null,null,null,null,null,null,null,null,null,null,null,null,null,null,null,null,null,null,null,null,null,null,null,0,{"$f":"'Product Info'!F45*('Daily Info (December)'!AI44)","v":0},null,null,{"$f":"AI44*('Product Info'!H45)","v":0},{"$f":"AI44*('Product Info'!M45+'Product Info'!P45+'Product Info'!S45+'Product Info'!V45+'Product Info'!Y45+'Product Info'!AB45+'Product Info'!AE45+'Product Info'!AH45+'Product Info'!AK45+'Product Info'!AN45+'Product Info'!AQ45+'Product Info'!AT45+'Product Info'!AW45+'Product Info'!AZ45+'Product Info'!BC45+'Product Info'!BF45+'Product Info'!BI45+'Product Info'!BL45+'Product Info'!BO45+'Product Info'!BR45+'Product Info'!BU45+'Product Info'!BX45+'Product Info'!CA45+'Product Info'!CD45+'Product Info'!CG45+'Product Info'!CJ45+'Product Info'!CM45+'Product Info'!CP45+'Product Info'!CS45+'Product Info'!CV45+'Product Info'!CY45+'Product Info'!DB45+'Product Info'!DE45+'Product Info'!DH45+'Product Info'!DK45+'Product Info'!DN45+'Product Info'!DQ45+'Product Info'!DT45+'Product Info'!DW45+'Product Info'!DZ45+'Product Info'!EC45+'Product Info'!EF45+'Product Info'!EI45+'Product Info'!EL45+'Product Info'!EO45+'Product Info'!ER45+'Product Info'!EU45+'Product Info'!EX45+'Product Info'!FA45+'Product Info'!FD45)","v":0},{"$f":"AI44*('Product Info'!M45)","v":0},{"$f":"AI44*'Product Info'!P45","v":0},{"$f":"AI44*'Product Info'!S45","v":0},{"$f":"AI44*'Product Info'!V45","v":0},{"$f":"AI44*'Product Info'!Y45","v":0},{"$f":"AI44*'Product Info'!AB45","v":0},{"$f":"AI44*'Product Info'!AE45","v":0},{"$f":"AI44*'Product Info'!AH45","v":0},{"$f":"AI44*'Product Info'!AK45","v":0},{"$f":"AI44*'Product Info'!AN45","v":0},{"$f":"AI44*'Product Info'!AQ45","v":0},{"$f":"AI44*'Product Info'!AT45","v":0},{"$f":"AI44*'Product Info'!AW45","v":0},{"$f":"AI44*'Product Info'!AZ45","v":0},{"$f":"AI44*'Product Info'!BC45","v":0},{"$f":"AI44*'Product Info'!BF45","v":0},{"$f":"AI44*'Product Info'!BI45","v":0},{"$f":"AI44*'Product Info'!BL45","v":0},{"$f":"AI44*'Product Info'!BO45","v":0},{"$f":"AI44*'Product Info'!BR45","v":0},{"$f":"AI44*'Product Info'!BU45","v":0},{"$f":"AI44*'Product Info'!BX45","v":0}]
[{"$f":"'Product Info'!A46","v":0},{"$f":"'Product Info'!B46","v":0},{"$f":"'Product Info'!C46","v":0},null,null,null,null,null,null,null,null,null,null,null,null,null,null,null,null,null,null,null,null,null,null,null,null,null,null,null,null,null,null,null,0,{"$f":"'Product Info'!F46*('Daily Info (December)'!AI45)","v":0},null,null,{"$f":"AI45*('Product Info'!H46)","v":0},{"$f":"AI45*('Product Info'!M46+'Product Info'!P46+'Product Info'!S46+'Product Info'!V46+'Product Info'!Y46+'Product Info'!AB46+'Product Info'!AE46+'Product Info'!AH46+'Product Info'!AK46+'Product Info'!AN46+'Product Info'!AQ46+'Product Info'!AT46+'Product Info'!AW46+'Product Info'!AZ46+'Product Info'!BC46+'Product Info'!BF46+'Product Info'!BI46+'Product Info'!BL46+'Product Info'!BO46+'Product Info'!BR46+'Product Info'!BU46+'Product Info'!BX46+'Product Info'!CA46+'Product Info'!CD46+'Product Info'!CG46+'Product Info'!CJ46+'Product Info'!CM46+'Product Info'!CP46+'Product Info'!CS46+'Product Info'!CV46+'Product Info'!CY46+'Product Info'!DB46+'Product Info'!DE46+'Product Info'!DH46+'Product Info'!DK46+'Product Info'!DN46+'Product Info'!DQ46+'Product Info'!DT46+'Product Info'!DW46+'Product Info'!DZ46+'Product Info'!EC46+'Product Info'!EF46+'Product Info'!EI46+'Product Info'!EL46+'Product Info'!EO46+'Product Info'!ER46+'Product Info'!EU46+'Product Info'!EX46+'Product Info'!FA46+'Product Info'!FD46)","v":0},{"$f":"AI45*('Product Info'!M46)","v":0},{"$f":"AI45*'Product Info'!P46","v":0},{"$f":"AI45*'Product Info'!S46","v":0},{"$f":"AI45*'Product Info'!V46","v":0},{"$f":"AI45*'Product Info'!Y46","v":0},{"$f":"AI45*'Product Info'!AB46","v":0},{"$f":"AI45*'Product Info'!AE46","v":0},{"$f":"AI45*'Product Info'!AH46","v":0},{"$f":"AI45*'Product Info'!AK46","v":0},{"$f":"AI45*'Product Info'!AN46","v":0},{"$f":"AI45*'Product Info'!AQ46","v":0},{"$f":"AI45*'Product Info'!AT46","v":0},{"$f":"AI45*'Product Info'!AW46","v":0},{"$f":"AI45*'Product Info'!AZ46","v":0},{"$f":"AI45*'Product Info'!BC46","v":0},{"$f":"AI45*'Product Info'!BF46","v":0},{"$f":"AI45*'Product Info'!BI46","v":0},{"$f":"AI45*'Product Info'!BL46","v":0},{"$f":"AI45*'Product Info'!BO46","v":0},{"$f":"AI45*'Product Info'!BR46","v":0},{"$f":"AI45*'Product Info'!BU46","v":0},{"$f":"AI45*'Product Info'!BX46","v":0}]
[{"$f":"'Product Info'!A47","v":0},{"$f":"'Product Info'!B47","v":0},{"$f":"'Product Info'!C47","v":0},null,null,null,null,null,null,null,null,null,null,null,null,null,null,null,null,null,null,null,null,null,null,null,null,null,null,null,null,null,null,null,0,{"$f":"'Product Info'!F47*('Daily Info (December)'!AI46)","v":0},null,null,{"$f":"AI46*('Product Info'!H47)","v":0},{"$f":"AI46*('Product Info'!M47+'Product Info'!P47+'Product Info'!S47+'Product Info'!V47+'Product Info'!Y47+'Product Info'!AB47+'Product Info'!AE47+'Product Info'!AH47+'Product Info'!AK47+'Product Info'!AN47+'Product Info'!AQ47+'Product Info'!AT47+'Product Info'!AW47+'Product Info'!AZ47+'Product Info'!BC47+'Product Info'!BF47+'Product Info'!BI47+'Product Info'!BL47+'Product Info'!BO47+'Product Info'!BR47+'Product Info'!BU47+'Product Info'!BX47+'Product Info'!CA47+'Product Info'!CD47+'Product Info'!CG47+'Product Info'!CJ47+'Product Info'!CM47+'Product Info'!CP47+'Product Info'!CS47+'Product Info'!CV47+'Product Info'!CY47+'Product Info'!DB47+'Product Info'!DE47+'Product Info'!DH47+'Product Info'!DK47+'Product Info'!DN47+'Product Info'!DQ47+'Product Info'!DT47+'Product Info'!DW47+'Product Info'!DZ47+'Product Info'!EC47+'Product Info'!EF47+'Product Info'!EI47+'Product Info'!EL47+'Product Info'!EO47+'Product Info'!ER47+'Product Info'!EU47+'Product Info'!EX47+'Product Info'!FA47+'Product Info'!FD47)","v":0},{"$f":"AI46*('Product Info'!M47)","v":0},{"$f":"AI46*'Product Info'!P47","v":0},{"$f":"AI46*'Product Info'!S47","v":0},{"$f":"AI46*'Product Info'!V47","v":0},{"$f":"AI46*'Product Info'!Y47","v":0},{"$f":"AI46*'Product Info'!AB47","v":0},{"$f":"AI46*'Product Info'!AE47","v":0},{"$f":"AI46*'Product Info'!AH47","v":0},{"$f":"AI46*'Product Info'!AK47","v":0},{"$f":"AI46*'Product Info'!AN47","v":0},{"$f":"AI46*'Product Info'!AQ47","v":0},{"$f":"AI46*'Product Info'!AT47","v":0},{"$f":"AI46*'Product Info'!AW47","v":0},{"$f":"AI46*'Product Info'!AZ47","v":0},{"$f":"AI46*'Product Info'!BC47","v":0},{"$f":"AI46*'Product Info'!BF47","v":0},{"$f":"AI46*'Product Info'!BI47","v":0},{"$f":"AI46*'Product Info'!BL47","v":0},{"$f":"AI46*'Product Info'!BO47","v":0},{"$f":"AI46*'Product Info'!BR47","v":0},{"$f":"AI46*'Product Info'!BU47","v":0},{"$f":"AI46*'Product Info'!BX47","v":0}]
[{"$f":"'Product Info'!A48","v":0},{"$f":"'Product Info'!B48","v":0},{"$f":"'Product Info'!C48","v":0},null,null,null,null,null,null,null,null,null,null,null,null,null,null,null,null,null,null,null,null,null,null,null,null,null,null,null,null,null,null,null,0,{"$f":"'Product Info'!F48*('Daily Info (December)'!AI47)","v":0},null,null,{"$f":"AI47*('Product Info'!H48)","v":0},{"$f":"AI47*('Product Info'!M48+'Product Info'!P48+'Product Info'!S48+'Product Info'!V48+'Product Info'!Y48+'Product Info'!AB48+'Product Info'!AE48+'Product Info'!AH48+'Product Info'!AK48+'Product Info'!AN48+'Product Info'!AQ48+'Product Info'!AT48+'Product Info'!AW48+'Product Info'!AZ48+'Product Info'!BC48+'Product Info'!BF48+'Product Info'!BI48+'Product Info'!BL48+'Product Info'!BO48+'Product Info'!BR48+'Product Info'!BU48+'Product Info'!BX48+'Product Info'!CA48+'Product Info'!CD48+'Product Info'!CG48+'Product Info'!CJ48+'Product Info'!CM48+'Product Info'!CP48+'Product Info'!CS48+'Product Info'!CV48+'Product Info'!CY48+'Product Info'!DB48+'Product Info'!DE48+'Product Info'!DH48+'Product Info'!DK48+'Product Info'!DN48+'Product Info'!DQ48+'Product Info'!DT48+'Product Info'!DW48+'Product Info'!DZ48+'Product Info'!EC48+'Product Info'!EF48+'Product Info'!EI48+'Product Info'!EL48+'Product Info'!EO48+'Product Info'!ER48+'Product Info'!EU48+'Product Info'!EX48+'Product Info'!FA48+'Product Info'!FD48)","v":0},{"$f":"AI47*('Product Info'!M48)","v":0},{"$f":"AI47*'Product Info'!P48","v":0},{"$f":"AI47*'Product Info'!S48","v":0},{"$f":"AI47*'Product Info'!V48","v":0},{"$f":"AI47*'Product Info'!Y48","v":0},{"$f":"AI47*'Product Info'!AB48","v":0},{"$f":"AI47*'Product Info'!AE48","v":0},{"$f":"AI47*'Product Info'!AH48","v":0},{"$f":"AI47*'Product Info'!AK48","v":0},{"$f":"AI47*'Product Info'!AN48","v":0},{"$f":"AI47*'Product Info'!AQ48","v":0},{"$f":"AR47*'Product Info'!AF48","v":0},{"$f":"AI47*'Product Info'!AW48","v":0},{"$f":"AI47*'Product Info'!AZ48","v":0},{"$f":"AI47*'Product Info'!BC48","v":0},{"$f":"AI47*'Product Info'!BF48","v":0},{"$f":"AI47*'Product Info'!BI48","v":0},{"$f":"AI47*'Product Info'!BL48","v":0},{"$f":"AI47*'Product Info'!BO48","v":0},{"$f":"AI47*'Product Info'!BR48","v":0},{"$f":"AI47*'Product Info'!BU48","v":0},{"$f":"AI47*'Product Info'!BX48","v":0}]
[{"$f":"'Product Info'!A49","v":0},{"$f":"'Product Info'!B49","v":0},{"$f":"'Product Info'!C49","v":0},null,null,null,null,null,null,null,null,null,null,null,null,null,null,null,null,null,null,null,null,null,null,null,null,null,null,null,null,null,null,null,0,{"$f":"'Product Info'!F49*('Daily Info (December)'!AI48)","v":0},null,null,{"$f":"AI48*('Product Info'!H49)","v":0},{"$f":"AI48*('Product Info'!M49+'Product Info'!P49+'Product Info'!S49+'Product Info'!V49+'Product Info'!Y49+'Product Info'!AB49+'Product Info'!AE49+'Product Info'!AH49+'Product Info'!AK49+'Product Info'!AN49+'Product Info'!AQ49+'Product Info'!AT49+'Product Info'!AW49+'Product Info'!AZ49+'Product Info'!BC49+'Product Info'!BF49+'Product Info'!BI49+'Product Info'!BL49+'Product Info'!BO49+'Product Info'!BR49+'Product Info'!BU49+'Product Info'!BX49+'Product Info'!CA49+'Product Info'!CD49+'Product Info'!CG49+'Product Info'!CJ49+'Product Info'!CM49+'Product Info'!CP49+'Product Info'!CS49+'Product Info'!CV49+'Product Info'!CY49+'Product Info'!DB49+'Product Info'!DE49+'Product Info'!DH49+'Product Info'!DK49+'Product Info'!DN49+'Product Info'!DQ49+'Product Info'!DT49+'Product Info'!DW49+'Product Info'!DZ49+'Product Info'!EC49+'Product Info'!EF49+'Product Info'!EI49+'Product Info'!EL49+'Product Info'!EO49+'Product Info'!ER49+'Product Info'!EU49+'Product Info'!EX49+'Product Info'!FA49+'Product Info'!FD49)","v":0},{"$f":"AI48*('Product Info'!M49)","v":0},{"$f":"AI48*'Product Info'!P49","v":0},{"$f":"AI48*'Product Info'!S49","v":0},{"$f":"AI48*'Product Info'!V49","v":0},{"$f":"AI48*'Product Info'!Y49","v":0},{"$f":"AI48*'Product Info'!AB49","v":0},{"$f":"AI48*'Product Info'!AE49","v":0},{"$f":"AI48*'Product Info'!AH49","v":0},{"$f":"AI48*'Product Info'!AK49","v":0},{"$f":"AI48*'Product Info'!AN49","v":0},{"$f":"AI48*'Product Info'!AQ49","v":0},{"$f":"AR48*'Product Info'!AF49","v":0},{"$f":"AI48*'Product Info'!AW49","v":0},{"$f":"AI48*'Product Info'!AZ49","v":0},{"$f":"AI48*'Product Info'!BC49","v":0},{"$f":"AI48*'Product Info'!BF49","v":0},{"$f":"AI48*'Product Info'!BI49","v":0},{"$f":"AI48*'Product Info'!BL49","v":0},{"$f":"AI48*'Product Info'!BO49","v":0},{"$f":"AI48*'Product Info'!BR49","v":0},{"$f":"AI48*'Product Info'!BU49","v":0},{"$f":"AI48*'Product Info'!BX49","v":0}]
[{"$f":"'Product Info'!A50","v":0},{"$f":"'Product Info'!B50","v":0},{"$f":"'Product Info'!C50","v":0},null,null,null,null,null,null,null,null,null,null,null,null,null,null,null,null,null,null,null,null,null,null,null,null,null,null,null,null,null,null,null,0,{"$f":"'Product Info'!F50*('Daily Info (December)'!AI49)","v":0},null,null,{"$f":"AI49*('Product Info'!H50)","v":0},{"$f":"AI49*('Product Info'!M50+'Product Info'!P50+'Product Info'!S50+'Product Info'!V50+'Product Info'!Y50+'Product Info'!AB50+'Product Info'!AE50+'Product Info'!AH50+'Product Info'!AK50+'Product Info'!AN50+'Product Info'!AQ50+'Product Info'!AT50+'Product Info'!AW50+'Product Info'!AZ50+'Product Info'!BC50+'Product Info'!BF50+'Product Info'!BI50+'Product Info'!BL50+'Product Info'!BO50+'Product Info'!BR50+'Product Info'!BU50+'Product Info'!BX50+'Product Info'!CA50+'Product Info'!CD50+'Product Info'!CG50+'Product Info'!CJ50+'Product Info'!CM50+'Product Info'!CP50+'Product Info'!CS50+'Product Info'!CV50+'Product Info'!CY50+'Product Info'!DB50+'Product Info'!DE50+'Product Info'!DH50+'Product Info'!DK50+'Product Info'!DN50+'Product Info'!DQ50+'Product Info'!DT50+'Product Info'!DW50+'Product Info'!DZ50+'Product Info'!EC50+'Product Info'!EF50+'Product Info'!EI50+'Product Info'!EL50+'Product Info'!EO50+'Product Info'!ER50+'Product Info'!EU50+'Product Info'!EX50+'Product Info'!FA50+'Product Info'!FD50)","v":0},{"$f":"AI49*('Product Info'!M50)","v":0},{"$f":"AI49*'Product Info'!P50","v":0},{"$f":"AI49*'Product Info'!S50","v":0},{"$f":"AI49*'Product Info'!V50","v":0},{"$f":"AI49*'Product Info'!Y50","v":0},{"$f":"AI49*'Product Info'!AB50","v":0},{"$f":"AI49*'Product Info'!AE50","v":0},{"$f":"AI49*'Product Info'!AH50","v":0},{"$f":"AI49*'Product Info'!AK50","v":0},{"$f":"AI49*'Product Info'!AN50","v":0},{"$f":"AI49*'Product Info'!AQ50","v":0},{"$f":"AI49*'Product Info'!AT50","v":0},{"$f":"AI49*'Product Info'!AW50","v":0},{"$f":"AI49*'Product Info'!AZ50","v":0},{"$f":"AI49*'Product Info'!BC50","v":0},{"$f":"AI49*'Product Info'!BF50","v":0},{"$f":"AI49*'Product Info'!BI50","v":0},{"$f":"AI49*'Product Info'!BL50","v":0},{"$f":"AI49*'Product Info'!BO50","v":0},{"$f":"AI49*'Product Info'!BR50","v":0},{"$f":"AI49*'Product Info'!BU50","v":0},{"$f":"AI49*'Product Info'!BX50","v":0}]
[{"$f":"'Product Info'!A51","v":0},{"$f":"'Product Info'!B51","v":0},{"$f":"'Product Info'!C51","v":0},null,null,null,null,null,null,null,null,null,null,null,null,null,null,null,null,null,null,null,null,null,null,null,null,null,null,null,null,null,null,null,0,{"$f":"'Product Info'!F51*('Daily Info (December)'!AI50)","v":0},null,null,{"$f":"AI50*('Product Info'!H51)","v":0},{"$f":"AI50*('Product Info'!M51+'Product Info'!P51+'Product Info'!S51+'Product Info'!V51+'Product Info'!Y51+'Product Info'!AB51+'Product Info'!AE51+'Product Info'!AH51+'Product Info'!AK51+'Product Info'!AN51+'Product Info'!AQ51+'Product Info'!AT51+'Product Info'!AW51+'Product Info'!AZ51+'Product Info'!BC51+'Product Info'!BF51+'Product Info'!BI51+'Product Info'!BL51+'Product Info'!BO51+'Product Info'!BR51+'Product Info'!BU51+'Product Info'!BX51+'Product Info'!CA51+'Product Info'!CD51+'Product Info'!CG51+'Product Info'!CJ51+'Product Info'!CM51+'Product Info'!CP51+'Product Info'!CS51+'Product Info'!CV51+'Product Info'!CY51+'Product Info'!DB51+'Product Info'!DE51+'Product Info'!DH51+'Product Info'!DK51+'Product Info'!DN51+'Product Info'!DQ51+'Product Info'!DT51+'Product Info'!DW51+'Product Info'!DZ51+'Product Info'!EC51+'Product Info'!EF51+'Product Info'!EI51+'Product Info'!EL51+'Product Info'!EO51+'Product Info'!ER51+'Product Info'!EU51+'Product Info'!EX51+'Product Info'!FA51+'Product Info'!FD51)","v":0},{"$f":"AI50*('Product Info'!M51)","v":0},{"$f":"AI50*'Product Info'!P51","v":0},{"$f":"AI50*'Product Info'!S51","v":0},{"$f":"AI50*'Product Info'!V51","v":0},{"$f":"AI50*'Product Info'!Y51","v":0},{"$f":"AI50*'Product Info'!AB51","v":0},{"$f":"AI50*'Product Info'!AE51","v":0},{"$f":"AI50*'Product Info'!AH51","v":0},{"$f":"AI50*'Product Info'!AK51","v":0},{"$f":"AI50*'Product Info'!AN51","v":0},{"$f":"AI50*'Product Info'!AQ51","v":0},{"$f":"AI50*'Product Info'!AT51","v":0},{"$f":"AI50*'Product Info'!AW51","v":0},{"$f":"AI50*'Product Info'!AZ51","v":0},{"$f":"AI50*'Product Info'!BC51","v":0},{"$f":"AI50*'Product Info'!BF51","v":0},{"$f":"AI50*'Product Info'!BI51","v":0},{"$f":"AI50*'Product Info'!BL51","v":0},{"$f":"AI50*'Product Info'!BO51","v":0},{"$f":"AI50*'Product Info'!BR51","v":0},{"$f":"AI50*'Product Info'!BU51","v":0},{"$f":"AI50*'Product Info'!BX51","v":0}]
[{"$f":"'Product Info'!A52","v":0},{"$f":"'Product Info'!B52","v":0},{"$f":"'Product Info'!C52","v":0},null,null,null,null,null,null,null,null,null,null,null,null,null,null,null,null,null,null,null,null,null,null,null,null,null,null,null,null,null,null,null,0,{"$f":"'Product Info'!F52*('Daily Info (December)'!AI51)","v":0},null,null,{"$f":"AI51*('Product Info'!H52)","v":0},{"$f":"AI51*('Product Info'!M52+'Product Info'!P52+'Product Info'!S52+'Product Info'!V52+'Product Info'!Y52+'Product Info'!AB52+'Product Info'!AE52+'Product Info'!AH52+'Product Info'!AK52+'Product Info'!AN52+'Product Info'!AQ52+'Product Info'!AT52+'Product Info'!AW52+'Product Info'!AZ52+'Product Info'!BC52+'Product Info'!BF52+'Product Info'!BI52+'Product Info'!BL52+'Product Info'!BO52+'Product Info'!BR52+'Product Info'!BU52+'Product Info'!BX52+'Product Info'!CA52+'Product Info'!CD52+'Product Info'!CG52+'Product Info'!CJ52+'Product Info'!CM52+'Product Info'!CP52+'Product Info'!CS52+'Product Info'!CV52+'Product Info'!CY52+'Product Info'!DB52+'Product Info'!DE52+'Product Info'!DH52+'Product Info'!DK52+'Product Info'!DN52+'Product Info'!DQ52+'Product Info'!DT52+'Product Info'!DW52+'Product Info'!DZ52+'Product Info'!EC52+'Product Info'!EF52+'Product Info'!EI52+'Product Info'!EL52+'Product Info'!EO52+'Product Info'!ER52+'Product Info'!EU52+'Product Info'!EX52+'Product Info'!FA52+'Product Info'!FD52)","v":0},{"$f":"AI51*('Product Info'!M52)","v":0},{"$f":"AI51*'Product Info'!P52","v":0},{"$f":"AI51*'Product Info'!S52","v":0},{"$f":"AI51*'Product Info'!V52","v":0},{"$f":"AI51*'Product Info'!Y52","v":0},{"$f":"AI51*'Product Info'!AB52","v":0},{"$f":"AI51*'Product Info'!AE52","v":0},{"$f":"AI51*'Product Info'!AH52","v":0},{"$f":"AI51*'Product Info'!AK52","v":0},{"$f":"AI51*'Product Info'!AN52","v":0},{"$f":"AI51*'Product Info'!AQ52","v":0},{"$f":"AI51*'Product Info'!AT52","v":0},{"$f":"AI51*'Product Info'!AW52","v":0},{"$f":"AI51*'Product Info'!AZ52","v":0},{"$f":"AI51*'Product Info'!BC52","v":0},{"$f":"AI51*'Product Info'!BF52","v":0},{"$f":"AI51*'Product Info'!BI52","v":0},{"$f":"AI51*'Product Info'!BL52","v":0},{"$f":"AI51*'Product Info'!BO52","v":0},{"$f":"AI51*'Product Info'!BR52","v":0},{"$f":"AI51*'Product Info'!BU52","v":0},{"$f":"AI51*'Product Info'!BX52","v":0}]
[{"$f":"'Product Info'!A53","v":0},{"$f":"'Product Info'!B53","v":0},{"$f":"'Product Info'!C53","v":0},null,null,null,null,null,null,null,null,null,null,null,null,null,null,null,null,null,null,null,null,null,null,null,null,null,null,null,null,null,null,null,0,{"$f":"'Product Info'!F53*('Daily Info (December)'!AI52)","v":0},null,null,{"$f":"AI52*('Product Info'!H53)","v":0},{"$f":"AI52*('Product Info'!M53+'Product Info'!P53+'Product Info'!S53+'Product Info'!V53+'Product Info'!Y53+'Product Info'!AB53+'Product Info'!AE53+'Product Info'!AH53+'Product Info'!AK53+'Product Info'!AN53+'Product Info'!AQ53+'Product Info'!AT53+'Product Info'!AW53+'Product Info'!AZ53+'Product Info'!BC53+'Product Info'!BF53+'Product Info'!BI53+'Product Info'!BL53+'Product Info'!BO53+'Product Info'!BR53+'Product Info'!BU53+'Product Info'!BX53+'Product Info'!CA53+'Product Info'!CD53+'Product Info'!CG53+'Product Info'!CJ53+'Product Info'!CM53+'Product Info'!CP53+'Product Info'!CS53+'Product Info'!CV53+'Product Info'!CY53+'Product Info'!DB53+'Product Info'!DE53+'Product Info'!DH53+'Product Info'!DK53+'Product Info'!DN53+'Product Info'!DQ53+'Product Info'!DT53+'Product Info'!DW53+'Product Info'!DZ53+'Product Info'!EC53+'Product Info'!EF53+'Product Info'!EI53+'Product Info'!EL53+'Product Info'!EO53+'Product Info'!ER53+'Product Info'!EU53+'Product Info'!EX53+'Product Info'!FA53+'Product Info'!FD53)","v":0},{"$f":"AI52*('Product Info'!M53)","v":0},{"$f":"AI52*'Product Info'!P53","v":0},{"$f":"AI52*'Product Info'!S53","v":0},{"$f":"AI52*'Product Info'!V53","v":0},{"$f":"AI52*'Product Info'!Y53","v":0},{"$f":"AI52*'Product Info'!AB53","v":0},{"$f":"AI52*'Product Info'!AE53","v":0},{"$f":"AI52*'Product Info'!AH53","v":0},{"$f":"AI52*'Product Info'!AK53","v":0},{"$f":"AI52*'Product Info'!AN53","v":0},{"$f":"AI52*'Product Info'!AQ53","v":0},{"$f":"AI52*'Product Info'!AT53","v":0},{"$f":"AI52*'Product Info'!AW53","v":0},{"$f":"AI52*'Product Info'!AZ53","v":0},{"$f":"AI52*'Product Info'!BC53","v":0},{"$f":"AI52*'Product Info'!BF53","v":0},{"$f":"AI52*'Product Info'!BI53","v":0},{"$f":"AI52*'Product Info'!BL53","v":0},{"$f":"AI52*'Product Info'!BO53","v":0},{"$f":"AI52*'Product Info'!BR53","v":0},{"$f":"AI52*'Product Info'!BU53","v":0},{"$f":"AI52*'Product Info'!BX53","v":0}]
[{"$f":"'Product Info'!A54","v":0},{"$f":"'Product Info'!B54","v":0},{"$f":"'Product Info'!C54","v":0},null,null,null,null,null,null,null,null,null,null,null,null,null,null,null,null,null,null,null,null,null,null,null,null,null,null,null,null,null,null,null,0,{"$f":"'Product Info'!F54*('Daily Info (December)'!AI53)","v":0},null,null,{"$f":"AI53*('Product Info'!H54)","v":0},{"$f":"AI53*('Product Info'!M54+'Product Info'!P54+'Product Info'!S54+'Product Info'!V54+'Product Info'!Y54+'Product Info'!AB54+'Product Info'!AE54+'Product Info'!AH54+'Product Info'!AK54+'Product Info'!AN54+'Product Info'!AQ54+'Product Info'!AT54+'Product Info'!AW54+'Product Info'!AZ54+'Product Info'!BC54+'Product Info'!BF54+'Product Info'!BI54+'Product Info'!BL54+'Product Info'!BO54+'Product Info'!BR54+'Product Info'!BU54+'Product Info'!BX54+'Product Info'!CA54+'Product Info'!CD54+'Product Info'!CG54+'Product Info'!CJ54+'Product Info'!CM54+'Product Info'!CP54+'Product Info'!CS54+'Product Info'!CV54+'Product Info'!CY54+'Product Info'!DB54+'Product Info'!DE54+'Product Info'!DH54+'Product Info'!DK54+'Product Info'!DN54+'Product Info'!DQ54+'Product Info'!DT54+'Product Info'!DW54+'Product Info'!DZ54+'Product Info'!EC54+'Product Info'!EF54+'Product Info'!EI54+'Product Info'!EL54+'Product Info'!EO54+'Product Info'!ER54+'Product Info'!EU54+'Product Info'!EX54+'Product Info'!FA54+'Product Info'!FD54)","v":0},{"$f":"AI53*('Product Info'!M54)","v":0},{"$f":"AI53*'Product Info'!P54","v":0},{"$f":"AI53*'Product Info'!S54","v":0},{"$f":"AI53*'Product Info'!V54","v":0},{"$f":"AI53*'Product Info'!Y54","v":0},{"$f":"AI53*'Product Info'!AB54","v":0},{"$f":"AI53*'Product Info'!AE54","v":0},{"$f":"AI53*'Product Info'!AH54","v":0},{"$f":"AI53*'Product Info'!AK54","v":0},{"$f":"AI53*'Product Info'!AN54","v":0},{"$f":"AI53*'Product Info'!AQ54","v":0},{"$f":"AI53*'Product Info'!AT54","v":0},{"$f":"AI53*'Product Info'!AW54","v":0},{"$f":"AI53*'Product Info'!AZ54","v":0},{"$f":"AI53*'Product Info'!BC54","v":0},{"$f":"AI53*'Product Info'!BF54","v":0},{"$f":"AI53*'Product Info'!BI54","v":0},{"$f":"AI53*'Product Info'!BL54","v":0},{"$f":"AI53*'Product Info'!BO54","v":0},{"$f":"AI53*'Product Info'!BR54","v":0},{"$f":"AI53*'Product Info'!BU54","v":0},{"$f":"AI53*'Product Info'!BX54","v":0}]
[{"$f":"'Product Info'!A55","v":0},{"$f":"'Product Info'!B55","v":0},{"$f":"'Product Info'!C55","v":0},null,null,null,null,null,null,null,null,null,null,null,null,null,null,null,null,null,null,null,null,null,null,null,null,null,null,null,null,null,null,null,0,{"$f":"'Product Info'!F55*('Daily Info (December)'!AI54)","v":0},null,null,{"$f":"AI54*('Product Info'!H55)","v":0},{"$f":"AI54*('Product Info'!M55+'Product Info'!P55+'Product Info'!S55+'Product Info'!V55+'Product Info'!Y55+'Product Info'!AB55+'Product Info'!AE55+'Product Info'!AH55+'Product Info'!AK55+'Product Info'!AN55+'Product Info'!AQ55+'Product Info'!AT55+'Product Info'!AW55+'Product Info'!AZ55+'Product Info'!BC55+'Product Info'!BF55+'Product Info'!BI55+'Product Info'!BL55+'Product Info'!BO55+'Product Info'!BR55+'Product Info'!BU55+'Product Info'!BX55+'Product Info'!CA55+'Product Info'!CD55+'Product Info'!CG55+'Product Info'!CJ55+'Product Info'!CM55+'Product Info'!CP55+'Product Info'!CS55+'Product Info'!CV55+'Product Info'!CY55+'Product Info'!DB55+'Product Info'!DE55+'Product Info'!DH55+'Product Info'!DK55+'Product Info'!DN55+'Product Info'!DQ55+'Product Info'!DT55+'Product Info'!DW55+'Product Info'!DZ55+'Product Info'!EC55+'Product Info'!EF55+'Product Info'!EI55+'Product Info'!EL55+'Product Info'!EO55+'Product Info'!ER55+'Product Info'!EU55+'Product Info'!EX55+'Product Info'!FA55+'Product Info'!FD55)","v":0},{"$f":"AI54*('Product Info'!M55)","v":0},{"$f":"AI54*'Product Info'!P55","v":0},{"$f":"AI54*'Product Info'!S55","v":0},{"$f":"AI54*'Product Info'!V55","v":0},{"$f":"AI54*'Product Info'!Y55","v":0},{"$f":"AI54*'Product Info'!AB55","v":0},{"$f":"AI54*'Product Info'!AE55","v":0},{"$f":"AI54*'Product Info'!AH55","v":0},{"$f":"AI54*'Product Info'!AK55","v":0},{"$f":"AI54*'Product Info'!AN55","v":0},{"$f":"AI54*'Product Info'!AQ55","v":0},{"$f":"AI54*'Product Info'!AT55","v":0},{"$f":"AI54*'Product Info'!AW55","v":0},{"$f":"AI54*'Product Info'!AZ55","v":0},{"$f":"AI54*'Product Info'!BC55","v":0},{"$f":"AI54*'Product Info'!BF55","v":0},{"$f":"AI54*'Product Info'!BI55","v":0},{"$f":"AI54*'Product Info'!BL55","v":0},{"$f":"AI54*'Product Info'!BO55","v":0},{"$f":"AI54*'Product Info'!BR55","v":0},{"$f":"AI54*'Product Info'!BU55","v":0},{"$f":"AI54*'Product Info'!BX55","v":0}]
[{"$f":"'Product Info'!A56","v":0},{"$f":"'Product Info'!B56","v":0},{"$f":"'Product Info'!C56","v":0},null,null,null,null,null,null,null,null,null,null,null,null,null,null,null,null,null,null,null,null,null,null,null,null,null,null,null,null,null,null,null,0,{"$f":"'Product Info'!F56*('Daily Info (December)'!AI55)","v":0},null,null,{"$f":"AI55*('Product Info'!H56)","v":0},{"$f":"AI55*('Product Info'!M56+'Product Info'!P56+'Product Info'!S56+'Product Info'!V56+'Product Info'!Y56+'Product Info'!AB56+'Product Info'!AE56+'Product Info'!AH56+'Product Info'!AK56+'Product Info'!AN56+'Product Info'!AQ56+'Product Info'!AT56+'Product Info'!AW56+'Product Info'!AZ56+'Product Info'!BC56+'Product Info'!BF56+'Product Info'!BI56+'Product Info'!BL56+'Product Info'!BO56+'Product Info'!BR56+'Product Info'!BU56+'Product Info'!BX56+'Product Info'!CA56+'Product Info'!CD56+'Product Info'!CG56+'Product Info'!CJ56+'Product Info'!CM56+'Product Info'!CP56+'Product Info'!CS56+'Product Info'!CV56+'Product Info'!CY56+'Product Info'!DB56+'Product Info'!DE56+'Product Info'!DH56+'Product Info'!DK56+'Product Info'!DN56+'Product Info'!DQ56+'Product Info'!DT56+'Product Info'!DW56+'Product Info'!DZ56+'Product Info'!EC56+'Product Info'!EF56+'Product Info'!EI56+'Product Info'!EL56+'Product Info'!EO56+'Product Info'!ER56+'Product Info'!EU56+'Product Info'!EX56+'Product Info'!FA56+'Product Info'!FD56)","v":0},{"$f":"AI55*('Product Info'!M56)","v":0},{"$f":"AI55*'Product Info'!P56","v":0},{"$f":"AI55*'Product Info'!S56","v":0},{"$f":"AI55*'Product Info'!V56","v":0},{"$f":"AI55*'Product Info'!Y56","v":0},{"$f":"AI55*'Product Info'!AB56","v":0},{"$f":"AI55*'Product Info'!AE56","v":0},{"$f":"AI55*'Product Info'!AH56","v":0},{"$f":"AI55*'Product Info'!AK56","v":0},{"$f":"AI55*'Product Info'!AN56","v":0},{"$f":"AI55*'Product Info'!AQ56","v":0},{"$f":"AI55*'Product Info'!AT56","v":0},{"$f":"AI55*'Product Info'!AW56","v":0},{"$f":"AI55*'Product Info'!AZ56","v":0},{"$f":"AI55*'Product Info'!BC56","v":0},{"$f":"AI55*'Product Info'!BF56","v":0},{"$f":"AI55*'Product Info'!BI56","v":0},{"$f":"AI55*'Product Info'!BL56","v":0},{"$f":"AI55*'Product Info'!BO56","v":0},{"$f":"AI55*'Product Info'!BR56","v":0},{"$f":"AI55*'Product Info'!BU56","v":0},{"$f":"AI55*'Product Info'!BX56","v":0}]
[{"$f":"'Product Info'!A57","v":0},{"$f":"'Product Info'!B57","v":0},{"$f":"'Product Info'!C57","v":0},null,null,null,null,null,null,null,null,null,null,null,null,null,null,null,null,null,null,null,null,null,null,null,null,null,null,null,null,null,null,null,0,{"$f":"'Product Info'!F57*('Daily Info (December)'!AI56)","v":0},null,null,{"$f":"AI56*('Product Info'!H57)","v":0},{"$f":"AI56*('Product Info'!M57+'Product Info'!P57+'Product Info'!S57+'Product Info'!V57+'Product Info'!Y57+'Product Info'!AB57+'Product Info'!AE57+'Product Info'!AH57+'Product Info'!AK57+'Product Info'!AN57+'Product Info'!AQ57+'Product Info'!AT57+'Product Info'!AW57+'Product Info'!AZ57+'Product Info'!BC57+'Product Info'!BF57+'Product Info'!BI57+'Product Info'!BL57+'Product Info'!BO57+'Product Info'!BR57+'Product Info'!BU57+'Product Info'!BX57+'Product Info'!CA57+'Product Info'!CD57+'Product Info'!CG57+'Product Info'!CJ57+'Product Info'!CM57+'Product Info'!CP57+'Product Info'!CS57+'Product Info'!CV57+'Product Info'!CY57+'Product Info'!DB57+'Product Info'!DE57+'Product Info'!DH57+'Product Info'!DK57+'Product Info'!DN57+'Product Info'!DQ57+'Product Info'!DT57+'Product Info'!DW57+'Product Info'!DZ57+'Product Info'!EC57+'Product Info'!EF57+'Product Info'!EI57+'Product Info'!EL57+'Product Info'!EO57+'Product Info'!ER57+'Product Info'!EU57+'Product Info'!EX57+'Product Info'!FA57+'Product Info'!FD57)","v":0},{"$f":"AI56*('Product Info'!M57)","v":0},{"$f":"AI56*'Product Info'!P57","v":0},{"$f":"AI56*'Product Info'!S57","v":0},{"$f":"AI56*'Product Info'!V57","v":0},{"$f":"AI56*'Product Info'!Y57","v":0},{"$f":"AI56*'Product Info'!AB57","v":0},{"$f":"AI56*'Product Info'!AE57","v":0},{"$f":"AI56*'Product Info'!AH57","v":0},{"$f":"AI56*'Product Info'!AK57","v":0},{"$f":"AI56*'Product Info'!AN57","v":0},{"$f":"AI56*'Product Info'!AQ57","v":0},{"$f":"AI56*'Product Info'!AT57","v":0},{"$f":"AI56*'Product Info'!AW57","v":0},{"$f":"AI56*'Product Info'!AZ57","v":0},{"$f":"AI56*'Product Info'!BC57","v":0},{"$f":"AI56*'Product Info'!BF57","v":0},{"$f":"AI56*'Product Info'!BI57","v":0},{"$f":"AI56*'Product Info'!BL57","v":0},{"$f":"AI56*'Product Info'!BO57","v":0},{"$f":"AI56*'Product Info'!BR57","v":0},{"$f":"AI56*'Product Info'!BU57","v":0},{"$f":"AI56*'Product Info'!BX57","v":0}]
[{"$f":"'Product Info'!A58","v":0},{"$f":"'Product Info'!B58","v":0},{"$f":"'Product Info'!C58","v":0},null,null,null,null,null,null,null,null,null,null,null,null,null,null,null,null,null,null,null,null,null,null,null,null,null,null,null,null,null,null,null,0,{"$f":"'Product Info'!F58*('Daily Info (December)'!AI57)","v":0},null,null,{"$f":"AI57*('Product Info'!H58)","v":0},{"$f":"AI57*('Product Info'!M58+'Product Info'!P58+'Product Info'!S58+'Product Info'!V58+'Product Info'!Y58+'Product Info'!AB58+'Product Info'!AE58+'Product Info'!AH58+'Product Info'!AK58+'Product Info'!AN58+'Product Info'!AQ58+'Product Info'!AT58+'Product Info'!AW58+'Product Info'!AZ58+'Product Info'!BC58+'Product Info'!BF58+'Product Info'!BI58+'Product Info'!BL58+'Product Info'!BO58+'Product Info'!BR58+'Product Info'!BU58+'Product Info'!BX58+'Product Info'!CA58+'Product Info'!CD58+'Product Info'!CG58+'Product Info'!CJ58+'Product Info'!CM58+'Product Info'!CP58+'Product Info'!CS58+'Product Info'!CV58+'Product Info'!CY58+'Product Info'!DB58+'Product Info'!DE58+'Product Info'!DH58+'Product Info'!DK58+'Product Info'!DN58+'Product Info'!DQ58+'Product Info'!DT58+'Product Info'!DW58+'Product Info'!DZ58+'Product Info'!EC58+'Product Info'!EF58+'Product Info'!EI58+'Product Info'!EL58+'Product Info'!EO58+'Product Info'!ER58+'Product Info'!EU58+'Product Info'!EX58+'Product Info'!FA58+'Product Info'!FD58)","v":0},{"$f":"AI57*('Product Info'!M58)","v":0},{"$f":"AI57*'Product Info'!P58","v":0},{"$f":"AI57*'Product Info'!S58","v":0},{"$f":"AI57*'Product Info'!V58","v":0},{"$f":"AI57*'Product Info'!Y58","v":0},{"$f":"AI57*'Product Info'!AB58","v":0},{"$f":"AI57*'Product Info'!AE58","v":0},{"$f":"AI57*'Product Info'!AH58","v":0},{"$f":"AI57*'Product Info'!AK58","v":0},{"$f":"AI57*'Product Info'!AN58","v":0},{"$f":"AI57*'Product Info'!AQ58","v":0},{"$f":"AI57*'Product Info'!AT58","v":0},{"$f":"AI57*'Product Info'!AW58","v":0},{"$f":"AI57*'Product Info'!AZ58","v":0},{"$f":"AI57*'Product Info'!BC58","v":0},{"$f":"AI57*'Product Info'!BF58","v":0},{"$f":"AI57*'Product Info'!BI58","v":0},{"$f":"AI57*'Product Info'!BL58","v":0},{"$f":"AI57*'Product Info'!BO58","v":0},{"$f":"AI57*'Product Info'!BR58","v":0},{"$f":"AI57*'Product Info'!BU58","v":0},{"$f":"AI57*'Product Info'!BX58","v":0}]
[{"$f":"'Product Info'!A59","v":0},{"$f":"'Product Info'!B59","v":0},{"$f":"'Product Info'!C59","v":0},null,null,null,null,null,null,null,null,null,null,null,null,null,null,null,null,null,null,null,null,null,null,null,null,null,null,null,null,null,null,null,0,{"$f":"'Product Info'!F59*('Daily Info (December)'!AI58)","v":0},null,null,{"$f":"AI58*('Product Info'!H59)","v":0},{"$f":"AI58*('Product Info'!M59+'Product Info'!P59+'Product Info'!S59+'Product Info'!V59+'Product Info'!Y59+'Product Info'!AB59+'Product Info'!AE59+'Product Info'!AH59+'Product Info'!AK59+'Product Info'!AN59+'Product Info'!AQ59+'Product Info'!AT59+'Product Info'!AW59+'Product Info'!AZ59+'Product Info'!BC59+'Product Info'!BF59+'Product Info'!BI59+'Product Info'!BL59+'Product Info'!BO59+'Product Info'!BR59+'Product Info'!BU59+'Product Info'!BX59+'Product Info'!CA59+'Product Info'!CD59+'Product Info'!CG59+'Product Info'!CJ59+'Product Info'!CM59+'Product Info'!CP59+'Product Info'!CS59+'Product Info'!CV59+'Product Info'!CY59+'Product Info'!DB59+'Product Info'!DE59+'Product Info'!DH59+'Product Info'!DK59+'Product Info'!DN59+'Product Info'!DQ59+'Product Info'!DT59+'Product Info'!DW59+'Product Info'!DZ59+'Product Info'!EC59+'Product Info'!EF59+'Product Info'!EI59+'Product Info'!EL59+'Product Info'!EO59+'Product Info'!ER59+'Product Info'!EU59+'Product Info'!EX59+'Product Info'!FA59+'Product Info'!FD59)","v":0},{"$f":"AI58*('Product Info'!M59)","v":0},{"$f":"AI58*'Product Info'!P59","v":0},{"$f":"AI58*'Product Info'!S59","v":0},{"$f":"AI58*'Product Info'!V59","v":0},{"$f":"AI58*'Product Info'!Y59","v":0},{"$f":"AI58*'Product Info'!AB59","v":0},{"$f":"AI58*'Product Info'!AE59","v":0},{"$f":"AI58*'Product Info'!AH59","v":0},{"$f":"AI58*'Product Info'!AK59","v":0},{"$f":"AI58*'Product Info'!AN59","v":0},{"$f":"AI58*'Product Info'!AQ59","v":0},{"$f":"AI58*'Product Info'!AT59","v":0},{"$f":"AI58*'Product Info'!AW59","v":0},{"$f":"AI58*'Product Info'!AZ59","v":0},{"$f":"AI58*'Product Info'!BC59","v":0},{"$f":"AI58*'Product Info'!BF59","v":0},{"$f":"AI58*'Product Info'!BI59","v":0},{"$f":"AI58*'Product Info'!BL59","v":0},{"$f":"AI58*'Product Info'!BO59","v":0},{"$f":"AI58*'Product Info'!BR59","v":0},{"$f":"AI58*'Product Info'!BU59","v":0},{"$f":"AI58*'Product Info'!BX59","v":0}]
[{"$f":"'Product Info'!A60","v":0},{"$f":"'Product Info'!B60","v":0},{"$f":"'Product Info'!C60","v":0},null,null,null,null,null,null,null,null,null,null,null,null,null,null,null,null,null,null,null,null,null,null,null,null,null,null,null,null,null,null,null,0,{"$f":"'Product Info'!F60*('Daily Info (December)'!AI59)","v":0},null,null,{"$f":"AI59*('Product Info'!H60)","v":0},{"$f":"AI59*('Product Info'!M60+'Product Info'!P60+'Product Info'!S60+'Product Info'!V60+'Product Info'!Y60+'Product Info'!AB60+'Product Info'!AE60+'Product Info'!AH60+'Product Info'!AK60+'Product Info'!AN60+'Product Info'!AQ60+'Product Info'!AT60+'Product Info'!AW60+'Product Info'!AZ60+'Product Info'!BC60+'Product Info'!BF60+'Product Info'!BI60+'Product Info'!BL60+'Product Info'!BO60+'Product Info'!BR60+'Product Info'!BU60+'Product Info'!BX60+'Product Info'!CA60+'Product Info'!CD60+'Product Info'!CG60+'Product Info'!CJ60+'Product Info'!CM60+'Product Info'!CP60+'Product Info'!CS60+'Product Info'!CV60+'Product Info'!CY60+'Product Info'!DB60+'Product Info'!DE60+'Product Info'!DH60+'Product Info'!DK60+'Product Info'!DN60+'Product Info'!DQ60+'Product Info'!DT60+'Product Info'!DW60+'Product Info'!DZ60+'Product Info'!EC60+'Product Info'!EF60+'Product Info'!EI60+'Product Info'!EL60+'Product Info'!EO60+'Product Info'!ER60+'Product Info'!EU60+'Product Info'!EX60+'Product Info'!FA60+'Product Info'!FD60)","v":0},{"$f":"AI59*('Product Info'!M60)","v":0},{"$f":"AI59*'Product Info'!P60","v":0},{"$f":"AI59*'Product Info'!S60","v":0},{"$f":"AI59*'Product Info'!V60","v":0},{"$f":"AI59*'Product Info'!Y60","v":0},{"$f":"AI59*'Product Info'!AB60","v":0},{"$f":"AI59*'Product Info'!AE60","v":0},{"$f":"AI59*'Product Info'!AH60","v":0},{"$f":"AI59*'Product Info'!AK60","v":0},{"$f":"AI59*'Product Info'!AN60","v":0},{"$f":"AI59*'Product Info'!AQ60","v":0},{"$f":"AI59*'Product Info'!AT60","v":0},{"$f":"AI59*'Product Info'!AW60","v":0},{"$f":"AI59*'Product Info'!AZ60","v":0},{"$f":"AI59*'Product Info'!BC60","v":0},{"$f":"AI59*'Product Info'!BF60","v":0},{"$f":"AI59*'Product Info'!BI60","v":0},{"$f":"AI59*'Product Info'!BL60","v":0},{"$f":"AI59*'Product Info'!BO60","v":0},{"$f":"AI59*'Product Info'!BR60","v":0},{"$f":"AI59*'Product Info'!BU60","v":0},{"$f":"AI59*'Product Info'!BX60","v":0}]
[{"$f":"'Product Info'!A61","v":0},{"$f":"'Product Info'!B61","v":0},{"$f":"'Product Info'!C61","v":0},null,null,null,null,null,null,null,null,null,null,null,null,null,null,null,null,null,null,null,null,null,null,null,null,null,null,null,null,null,null,null,0,{"$f":"'Product Info'!F61*('Daily Info (December)'!AI60)","v":0},null,null,{"$f":"AI60*('Product Info'!H61)","v":0},{"$f":"AI60*('Product Info'!M61+'Product Info'!P61+'Product Info'!S61+'Product Info'!V61+'Product Info'!Y61+'Product Info'!AB61+'Product Info'!AE61+'Product Info'!AH61+'Product Info'!AK61+'Product Info'!AN61+'Product Info'!AQ61+'Product Info'!AT61+'Product Info'!AW61+'Product Info'!AZ61+'Product Info'!BC61+'Product Info'!BF61+'Product Info'!BI61+'Product Info'!BL61+'Product Info'!BO61+'Product Info'!BR61+'Product Info'!BU61+'Product Info'!BX61+'Product Info'!CA61+'Product Info'!CD61+'Product Info'!CG61+'Product Info'!CJ61+'Product Info'!CM61+'Product Info'!CP61+'Product Info'!CS61+'Product Info'!CV61+'Product Info'!CY61+'Product Info'!DB61+'Product Info'!DE61+'Product Info'!DH61+'Product Info'!DK61+'Product Info'!DN61+'Product Info'!DQ61+'Product Info'!DT61+'Product Info'!DW61+'Product Info'!DZ61+'Product Info'!EC61+'Product Info'!EF61+'Product Info'!EI61+'Product Info'!EL61+'Product Info'!EO61+'Product Info'!ER61+'Product Info'!EU61+'Product Info'!EX61+'Product Info'!FA61+'Product Info'!FD61)","v":0},{"$f":"AI60*('Product Info'!M61)","v":0},{"$f":"AI60*'Product Info'!P61","v":0},{"$f":"AI60*'Product Info'!S61","v":0},{"$f":"AI60*'Product Info'!V61","v":0},{"$f":"AI60*'Product Info'!Y61","v":0},{"$f":"AI60*'Product Info'!AB61","v":0},{"$f":"AI60*'Product Info'!AE61","v":0},{"$f":"AI60*'Product Info'!AH61","v":0},{"$f":"AI60*'Product Info'!AK61","v":0},{"$f":"AI60*'Product Info'!AN61","v":0},{"$f":"AI60*'Product Info'!AQ61","v":0},{"$f":"AI60*'Product Info'!AT61","v":0},{"$f":"AI60*'Product Info'!AW61","v":0},{"$f":"AI60*'Product Info'!AZ61","v":0},{"$f":"AI60*'Product Info'!BC61","v":0},{"$f":"AI60*'Product Info'!BF61","v":0},{"$f":"AI60*'Product Info'!BI61","v":0},{"$f":"AI60*'Product Info'!BL61","v":0},{"$f":"AI60*'Product Info'!BO61","v":0},{"$f":"AI60*'Product Info'!BR61","v":0},{"$f":"AI60*'Product Info'!BU61","v":0},{"$f":"AI60*'Product Info'!BX61","v":0}]
[{"$f":"'Product Info'!A62","v":0},{"$f":"'Product Info'!B62","v":0},{"$f":"'Product Info'!C62","v":0},null,null,null,null,null,null,null,null,null,null,null,null,null,null,null,null,null,null,null,null,null,null,null,null,null,null,null,null,null,null,null,0,{"$f":"'Product Info'!F62*('Daily Info (December)'!AI61)","v":0},null,null,{"$f":"AI61*('Product Info'!H62)","v":0},{"$f":"AI61*('Product Info'!M62+'Product Info'!P62+'Product Info'!S62+'Product Info'!V62+'Product Info'!Y62+'Product Info'!AB62+'Product Info'!AE62+'Product Info'!AH62+'Product Info'!AK62+'Product Info'!AN62+'Product Info'!AQ62+'Product Info'!AT62+'Product Info'!AW62+'Product Info'!AZ62+'Product Info'!BC62+'Product Info'!BF62+'Product Info'!BI62+'Product Info'!BL62+'Product Info'!BO62+'Product Info'!BR62+'Product Info'!BU62+'Product Info'!BX62+'Product Info'!CA62+'Product Info'!CD62+'Product Info'!CG62+'Product Info'!CJ62+'Product Info'!CM62+'Product Info'!CP62+'Product Info'!CS62+'Product Info'!CV62+'Product Info'!CY62+'Product Info'!DB62+'Product Info'!DE62+'Product Info'!DH62+'Product Info'!DK62+'Product Info'!DN62+'Product Info'!DQ62+'Product Info'!DT62+'Product Info'!DW62+'Product Info'!DZ62+'Product Info'!EC62+'Product Info'!EF62+'Product Info'!EI62+'Product Info'!EL62+'Product Info'!EO62+'Product Info'!ER62+'Product Info'!EU62+'Product Info'!EX62+'Product Info'!FA62+'Product Info'!FD62)","v":0},{"$f":"AI61*('Product Info'!M62)","v":0},{"$f":"AI61*'Product Info'!P62","v":0},{"$f":"AI61*'Product Info'!S62","v":0},{"$f":"AI61*'Product Info'!V62","v":0},{"$f":"AI61*'Product Info'!Y62","v":0},{"$f":"AI61*'Product Info'!AB62","v":0},{"$f":"AI61*'Product Info'!AE62","v":0},{"$f":"AI61*'Product Info'!AH62","v":0},{"$f":"AI61*'Product Info'!AK62","v":0},{"$f":"AI61*'Product Info'!AN62","v":0},{"$f":"AI61*'Product Info'!AQ62","v":0},{"$f":"AI61*'Product Info'!AT62","v":0},{"$f":"AI61*'Product Info'!AW62","v":0},{"$f":"AI61*'Product Info'!AZ62","v":0},{"$f":"AI61*'Product Info'!BC62","v":0},{"$f":"AI61*'Product Info'!BF62","v":0},{"$f":"AI61*'Product Info'!BI62","v":0},{"$f":"AI61*'Product Info'!BL62","v":0},{"$f":"AI61*'Product Info'!BO62","v":0},{"$f":"AI61*'Product Info'!BR62","v":0},{"$f":"AI61*'Product Info'!BU62","v":0},{"$f":"AI61*'Product Info'!BX62","v":0}]
["TOTALS for December",null,null,null,null,null,null,null,null,null,null,null,null,null,null,null,null,null,null,null,null,null,null,null,null,null,null,null,null,null,null,null,null,null,{"$f":"SUM(AI4:AI18)","v":0},{"$f":"SUM(AJ4:AJ18)","v":0},null,null,{"$f":"SUM(AM4:AM18)","v":0},{"$f":"SUM(AN4:AN18)","v":0},0,0,0,0,0,0,0,0,0,0,0,0,0,0,0,0,0,0,0,0,0,0]

{"sheet":"Monthly Totals","index":14,"n_rows":68,"n_cols":33,"rows_kept":68,"cut":false,"hidden":false,"merged":[[66,6,66,8],[67,6,67,8],[62,6,62,8],[63,6,63,8],[64,6,64,8],[65,6,65,8],[58,6,58,8],[59,6,59,8],[60,6,60,8],[61,6,61,8],[54,6,54,8],[55,6,55,8],[56,6,56,8],[57,6,57,8],[53,21,53,24],[53,25,53,28],[53,29,53,32],[53,0,53,2],[53,3,53,8],[53,9,53,12],[53,13,53,16],[30,6,30,8],[31,6,31,8],[32,6,32,8],[33,6,33,8],[53,17,53,20],[39,6,39,8],[0,8,0,10],[48,6,48,8],[49,6,49,8],[50,6,50,8],[40,6,40,8],[41,6,41,8],[42,6,42,8],[43,6,43,8],[35,6,35,8],[38,6,38,8],[21,3,21,8],[37,3,37,8],[27,6,27,8],[28,6,28,8],[29,6,29,8],[51,6,51,8],[44,6,44,8],[45,6,45,8],[46,6,46,8],[47,6,47,8],[2,0,2,2],[21,9,21,12],[22,6,22,8],[23,6,23,8],[24,6,24,8],[21,0,21,2],[37,29,37,32],[21,13,21,16],[21,17,21,20],[21,21,21,24],[21,25,21,28],[21,29,21,32],[37,17,37,20],[37,21,37,24],[37,25,37,28],[34,6,34,8],[37,9,37,12],[37,13,37,16],[25,6,25,8],[26,6,26,8],[37,0,37,2]]}
["Main Menu","Monthly Usage and Emission Rates - SCROLL DOWN FOR PURGE OR CLEAN-UP SOLVENT EMISSIONS",null,null,null,null,null,null,"USER DATA ENTRY REQUIRED"]
[]
["Control Device (Y/N):",null,null,"No","Capture Efficiency",0,"Destruction Efficiency",0,{"$f":"1-((F3/100)*(H3/100))","v":1},"Individual HAPs Emitted (Tons)"]
[]
["Month","Coatings Used (gal)","Coatings Used (lbs)","Pounds Uncontrolled VOCs Emitted","Pounds Controlled VOCs Emitted","Tons Uncontrolled VOCs Emitted","Tons Controlled VOCs Emitted","Tons Uncontrolled HAPs Emitted","Tons Controlled HAPs Emitted",{"$f":"'Product Info'!K3","v":0},{"$f":"'Product Info'!N3","v":0},{"$f":"'Product Info'!O3","v":0},{"$f":"'Product Info'!P3","v":0},{"$f":"'Product Info'!Q3","v":0},{"$f":"'Product Info'!R3","v":0},{"$f":"'Product Info'!S3","v":0},{"$f":"'Product Info'!T3","v":0},{"$f":"'Product Info'!U3","v":0},{"$f":"'Product Info'!V3","v":0},{"$f":"'Product Info'!W3","v":0},{"$f":"'Product Info'!X3","v":0},{"$f":"'Product Info'!Y3","v":0},{"$f":"'Product Info'!Z3","v":0},{"$f":"'Product Info'!AA3","v":0},{"$f":"'Product Info'!AB3","v":0},{"$f":"'Product Info'!AC3","v":0},{"$f":"'Product Info'!AD3","v":0},{"$f":"'Product Info'!AE3","v":0},{"$f":"'Product Info'!AF3","v":0},{"$f":"'Product Info'!AG3","v":0},{"$f":"'Product Info'!AH3","v":0}]
["Jan",{"$f":"'Daily Info (January)'!AI62","v":0},{"$f":"'Daily Info (January)'!AJ62","v":0},{"$f":"'Daily Info (January)'!AM62","v":0},{"$f":"D6","v":0},{"$f":"D6/2000","v":0},{"$f":"F6","v":0},{"$f":"('Daily Info (January)'!AN62/2000)","v":0},{"$f":"H6","v":0},{"$f":"(I3*'Daily Info (January)'!AO62)/2000","v":0},{"$f":"(I3*'Daily Info (January)'!AP62)/2000","v":0},{"$f":"(I3*'Daily Info (January)'!AQ62)/2000","v":0},{"$f":"(I3*'Daily Info (January)'!AR62)/2000","v":0},{"$f":"(I3*'Daily Info (January)'!AS62)/2000","v":0},{"$f":"(I3*'Daily Info (January)'!AT62)/2000","v":0},{"$f":"(I3*'Daily Info (January)'!AU62)/2000","v":0},{"$f":"(I3*'Daily Info (January)'!AV62)/2000","v":0},{"$f":"(I3*'Daily Info (January)'!AW62)/2000","v":0},{"$f":"(I3*'Daily Info (January)'!AX62)/2000","v":0},{"$f":"(I3*'Daily Info (January)'!AY62)/2000","v":0},{"$f":"(I3*'Daily Info (January)'!AZ62)/2000","v":0},{"$f":"(I3*'Daily Info (January)'!BA62)/2000","v":0},{"$f":"(I3*'Daily Info (January)'!BB62)/2000","v":0},{"$f":"(I3*'Daily Info (January)'!BC62)/2000","v":0},{"$f":"(I3*'Daily Info (January)'!BD62)/2000","v":0},{"$f":"(I3*'Daily Info (January)'!BE62)/2000","v":0},{"$f":"(I3*'Daily Info (January)'!BF62)/2000","v":0},{"$f":"(I3*'Daily Info (January)'!BG62)/2000","v":0},{"$f":"(I3*'Daily Info (January)'!BH62)/2000","v":0},{"$f":"(I3*'Daily Info (January)'!BI62)/2000","v":0},{"$f":"(I3*'Daily Info (January)'!BJ62)/2000","v":0}]
["Feb",{"$f":"'Daily Info (February)'!AF62","v":0},{"$f":"'Daily Info (February)'!AG62","v":0},{"$f":"'Daily Info (February)'!AJ62","v":0},0,0,0,{"$f":"('Daily Info (February)'!AK62/2000)","v":0},0,{"$f":"(I3*'Daily Info (February)'!AL62)/2000","v":0},{"$f":"(I3*'Daily Info (February)'!AM62)/2000","v":0},{"$f":"(I3*'Daily Info (February)'!AN62)/2000","v":0},{"$f":"(I3*'Daily Info (February)'!AO62)/2000","v":0},{"$f":"(I3*'Daily Info (February)'!AP62)/2000","v":0},{"$f":"(I3*'Daily Info (February)'!AQ62)/2000","v":0},{"$f":"(I3*'Daily Info (February)'!AR62)/2000","v":0},{"$f":"(I3*'Daily Info (February)'!AS62)/2000","v":0},{"$f":"(I3*'Daily Info (February)'!AT62)/2000","v":0},{"$f":"(I3*'Daily Info (February)'!AU62)/2000","v":0},{"$f":"(I3*'Daily Info (February)'!AV62)/2000","v":0},{"$f":"(I3*'Daily Info (February)'!AW62)/2000","v":0},{"$f":"(I3*'Daily Info (February)'!AX62)/2000","v":0},{"$f":"(I3*'Daily Info (February)'!AY62)/2000","v":0},{"$f":"(I3*'Daily Info (February)'!AZ62)/2000","v":0},{"$f":"(I3*'Daily Info (February)'!BA62)/2000","v":0},{"$f":"(I3*'Daily Info (February)'!BB62)/2000","v":0},{"$f":"(I3*'Daily Info (February)'!BC62)/2000","v":0},{"$f":"(I3*'Daily Info (February)'!BD62)/2000","v":0},{"$f":"(I3*'Daily Info (February)'!BE62)/2000","v":0},{"$f":"(I3*'Daily Info (February)'!BF62)/2000","v":0},{"$f":"(I3*'Daily Info (February)'!BG62)/2000","v":0}]
["Mar",{"$f":"'Daily Info (March)'!AI62","v":0},{"$f":"'Daily Info (March)'!AJ62","v":0},{"$f":"'Daily Info (March)'!AM62","v":0},0,0,0,{"$f":"'Daily Info (March)'!AN62/2000","v":0},0,{"$f":"(I3*'Daily Info (March)'!AO62)/2000","v":0},{"$f":"(I3*'Daily Info (March)'!AP62)/2000","v":0},{"$f":"(I3*'Daily Info (March)'!AQ62)/2000","v":0},{"$f":"(I3*'Daily Info (March)'!AR62)/2000","v":0},{"$f":"(I3*'Daily Info (March)'!AS62)/2000","v":0},{"$f":"(I3*'Daily Info (March)'!AT62)/2000","v":0},{"$f":"(I3*'Daily Info (March)'!AU62)/2000","v":0},{"$f":"(I3*'Daily Info (March)'!AV62)/2000","v":0},{"$f":"(I3*'Daily Info (March)'!AW62)/2000","v":0},{"$f":"(I3*'Daily Info (March)'!AX62)/2000","v":0},{"$f":"(I3*'Daily Info (March)'!AY62)/2000","v":0},{"$f":"(I3*'Daily Info (March)'!AZ62)/2000","v":0},{"$f":"(I3*'Daily Info (March)'!BA62)/2000","v":0},{"$f":"(I3*'Daily Info (March)'!BB62)/2000","v":0},{"$f":"(I3*'Daily Info (March)'!BC62)/2000","v":0},{"$f":"(I3*'Daily Info (March)'!BD62)/2000","v":0},{"$f":"(I3*'Daily Info (March)'!BE62)/2000","v":0},{"$f":"(I3*'Daily Info (March)'!BF62)/2000","v":0},{"$f":"(I3*'Daily Info (March)'!BG62)/2000","v":0},{"$f":"(I3*'Daily Info (March)'!BH62)/2000","v":0},{"$f":"(I3*'Daily Info (March)'!BI62)/2000","v":0},{"$f":"(I3*'Daily Info (March)'!BJ62)/2000","v":0}]
["Apr",{"$f":"'Daily Info (April)'!AH62","v":0},{"$f":"'Daily Info (April)'!AI62","v":0},{"$f":"'Daily Info (April)'!AL65","v":0},0,0,0,{"$f":"('Daily Info (April)'!AM62/2000)","v":0},0,{"$f":"(I3*'Daily Info (April)'!AM62)/2000","v":0},{"$f":"(I3*'Daily Info (April)'!AN62)/2000","v":0},{"$f":"(I3*'Daily Info (April)'!AO62)/2000","v":0},{"$f":"(I3*'Daily Info (April)'!AP62)/2000","v":0},{"$f":"(I3*'Daily Info (April)'!AQ62)/2000","v":0},{"$f":"(I3*'Daily Info (April)'!AR62)/2000","v":0},{"$f":"(I3*'Daily Info (April)'!AS62)/2000","v":0},{"$f":"(I3*'Daily Info (April)'!AT62)/2000","v":0},{"$f":"(I3*'Daily Info (April)'!AU62)/2000","v":0},{"$f":"(I3*'Daily Info (April)'!AV62)/2000","v":0},{"$f":"(I3*'Daily Info (April)'!AW62)/2000","v":0},{"$f":"(I3*'Daily Info (April)'!AX62)/2000","v":0},{"$f":"(I3*'Daily Info (April)'!AY62)/2000","v":0},{"$f":"(I3*'Daily Info (April)'!AZ62)/2000","v":0},{"$f":"(I3*'Daily Info (April)'!BA62)/2000","v":0},{"$f":"(I3*'Daily Info (April)'!BB62)/2000","v":0},{"$f":"(I3*'Daily Info (April)'!BC62)/2000","v":0},{"$f":"(I3*'Daily Info (April)'!BD62)/2000","v":0},{"$f":"(I3*'Daily Info (April)'!BE62)/2000","v":0},{"$f":"(I3*'Daily Info (April)'!BF62)/2000","v":0},{"$f":"(I3*'Daily Info (April)'!BG62)/2000","v":0},{"$f":"(I3*'Daily Info (April)'!BH62)/2000","v":0}]
["May",{"$f":"'Daily Info (May)'!AI62","v":0},{"$f":"'Daily Info (May)'!AJ62","v":0},{"$f":"'Daily Info (May)'!AM62","v":0},0,0,0,{"$f":"('Daily Info (May)'!AN62/2000)","v":0},0,{"$f":"(I3*'Daily Info (May)'!AO62)/2000","v":0},{"$f":"(I3*'Daily Info (May)'!AP62)/2000","v":0},{"$f":"(I3*'Daily Info (May)'!AQ62)/2000","v":0},{"$f":"(I3*'Daily Info (May)'!AR62)/2000","v":0},{"$f":"(I3*'Daily Info (May)'!AS62)/2000","v":0},{"$f":"(I3*'Daily Info (May)'!AT62)/2000","v":0},{"$f":"(I3*'Daily Info (May)'!AU62)/2000","v":0},{"$f":"(I3*'Daily Info (May)'!AV62)/2000","v":0},{"$f":"(I3*'Daily Info (May)'!AW62)/2000","v":0},{"$f":"(I3*'Daily Info (May)'!AX62)/2000","v":0},{"$f":"(I3*'Daily Info (May)'!AY62)/2000","v":0},{"$f":"(I3*'Daily Info (May)'!AZ62)/2000","v":0},{"$f":"(I3*'Daily Info (May)'!BA62)/2000","v":0},{"$f":"(I3*'Daily Info (May)'!BB62)/2000","v":0},{"$f":"(I3*'Daily Info (May)'!BC62)/2000","v":0},{"$f":"(I3*'Daily Info (May)'!BD62)/2000","v":0},{"$f":"(I3*'Daily Info (May)'!BE62)/2000","v":0},{"$f":"(I3*'Daily Info (May)'!BF62)/2000","v":0},{"$f":"(I3*'Daily Info (May)'!BG62)/2000","v":0},{"$f":"(I3*'Daily Info (May)'!BH62)/2000","v":0},{"$f":"(I3*'Daily Info (May)'!BI62)/2000","v":0},{"$f":"(I3*'Daily Info (May)'!BJ62)/2000","v":0}]
["June",{"$f":"'Daily Info (June)'!AH62","v":0},{"$f":"'Daily Info (June)'!AI62","v":0},{"$f":"'Daily Info (June)'!AL62","v":0},0,0,0,{"$f":"('Daily Info (June)'!AM62/2000)","v":0},0,{"$f":"(I3*'Daily Info (June)'!AM62)/2000","v":0},{"$f":"(I3*'Daily Info (June)'!AN62)/2000","v":0},{"$f":"(I3*'Daily Info (June)'!AO62)/2000","v":0},{"$f":"(I3*'Daily Info (June)'!AP62)/2000","v":0},{"$f":"(I3*'Daily Info (June)'!AQ62)/2000","v":0},{"$f":"(I3*'Daily Info (June)'!AR62)/2000","v":0},{"$f":"(I3*'Daily Info (June)'!AS62)/2000","v":0},{"$f":"(I3*'Daily Info (June)'!AT62)/2000","v":0},{"$f":"(I3*'Daily Info (June)'!AU62)/2000","v":0},{"$f":"(I3*'Daily Info (June)'!AV62)/2000","v":0},{"$f":"(I3*'Daily Info (June)'!AW62)/2000","v":0},{"$f":"(I3*'Daily Info (June)'!AX62)/2000","v":0},{"$f":"(I3*'Daily Info (June)'!AY62)/2000","v":0},{"$f":"(I3*'Daily Info (June)'!AZ62)/2000","v":0},{"$f":"(I3*'Daily Info (June)'!BA62)/2000","v":0},{"$f":"(I3*'Daily Info (June)'!BB62)/2000","v":0},{"$f":"(I3*'Daily Info (June)'!BC62)/2000","v":0},{"$f":"(I3*'Daily Info (June)'!BD62)/2000","v":0},{"$f":"(I3*'Daily Info (June)'!BE62)/2000","v":0},{"$f":"(I3*'Daily Info (June)'!BF62)/2000","v":0},{"$f":"(I3*'Daily Info (June)'!BG62)/2000","v":0},{"$f":"(I3*'Daily Info (June)'!BH62)/2000","v":0}]
["July",{"$f":"'Daily Info (July)'!AI62","v":0},{"$f":"'Daily Info (July)'!AJ62","v":0},{"$f":"'Daily Info (July)'!AM62","v":0},0,0,0,{"$f":"('Daily Info (July)'!AN62/2000)","v":0},0,{"$f":"(I3*'Daily Info (July)'!AO62)/2000","v":0},{"$f":"(I3*'Daily Info (July)'!AP62)/2000","v":0},{"$f":"(I3*'Daily Info (July)'!AQ62)/2000","v":0},{"$f":"(I3*'Daily Info (July)'!AR62)/2000","v":0},{"$f":"(I3*'Daily Info (July)'!AS62)/2000","v":0},{"$f":"(I3*'Daily Info (July)'!AT62)/2000","v":0},{"$f":"(I3*'Daily Info (July)'!AU62)/2000","v":0},{"$f":"(I3*'Daily Info (July)'!AV62)/2000","v":0},{"$f":"(I3*'Daily Info (July)'!AW62)/2000","v":0},{"$f":"(I3*'Daily Info (July)'!AX62)/2000","v":0},{"$f":"(I3*'Daily Info (July)'!AY62)/2000","v":0},{"$f":"(I3*'Daily Info (July)'!AZ62)/2000","v":0},{"$f":"(I3*'Daily Info (July)'!BA62)/2000","v":0},{"$f":"(I3*'Daily Info (July)'!BB62)/2000","v":0},{"$f":"(I3*'Daily Info (July)'!BC62)/2000","v":0},{"$f":"(I3*'Daily Info (July)'!BD62)/2000","v":0},{"$f":"(I3*'Daily Info (July)'!BE62)/2000","v":0},{"$f":"(I3*'Daily Info (July)'!BF62)/2000","v":0},{"$f":"(I3*'Daily Info (July)'!BG62)/2000","v":0},{"$f":"(I3*'Daily Info (July)'!BH62)/2000","v":0},{"$f":"(I3*'Daily Info (July)'!BI62)/2000","v":0},{"$f":"(I3*'Daily Info (July)'!BJ62)/2000","v":0}]
["Aug",{"$f":"'Daily Info (August)'!AI62","v":0},{"$f":"'Daily Info (August)'!AJ62","v":0},{"$f":"'Daily Info (August)'!AM62","v":0},0,0,0,{"$f":"('Daily Info (August)'!AN62/2000)","v":0},0,{"$f":"(I3*'Daily Info (August)'!AO62)/2000","v":0},{"$f":"(I3*'Daily Info (August)'!AP62)/2000","v":0},{"$f":"(I3*'Daily Info (August)'!AQ62)/2000","v":0},{"$f":"(I3*'Daily Info (August)'!AR62)/2000","v":0},{"$f":"(I3*'Daily Info (August)'!AS62)/2000","v":0},{"$f":"(I3*'Daily Info (August)'!AT62)/2000","v":0},{"$f":"(I3*'Daily Info (August)'!AU62)/2000","v":0},{"$f":"(I3*'Daily Info (August)'!AV62)/2000","v":0},{"$f":"(I3*'Daily Info (August)'!AW62)/2000","v":0},{"$f":"(I3*'Daily Info (August)'!AX62)/2000","v":0},{"$f":"(I3*'Daily Info (August)'!AY62)/2000","v":0},{"$f":"(I3*'Daily Info (August)'!AZ62)/2000","v":0},{"$f":"(I3*'Daily Info (August)'!BA62)/2000","v":0},{"$f":"(I3*'Daily Info (August)'!BB62)/2000","v":0},{"$f":"(I3*'Daily Info (August)'!BC62)/2000","v":0},{"$f":"(I3*'Daily Info (August)'!BD62)/2000","v":0},{"$f":"(I3*'Daily Info (August)'!BE62)/2000","v":0},{"$f":"(I3*'Daily Info (August)'!BF62)/2000","v":0},{"$f":"(I3*'Daily Info (August)'!BG62)/2000","v":0},{"$f":"(I3*'Daily Info (August)'!BH62)/2000","v":0},{"$f":"(I3*'Daily Info (August)'!BI62)/2000","v":0},{"$f":"(I3*'Daily Info (August)'!BJ62)/2000","v":0}]
["Sept",{"$f":"'Daily Info (September)'!AH62","v":0},{"$f":"'Daily Info (September)'!AI62","v":0},{"$f":"'Daily Info (September)'!AL62","v":0},0,0,0,{"$f":"('Daily Info (September)'!AM62/2000)","v":0},0,{"$f":"(I3*'Daily Info (September)'!AN62)/2000","v":0},{"$f":"(I3*'Daily Info (September)'!AO62)/2000","v":0},{"$f":"(I3*'Daily Info (September)'!AP62)/2000","v":0},{"$f":"(I3*'Daily Info (September)'!AQ62)/2000","v":0},{"$f":"(I3*'Daily Info (September)'!AR62)/2000","v":0},{"$f":"(I3*'Daily Info (September)'!AS62)/2000","v":0},{"$f":"(I3*'Daily Info (September)'!AT62)/2000","v":0},{"$f":"(I3*'Daily Info (September)'!AU62)/2000","v":0},{"$f":"(I3*'Daily Info (September)'!AV62)/2000","v":0},{"$f":"(I3*'Daily Info (September)'!AW62)/2000","v":0},{"$f":"(I3*'Daily Info (September)'!AX62)/2000","v":0},{"$f":"(I3*'Daily Info (September)'!AY62)/2000","v":0},{"$f":"(I3*'Daily Info (September)'!AZ62)/2000","v":0},{"$f":"(I3*'Daily Info (September)'!BA62)/2000","v":0},{"$f":"(I3*'Daily Info (September)'!BB62)/2000","v":0},{"$f":"(I3*'Daily Info (September)'!BC62)/2000","v":0},{"$f":"(I3*'Daily Info (September)'!BD62)/2000","v":0},{"$f":"(I3*'Daily Info (September)'!BE62)/2000","v":0},{"$f":"(I3*'Daily Info (September)'!BF62)/2000","v":0},{"$f":"(I3*'Daily Info (September)'!BG62)/2000","v":0},{"$f":"(I3*'Daily Info (September)'!BH62)/2000","v":0},{"$f":"(I3*'Daily Info (September)'!BI62)/2000","v":0}]
["Oct",{"$f":"'Daily Info (October)'!AI62","v":0},{"$f":"'Daily Info (October)'!AJ62","v":0},{"$f":"'Daily Info (October)'!AM62","v":0},0,0,0,{"$f":"('Daily Info (October)'!AN62/2000)","v":0},0,{"$f":"(I3*'Daily Info (October)'!AO62)/2000","v":0},{"$f":"(I3*'Daily Info (October)'!AP62)/2000","v":0},{"$f":"(I3*'Daily Info (October)'!AQ62)/2000","v":0},{"$f":"(I3*'Daily Info (October)'!AR62)/2000","v":0},{"$f":"(I3*'Daily Info (October)'!AS62)/2000","v":0},{"$f":"(I3*'Daily Info (October)'!AT62)/2000","v":0},{"$f":"(I3*'Daily Info (October)'!AU62)/2000","v":0},{"$f":"(I3*'Daily Info (October)'!AV62)/2000","v":0},{"$f":"(I3*'Daily Info (October)'!AW62)/2000","v":0},{"$f":"(I3*'Daily Info (October)'!AX62)/2000","v":0},{"$f":"(I3*'Daily Info (October)'!AY62)/2000","v":0},{"$f":"(I3*'Daily Info (October)'!AZ62)/2000","v":0},{"$f":"(I3*'Daily Info (October)'!BA62)/2000","v":0},{"$f":"(I3*'Daily Info (October)'!BB62)/2000","v":0},{"$f":"(I3*'Daily Info (October)'!BC62)/2000","v":0},{"$f":"(I3*'Daily Info (October)'!BD62)/2000","v":0},{"$f":"(I3*'Daily Info (October)'!BE62)/2000","v":0},{"$f":"(I3*'Daily Info (October)'!BF62)/2000","v":0},{"$f":"(I3*'Daily Info (October)'!BG62)/2000","v":0},{"$f":"(I3*'Daily Info (October)'!BH62)/2000","v":0},{"$f":"(I3*'Daily Info (October)'!BI62)/2000","v":0},{"$f":"(I3*'Daily Info (October)'!BJ62)/2000","v":0}]
["Nov",{"$f":"'Daily Info (November)'!AH62","v":0},{"$f":"'Daily Info (November)'!AI62","v":0},{"$f":"'Daily Info (November)'!AL62","v":0},0,0,0,{"$f":"('Daily Info (November)'!AM62/2000)","v":0},0,{"$f":"(I3*'Daily Info (November)'!AN62)/2000","v":0},{"$f":"(I3*'Daily Info (November)'!AO62)/2000","v":0},{"$f":"(I3*'Daily Info (November)'!AP62)/2000","v":0},{"$f":"(I3*'Daily Info (November)'!AQ62)/2000","v":0},{"$f":"(I3*'Daily Info (November)'!AR62)/2000","v":0},{"$f":"(I3*'Daily Info (November)'!AS62)/2000","v":0},{"$f":"(I3*'Daily Info (November)'!AT62)/2000","v":0},{"$f":"(I3*'Daily Info (November)'!AU62)/2000","v":0},{"$f":"(I3*'Daily Info (November)'!AV62)/2000","v":0},{"$f":"(I3*'Daily Info (November)'!AW62)/2000","v":0},{"$f":"(I3*'Daily Info (November)'!AX62)/2000","v":0},{"$f":"(I3*'Daily Info (November)'!AY62)/2000","v":0},{"$f":"(I3*'Daily Info (November)'!AZ62)/2000","v":0},{"$f":"(I3*'Daily Info (November)'!BA62)/2000","v":0},{"$f":"(I3*'Daily Info (November)'!BB62)/2000","v":0},{"$f":"(I3*'Daily Info (November)'!BC62)/2000","v":0},{"$f":"(I3*'Daily Info (November)'!BD62)/2000","v":0},{"$f":"(I3*'Daily Info (November)'!BE62)/2000","v":0},{"$f":"(I3*'Daily Info (November)'!BF62)/2000","v":0},{"$f":"(I3*'Daily Info (November)'!BG62)/2000","v":0},{"$f":"(I3*'Daily Info (November)'!BH62)/2000","v":0},{"$f":"(I3*'Daily Info (November)'!BI62)/2000","v":0}]
["Dec",{"$f":"'Daily Info (December)'!AI62","v":0},{"$f":"'Daily Info (December)'!AJ62","v":0},{"$f":"'Daily Info (December)'!AM62","v":0},0,0,0,{"$f":"('Daily Info (December)'!AN62/2000)","v":0},0,{"$f":"(I3*'Daily Info (December)'!AO62)/2000","v":0},{"$f":"(I3*'Daily Info (December)'!AP62)/2000","v":0},{"$f":"(I3*'Daily Info (December)'!AQ62)/2000","v":0},{"$f":"(I3*'Daily Info (December)'!AR62)/2000","v":0},{"$f":"(I3*'Daily Info (December)'!AS62)/2000","v":0},{"$f":"(I3*'Daily Info (December)'!AT62)/2000","v":0},{"$f":"(I3*'Daily Info (December)'!AU62)/2000","v":0},{"$f":"(I3*'Daily Info (December)'!AV62)/2000","v":0},{"$f":"(I3*'Daily Info (December)'!AW62)/2000","v":0},{"$f":"(I3*'Daily Info (December)'!AX62)/2000","v":0},{"$f":"(I3*'Daily Info (December)'!AY62)/2000","v":0},{"$f":"(I3*'Daily Info (December)'!AZ62)/2000","v":0},{"$f":"(I3*'Daily Info (December)'!BA62)/2000","v":0},{"$f":"(I3*'Daily Info (December)'!BB62)/2000","v":0},{"$f":"(I3*'Daily Info (December)'!BC62)/2000","v":0},{"$f":"(I3*'Daily Info (December)'!BD62)/2000","v":0},{"$f":"(I3*'Daily Info (December)'!BE62)/2000","v":0},{"$f":"(I3*'Daily Info (December)'!BF62)/2000","v":0},{"$f":"(I3*'Daily Info (December)'!BG62)/2000","v":0},{"$f":"(I3*'Daily Info (December)'!BH62)/2000","v":0},{"$f":"(I3*'Daily Info (December)'!BI62)/2000","v":0},{"$f":"(I3*'Daily Info (December)'!BJ62)/2000","v":0}]
["Year-to-Date",{"$f":"SUM(B6:B17)","v":0},0,0,{"$f":"SUM(E6:E17)","v":0},0,{"$f":"SUM(G6:G17)","v":0},0,{"$f":"SUM(I6:I17)","v":0},0,{"$f":"SUM(K6:K17)","v":0},0,0,0,0,0,0,0,0,0,0,0,0,0,0,0,0,0,0,0,0]
[]
[]
[]
["Purge or Clean-up Solvent (I)",null,null,"[Enter Purge or Clean-up Solvent Name]",null,null,null,null,null,"[Enter HAP Name]",null,null,null,"[Enter HAP Name]",null,null,null,"[Enter HAP Name]",null,null,null,"[Enter HAP Name]",null,null,null,"[Enter HAP Name]",null,null,null,"[Enter HAP Name]"]
["Month","Solvent used (gallons)","Solvent Density (lbs/gallon)","Solvent Disposed (gallons)","Solvent Lost (aka fugitive emissions) (gallons)","Total VOC Emissions (lbs)","Total HAP Emissions (Lbs)",null,null,"% by weight","Density (lb/gal)","HAP lbs/gal","HAP Emmited (Lbs)","% by weight","Density (lb/gal)","HAP lbs/gal","HAP Emmited (Lbs)","% by weight","Density (lb/gal)","HAP lbs/gal","HAP Emmited (Lbs)","% by weight","Density (lb/gal)","HAP lbs/gal","HAP Emmited (Lbs)","% by weight","Density (lb/gal)","HAP lbs/gal","HAP Emmited (Lbs)","% by weight","Density (lb/gal)","HAP lbs/gal","HAP Emmited (Lbs)"]
["Jan",null,null,null,{"$f":"SUM(B24-D24)","v":0},{"$f":"SUM(C24*E24)","v":0},{"$f":"SUM(M24,Q24,U24,Y24,AC24,AG24)","v":0},null,null,null,{"$f":"C24","v":0},{"$f":"(J24/100)*K24","v":0},{"$f":"(E24*L24)","v":0},null,{"$f":"C24","v":0},{"$f":"(N24/100)*O24","v":0},{"$f":"(P24*E24)","v":0},null,{"$f":"C24","v":0},{"$f":"(R24/100)*S24","v":0},{"$f":"(T24*E24)","v":0},null,{"$f":"C24","v":0},{"$f":"(V24/100)*W24","v":0},{"$f":"(X24*E24)","v":0},null,{"$f":"C24","v":0},{"$f":"(Z24/100)*AA24","v":0},{"$f":"(AB24*E24)","v":0},null,{"$f":"C24","v":0},{"$f":"(AD24/100)*AE24","v":0},{"$f":"(AF24*E24)","v":0}]
["Feb",null,null,null,0,0,{"$f":"SUM(M25,Q25,U25,Y25,AC25,AG25)","v":0},null,null,null,0,0,0,null,0,0,0,null,0,0,0,null,0,0,0,null,0,0,0,null,0,0,0]
["Mar",null,null,null,0,0,0,null,null,null,0,0,0,null,0,0,0,null,0,0,0,null,0,0,0,null,0,0,0,null,0,0,0]
["Apr",null,null,null,0,0,0,null,null,null,0,0,0,null,0,0,0,null,0,0,0,null,0,0,0,null,0,0,0,null,0,0,0]
["May",null,null,null,0,0,0,null,null,null,0,0,0,null,0,0,0,null,0,0,0,null,0,0,0,null,0,0,0,null,0,0,0]
["June",null,null,null,0,0,0,null,null,null,0,0,0,null,0,0,0,null,0,0,0,null,0,0,0,null,0,0,0,null,0,0,0]
["July",null,null,null,0,0,0,null,null,null,0,0,0,null,0,0,0,null,0,0,0,null,0,0,0,null,0,0,0,null,0,0,0]
["Aug",null,null,null,0,0,0,null,null,null,0,0,0,null,0,0,0,null,0,0,0,null,0,0,0,null,0,0,0,null,0,0,0]
["Sept",null,null,null,0,0,0,null,null,null,0,0,0,null,0,0,0,null,0,0,0,null,0,0,0,null,0,0,0,null,0,0,0]
["Oct",null,null,null,0,0,0,null,null,null,0,0,0,null,0,0,0,null,0,0,0,null,0,0,0,null,0,0,0,null,0,0,0]
["Nov",null,null,null,0,0,0,null,null,null,0,0,0,null,0,0,0,null,0,0,0,null,0,0,0,null,0,0,0,null,0,0,0]
["Dec",null,null,null,0,0,0,null,null,null,0,0,0,null,0,0,0,null,0,0,0,null,0,0,0,null,0,0,0,null,0,0,0]
["Year-to-Date",{"$f":"SUM(B24:B35)","v":0},null,{"$f":"SUM(D24:D35)","v":0},{"$f":"SUM(E24:E35)","v":0},{"$f":"SUM(F24:F35)","v":0},{"$f":"SUM(G24:G35)","v":0},null,null,null,null,{"$f":"SUM(L24:L35)","v":0},{"$f":"SUM(M24:M35)","v":0},null,null,{"$f":"SUM(P24:P35)","v":0},{"$f":"SUM(Q24:Q35)","v":0},null,null,{"$f":"SUM(T24:T35)","v":0},{"$f":"SUM(U24:U35)","v":0},null,null,{"$f":"SUM(X24:X35)","v":0},{"$f":"SUM(Y24:Y35)","v":0},null,null,{"$f":"SUM(AB24:AB35)","v":0},{"$f":"SUM(AC24:AC35)","v":0},null,null,{"$f":"SUM(AF24:AF35)","v":0},{"$f":"SUM(AG24:AG35)","v":0}]
[]
["Purge or Clean-up Solvent (II)",null,null,"[Enter Purge or Clean-up Solvent Name]",null,null,null,null,null,"[Enter HAP Name]",null,null,null,"[Enter HAP Name]",null,null,null,"[Enter HAP Name]",null,null,null,"[Enter HAP Name]",null,null,null,"[Enter HAP Name]",null,null,null,"[Enter HAP Name]"]
["Month","Solvent used (gallons)","Solvent Density (lbs/gallon)","Solvent Disposed (gallons)","Solvent Lost (aka fugitive emissions) (gallons)","Total VOC Emissions (lbs)","Total HAP Emissions (Lbs)",null,null,"% by weight","Density (lb/gal)","HAP lbs/gal","HAP Emmited (Lbs)","% by weight","Density (lb/gal)","HAP lbs/gal","HAP Emmited (Lbs)","% by weight","Density (lb/gal)","HAP lbs/gal","HAP Emmited (Lbs)","% by weight","Density (lb/gal)","HAP lbs/gal","HAP Emmited (Lbs)","% by weight","Density (lb/gal)","HAP lbs/gal","HAP Emmited (Lbs)","% by weight","Density (lb/gal)","HAP lbs/gal","HAP Emmited (Lbs)"]
["Jan",null,null,null,{"$f":"SUM(B40-D40)","v":0},{"$f":"SUM(C40*E40)","v":0},{"$f":"SUM(M40,Q40,U40,Y40,AC40,AG40)","v":0},null,null,null,{"$f":"C40","v":0},{"$f":"(J40/100)*K40","v":0},{"$f":"(E40*L40)","v":0},null,{"$f":"C40","v":0},{"$f":"(N40/100)*O40","v":0},{"$f":"(P40*E40)","v":0},null,{"$f":"C40","v":0},{"$f":"(R40/100)*S40","v":0},{"$f":"(T40*E40)","v":0},null,{"$f":"C40","v":0},{"$f":"(V40/100)*W40","v":0},{"$f":"(X40*E40)","v":0},null,{"$f":"C40","v":0},{"$f":"(Z40/100)*AA40","v":0},{"$f":"(AB40*E40)","v":0},null,{"$f":"C40","v":0},{"$f":"(AD40/100)*AE40","v":0},{"$f":"(AF40*E40)","v":0}]
["Feb",null,null,null,0,0,{"$f":"SUM(M41,Q41,U41,Y41,AC41,AG41)","v":0},null,null,null,0,0,0,null,0,0,0,null,0,0,0,null,0,0,0,null,0,0,0,null,0,0,0]
["Mar",null,null,null,{"$f":"SUM(B42-D42)","v":0},{"$f":"SUM(C42*E42)","v":0},0,null,null,null,{"$f":"C42","v":0},0,0,null,{"$f":"C42","v":0},0,0,null,{"$f":"C42","v":0},0,0,null,{"$f":"C42","v":0},0,0,null,{"$f":"C42","v":0},0,0,null,{"$f":"C42","v":0},0,0]
["Apr",null,null,null,0,0,0,null,null,null,0,0,0,null,0,0,0,null,0,0,0,null,0,0,0,null,0,0,0,null,0,0,0]
["May",null,null,null,0,0,0,null,null,null,0,0,0,null,0,0,0,null,0,0,0,null,0,0,0,null,0,0,0,null,0,0,0]
["June",null,null,null,0,0,0,null,null,null,0,0,0,null,0,0,0,null,0,0,0,null,0,0,0,null,0,0,0,null,0,0,0]
["July",null,null,null,0,0,0,null,null,null,0,0,0,null,0,0,0,null,0,0,0,null,0,0,0,null,0,0,0,null,0,0,0]
["Aug",null,null,null,{"$f":"SUM(B47-D47)","v":0},{"$f":"SUM(C47*E47)","v":0},0,null,null,null,{"$f":"C47","v":0},0,0,null,{"$f":"C47","v":0},0,0,null,{"$f":"C47","v":0},0,0,null,{"$f":"C47","v":0},0,0,null,{"$f":"C47","v":0},0,0,null,{"$f":"C47","v":0},0,0]
["Sept",null,null,null,0,0,0,null,null,null,0,0,0,null,0,0,0,null,0,0,0,null,0,0,0,null,0,0,0,null,0,0,0]
["Oct",null,null,null,0,0,0,null,null,null,0,0,0,null,0,0,0,null,0,0,0,null,0,0,0,null,0,0,0,null,0,0,0]
["Nov",null,null,null,0,0,0,null,null,null,0,0,0,null,0,0,0,null,0,0,0,null,0,0,0,null,0,0,0,null,0,0,0]
["Dec",null,null,null,0,0,0,null,null,null,0,0,0,null,0,0,0,null,0,0,0,null,0,0,0,null,0,0,0,null,0,0,0]
["Year-to-Date",{"$f":"SUM(B40:B51)","v":0},null,{"$f":"SUM(D40:D51)","v":0},{"$f":"SUM(E40:E51)","v":0},{"$f":"SUM(F40:F51)","v":0},{"$f":"SUM(G40:G51)","v":0},null,null,null,null,{"$f":"SUM(L40:L51)","v":0},{"$f":"SUM(M40:M51)","v":0},null,null,{"$f":"SUM(P40:P51)","v":0},{"$f":"SUM(Q40:Q51)","v":0},null,null,{"$f":"SUM(T40:T51)","v":0},{"$f":"SUM(U40:U51)","v":0},null,null,{"$f":"SUM(X40:X51)","v":0},{"$f":"SUM(Y40:Y51)","v":0},null,null,{"$f":"SUM(AB40:AB51)","v":0},{"$f":"SUM(AC40:AC51)","v":0},null,null,{"$f":"SUM(AF40:AF51)","v":0},{"$f":"SUM(AG40:AG51)","v":0}]
[]
["Purge or Clean-up Solvent (III)",null,null,"[Enter Purge or Clean-up Solvent Name]",null,null,null,null,null,"[Enter HAP Name]",null,null,null,"[Enter HAP Name]",null,null,null,"[Enter HAP Name]",null,null,null,"[Enter HAP Name]",null,null,null,"[Enter HAP Name]",null,null,null,"[Enter HAP Name]"]
["Month","Solvent used (gallons)","Solvent Density (lbs/gallon)","Solvent Disposed (gallons)","Solvent Lost (aka fugitive emissions) (gallons)","Total VOC Emissions (lbs)","Total HAP Emissions (Lbs)",null,null,"% by weight","Density (lb/gal)","HAP lbs/gal","HAP Emmited (Lbs)","% by weight","Density (lb/gal)","HAP lbs/gal","HAP Emmited (Lbs)","% by weight","Density (lb/gal)","HAP lbs/gal","HAP Emmited (Lbs)","% by weight","Density (lb/gal)","HAP lbs/gal","HAP Emmited (Lbs)","% by weight","Density (lb/gal)","HAP lbs/gal","HAP Emmited (Lbs)","% by weight","Density (lb/gal)","HAP lbs/gal","HAP Emmited (Lbs)"]
["Jan",null,null,null,{"$f":"SUM(B56-D56)","v":0},{"$f":"SUM(C56*E56)","v":0},{"$f":"SUM(M56,Q56,U56,Y56,AC56,AG56)","v":0},null,null,null,{"$f":"C56","v":0},{"$f":"(J56/100)*K56","v":0},{"$f":"(E56*L56)","v":0},null,{"$f":"C56","v":0},{"$f":"(N56/100)*O56","v":0},{"$f":"(P56*E56)","v":0},null,{"$f":"C56","v":0},{"$f":"(R56/100)*S56","v":0},{"$f":"(T56*E56)","v":0},null,{"$f":"C56","v":0},{"$f":"(V56/100)*W56","v":0},{"$f":"(X56*E56)","v":0},null,{"$f":"C56","v":0},{"$f":"(Z56/100)*AA56","v":0},{"$f":"(AB56*E56)","v":0},null,{"$f":"C56","v":0},{"$f":"(AD56/100)*AE56","v":0},{"$f":"(AF56*E56)","v":0}]
["Feb",null,null,null,0,0,{"$f":"SUM(M57,Q57,U57,Y57,AC57,AG57)","v":0},null,null,null,0,0,0,null,0,0,0,null,0,0,0,null,0,0,0,null,0,0,0,null,0,0,0]
["Mar",null,null,null,0,0,0,null,null,null,0,0,0,null,0,0,0,null,0,0,0,null,0,0,0,null,0,0,0,null,0,0,0]
["Apr",null,null,null,0,0,0,null,null,null,0,0,0,null,0,0,0,null,0,0,0,null,0,0,0,null,0,0,0,null,0,0,0]
["May",null,null,null,0,0,0,null,null,null,0,0,0,null,0,0,0,null,0,0,0,null,0,0,0,null,0,0,0,null,0,0,0]
["June",null,null,null,0,0,0,null,null,null,0,0,0,null,0,0,0,null,0,0,0,null,0,0,0,null,0,0,0,null,0,0,0]
["July",null,null,null,0,0,0,null,null,null,0,0,0,null,0,0,0,null,0,0,0,null,0,0,0,null,0,0,0,null,0,0,0]
["Aug",null,null,null,0,0,0,null,null,null,0,0,0,null,0,0,0,null,0,0,0,null,0,0,0,null,0,0,0,null,0,0,0]
["Sept",null,null,null,0,0,0,null,null,null,0,0,0,null,0,0,0,null,0,0,0,null,0,0,0,null,0,0,0,null,0,0,0]
["Oct",null,null,null,0,0,0,null,null,null,0,0,0,null,0,0,0,null,0,0,0,null,0,0,0,null,0,0,0,null,0,0,0]
["Nov",null,null,null,0,0,0,null,null,null,0,0,0,null,0,0,0,null,0,0,0,null,0,0,0,null,0,0,0,null,0,0,0]
["Dec",null,null,null,0,0,0,null,null,null,0,0,0,null,0,0,0,null,0,0,0,null,0,0,0,null,0,0,0,null,0,0,0]
["Year-to-Date",{"$f":"SUM(B56:B67)","v":0},null,{"$f":"SUM(D56:D67)","v":0},{"$f":"SUM(E56:E67)","v":0},{"$f":"SUM(F56:F67)","v":0},{"$f":"SUM(G56:G67)","v":0},null,null,null,null,{"$f":"SUM(L56:L67)","v":0},{"$f":"SUM(M56:M67)","v":0},null,null,{"$f":"SUM(P56:P67)","v":0},{"$f":"SUM(Q56:Q67)","v":0},null,null,{"$f":"SUM(T56:T67)","v":0},{"$f":"SUM(U56:U67)","v":0},null,null,{"$f":"SUM(X56:X67)","v":0},{"$f":"SUM(Y56:Y67)","v":0},null,null,{"$f":"SUM(AB56:AB67)","v":0},{"$f":"SUM(AC56:AC67)","v":0},null,null,{"$f":"SUM(AF56:AF67)","v":0},{"$f":"SUM(AG56:AG67)","v":0}]

{"sheet":"12 Month Rolling-Period","index":15,"n_rows":123,"n_cols":96,"rows_kept":123,"cut":false,"hidden":false,"merged":[[96,29,96,31],[97,1,98,1],[97,2,98,2],[97,3,98,3],[97,5,98,5],[97,6,98,6],[97,7,98,7],[97,9,98,9],[97,10,98,10],[97,17,98,17],[97,18,98,18],[97,19,98,19],[97,21,98,21],[97,11,98,11],[97,13,98,13],[97,14,98,14],[97,15,98,15],[97,27,98,27],[97,29,98,29],[97,30,98,30],[97,31,98,31],[97,22,98,22],[97,23,98,23],[97,25,98,25],[96,9,96,11],[96,13,96,15],[96,17,96,19],[96,21,96,23],[94,0,94,7],[96,0,122,0],[96,1,96,3],[96,5,96,7],[96,25,96,27],[97,26,98,26],[67,31,68,31],[36,13,36,15],[37,13,38,13],[37,14,38,14],[37,15,38,15],[36,17,36,19],[37,17,38,17],[37,18,38,18],[37,19,38,19],[36,21,36,23],[37,21,38,21],[37,22,38,22],[37,23,38,23],[36,25,36,27],[37,25,38,25],[37,26,38,26],[37,27,38,27],[66,13,66,15],[66,17,66,19],[67,26,68,26],[67,27,68,27],[67,29,68,29],[67,30,68,30],[67,21,68,21],[67,22,68,22],[67,23,68,23],[67,25,68,25],[67,9,68,9],[67,10,68,10],[67,11,68,11],[67,13,68,13],[67,14,68,14],[5,83,6,83],[0,9,0,11],[5,79,6,79],[5,81,6,81],[5,82,6,82],[5,69,6,69],[5,58,6,58],[5,75,6,75],[5,67,6,67],[5,53,6,53],[5,54,6,54],[67,15,68,15],[67,17,68,17],[67,18,68,18],[67,19,68,19],[36,9,36,11],[37,9,38,9],[37,11,38,11],[37,10,38,10],[5,94,6,94],[5,85,6,85],[5,86,6,86],[5,87,6,87],[5,89,6,89],[5,90,6,90],[37,31,38,31],[5,95,6,95],[5,59,6,59],[5,91,6,91],[5,93,6,93],[5,77,6,77],[5,78,6,78],[5,57,6,57],[5,70,6,70],[5,71,6,71],[5,73,6,73],[5,61,6,61],[5,62,6,62],[66,21,66,23],[66,25,66,27],[66,29,66,31],[5,65,6,65],[5,66,6,66],[5,74,6,74],[5,47,6,47],[5,49,6,49],[5,50,6,50],[5,51,6,51],[36,29,36,31],[37,29,38,29],[37,30,38,30],[5,38,6,38],[5,39,6,39],[5,41,6,41],[5,31,6,31],[5,33,6,33],[5,34,6,34],[5,35,6,35],[5,63,6,63],[5,55,6,55],[5,42,6,42],[5,43,6,43],[5,45,6,45],[5,46,6,46],[5,26,6,26],[5,27,6,27],[5,29,6,29],[5,30,6,30],[5,21,6,21],[5,22,6,22],[5,23,6,23],[5,25,6,25],[5,37,6,37],[4,93,4,95],[4,73,4,75],[4,77,4,79],[4,81,4,83],[4,85,4,87],[37,6,38,6],[37,7,38,7],[4,49,4,51],[4,53,4,55],[5,11,6,11],[4,33,4,35],[4,37,4,39],[4,13,4,15],[4,21,4,23],[4,25,4,27],[4,29,4,31],[5,13,6,13],[5,14,6,14],[5,6,6,6],[5,7,6,7],[5,9,6,9],[5,10,6,10],[5,15,6,15],[5,17,6,17],[66,9,66,11],[36,1,36,3],[36,5,36,7],[37,1,38,1],[37,2,38,2],[37,3,38,3],[37,5,38,5],[0,2,0,7],[4,89,4,91],[4,57,4,59],[4,61,4,63],[4,65,4,67],[4,69,4,71],[4,41,4,43],[4,45,4,47],[5,3,6,3],[5,5,6,5],[5,18,6,18],[5,19,6,19],[4,1,4,3],[4,5,4,7],[4,9,4,11],[4,17,4,19],[5,1,6,1],[0,0,0,1],[2,0,2,7],[64,0,64,7],[66,0,92,0],[66,1,66,3],[66,5,66,7],[67,1,68,1],[67,2,68,2],[67,3,68,3],[67,5,68,5],[4,0,30,0],[36,0,62,0],[34,0,34,7],[5,2,6,2],[67,6,68,6],[67,7,68,7]]}
["Main Menu"]
[]
["Coating Line - 12 Month Rolling Totals"]
[null,null,null,null,null,null,null,null,null,null,"  "]
["Coating Line","TOTAL VOCs Rolling (Coating Line)",null,null,null,"TOTAL HAPs Rolling (Coating Line)",null,null,null,{"$f":"'Product Info'!K3","v":0},null,null,null,{"$f":"'Product Info'!N3","v":0},null,null,null,{"$f":"'Product Info'!Q3","v":0},null,null,null,{"$f":"'Product Info'!T3","v":0},null,null,null,{"$f":"'Product Info'!W3","v":0},null,null,null,{"$f":"'Product Info'!Z3","v":0},null,null,null,{"$f":"'Product Info'!AC3","v":0},null,null,null,{"$f":"'Product Info'!AF3","v":0},null,null,null,{"$f":"'Product Info'!AI3","v":0},null,null,null,{"$f":"'Product Info'!AL3","v":0},null,null,null,{"$f":"'Product Info'!AO3","v":0},null,null,null,{"$f":"'Product Info'!AR3","v":0},null,null,null,{"$f":"'Product Info'!AU3","v":0},null,null,null,{"$f":"'Product Info'!AX3","v":0},null,null,null,{"$f":"'Product Info'!BA3","v":0},null,null,null,{"$f":"'Product Info'!BD3","v":0},null,null,null,{"$f":"'Product Info'!BG3","v":0},null,null,null,{"$f":"'Product Info'!BJ3","v":0},null,null,null,{"$f":"'Product Info'!BM3","v":0},null,null,null,{"$f":"'Product Info'!BP3","v":0},null,null,null,{"$f":"'Product Info'!BP3","v":0},null,null,null,{"$f":"'Product Info'!BS3","v":0}]
[null,"Date","Monthly Total (Tons)","Total Tons/Year on 12 Month Rolling",null,"Date","Monthly Total (Tons)","Total Tons/Year on 12 Month Rolling",null,"Date","Monthly Total (Tons)","Total Tons/Year on 12 Month Rolling",null,"Date","Monthly Total (Tons)","Total Tons/Year on 12 Month Rolling",null,"Date","Monthly Total (Tons)","Total Tons/Year on 12 Month Rolling",null,"Date","Monthly Total (Tons)","Total Tons/Year on 12 Month Rolling",null,"Date","Monthly Total (Tons)","Total Tons/Year on 12 Month Rolling",null,"Date","Monthly Total (Tons)","Total Tons/Year on 12 Month Rolling",null,"Date","Monthly Total (Tons)","Total Tons/Year on 12 Month Rolling",null,"Date","Monthly Total (Tons)","Total Tons/Year on 12 Month Rolling",null,"Date","Monthly Total (Tons)","Total Tons/Year on 12 Month Rolling",null,"Date","Monthly Total (Tons)","Total Tons/Year on 12 Month Rolling",null,"Date","Monthly Total (Tons)","Total Tons/Year on 12 Month Rolling",null,"Date","Monthly Total (Tons)","Total Tons/Year on 12 Month Rolling",null,"Date","Monthly Total (Tons)","Total Tons/Year on 12 Month Rolling",null,"Date","Monthly Total (Tons)","Total Tons/Year on 12 Month Rolling",null,"Date","Monthly Total (Tons)","Total Tons/Year on 12 Month Rolling",null,"Date","Monthly Total (Tons)","Total Tons/Year on 12 Month Rolling",null,"Date","Monthly Total (Tons)","Total Tons/Year on 12 Month Rolling",null,"Date","Monthly Total (Tons)","Total Tons/Year on 12 Month Rolling",null,"Date","Monthly Total (Tons)","Total Tons/Year on 12 Month Rolling",null,"Date","Monthly Total (Tons)","Total Tons/Year on 12 Month Rolling",null,"Date","Monthly Total (Tons)","Total Tons/Year on 12 Month Rolling",null,"Date","Monthly Total (Tons)","Total Tons/Year on 12 Month Rolling"]
[]
[null,"2006-01-31",null,null,null,{"$f":"B8","v":"2006-01-31"},null,null,null,{"$f":"B8","v":"2006-01-31"},null,null,null,{"$f":"J8","v":"2006-01-31"},null,null,null,{"$f":"N8","v":"2006-01-31"},null,null,null,{"$f":"R8","v":"2006-01-31"},null,null,null,{"$f":"V8","v":"2006-01-31"},null,null,null,{"$f":"Z8","v":"2006-01-31"},null,null,null,{"$f":"AD8","v":"2006-01-31"},null,null,null,{"$f":"AH8","v":"2006-01-31"},null,null,null,{"$f":"AL8","v":"2006-01-31"},null,null,null,{"$f":"AP8","v":"2006-01-31"},null,null,null,{"$f":"AT8","v":"2006-01-31"},null,null,null,{"$f":"AX8","v":"2006-01-31"},null,null,null,{"$f":"BB8","v":"2006-01-31"},null,null,null,{"$f":"BF8","v":"2006-01-31"},null,null,null,{"$f":"BJ8","v":"2006-01-31"},null,null,null,{"$f":"BN8","v":"2006-01-31"},null,null,null,{"$f":"BR8","v":"2006-01-31"},null,null,null,{"$f":"BV8","v":"2006-01-31"},null,null,null,{"$f":"BZ8","v":"2006-01-31"},null,null,null,{"$f":"CD8","v":"2006-01-31"},null,null,null,{"$f":"CH8","v":"2006-01-31"},null,null,null,{"$f":"CL8","v":"2006-01-31"}]
[null,"2006-02-28",null,null,null,"2006-02-28",null,null,null,"2006-02-28",null,null,null,"2006-02-28",null,null,null,"2006-02-28",null,null,null,"2006-02-28",null,null,null,"2006-02-28",null,null,null,"2006-02-28",null,null,null,"2006-02-28",null,null,null,"2006-02-28",null,null,null,"2006-02-28",null,null,null,"2006-02-28",null,null,null,"2006-02-28",null,null,null,"2006-02-28",null,null,null,"2006-02-28",null,null,null,"2006-02-28",null,null,null,"2006-02-28",null,null,null,"2006-02-28",null,null,null,"2006-02-28",null,null,null,"2006-02-28",null,null,null,"2006-02-28",null,null,null,"2006-02-28",null,null,null,"2006-02-28",null,null,null,"2006-02-28"]
[null,"2006-03-31",null,null,null,"2006-03-31",null,null,null,"2006-03-31",null,null,null,"2006-03-31",null,null,null,"2006-03-31",null,null,null,"2006-03-31",null,null,null,"2006-03-31",null,null,null,"2006-03-31",null,null,null,"2006-03-31",null,null,null,"2006-03-31",null,null,null,"2006-03-31",null,null,null,"2006-03-31",null,null,null,"2006-03-31",null,null,null,"2006-03-31",null,null,null,"2006-03-31",null,null,null,"2006-03-31",null,null,null,"2006-03-31",null,null,null,"2006-03-31",null,null,null,"2006-03-31",null,null,null,"2006-03-31",null,null,null,"2006-03-31",null,null,null,"2006-03-31",null,null,null,"2006-03-31",null,null,null,"2006-03-31"]
[null,"2006-04-30",null,null,null,"2006-04-30",null,null,null,"2006-04-30",null,null,null,"2006-04-30",null,null,null,"2006-04-30",null,null,null,"2006-04-30",null,null,null,"2006-04-30",null,null,null,"2006-04-30",null,null,null,"2006-04-30",null,null,null,"2006-04-30",null,null,null,"2006-04-30",null,null,null,"2006-04-30",null,null,null,"2006-04-30",null,null,null,"2006-04-30",null,null,null,"2006-04-30",null,null,null,"2006-04-30",null,null,null,"2006-04-30",null,null,null,"2006-04-30",null,null,null,"2006-04-30",null,null,null,"2006-04-30",null,null,null,"2006-04-30",null,null,null,"2006-04-30",null,null,null,"2006-04-30",null,null,null,"2006-04-30"]
[null,"2006-05-31",null,null,null,"2006-05-31",null,null,null,"2006-05-31",null,null,null,"2006-05-31",null,null,null,"2006-05-31",null,null,null,"2006-05-31",null,null,null,"2006-05-31",null,null,null,"2006-05-31",null,null,null,"2006-05-31",null,null,null,"2006-05-31",null,null,null,"2006-05-31",null,null,null,"2006-05-31",null,null,null,"2006-05-31",null,null,null,"2006-05-31",null,null,null,"2006-05-31",null,null,null,"2006-05-31",null,null,null,"2006-05-31",null,null,null,"2006-05-31",null,null,null,"2006-05-31",null,null,null,"2006-05-31",null,null,null,"2006-05-31",null,null,null,"2006-05-31",null,null,null,"2006-05-31",null,null,null,"2006-05-31"]
[null,"2006-06-30",null,null,null,"2006-06-30",null,null,null,"2006-06-30",null,null,null,"2006-06-30",null,null,null,"2006-06-30",null,null,null,"2006-06-30",null,null,null,"2006-06-30",null,null,null,"2006-06-30",null,null,null,"2006-06-30",null,null,null,"2006-06-30",null,null,null,"2006-06-30",null,null,null,"2006-06-30",null,null,null,"2006-06-30",null,null,null,"2006-06-30",null,null,null,"2006-06-30",null,null,null,"2006-06-30",null,null,null,"2006-06-30",null,null,null,"2006-06-30",null,null,null,"2006-06-30",null,null,null,"2006-06-30",null,null,null,"2006-06-30",null,null,null,"2006-06-30",null,null,null,"2006-06-30",null,null,null,"2006-06-30"]
[null,"2006-07-31",null,null,null,"2006-07-31",null,null,null,"2006-07-31",null,null,null,"2006-07-31",null,null,null,"2006-07-31",null,null,null,"2006-07-31",null,null,null,"2006-07-31",null,null,null,"2006-07-31",null,null,null,"2006-07-31",null,null,null,"2006-07-31",null,null,null,"2006-07-31",null,null,null,"2006-07-31",null,null,null,"2006-07-31",null,null,null,"2006-07-31",null,null,null,"2006-07-31",null,null,null,"2006-07-31",null,null,null,"2006-07-31",null,null,null,"2006-07-31",null,null,null,"2006-07-31",null,null,null,"2006-07-31",null,null,null,"2006-07-31",null,null,null,"2006-07-31",null,null,null,"2006-07-31",null,null,null,"2006-07-31"]
[null,"2006-08-31",null,null,null,"2006-08-31",null,null,null,"2006-08-31",null,null,null,"2006-08-31",null,null,null,"2006-08-31",null,null,null,"2006-08-31",null,null,null,"2006-08-31",null,null,null,"2006-08-31",null,null,null,"2006-08-31",null,null,null,"2006-08-31",null,null,null,"2006-08-31",null,null,null,"2006-08-31",null,null,null,"2006-08-31",null,null,null,"2006-08-31",null,null,null,"2006-08-31",null,null,null,"2006-08-31",null,null,null,"2006-08-31",null,null,null,"2006-08-31",null,null,null,"2006-08-31",null,null,null,"2006-08-31",null,null,null,"2006-08-31",null,null,null,"2006-08-31",null,null,null,"2006-08-31",null,null,null,"2006-08-31"]
[null,"2006-09-30",null,null,null,"2006-09-30",null,null,null,"2006-09-30",null,null,null,"2006-09-30",null,null,null,"2006-09-30",null,null,null,"2006-09-30",null,null,null,"2006-09-30",null,null,null,"2006-09-30",null,null,null,"2006-09-30",null,null,null,"2006-09-30",null,null,null,"2006-09-30",null,null,null,"2006-09-30",null,null,null,"2006-09-30",null,null,null,"2006-09-30",null,null,null,"2006-09-30",null,null,null,"2006-09-30",null,null,null,"2006-09-30",null,null,null,"2006-09-30",null,null,null,"2006-09-30",null,null,null,"2006-09-30",null,null,null,"2006-09-30",null,null,null,"2006-09-30",null,null,null,"2006-09-30",null,null,null,"2006-09-30"]
[null,"2006-10-31",null,null,null,"2006-10-31",null,null,null,"2006-10-31",null,null,null,"2006-10-31",null,null,null,"2006-10-31",null,null,null,"2006-10-31",null,null,null,"2006-10-31",null,null,null,"2006-10-31",null,null,null,"2006-10-31",null,null,null,"2006-10-31",null,null,null,"2006-10-31",null,null,null,"2006-10-31",null,null,null,"2006-10-31",null,null,null,"2006-10-31",null,null,null,"2006-10-31",null,null,null,"2006-10-31",null,null,null,"2006-10-31",null,null,null,"2006-10-31",null,null,null,"2006-10-31",null,null,null,"2006-10-31",null,null,null,"2006-10-31",null,null,null,"2006-10-31",null,null,null,"2006-10-31",null,null,null,"2006-10-31"]
[null,"2006-11-30",null,null,null,"2006-11-30",null,null,null,"2006-11-30",null,null,null,"2006-11-30",null,null,null,"2006-11-30",null,null,null,"2006-11-30",null,null,null,"2006-11-30",null,null,null,"2006-11-30",null,null,null,"2006-11-30",null,null,null,"2006-11-30",null,null,null,"2006-11-30",null,null,null,"2006-11-30",null,null,null,"2006-11-30",null,null,null,"2006-11-30",null,null,null,"2006-11-30",null,null,null,"2006-11-30",null,null,null,"2006-11-30",null,null,null,"2006-11-30",null,null,null,"2006-11-30",null,null,null,"2006-11-30",null,null,null,"2006-11-30",null,null,null,"2006-11-30",null,null,null,"2006-11-30",null,null,null,"2006-11-30"]
[null,"2006-12-31",null,null,null,"2006-12-31",null,null,null,"2006-12-31",null,null,null,"2006-12-31",null,null,null,"2006-12-31",null,null,null,"2006-12-31",null,null,null,"2006-12-31",null,null,null,"2006-12-31",null,null,null,"2006-12-31",null,null,null,"2006-12-31",null,null,null,"2006-12-31",null,null,null,"2006-12-31",null,null,null,"2006-12-31",null,null,null,"2006-12-31",null,null,null,"2006-12-31",null,null,null,"2006-12-31",null,null,null,"2006-12-31",null,null,null,"2006-12-31",null,null,null,"2006-12-31",null,null,null,"2006-12-31",null,null,null,"2006-12-31",null,null,null,"2006-12-31",null,null,null,"2006-12-31",null,null,null,"2006-12-31"]
[null,"2007-01-31",{"$f":"'Monthly Totals'!F6-('Monthly Totals'!F6 - 'Monthly Totals'!G6)","v":0},{"$f":"SUM(C9:C20)","v":0},null,"2007-01-31",{"$f":"('Monthly Totals'!H6-('Monthly Totals'!H6 - 'Monthly Totals'!I6))","v":0},{"$f":"SUM(G9:G20)","v":0},null,"2007-01-31",{"$f":"'Monthly Totals'!J6","v":0},{"$f":"SUM(K9:K20)","v":0},null,"2007-01-31",{"$f":"'Monthly Totals'!K6","v":0},{"$f":"SUM(O9:O20)","v":0},null,"2007-01-31",{"$f":"'Monthly Totals'!L6","v":0},{"$f":"SUM(S9:S20)","v":0},null,"2007-01-31",{"$f":"'Monthly Totals'!M6","v":0},{"$f":"SUM(W9:W20)","v":0},null,"2007-01-31",{"$f":"'Monthly Totals'!N6","v":0},{"$f":"SUM(AA9:AA20)","v":0},null,"2007-01-31",{"$f":"'Monthly Totals'!O6","v":0},{"$f":"SUM(AE9:AE20)","v":0},null,"2007-01-31",{"$f":"'Monthly Totals'!P6","v":0},{"$f":"SUM(AI9:AI20)","v":0},null,"2007-01-31",{"$f":"'Monthly Totals'!Q6","v":0},{"$f":"SUM(AM9:AM20)","v":0},null,"2007-01-31",{"$f":"'Monthly Totals'!R6","v":0},{"$f":"SUM(AQ9:AQ20)","v":0},null,"2007-01-31",{"$f":"'Monthly Totals'!S6","v":0},{"$f":"SUM(AU9:AU20)","v":0},null,"2007-01-31",{"$f":"'Monthly Totals'!T6","v":0},{"$f":"SUM(AY9:AY20)","v":0},null,"2007-01-31",{"$f":"'Monthly Totals'!U6","v":0},{"$f":"SUM(BC9:BC20)","v":0},null,"2007-01-31",{"$f":"'Monthly Totals'!V6","v":0},{"$f":"SUM(BG9:BG20)","v":0},null,"2007-01-31",{"$f":"'Monthly Totals'!W6","v":0},{"$f":"SUM(BK9:BK20)","v":0},null,"2007-01-31",{"$f":"'Monthly Totals'!X6","v":0},{"$f":"SUM(BO9:BO20)","v":0},null,"2007-01-31",{"$f":"'Monthly Totals'!Y6","v":0},{"$f":"SUM(BS9:BS20)","v":0},null,"2007-01-31",{"$f":"'Monthly Totals'!Z6","v":0},{"$f":"SUM(BW9:BW20)","v":0},null,"2007-01-31",{"$f":"'Monthly Totals'!AA6","v":0},{"$f":"SUM(CA9:CA20)","v":0},null,"2007-01-31",{"$f":"'Monthly Totals'!AB6","v":0},{"$f":"SUM(CE9:CE20)","v":0},null,"2007-01-31",{"$f":"'Monthly Totals'!AC6","v":0},{"$f":"SUM(CI9:CI20)","v":0},null,"2007-01-31",{"$f":"'Monthly Totals'!AD6","v":0},{"$f":"SUM(CM9:CM20)","v":0},null,"2007-01-31",{"$f":"'Monthly Totals'!AE6","v":0},{"$f":"SUM(CQ9:CQ20)","v":0}]
[null,"2007-02-28",{"$f":"'Monthly Totals'!F7-('Monthly Totals'!F7 - 'Monthly Totals'!G7)","v":0},{"$f":"SUM(C10:C21)","v":0},null,"2007-02-28",{"$f":"('Monthly Totals'!H7-('Monthly Totals'!H7 - 'Monthly Totals'!I7))","v":0},0,null,"2007-02-28",{"$f":"'Monthly Totals'!J7","v":0},0,null,"2007-02-28",{"$f":"'Monthly Totals'!K7","v":0},0,null,"2007-02-28",{"$f":"'Monthly Totals'!L7","v":0},0,null,"2007-02-28",{"$f":"'Monthly Totals'!M7","v":0},0,null,"2007-02-28",{"$f":"'Monthly Totals'!N7","v":0},0,null,"2007-02-28",{"$f":"'Monthly Totals'!O7","v":0},0,null,"2007-02-28",{"$f":"'Monthly Totals'!P7","v":0},0,null,"2007-02-28",{"$f":"'Monthly Totals'!Q7","v":0},0,null,"2007-02-28",{"$f":"'Monthly Totals'!R7","v":0},0,null,"2007-02-28",{"$f":"'Monthly Totals'!S7","v":0},0,null,"2007-02-28",{"$f":"'Monthly Totals'!T7","v":0},0,null,"2007-02-28",{"$f":"'Monthly Totals'!U7","v":0},0,null,"2007-02-28",{"$f":"'Monthly Totals'!V7","v":0},0,null,"2007-02-28",{"$f":"'Monthly Totals'!W7","v":0},0,null,"2007-02-28",{"$f":"'Monthly Totals'!X7","v":0},0,null,"2007-02-28",{"$f":"'Monthly Totals'!Y7","v":0},0,null,"2007-02-28",{"$f":"'Monthly Totals'!Z7","v":0},0,null,"2007-02-28",{"$f":"'Monthly Totals'!AA7","v":0},0,null,"2007-02-28",{"$f":"'Monthly Totals'!AB7","v":0},0,null,"2007-02-28",{"$f":"'Monthly Totals'!AC7","v":0},0,null,"2007-02-28",{"$f":"'Monthly Totals'!AD7","v":0},0,null,"2007-02-28",{"$f":"'Monthly Totals'!AE7","v":0},0]
[null,"2007-03-31",{"$f":"'Monthly Totals'!F8-('Monthly Totals'!F8 - 'Monthly Totals'!G8)","v":0},{"$f":"SUM(C11:C22)","v":0},null,"2007-03-31",{"$f":"('Monthly Totals'!H8-('Monthly Totals'!H8 - 'Monthly Totals'!I8))","v":0},0,null,"2007-03-31",{"$f":"'Monthly Totals'!J8","v":0},0,null,"2007-03-31",{"$f":"'Monthly Totals'!K8","v":0},0,null,"2007-03-31",{"$f":"'Monthly Totals'!L8","v":0},0,null,"2007-03-31",{"$f":"'Monthly Totals'!M8","v":0},0,null,"2007-03-31",{"$f":"'Monthly Totals'!N8","v":0},0,null,"2007-03-31",{"$f":"'Monthly Totals'!O8","v":0},0,null,"2007-03-31",{"$f":"'Monthly Totals'!P8","v":0},0,null,"2007-03-31",{"$f":"'Monthly Totals'!Q8","v":0},0,null,"2007-03-31",{"$f":"'Monthly Totals'!R8","v":0},0,null,"2007-03-31",{"$f":"'Monthly Totals'!S8","v":0},0,null,"2007-03-31",{"$f":"'Monthly Totals'!T8","v":0},0,null,"2007-03-31",{"$f":"'Monthly Totals'!U8","v":0},0,null,"2007-03-31",{"$f":"'Monthly Totals'!V8","v":0},0,null,"2007-03-31",{"$f":"'Monthly Totals'!W8","v":0},0,null,"2007-03-31",{"$f":"'Monthly Totals'!X8","v":0},0,null,"2007-03-31",{"$f":"'Monthly Totals'!Y8","v":0},0,null,"2007-03-31",{"$f":"'Monthly Totals'!Z8","v":0},0,null,"2007-03-31",{"$f":"'Monthly Totals'!AA8","v":0},0,null,"2007-03-31",{"$f":"'Monthly Totals'!AB8","v":0},0,null,"2007-03-31",{"$f":"'Monthly Totals'!AC8","v":0},0,null,"2007-03-31",{"$f":"'Monthly Totals'!AD8","v":0},0,null,"2007-03-31",{"$f":"'Monthly Totals'!AE8","v":0},0]
[null,"2007-04-30",{"$f":"'Monthly Totals'!F9-('Monthly Totals'!F9 - 'Monthly Totals'!G9)","v":0},{"$f":"SUM(C12:C23)","v":0},null,"2007-04-30",{"$f":"('Monthly Totals'!H9-('Monthly Totals'!H9 - 'Monthly Totals'!I9))","v":0},0,null,"2007-04-30",{"$f":"'Monthly Totals'!J9","v":0},0,null,"2007-04-30",{"$f":"'Monthly Totals'!K9","v":0},0,null,"2007-04-30",{"$f":"'Monthly Totals'!L9","v":0},0,null,"2007-04-30",{"$f":"'Monthly Totals'!M9","v":0},0,null,"2007-04-30",{"$f":"'Monthly Totals'!N9","v":0},0,null,"2007-04-30",{"$f":"'Monthly Totals'!O9","v":0},0,null,"2007-04-30",{"$f":"'Monthly Totals'!P9","v":0},0,null,"2007-04-30",{"$f":"'Monthly Totals'!Q9","v":0},0,null,"2007-04-30",{"$f":"'Monthly Totals'!R9","v":0},0,null,"2007-04-30",{"$f":"'Monthly Totals'!S9","v":0},0,null,"2007-04-30",{"$f":"'Monthly Totals'!T9","v":0},0,null,"2007-04-30",{"$f":"'Monthly Totals'!U9","v":0},0,null,"2007-04-30",{"$f":"'Monthly Totals'!V9","v":0},0,null,"2007-04-30",{"$f":"'Monthly Totals'!W9","v":0},0,null,"2007-04-30",{"$f":"'Monthly Totals'!X9","v":0},0,null,"2007-04-30",{"$f":"'Monthly Totals'!Y9","v":0},0,null,"2007-04-30",{"$f":"'Monthly Totals'!Z9","v":0},0,null,"2007-04-30",{"$f":"'Monthly Totals'!AA9","v":0},0,null,"2007-04-30",{"$f":"'Monthly Totals'!AB9","v":0},0,null,"2007-04-30",{"$f":"'Monthly Totals'!AC9","v":0},0,null,"2007-04-30",{"$f":"'Monthly Totals'!AD9","v":0},0,null,"2007-04-30",{"$f":"'Monthly Totals'!AE9","v":0},0]
[null,"2007-05-31",{"$f":"'Monthly Totals'!F10-('Monthly Totals'!F10 - 'Monthly Totals'!G10)","v":0},0,null,"2007-05-31",{"$f":"('Monthly Totals'!H10-('Monthly Totals'!H10 - 'Monthly Totals'!I10))","v":0},0,null,"2007-05-31",{"$f":"'Monthly Totals'!J10","v":0},0,null,"2007-05-31",{"$f":"'Monthly Totals'!K10","v":0},0,null,"2007-05-31",{"$f":"'Monthly Totals'!L10","v":0},0,null,"2007-05-31",{"$f":"'Monthly Totals'!M10","v":0},0,null,"2007-05-31",{"$f":"'Monthly Totals'!N10","v":0},0,null,"2007-05-31",{"$f":"'Monthly Totals'!O10","v":0},0,null,"2007-05-31",{"$f":"'Monthly Totals'!P10","v":0},0,null,"2007-05-31",{"$f":"'Monthly Totals'!Q10","v":0},0,null,"2007-05-31",{"$f":"'Monthly Totals'!R10","v":0},0,null,"2007-05-31",{"$f":"'Monthly Totals'!S10","v":0},0,null,"2007-05-31",{"$f":"'Monthly Totals'!T10","v":0},0,null,"2007-05-31",{"$f":"'Monthly Totals'!U10","v":0},0,null,"2007-05-31",{"$f":"'Monthly Totals'!V10","v":0},0,null,"2007-05-31",{"$f":"'Monthly Totals'!W10","v":0},0,null,"2007-05-31",{"$f":"'Monthly Totals'!X10","v":0},0,null,"2007-05-31",{"$f":"'Monthly Totals'!Y10","v":0},0,null,"2007-05-31",{"$f":"'Monthly Totals'!Z10","v":0},0,null,"2007-05-31",{"$f":"'Monthly Totals'!AA10","v":0},0,null,"2007-05-31",{"$f":"'Monthly Totals'!AB10","v":0},0,null,"2007-05-31",{"$f":"'Monthly Totals'!AC10","v":0},0,null,"2007-05-31",{"$f":"'Monthly Totals'!AD10","v":0},0,null,"2007-05-31",{"$f":"'Monthly Totals'!AE10","v":0},0]
[null,"2007-06-30",{"$f":"'Monthly Totals'!F11-('Monthly Totals'!F11 - 'Monthly Totals'!G11)","v":0},0,null,"2007-06-30",{"$f":"('Monthly Totals'!H11-('Monthly Totals'!H11 - 'Monthly Totals'!I11))","v":0},0,null,"2007-06-30",{"$f":"'Monthly Totals'!J11","v":0},0,null,"2007-06-30",{"$f":"'Monthly Totals'!K11","v":0},0,null,"2007-06-30",{"$f":"'Monthly Totals'!L11","v":0},0,null,"2007-06-30",{"$f":"'Monthly Totals'!M11","v":0},0,null,"2007-06-30",{"$f":"'Monthly Totals'!N11","v":0},0,null,"2007-06-30",{"$f":"'Monthly Totals'!O11","v":0},0,null,"2007-06-30",{"$f":"'Monthly Totals'!P11","v":0},0,null,"2007-06-30",{"$f":"'Monthly Totals'!Q11","v":0},0,null,"2007-06-30",{"$f":"'Monthly Totals'!R11","v":0},0,null,"2007-06-30",{"$f":"'Monthly Totals'!S11","v":0},0,null,"2007-06-30",{"$f":"'Monthly Totals'!T11","v":0},0,null,"2007-06-30",{"$f":"'Monthly Totals'!U11","v":0},0,null,"2007-06-30",{"$f":"'Monthly Totals'!V11","v":0},0,null,"2007-06-30",{"$f":"'Monthly Totals'!W11","v":0},0,null,"2007-06-30",{"$f":"'Monthly Totals'!X11","v":0},0,null,"2007-06-30",{"$f":"'Monthly Totals'!Y11","v":0},0,null,"2007-06-30",{"$f":"'Monthly Totals'!Z11","v":0},0,null,"2007-06-30",{"$f":"'Monthly Totals'!AA11","v":0},0,null,"2007-06-30",{"$f":"'Monthly Totals'!AB11","v":0},0,null,"2007-06-30",{"$f":"'Monthly Totals'!AC11","v":0},0,null,"2007-06-30",{"$f":"'Monthly Totals'!AD11","v":0},0,null,"2007-06-30",{"$f":"'Monthly Totals'!AE11","v":0},0]
[null,"2007-07-31",{"$f":"'Monthly Totals'!F12-('Monthly Totals'!F12 - 'Monthly Totals'!G12)","v":0},0,null,"2007-07-31",{"$f":"('Monthly Totals'!H12-('Monthly Totals'!H12 - 'Monthly Totals'!I12))","v":0},0,null,"2007-07-31",{"$f":"'Monthly Totals'!J12","v":0},0,null,"2007-07-31",{"$f":"'Monthly Totals'!K12","v":0},0,null,"2007-07-31",{"$f":"'Monthly Totals'!L12","v":0},0,null,"2007-07-31",{"$f":"'Monthly Totals'!M12","v":0},0,null,"2007-07-31",{"$f":"'Monthly Totals'!N12","v":0},0,null,"2007-07-31",{"$f":"'Monthly Totals'!O12","v":0},0,null,"2007-07-31",{"$f":"'Monthly Totals'!P12","v":0},0,null,"2007-07-31",{"$f":"'Monthly Totals'!Q12","v":0},0,null,"2007-07-31",{"$f":"'Monthly Totals'!R12","v":0},0,null,"2007-07-31",{"$f":"'Monthly Totals'!S12","v":0},0,null,"2007-07-31",{"$f":"'Monthly Totals'!T12","v":0},0,null,"2007-07-31",{"$f":"'Monthly Totals'!U12","v":0},0,null,"2007-07-31",{"$f":"'Monthly Totals'!V12","v":0},0,null,"2007-07-31",{"$f":"'Monthly Totals'!W12","v":0},0,null,"2007-07-31",{"$f":"'Monthly Totals'!X12","v":0},0,null,"2007-07-31",{"$f":"'Monthly Totals'!Y12","v":0},0,null,"2007-07-31",{"$f":"'Monthly Totals'!Z12","v":0},0,null,"2007-07-31",{"$f":"'Monthly Totals'!AA12","v":0},0,null,"2007-07-31",{"$f":"'Monthly Totals'!AB12","v":0},0,null,"2007-07-31",{"$f":"'Monthly Totals'!AC12","v":0},0,null,"2007-07-31",{"$f":"'Monthly Totals'!AD12","v":0},0,null,"2007-07-31",{"$f":"'Monthly Totals'!AE12","v":0},0]
[null,"2007-08-31",{"$f":"'Monthly Totals'!F13-('Monthly Totals'!F13 - 'Monthly Totals'!G13)","v":0},0,null,"2007-08-31",{"$f":"('Monthly Totals'!H13-('Monthly Totals'!H13 - 'Monthly Totals'!I13))","v":0},0,null,"2007-08-31",{"$f":"'Monthly Totals'!J13","v":0},0,null,"2007-08-31",{"$f":"'Monthly Totals'!K13","v":0},0,null,"2007-08-31",{"$f":"'Monthly Totals'!L13","v":0},0,null,"2007-08-31",{"$f":"'Monthly Totals'!M13","v":0},0,null,"2007-08-31",{"$f":"'Monthly Totals'!N13","v":0},0,null,"2007-08-31",{"$f":"'Monthly Totals'!O13","v":0},0,null,"2007-08-31",{"$f":"'Monthly Totals'!P13","v":0},0,null,"2007-08-31",{"$f":"'Monthly Totals'!Q13","v":0},0,null,"2007-08-31",{"$f":"'Monthly Totals'!R13","v":0},0,null,"2007-08-31",{"$f":"'Monthly Totals'!S13","v":0},0,null,"2007-08-31",{"$f":"'Monthly Totals'!T13","v":0},0,null,"2007-08-31",{"$f":"'Monthly Totals'!U13","v":0},0,null,"2007-08-31",{"$f":"'Monthly Totals'!V13","v":0},0,null,"2007-08-31",{"$f":"'Monthly Totals'!W13","v":0},0,null,"2007-08-31",{"$f":"'Monthly Totals'!X13","v":0},0,null,"2007-08-31",{"$f":"'Monthly Totals'!Y13","v":0},0,null,"2007-08-31",{"$f":"'Monthly Totals'!Z13","v":0},0,null,"2007-08-31",{"$f":"'Monthly Totals'!AA13","v":0},0,null,"2007-08-31",{"$f":"'Monthly Totals'!AB13","v":0},0,null,"2007-08-31",{"$f":"'Monthly Totals'!AC13","v":0},0,null,"2007-08-31",{"$f":"'Monthly Totals'!AD13","v":0},0,null,"2007-08-31",{"$f":"'Monthly Totals'!AE13","v":0},0]
[null,"2007-09-30",{"$f":"'Monthly Totals'!F14-('Monthly Totals'!F14 - 'Monthly Totals'!G14)","v":0},0,null,"2007-09-30",{"$f":"('Monthly Totals'!H14-('Monthly Totals'!H14 - 'Monthly Totals'!I14))","v":0},0,null,"2007-09-30",{"$f":"'Monthly Totals'!J14","v":0},0,null,"2007-09-30",{"$f":"'Monthly Totals'!K14","v":0},0,null,"2007-09-30",{"$f":"'Monthly Totals'!L14","v":0},0,null,"2007-09-30",{"$f":"'Monthly Totals'!M14","v":0},0,null,"2007-09-30",{"$f":"'Monthly Totals'!N14","v":0},0,null,"2007-09-30",{"$f":"'Monthly Totals'!O14","v":0},0,null,"2007-09-30",{"$f":"'Monthly Totals'!P14","v":0},0,null,"2007-09-30",{"$f":"'Monthly Totals'!Q14","v":0},0,null,"2007-09-30",{"$f":"'Monthly Totals'!R14","v":0},0,null,"2007-09-30",{"$f":"'Monthly Totals'!S14","v":0},0,null,"2007-09-30",{"$f":"'Monthly Totals'!T14","v":0},0,null,"2007-09-30",{"$f":"'Monthly Totals'!U14","v":0},0,null,"2007-09-30",{"$f":"'Monthly Totals'!V14","v":0},0,null,"2007-09-30",{"$f":"'Monthly Totals'!W14","v":0},0,null,"2007-09-30",{"$f":"'Monthly Totals'!X14","v":0},0,null,"2007-09-30",{"$f":"'Monthly Totals'!Y14","v":0},0,null,"2007-09-30",{"$f":"'Monthly Totals'!Z14","v":0},0,null,"2007-09-30",{"$f":"'Monthly Totals'!AA14","v":0},0,null,"2007-09-30",{"$f":"'Monthly Totals'!AB14","v":0},0,null,"2007-09-30",{"$f":"'Monthly Totals'!AC14","v":0},0,null,"2007-09-30",{"$f":"'Monthly Totals'!AD14","v":0},0,null,"2007-09-30",{"$f":"'Monthly Totals'!AE14","v":0},0]
[null,"2007-10-31",{"$f":"'Monthly Totals'!F15-('Monthly Totals'!F15 - 'Monthly Totals'!G15)","v":0},0,null,"2007-10-31",{"$f":"('Monthly Totals'!H15-('Monthly Totals'!H15 - 'Monthly Totals'!I15))","v":0},0,null,"2007-10-31",{"$f":"'Monthly Totals'!J15","v":0},0,null,"2007-10-31",{"$f":"'Monthly Totals'!K15","v":0},0,null,"2007-10-31",{"$f":"'Monthly Totals'!L15","v":0},0,null,"2007-10-31",{"$f":"'Monthly Totals'!M15","v":0},0,null,"2007-10-31",{"$f":"'Monthly Totals'!N15","v":0},0,null,"2007-10-31",{"$f":"'Monthly Totals'!O15","v":0},0,null,"2007-10-31",{"$f":"'Monthly Totals'!P15","v":0},0,null,"2007-10-31",{"$f":"'Monthly Totals'!Q15","v":0},0,null,"2007-10-31",{"$f":"'Monthly Totals'!R15","v":0},0,null,"2007-10-31",{"$f":"'Monthly Totals'!S15","v":0},0,null,"2007-10-31",{"$f":"'Monthly Totals'!T15","v":0},0,null,"2007-10-31",{"$f":"'Monthly Totals'!U15","v":0},0,null,"2007-10-31",{"$f":"'Monthly Totals'!V15","v":0},0,null,"2007-10-31",{"$f":"'Monthly Totals'!W15","v":0},0,null,"2007-10-31",{"$f":"'Monthly Totals'!X15","v":0},0,null,"2007-10-31",{"$f":"'Monthly Totals'!Y15","v":0},0,null,"2007-10-31",{"$f":"'Monthly Totals'!Z15","v":0},0,null,"2007-10-31",{"$f":"'Monthly Totals'!AA15","v":0},0,null,"2007-10-31",{"$f":"'Monthly Totals'!AB15","v":0},0,null,"2007-10-31",{"$f":"'Monthly Totals'!AC15","v":0},0,null,"2007-10-31",{"$f":"'Monthly Totals'!AD15","v":0},0,null,"2007-10-31",{"$f":"'Monthly Totals'!AE15","v":0},0]
[null,"2007-11-30",{"$f":"'Monthly Totals'!F16-('Monthly Totals'!F16 - 'Monthly Totals'!G16)","v":0},0,null,"2007-11-30",{"$f":"('Monthly Totals'!H16-('Monthly Totals'!H16 - 'Monthly Totals'!I16))","v":0},0,null,"2007-11-30",{"$f":"'Monthly Totals'!J16","v":0},0,null,"2007-11-30",{"$f":"'Monthly Totals'!K16","v":0},0,null,"2007-11-30",{"$f":"'Monthly Totals'!L16","v":0},0,null,"2007-11-30",{"$f":"'Monthly Totals'!M16","v":0},0,null,"2007-11-30",{"$f":"'Monthly Totals'!N16","v":0},0,null,"2007-11-30",{"$f":"'Monthly Totals'!O16","v":0},0,null,"2007-11-30",{"$f":"'Monthly Totals'!P16","v":0},0,null,"2007-11-30",{"$f":"'Monthly Totals'!Q16","v":0},0,null,"2007-11-30",{"$f":"'Monthly Totals'!R16","v":0},0,null,"2007-11-30",{"$f":"'Monthly Totals'!S16","v":0},0,null,"2007-11-30",{"$f":"'Monthly Totals'!T16","v":0},0,null,"2007-11-30",{"$f":"'Monthly Totals'!U16","v":0},0,null,"2007-11-30",{"$f":"'Monthly Totals'!V16","v":0},0,null,"2007-11-30",{"$f":"'Monthly Totals'!W16","v":0},0,null,"2007-11-30",{"$f":"'Monthly Totals'!X16","v":0},0,null,"2007-11-30",{"$f":"'Monthly Totals'!Y16","v":0},0,null,"2007-11-30",{"$f":"'Monthly Totals'!Z16","v":0},0,null,"2007-11-30",{"$f":"'Monthly Totals'!AA16","v":0},0,null,"2007-11-30",{"$f":"'Monthly Totals'!AB16","v":0},0,null,"2007-11-30",{"$f":"'Monthly Totals'!AC16","v":0},0,null,"2007-11-30",{"$f":"'Monthly Totals'!AD16","v":0},0,null,"2007-11-30",{"$f":"'Monthly Totals'!AE16","v":0},0]
[null,"2007-12-31",{"$f":"'Monthly Totals'!F17-('Monthly Totals'!F17 - 'Monthly Totals'!G17)","v":0},{"$f":"SUM(C20:C31)","v":0},null,"2007-12-31",{"$f":"('Monthly Totals'!H17-('Monthly Totals'!H17 - 'Monthly Totals'!I17))","v":0},0,null,"2007-12-31",{"$f":"'Monthly Totals'!J17","v":0},0,null,"2007-12-31",{"$f":"'Monthly Totals'!K17","v":0},0,null,"2007-12-31",{"$f":"'Monthly Totals'!L17","v":0},0,null,"2007-12-31",{"$f":"'Monthly Totals'!M17","v":0},0,null,"2007-12-31",{"$f":"'Monthly Totals'!N17","v":0},0,null,"2007-12-31",{"$f":"'Monthly Totals'!O17","v":0},0,null,"2007-12-31",{"$f":"'Monthly Totals'!P17","v":0},0,null,"2007-12-31",{"$f":"'Monthly Totals'!Q17","v":0},0,null,"2007-12-31",{"$f":"'Monthly Totals'!R17","v":0},0,null,"2007-12-31",{"$f":"'Monthly Totals'!S17","v":0},0,null,"2007-12-31",{"$f":"'Monthly Totals'!T17","v":0},0,null,"2007-12-31",{"$f":"'Monthly Totals'!U17","v":0},0,null,"2007-12-31",{"$f":"'Monthly Totals'!V17","v":0},0,null,"2007-12-31",{"$f":"'Monthly Totals'!W17","v":0},0,null,"2007-12-31",{"$f":"'Monthly Totals'!X17","v":0},0,null,"2007-12-31",{"$f":"'Monthly Totals'!Y17","v":0},0,null,"2007-12-31",{"$f":"'Monthly Totals'!Z17","v":0},0,null,"2007-12-31",{"$f":"'Monthly Totals'!AA17","v":0},0,null,"2007-12-31",{"$f":"'Monthly Totals'!AB17","v":0},0,null,"2007-12-31",{"$f":"'Monthly Totals'!AC17","v":0},0,null,"2007-12-31",{"$f":"'Monthly Totals'!AD17","v":0},0,null,"2007-12-31",{"$f":"'Monthly Totals'!AE17","v":0},0]
[]
[]
[]
["Purge or Clean-up Solvent (I) - 12 Month Rolling Totals"]
[{"$f":"'Monthly Totals'!D22","v":"[Enter Purge or Clean-up Solvent Name]"},null,null,null,null,null,null,null,null,null,"  "]
["Purge or Clean-up","TOTAL VOCs Rolling (Cold Cleaner)",null,null,null,"TOTAL HAPs Rolling (Cold Cleaner)",null,null,null,{"$f":"'Monthly Totals'!J22","v":"[Enter HAP Name]"},null,null,null,{"$f":"'Monthly Totals'!N22","v":"[Enter HAP Name]"},null,null,null,{"$f":"'Monthly Totals'!R22","v":"[Enter HAP Name]"},null,null,null,{"$f":"'Monthly Totals'!V22","v":"[Enter HAP Name]"},null,null,null,{"$f":"'Monthly Totals'!Z22","v":"[Enter HAP Name]"},null,null,null,{"$f":"'Monthly Totals'!AD22","v":"[Enter HAP Name]"}]
[null,"Date","Monthly Total (Tons)","Total Tons/Year on 12 Month Rolling",null,"Date","Monthly Total (Tons)","Total Tons/Year on 12 Month Rolling",null,"Date","Monthly Total (Tons)","Total Tons/Year on 12 Month Rolling",null,"Date","Monthly Total (Tons)","Total Tons/Year on 12 Month Rolling",null,"Date","Monthly Total (Tons)","Total Tons/Year on 12 Month Rolling",null,"Date","Monthly Total (Tons)","Total Tons/Year on 12 Month Rolling",null,"Date","Monthly Total (Tons)","Total Tons/Year on 12 Month Rolling",null,"Date","Monthly Total (Tons)","Total Tons/Year on 12 Month Rolling"]
[]
[null,{"$f":"B8","v":"2006-01-31"},null,null,null,{"$f":"B40","v":"2006-01-31"},null,null,null,{"$f":"F40","v":"2006-01-31"},null,null,null,{"$f":"J40","v":"2006-01-31"},null,null,null,{"$f":"N40","v":"2006-01-31"},null,null,null,{"$f":"R40","v":"2006-01-31"},null,null,null,{"$f":"V40","v":"2006-01-31"},null,null,null,{"$f":"Z40","v":"2006-01-31"}]
[null,"2006-02-28",null,null,null,"2006-02-28",null,null,null,"2006-02-28",null,null,null,"2006-02-28",null,null,null,"2006-02-28",null,null,null,"2006-02-28",null,null,null,"2006-02-28",null,null,null,"2006-02-28"]
[null,"2006-03-31",null,null,null,"2006-03-31",null,null,null,"2006-03-31",null,null,null,"2006-03-31",null,null,null,"2006-03-31",null,null,null,"2006-03-31",null,null,null,"2006-03-31",null,null,null,"2006-03-31"]
[null,"2006-04-30",null,null,null,"2006-04-30",null,null,null,"2006-04-30",null,null,null,"2006-04-30",null,null,null,"2006-04-30",null,null,null,"2006-04-30",null,null,null,"2006-04-30",null,null,null,"2006-04-30"]
[null,"2006-05-31",null,null,null,"2006-05-31",null,null,null,"2006-05-31",null,null,null,"2006-05-31",null,null,null,"2006-05-31",null,null,null,"2006-05-31",null,null,null,"2006-05-31",null,null,null,"2006-05-31"]
[null,"2006-06-30",null,null,null,"2006-06-30",null,null,null,"2006-06-30",null,null,null,"2006-06-30",null,null,null,"2006-06-30",null,null,null,"2006-06-30",null,null,null,"2006-06-30",null,null,null,"2006-06-30"]
[null,"2006-07-31",null,null,null,"2006-07-31",null,null,null,"2006-07-31",null,null,null,"2006-07-31",null,null,null,"2006-07-31",null,null,null,"2006-07-31",null,null,null,"2006-07-31",null,null,null,"2006-07-31"]
[null,"2006-08-31",null,null,null,"2006-08-31",null,null,null,"2006-08-31",null,null,null,"2006-08-31",null,null,null,"2006-08-31",null,null,null,"2006-08-31",null,null,null,"2006-08-31",null,null,null,"2006-08-31"]
[null,"2006-09-30",null,null,null,"2006-09-30",null,null,null,"2006-09-30",null,null,null,"2006-09-30",null,null,null,"2006-09-30",null,null,null,"2006-09-30",null,null,null,"2006-09-30",null,null,null,"2006-09-30"]
[null,"2006-10-31",null,null,null,"2006-10-31",null,null,null,"2006-10-31",null,null,null,"2006-10-31",null,null,null,"2006-10-31",null,null,null,"2006-10-31",null,null,null,"2006-10-31",null,null,null,"2006-10-31"]
[null,"2006-11-30",null,null,null,"2006-11-30",null,null,null,"2006-11-30",null,null,null,"2006-11-30",null,null,null,"2006-11-30",null,null,null,"2006-11-30",null,null,null,"2006-11-30",null,null,null,"2006-11-30"]
[null,"2006-12-31",null,null,null,"2006-12-31",null,null,null,"2006-12-31",null,null,null,"2006-12-31",null,null,null,"2006-12-31",null,null,null,"2006-12-31",null,null,null,"2006-12-31",null,null,null,"2006-12-31"]
[null,"2007-01-31",{"$f":"'Monthly Totals'!F24/2000","v":0},{"$f":"SUM(C41:C52)","v":0},null,"2007-01-31",{"$f":"'Monthly Totals'!G24/2000","v":0},{"$f":"SUM(G41:G52)","v":0},null,"2007-01-31",{"$f":"'Monthly Totals'!M24/2000","v":0},{"$f":"SUM(K41:K52)","v":0},null,"2007-01-31",{"$f":"'Monthly Totals'!Q24/2000","v":0},{"$f":"SUM(O41:O52)","v":0},null,"2007-01-31",{"$f":"'Monthly Totals'!U24/2000","v":0},{"$f":"SUM(S41:S52)","v":0},null,"2007-01-31",{"$f":"'Monthly Totals'!Y24/2000","v":0},{"$f":"SUM(W41:W52)","v":0},null,"2007-01-31",{"$f":"'Monthly Totals'!AC24/2000","v":0},{"$f":"SUM(AA41:AA52)","v":0},null,"2007-01-31",{"$f":"'Monthly Totals'!AG24/2000","v":0},{"$f":"SUM(AE41:AE52)","v":0}]
[null,"2007-02-28",{"$f":"'Monthly Totals'!F25/2000","v":0},{"$f":"SUM(C42:C53)","v":0},null,"2007-02-28",{"$f":"'Monthly Totals'!G25/2000","v":0},0,null,"2007-02-28",{"$f":"'Monthly Totals'!M25/2000","v":0},0,null,"2007-02-28",{"$f":"'Monthly Totals'!Q25/2000","v":0},0,null,"2007-02-28",{"$f":"'Monthly Totals'!U25/2000","v":0},0,null,"2007-02-28",{"$f":"'Monthly Totals'!Y25/2000","v":0},0,null,"2007-02-28",{"$f":"'Monthly Totals'!AC25/2000","v":0},0,null,"2007-02-28",{"$f":"'Monthly Totals'!AG25/2000","v":0},0]
[null,"2007-03-31",{"$f":"'Monthly Totals'!F26/2000","v":0},{"$f":"SUM(C43:C54)","v":0},null,"2007-03-31",{"$f":"'Monthly Totals'!G26/2000","v":0},0,null,"2007-03-31",{"$f":"'Monthly Totals'!M26/2000","v":0},0,null,"2007-03-31",{"$f":"'Monthly Totals'!Q26/2000","v":0},0,null,"2007-03-31",{"$f":"'Monthly Totals'!U26/2000","v":0},0,null,"2007-03-31",{"$f":"'Monthly Totals'!Y26/2000","v":0},0,null,"2007-03-31",{"$f":"'Monthly Totals'!AC26/2000","v":0},0,null,"2007-03-31",{"$f":"'Monthly Totals'!AG26/2000","v":0},0]
[null,"2007-04-30",{"$f":"'Monthly Totals'!F27/2000","v":0},{"$f":"SUM(C44:C55)","v":0},null,"2007-04-30",{"$f":"'Monthly Totals'!G27/2000","v":0},0,null,"2007-04-30",{"$f":"'Monthly Totals'!M27/2000","v":0},0,null,"2007-04-30",{"$f":"'Monthly Totals'!Q27/2000","v":0},0,null,"2007-04-30",{"$f":"'Monthly Totals'!U27/2000","v":0},0,null,"2007-04-30",{"$f":"'Monthly Totals'!Y27/2000","v":0},0,null,"2007-04-30",{"$f":"'Monthly Totals'!AC27/2000","v":0},0,null,"2007-04-30",{"$f":"'Monthly Totals'!AG27/2000","v":0},0]
[null,"2007-05-31",{"$f":"'Monthly Totals'!F28/2000","v":0},0,null,"2007-05-31",{"$f":"'Monthly Totals'!G28/2000","v":0},0,null,"2007-05-31",{"$f":"'Monthly Totals'!M28/2000","v":0},0,null,"2007-05-31",{"$f":"'Monthly Totals'!Q28/2000","v":0},0,null,"2007-05-31",{"$f":"'Monthly Totals'!U28/2000","v":0},0,null,"2007-05-31",{"$f":"'Monthly Totals'!Y28/2000","v":0},0,null,"2007-05-31",{"$f":"'Monthly Totals'!AC28/2000","v":0},0,null,"2007-05-31",{"$f":"'Monthly Totals'!AG28/2000","v":0},0]
[null,"2007-06-30",{"$f":"'Monthly Totals'!F29/2000","v":0},0,null,"2007-06-30",{"$f":"'Monthly Totals'!G29/2000","v":0},0,null,"2007-06-30",{"$f":"'Monthly Totals'!M29/2000","v":0},0,null,"2007-06-30",{"$f":"'Monthly Totals'!Q29/2000","v":0},0,null,"2007-06-30",{"$f":"'Monthly Totals'!U29/2000","v":0},0,null,"2007-06-30",{"$f":"'Monthly Totals'!Y29/2000","v":0},0,null,"2007-06-30",{"$f":"'Monthly Totals'!AC29/2000","v":0},0,null,"2007-06-30",{"$f":"'Monthly Totals'!AG29/2000","v":0},0]
[null,"2007-07-31",{"$f":"'Monthly Totals'!F30/2000","v":0},0,null,"2007-07-31",{"$f":"'Monthly Totals'!G30/2000","v":0},0,null,"2007-07-31",{"$f":"'Monthly Totals'!M30/2000","v":0},0,null,"2007-07-31",{"$f":"'Monthly Totals'!Q30/2000","v":0},0,null,"2007-07-31",{"$f":"'Monthly Totals'!U30/2000","v":0},0,null,"2007-07-31",{"$f":"'Monthly Totals'!Y30/2000","v":0},0,null,"2007-07-31",{"$f":"'Monthly Totals'!AC30/2000","v":0},0,null,"2007-07-31",{"$f":"'Monthly Totals'!AG30/2000","v":0},0]
[null,"2007-08-31",{"$f":"'Monthly Totals'!F31/2000","v":0},0,null,"2007-08-31",{"$f":"'Monthly Totals'!G31/2000","v":0},0,null,"2007-08-31",{"$f":"'Monthly Totals'!M31/2000","v":0},0,null,"2007-08-31",{"$f":"'Monthly Totals'!Q31/2000","v":0},0,null,"2007-08-31",{"$f":"'Monthly Totals'!U31/2000","v":0},0,null,"2007-08-31",{"$f":"'Monthly Totals'!Y31/2000","v":0},0,null,"2007-08-31",{"$f":"'Monthly Totals'!AC31/2000","v":0},0,null,"2007-08-31",{"$f":"'Monthly Totals'!AG31/2000","v":0},0]
[null,"2007-09-30",{"$f":"'Monthly Totals'!F32/2000","v":0},0,null,"2007-09-30",{"$f":"'Monthly Totals'!G32/2000","v":0},0,null,"2007-09-30",{"$f":"'Monthly Totals'!M32/2000","v":0},0,null,"2007-09-30",{"$f":"'Monthly Totals'!Q32/2000","v":0},0,null,"2007-09-30",{"$f":"'Monthly Totals'!U32/2000","v":0},0,null,"2007-09-30",{"$f":"'Monthly Totals'!Y32/2000","v":0},0,null,"2007-09-30",{"$f":"'Monthly Totals'!AC32/2000","v":0},0,null,"2007-09-30",{"$f":"'Monthly Totals'!AG32/2000","v":0},0]
[null,"2007-10-31",{"$f":"'Monthly Totals'!F33/2000","v":0},0,null,"2007-10-31",{"$f":"'Monthly Totals'!G33/2000","v":0},0,null,"2007-10-31",{"$f":"'Monthly Totals'!M33/2000","v":0},0,null,"2007-10-31",{"$f":"'Monthly Totals'!Q33/2000","v":0},0,null,"2007-10-31",{"$f":"'Monthly Totals'!U33/2000","v":0},0,null,"2007-10-31",{"$f":"'Monthly Totals'!Y33/2000","v":0},0,null,"2007-10-31",{"$f":"'Monthly Totals'!AC33/2000","v":0},0,null,"2007-10-31",{"$f":"'Monthly Totals'!AG33/2000","v":0},0]
[null,"2007-11-30",{"$f":"'Monthly Totals'!F34/2000","v":0},0,null,"2007-11-30",{"$f":"'Monthly Totals'!G34/2000","v":0},0,null,"2007-11-30",{"$f":"'Monthly Totals'!M34/2000","v":0},0,null,"2007-11-30",{"$f":"'Monthly Totals'!Q34/2000","v":0},0,null,"2007-11-30",{"$f":"'Monthly Totals'!U34/2000","v":0},0,null,"2007-11-30",{"$f":"'Monthly Totals'!Y34/2000","v":0},0,null,"2007-11-30",{"$f":"'Monthly Totals'!AC34/2000","v":0},0,null,"2007-11-30",{"$f":"'Monthly Totals'!AG34/2000","v":0},0]
[null,"2007-12-31",{"$f":"'Monthly Totals'!F35/2000","v":0},{"$f":"SUM(C52:C63)","v":0},null,"2007-12-31",{"$f":"'Monthly Totals'!G35/2000","v":0},0,null,"2007-12-31",{"$f":"'Monthly Totals'!M35/2000","v":0},0,null,"2007-12-31",{"$f":"'Monthly Totals'!Q35/2000","v":0},0,null,"2007-12-31",{"$f":"'Monthly Totals'!U35/2000","v":0},0,null,"2007-12-31",{"$f":"'Monthly Totals'!Y35/2000","v":0},0,null,"2007-12-31",{"$f":"'Monthly Totals'!AC35/2000","v":0},0,null,"2007-12-31",{"$f":"'Monthly Totals'!AG35/2000","v":0},0]
[]
["Purge or Clean-up Solvent (II) - 12 Month Rolling Totals"]
[{"$f":"'Monthly Totals'!D38","v":"[Enter Purge or Clean-up Solvent Name]"},null,null,null,null,null,null,null,null,null,"  "]
["Purge or Clean-up","TOTAL VOCs Rolling (Purge Station)",null,null,null,"TOTAL HAPs Rolling (Purge Station)",null,null,null,{"$f":"'Monthly Totals'!J38","v":"[Enter HAP Name]"},null,null,null,{"$f":"'Monthly Totals'!N38","v":"[Enter HAP Name]"},null,null,null,{"$f":"'Monthly Totals'!R38","v":"[Enter HAP Name]"},null,null,null,{"$f":"'Monthly Totals'!V38","v":"[Enter HAP Name]"},null,null,null,{"$f":"'Monthly Totals'!Z38","v":"[Enter HAP Name]"},null,null,null,{"$f":"'Monthly Totals'!AD38","v":"[Enter HAP Name]"}]
[null,"Date","Monthly Total (Tons)","Total Tons/Year on 12 Month Rolling",null,"Date","Monthly Total (Tons)","Total Tons/Year on 12 Month Rolling",null,"Date","Monthly Total (Tons)","Total Tons/Year on 12 Month Rolling",null,"Date","Monthly Total (Tons)","Total Tons/Year on 12 Month Rolling",null,"Date","Monthly Total (Tons)","Total Tons/Year on 12 Month Rolling",null,"Date","Monthly Total (Tons)","Total Tons/Year on 12 Month Rolling",null,"Date","Monthly Total (Tons)","Total Tons/Year on 12 Month Rolling",null,"Date","Monthly Total (Tons)","Total Tons/Year on 12 Month Rolling"]
[]
[null,{"$f":"B8","v":"2006-01-31"},null,null,null,{"$f":"B70","v":"2006-01-31"},null,null,null,{"$f":"F70","v":"2006-01-31"},null,null,null,{"$f":"J70","v":"2006-01-31"},null,null,null,{"$f":"N70","v":"2006-01-31"},null,null,null,{"$f":"R70","v":"2006-01-31"},null,null,null,{"$f":"V70","v":"2006-01-31"},null,null,null,{"$f":"Z70","v":"2006-01-31"}]
[null,"2006-02-28",null,null,null,"2006-02-28",null,null,null,"2006-02-28",null,null,null,"2006-02-28",null,null,null,"2006-02-28",null,null,null,"2006-02-28",null,null,null,"2006-02-28",null,null,null,"2006-02-28"]
[null,"2006-03-31",null,null,null,"2006-03-31",null,null,null,"2006-03-31",null,null,null,"2006-03-31",null,null,null,"2006-03-31",null,null,null,"2006-03-31",null,null,null,"2006-03-31",null,null,null,"2006-03-31"]
[null,"2006-04-30",null,null,null,"2006-04-30",null,null,null,"2006-04-30",null,null,null,"2006-04-30",null,null,null,"2006-04-30",null,null,null,"2006-04-30",null,null,null,"2006-04-30",null,null,null,"2006-04-30"]
[null,"2006-05-31",null,null,null,"2006-05-31",null,null,null,"2006-05-31",null,null,null,"2006-05-31",null,null,null,"2006-05-31",null,null,null,"2006-05-31",null,null,null,"2006-05-31",null,null,null,"2006-05-31"]
[null,"2006-06-30",null,null,null,"2006-06-30",null,null,null,"2006-06-30",null,null,null,"2006-06-30",null,null,null,"2006-06-30",null,null,null,"2006-06-30",null,null,null,"2006-06-30",null,null,null,"2006-06-30"]
[null,"2006-07-31",null,null,null,"2006-07-31",null,null,null,"2006-07-31",null,null,null,"2006-07-31",null,null,null,"2006-07-31",null,null,null,"2006-07-31",null,null,null,"2006-07-31",null,null,null,"2006-07-31"]
[null,"2006-08-31",null,null,null,"2006-08-31",null,null,null,"2006-08-31",null,null,null,"2006-08-31",null,null,null,"2006-08-31",null,null,null,"2006-08-31",null,null,null,"2006-08-31",null,null,null,"2006-08-31"]
[null,"2006-09-30",null,null,null,"2006-09-30",null,null,null,"2006-09-30",null,null,null,"2006-09-30",null,null,null,"2006-09-30",null,null,null,"2006-09-30",null,null,null,"2006-09-30",null,null,null,"2006-09-30"]
[null,"2006-10-31",null,null,null,"2006-10-31",null,null,null,"2006-10-31",null,null,null,"2006-10-31",null,null,null,"2006-10-31",null,null,null,"2006-10-31",null,null,null,"2006-10-31",null,null,null,"2006-10-31"]
[null,"2006-11-30",null,null,null,"2006-11-30",null,null,null,"2006-11-30",null,null,null,"2006-11-30",null,null,null,"2006-11-30",null,null,null,"2006-11-30",null,null,null,"2006-11-30",null,null,null,"2006-11-30"]
[null,"2006-12-31",null,null,null,"2006-12-31",null,null,null,"2006-12-31",null,null,null,"2006-12-31",null,null,null,"2006-12-31",null,null,null,"2006-12-31",null,null,null,"2006-12-31",null,null,null,"2006-12-31"]
[null,"2007-01-31",{"$f":"'Monthly Totals'!F40/2000","v":0},{"$f":"SUM(C71:C82)","v":0},null,"2007-01-31",{"$f":"'Monthly Totals'!G40/2000","v":0},{"$f":"SUM(G71:G82)","v":0},null,"2007-01-31",{"$f":"'Monthly Totals'!M40/2000","v":0},{"$f":"SUM(K71:K82)","v":0},null,"2007-01-31",{"$f":"'Monthly Totals'!Q40/2000","v":0},{"$f":"SUM(O71:O82)","v":0},null,"2007-01-31",{"$f":"'Monthly Totals'!U40/2000","v":0},{"$f":"SUM(S71:S82)","v":0},null,"2007-01-31",{"$f":"'Monthly Totals'!Y40/2000","v":0},{"$f":"SUM(W71:W82)","v":0},null,"2007-01-31",{"$f":"'Monthly Totals'!AC40/2000","v":0},{"$f":"SUM(AA71:AA82)","v":0},null,"2007-01-31",{"$f":"'Monthly Totals'!AG40/2000","v":0},{"$f":"SUM(AE71:AE82)","v":0}]
[null,"2007-02-28",{"$f":"'Monthly Totals'!F41/2000","v":0},{"$f":"SUM(C72:C83)","v":0},null,"2007-02-28",{"$f":"'Monthly Totals'!G41/2000","v":0},0,null,"2007-02-28",{"$f":"'Monthly Totals'!M41/2000","v":0},0,null,"2007-02-28",{"$f":"'Monthly Totals'!Q41/2000","v":0},0,null,"2007-02-28",{"$f":"'Monthly Totals'!U41/2000","v":0},0,null,"2007-02-28",{"$f":"'Monthly Totals'!Y41/2000","v":0},0,null,"2007-02-28",{"$f":"'Monthly Totals'!AC41/2000","v":0},0,null,"2007-02-28",{"$f":"'Monthly Totals'!AG41/2000","v":0},0]
[null,"2007-03-31",{"$f":"'Monthly Totals'!F42/2000","v":0},{"$f":"SUM(C73:C84)","v":0},null,"2007-03-31",{"$f":"'Monthly Totals'!G42/2000","v":0},0,null,"2007-03-31",{"$f":"'Monthly Totals'!M42/2000","v":0},0,null,"2007-03-31",{"$f":"'Monthly Totals'!Q42/2000","v":0},0,null,"2007-03-31",{"$f":"'Monthly Totals'!U42/2000","v":0},0,null,"2007-03-31",{"$f":"'Monthly Totals'!Y42/2000","v":0},0,null,"2007-03-31",{"$f":"'Monthly Totals'!AC42/2000","v":0},0,null,"2007-03-31",{"$f":"'Monthly Totals'!AG42/2000","v":0},0]
[null,"2007-04-30",{"$f":"'Monthly Totals'!F43/2000","v":0},{"$f":"SUM(C74:C85)","v":0},null,"2007-04-30",{"$f":"'Monthly Totals'!G43/2000","v":0},0,null,"2007-04-30",{"$f":"'Monthly Totals'!M43/2000","v":0},0,null,"2007-04-30",{"$f":"'Monthly Totals'!Q43/2000","v":0},0,null,"2007-04-30",{"$f":"'Monthly Totals'!U43/2000","v":0},0,null,"2007-04-30",{"$f":"'Monthly Totals'!Y43/2000","v":0},0,null,"2007-04-30",{"$f":"'Monthly Totals'!AC43/2000","v":0},0,null,"2007-04-30",{"$f":"'Monthly Totals'!AG43/2000","v":0},0]
[null,"2007-05-31",{"$f":"'Monthly Totals'!F44/2000","v":0},0,null,"2007-05-31",{"$f":"'Monthly Totals'!G44/2000","v":0},0,null,"2007-05-31",{"$f":"'Monthly Totals'!M44/2000","v":0},0,null,"2007-05-31",{"$f":"'Monthly Totals'!Q44/2000","v":0},0,null,"2007-05-31",{"$f":"'Monthly Totals'!U44/2000","v":0},0,null,"2007-05-31",{"$f":"'Monthly Totals'!Y44/2000","v":0},0,null,"2007-05-31",{"$f":"'Monthly Totals'!AC44/2000","v":0},0,null,"2007-05-31",{"$f":"'Monthly Totals'!AG44/2000","v":0},0]
[null,"2007-06-30",{"$f":"'Monthly Totals'!F45/2000","v":0},0,null,"2007-06-30",{"$f":"'Monthly Totals'!G45/2000","v":0},0,null,"2007-06-30",{"$f":"'Monthly Totals'!M45/2000","v":0},0,null,"2007-06-30",{"$f":"'Monthly Totals'!Q45/2000","v":0},0,null,"2007-06-30",{"$f":"'Monthly Totals'!U45/2000","v":0},0,null,"2007-06-30",{"$f":"'Monthly Totals'!Y45/2000","v":0},0,null,"2007-06-30",{"$f":"'Monthly Totals'!AC45/2000","v":0},0,null,"2007-06-30",{"$f":"'Monthly Totals'!AG45/2000","v":0},0]
[null,"2007-07-31",{"$f":"'Monthly Totals'!F46/2000","v":0},0,null,"2007-07-31",{"$f":"'Monthly Totals'!G46/2000","v":0},0,null,"2007-07-31",{"$f":"'Monthly Totals'!M46/2000","v":0},0,null,"2007-07-31",{"$f":"'Monthly Totals'!Q46/2000","v":0},0,null,"2007-07-31",{"$f":"'Monthly Totals'!U46/2000","v":0},0,null,"2007-07-31",{"$f":"'Monthly Totals'!Y46/2000","v":0},0,null,"2007-07-31",{"$f":"'Monthly Totals'!AC46/2000","v":0},0,null,"2007-07-31",{"$f":"'Monthly Totals'!AG46/2000","v":0},0]
[null,"2007-08-31",{"$f":"'Monthly Totals'!F47/2000","v":0},0,null,"2007-08-31",{"$f":"'Monthly Totals'!G47/2000","v":0},0,null,"2007-08-31",{"$f":"'Monthly Totals'!M47/2000","v":0},0,null,"2007-08-31",{"$f":"'Monthly Totals'!Q47/2000","v":0},0,null,"2007-08-31",{"$f":"'Monthly Totals'!U47/2000","v":0},0,null,"2007-08-31",{"$f":"'Monthly Totals'!Y47/2000","v":0},0,null,"2007-08-31",{"$f":"'Monthly Totals'!AC47/2000","v":0},0,null,"2007-08-31",{"$f":"'Monthly Totals'!AG47/2000","v":0},0]
[null,"2007-09-30",{"$f":"'Monthly Totals'!F48/2000","v":0},0,null,"2007-09-30",{"$f":"'Monthly Totals'!G48/2000","v":0},0,null,"2007-09-30",{"$f":"'Monthly Totals'!M48/2000","v":0},0,null,"2007-09-30",{"$f":"'Monthly Totals'!Q48/2000","v":0},0,null,"2007-09-30",{"$f":"'Monthly Totals'!U48/2000","v":0},0,null,"2007-09-30",{"$f":"'Monthly Totals'!Y48/2000","v":0},0,null,"2007-09-30",{"$f":"'Monthly Totals'!AC48/2000","v":0},0,null,"2007-09-30",{"$f":"'Monthly Totals'!AG48/2000","v":0},0]
[null,"2007-10-31",{"$f":"'Monthly Totals'!F49/2000","v":0},0,null,"2007-10-31",{"$f":"'Monthly Totals'!G49/2000","v":0},0,null,"2007-10-31",{"$f":"'Monthly Totals'!M49/2000","v":0},0,null,"2007-10-31",{"$f":"'Monthly Totals'!Q49/2000","v":0},0,null,"2007-10-31",{"$f":"'Monthly Totals'!U49/2000","v":0},0,null,"2007-10-31",{"$f":"'Monthly Totals'!Y49/2000","v":0},0,null,"2007-10-31",{"$f":"'Monthly Totals'!AC49/2000","v":0},0,null,"2007-10-31",{"$f":"'Monthly Totals'!AG49/2000","v":0},0]
[null,"2007-11-30",{"$f":"'Monthly Totals'!F50/2000","v":0},0,null,"2007-11-30",{"$f":"'Monthly Totals'!G50/2000","v":0},0,null,"2007-11-30",{"$f":"'Monthly Totals'!M50/2000","v":0},0,null,"2007-11-30",{"$f":"'Monthly Totals'!Q50/2000","v":0},0,null,"2007-11-30",{"$f":"'Monthly Totals'!U50/2000","v":0},0,null,"2007-11-30",{"$f":"'Monthly Totals'!Y50/2000","v":0},0,null,"2007-11-30",{"$f":"'Monthly Totals'!AC50/2000","v":0},0,null,"2007-11-30",{"$f":"'Monthly Totals'!AG50/2000","v":0},0]
[null,"2007-12-31",{"$f":"'Monthly Totals'!F51/2000","v":0},{"$f":"SUM(C82:C93)","v":0},null,"2007-12-31",{"$f":"'Monthly Totals'!G51/2000","v":0},0,null,"2007-12-31",{"$f":"'Monthly Totals'!M51/2000","v":0},0,null,"2007-12-31",{"$f":"'Monthly Totals'!Q51/2000","v":0},0,null,"2007-12-31",{"$f":"'Monthly Totals'!U51/2000","v":0},0,null,"2007-12-31",{"$f":"'Monthly Totals'!Y51/2000","v":0},0,null,"2007-12-31",{"$f":"'Monthly Totals'!AC51/2000","v":0},0,null,"2007-12-31",{"$f":"'Monthly Totals'!AG51/2000","v":0},0]
[]
["Purge or Clean-up Solvent (III) - 12 Month Rolling Totals"]
[{"$f":"'Monthly Totals'!D54","v":"[Enter Purge or Clean-up Solvent Name]"},null,null,null,null,null,null,null,null,null,"  "]
["Purge or Clean-up","TOTAL VOCs Rolling (Purge Station)",null,null,null,"TOTAL HAPs Rolling (Purge Station)",null,null,null,{"$f":"'Monthly Totals'!J54","v":"[Enter HAP Name]"},null,null,null,{"$f":"'Monthly Totals'!N54","v":"[Enter HAP Name]"},null,null,null,{"$f":"'Monthly Totals'!R54","v":"[Enter HAP Name]"},null,null,null,{"$f":"'Monthly Totals'!V54","v":"[Enter HAP Name]"},null,null,null,{"$f":"'Monthly Totals'!Z54","v":"[Enter HAP Name]"},null,null,null,{"$f":"'Monthly Totals'!AD54","v":"[Enter HAP Name]"}]
[null,"Date","Monthly Total (Tons)","Total Tons/Year on 12 Month Rolling",null,"Date","Monthly Total (Tons)","Total Tons/Year on 12 Month Rolling",null,"Date","Monthly Total (Tons)","Total Tons/Year on 12 Month Rolling",null,"Date","Monthly Total (Tons)","Total Tons/Year on 12 Month Rolling",null,"Date","Monthly Total (Tons)","Total Tons/Year on 12 Month Rolling",null,"Date","Monthly Total (Tons)","Total Tons/Year on 12 Month Rolling",null,"Date","Monthly Total (Tons)","Total Tons/Year on 12 Month Rolling",null,"Date","Monthly Total (Tons)","Total Tons/Year on 12 Month Rolling"]
[]
[null,{"$f":"B8","v":"2006-01-31"},null,null,null,{"$f":"B100","v":"2006-01-31"},null,null,null,{"$f":"F100","v":"2006-01-31"},null,null,null,{"$f":"J100","v":"2006-01-31"},null,null,null,{"$f":"N100","v":"2006-01-31"},null,null,null,{"$f":"R100","v":"2006-01-31"},null,null,null,{"$f":"V100","v":"2006-01-31"},null,null,null,{"$f":"Z100","v":"2006-01-31"}]
[null,"2006-02-28",null,null,null,"2006-02-28",null,null,null,"2006-02-28",null,null,null,"2006-02-28",null,null,null,"2006-02-28",null,null,null,"2006-02-28",null,null,null,"2006-02-28",null,null,null,"2006-02-28"]
[null,"2006-03-31",null,null,null,"2006-03-31",null,null,null,"2006-03-31",null,null,null,"2006-03-31",null,null,null,"2006-03-31",null,null,null,"2006-03-31",null,null,null,"2006-03-31",null,null,null,"2006-03-31"]
[null,"2006-04-30",null,null,null,"2006-04-30",null,null,null,"2006-04-30",null,null,null,"2006-04-30",null,null,null,"2006-04-30",null,null,null,"2006-04-30",null,null,null,"2006-04-30",null,null,null,"2006-04-30"]
[null,"2006-05-31",null,null,null,"2006-05-31",null,null,null,"2006-05-31",null,null,null,"2006-05-31",null,null,null,"2006-05-31",null,null,null,"2006-05-31",null,null,null,"2006-05-31",null,null,null,"2006-05-31"]
[null,"2006-06-30",null,null,null,"2006-06-30",null,null,null,"2006-06-30",null,null,null,"2006-06-30",null,null,null,"2006-06-30",null,null,null,"2006-06-30",null,null,null,"2006-06-30",null,null,null,"2006-06-30"]
[null,"2006-07-31",null,null,null,"2006-07-31",null,null,null,"2006-07-31",null,null,null,"2006-07-31",null,null,null,"2006-07-31",null,null,null,"2006-07-31",null,null,null,"2006-07-31",null,null,null,"2006-07-31"]
[null,"2006-08-31",null,null,null,"2006-08-31",null,null,null,"2006-08-31",null,null,null,"2006-08-31",null,null,null,"2006-08-31",null,null,null,"2006-08-31",null,null,null,"2006-08-31",null,null,null,"2006-08-31"]
[null,"2006-09-30",null,null,null,"2006-09-30",null,null,null,"2006-09-30",null,null,null,"2006-09-30",null,null,null,"2006-09-30",null,null,null,"2006-09-30",null,null,null,"2006-09-30",null,null,null,"2006-09-30"]
[null,"2006-10-31",null,null,null,"2006-10-31",null,null,null,"2006-10-31",null,null,null,"2006-10-31",null,null,null,"2006-10-31",null,null,null,"2006-10-31",null,null,null,"2006-10-31",null,null,null,"2006-10-31"]
[null,"2006-11-30",null,null,null,"2006-11-30",null,null,null,"2006-11-30",null,null,null,"2006-11-30",null,null,null,"2006-11-30",null,null,null,"2006-11-30",null,null,null,"2006-11-30",null,null,null,"2006-11-30"]
[null,"2006-12-31",null,null,null,"2006-12-31",null,null,null,"2006-12-31",null,null,null,"2006-12-31",null,null,null,"2006-12-31",null,null,null,"2006-12-31",null,null,null,"2006-12-31",null,null,null,"2006-12-31"]
[null,"2007-01-31",{"$f":"'Monthly Totals'!F56/2000","v":0},{"$f":"SUM(C101:C112)","v":0},null,"2007-01-31",{"$f":"'Monthly Totals'!G56/2000","v":0},{"$f":"SUM(G101:G112)","v":0},null,"2007-01-31",{"$f":"'Monthly Totals'!M56/2000","v":0},{"$f":"SUM(K101:K112)","v":0},null,"2007-01-31",{"$f":"'Monthly Totals'!Q56/2000","v":0},{"$f":"SUM(O101:O112)","v":0},null,"2007-01-31",{"$f":"'Monthly Totals'!U56/2000","v":0},{"$f":"SUM(S101:S112)","v":0},null,"2007-01-31",{"$f":"'Monthly Totals'!Y56/2000","v":0},{"$f":"SUM(W101:W112)","v":0},null,"2007-01-31",{"$f":"'Monthly Totals'!AC56/2000","v":0},{"$f":"SUM(AA101:AA112)","v":0},null,"2007-01-31",{"$f":"'Monthly Totals'!AG56/2000","v":0},{"$f":"SUM(AE101:AE112)","v":0}]
[null,"2007-02-28",{"$f":"'Monthly Totals'!F57/2000","v":0},{"$f":"SUM(C102:C113)","v":0},null,"2007-02-28",{"$f":"'Monthly Totals'!G57/2000","v":0},0,null,"2007-02-28",{"$f":"'Monthly Totals'!M57/2000","v":0},0,null,"2007-02-28",{"$f":"'Monthly Totals'!Q57/2000","v":0},0,null,"2007-02-28",{"$f":"'Monthly Totals'!U57/2000","v":0},0,null,"2007-02-28",{"$f":"'Monthly Totals'!Y57/2000","v":0},0,null,"2007-02-28",{"$f":"'Monthly Totals'!AC57/2000","v":0},0,null,"2007-02-28",{"$f":"'Monthly Totals'!AG57/2000","v":0},0]
[null,"2007-03-31",{"$f":"'Monthly Totals'!F58/2000","v":0},{"$f":"SUM(C103:C114)","v":0},null,"2007-03-31",{"$f":"'Monthly Totals'!G58/2000","v":0},0,null,"2007-03-31",{"$f":"'Monthly Totals'!M58/2000","v":0},0,null,"2007-03-31",{"$f":"'Monthly Totals'!Q58/2000","v":0},0,null,"2007-03-31",{"$f":"'Monthly Totals'!U58/2000","v":0},0,null,"2007-03-31",{"$f":"'Monthly Totals'!Y58/2000","v":0},0,null,"2007-03-31",{"$f":"'Monthly Totals'!AC58/2000","v":0},0,null,"2007-03-31",{"$f":"'Monthly Totals'!AG58/2000","v":0},0]
[null,"2007-04-30",{"$f":"'Monthly Totals'!F59/2000","v":0},{"$f":"SUM(C104:C115)","v":0},null,"2007-04-30",{"$f":"'Monthly Totals'!G59/2000","v":0},0,null,"2007-04-30",{"$f":"'Monthly Totals'!M59/2000","v":0},0,null,"2007-04-30",{"$f":"'Monthly Totals'!Q59/2000","v":0},0,null,"2007-04-30",{"$f":"'Monthly Totals'!U59/2000","v":0},0,null,"2007-04-30",{"$f":"'Monthly Totals'!Y59/2000","v":0},0,null,"2007-04-30",{"$f":"'Monthly Totals'!AC59/2000","v":0},0,null,"2007-04-30",{"$f":"'Monthly Totals'!AG59/2000","v":0},0]
[null,"2007-05-31",{"$f":"'Monthly Totals'!F60/2000","v":0},0,null,"2007-05-31",{"$f":"'Monthly Totals'!G60/2000","v":0},0,null,"2007-05-31",{"$f":"'Monthly Totals'!M60/2000","v":0},0,null,"2007-05-31",{"$f":"'Monthly Totals'!Q60/2000","v":0},0,null,"2007-05-31",{"$f":"'Monthly Totals'!U60/2000","v":0},0,null,"2007-05-31",{"$f":"'Monthly Totals'!Y60/2000","v":0},0,null,"2007-05-31",{"$f":"'Monthly Totals'!AC60/2000","v":0},0,null,"2007-05-31",{"$f":"'Monthly Totals'!AG60/2000","v":0},0]
[null,"2007-06-30",{"$f":"'Monthly Totals'!F61/2000","v":0},0,null,"2007-06-30",{"$f":"'Monthly Totals'!G61/2000","v":0},0,null,"2007-06-30",{"$f":"'Monthly Totals'!M61/2000","v":0},0,null,"2007-06-30",{"$f":"'Monthly Totals'!Q61/2000","v":0},0,null,"2007-06-30",{"$f":"'Monthly Totals'!U61/2000","v":0},0,null,"2007-06-30",{"$f":"'Monthly Totals'!Y61/2000","v":0},0,null,"2007-06-30",{"$f":"'Monthly Totals'!AC61/2000","v":0},0,null,"2007-06-30",{"$f":"'Monthly Totals'!AG61/2000","v":0},0]
[null,"2007-07-31",{"$f":"'Monthly Totals'!F62/2000","v":0},0,null,"2007-07-31",{"$f":"'Monthly Totals'!G62/2000","v":0},0,null,"2007-07-31",{"$f":"'Monthly Totals'!M62/2000","v":0},0,null,"2007-07-31",{"$f":"'Monthly Totals'!Q62/2000","v":0},0,null,"2007-07-31",{"$f":"'Monthly Totals'!U62/2000","v":0},0,null,"2007-07-31",{"$f":"'Monthly Totals'!Y62/2000","v":0},0,null,"2007-07-31",{"$f":"'Monthly Totals'!AC62/2000","v":0},0,null,"2007-07-31",{"$f":"'Monthly Totals'!AG62/2000","v":0},0]
[null,"2007-08-31",{"$f":"'Monthly Totals'!F63/2000","v":0},0,null,"2007-08-31",{"$f":"'Monthly Totals'!G63/2000","v":0},0,null,"2007-08-31",{"$f":"'Monthly Totals'!M63/2000","v":0},0,null,"2007-08-31",{"$f":"'Monthly Totals'!Q63/2000","v":0},0,null,"2007-08-31",{"$f":"'Monthly Totals'!U63/2000","v":0},0,null,"2007-08-31",{"$f":"'Monthly Totals'!Y63/2000","v":0},0,null,"2007-08-31",{"$f":"'Monthly Totals'!AC63/2000","v":0},0,null,"2007-08-31",{"$f":"'Monthly Totals'!AG63/2000","v":0},0]
[null,"2007-09-30",{"$f":"'Monthly Totals'!F64/2000","v":0},0,null,"2007-09-30",{"$f":"'Monthly Totals'!G64/2000","v":0},0,null,"2007-09-30",{"$f":"'Monthly Totals'!M64/2000","v":0},0,null,"2007-09-30",{"$f":"'Monthly Totals'!Q64/2000","v":0},0,null,"2007-09-30",{"$f":"'Monthly Totals'!U64/2000","v":0},0,null,"2007-09-30",{"$f":"'Monthly Totals'!Y64/2000","v":0},0,null,"2007-09-30",{"$f":"'Monthly Totals'!AC64/2000","v":0},0,null,"2007-09-30",{"$f":"'Monthly Totals'!AG64/2000","v":0},0]
[null,"2007-10-31",{"$f":"'Monthly Totals'!F65/2000","v":0},0,null,"2007-10-31",{"$f":"'Monthly Totals'!G65/2000","v":0},0,null,"2007-10-31",{"$f":"'Monthly Totals'!M65/2000","v":0},0,null,"2007-10-31",{"$f":"'Monthly Totals'!Q65/2000","v":0},0,null,"2007-10-31",{"$f":"'Monthly Totals'!U65/2000","v":0},0,null,"2007-10-31",{"$f":"'Monthly Totals'!Y65/2000","v":0},0,null,"2007-10-31",{"$f":"'Monthly Totals'!AC65/2000","v":0},0,null,"2007-10-31",{"$f":"'Monthly Totals'!AG65/2000","v":0},0]
[null,"2007-11-30",{"$f":"'Monthly Totals'!F66/2000","v":0},0,null,"2007-11-30",{"$f":"'Monthly Totals'!G66/2000","v":0},0,null,"2007-11-30",{"$f":"'Monthly Totals'!M66/2000","v":0},0,null,"2007-11-30",{"$f":"'Monthly Totals'!Q66/2000","v":0},0,null,"2007-11-30",{"$f":"'Monthly Totals'!U66/2000","v":0},0,null,"2007-11-30",{"$f":"'Monthly Totals'!Y66/2000","v":0},0,null,"2007-11-30",{"$f":"'Monthly Totals'!AC66/2000","v":0},0,null,"2007-11-30",{"$f":"'Monthly Totals'!AG66/2000","v":0},0]
[null,"2007-12-31",{"$f":"'Monthly Totals'!F67/2000","v":0},{"$f":"SUM(C112:C123)","v":0},null,"2007-12-31",{"$f":"'Monthly Totals'!G67/2000","v":0},0,null,"2007-12-31",{"$f":"'Monthly Totals'!M67/2000","v":0},0,null,"2007-12-31",{"$f":"'Monthly Totals'!Q67/2000","v":0},0,null,"2007-12-31",{"$f":"'Monthly Totals'!U67/2000","v":0},0,null,"2007-12-31",{"$f":"'Monthly Totals'!Y67/2000","v":0},0,null,"2007-12-31",{"$f":"'Monthly Totals'!AC67/2000","v":0},0,null,"2007-12-31",{"$f":"'Monthly Totals'!AG67/2000","v":0},0]